{"text_format":"1","workbook":"xlsx","n_sheets":17,"sheets":["Instructions","Summary Form","ModReport","Modifications","Printable Data Form","Month 1","Month 2","Month 3","Month 4","Month 5","Month 6","Month 7","Month 8","Month 9","Month 10","Month 11","Month 12"],"not_rendered":{"charts":24,"images":11,"macros":1,"external_links":0,"defined_names":16,"comments":1,"pivot_tables":0},"unopened":[],"bounds":{"document_bytes":16777216,"sheet_cells":100000,"rows_first":2000,"rows_last":500,"rows_between":2000,"halvings":0,"cell_chars":16384,"cell_head_chars":4096},"cells_cut":0,"cells_raw":0,"read":"whole","date_system":"1900"}

{"sheet":"Instructions","index":0,"n_rows":140,"n_cols":6,"rows_kept":140,"cut":false,"hidden":false,"merged":[[107,2,107,16],[2,2,2,16],[3,2,3,16],[5,2,5,16],[47,2,47,16],[64,2,64,16]]}
[]
[]
[null,null,"Data Program for Probe Data & Task Analyses"]
[null,null,"This program was created by Steven Celmer, M.A. BCBA    [website]"]
[]
[null,null,"Preparation"]
[]
[null,null,null,"l Click \"Data Entry Form\" above, and then enter the student's name, the skill you are teaching, the current month, and a description"]
[null,null,null,"       of the objective."]
[]
[]
[]
[]
[]
[]
[]
[]
[]
[]
[]
[]
[]
[null,null,null,"l Then choose a \"Skill Type\""]
[]
[null,null,null,null,"l You may choose Multi-Stimulus (Different Sd's) if you are teaching a skill that contains multiple stimuli that the"]
[null,null,null,null,"       student will be responding to.  "]
[]
[null,null,null,null,"l Or you may choose Multi-Step (Task Analysis) if you are teaching a skill that contains multiple steps that the "]
[null,null,null,null,"       student must perform in a sequence"]
[]
[]
[]
[]
[]
[]
[null,null,null,"l After you've done that, then enter in either your stimuli (if multiple-stimuli) or the steps in the task analysis (if multiple-step)"]
[]
[]
[]
[]
[]
[]
[]
[]
[]
[]
[]
[null,null,"Data Entry"]
[]
[null,null,null,"l To enter data, simply type in your initials, the date, and a \"Y\" or \"N\", depending on whether the student responded correctly"]
[null,null,null,"       for that session"]
[]
[]
[]
[]
[]
[]
[]
[]
[]
[]
[]
[]
[]
[null,null,"Data Analysis"]
[]
[null,null,null,"l There are multiple ways that this program analyzes data.  The first is that it provides an analysis of the student's overall progress"]
[null,null,null,"       towards achieving the specified objective by showing a graph of correct items/session."]
[]
[]
[]
[]
[]
[]
[]
[]
[]
[]
[]
[]
[]
[]
[null,null,null,"l The second analysis that the program provides is the student's progress on each stimulus or step.  This is shown with a colored"]
[null,null,null,"       indicator next to each stimulus on the left.  (\"Add Next Step\" only shows if the skill type is \"Multi-Step\".)"]
[]
[]
[]
[]
[]
[]
[]
[]
[null,null,null,"l The indicators' meanings are as follows:"]
[]
[null,null,null,null,"l Continue: The student is performing well with this stimulus or step and has no problems - no intervention is necessary"]
[]
[null,null,null,null,"l Check: Issues might be starting for this stimulus or step - If you have the time, look into the student's performance with"]
[null,null,null,null,"        ","this item.  If you don’t have the time, don't worry.  It is not a serious problem yet."]
[]
[null,null,null,null,"l Intervene: The student is having significant problems with this stimulus or step for some reason.  It needs to be"]
[null,null,null,null,null,"         observed and intervened upon because the typical teaching techniques aren't working for this student."]
[]
[null,null,null,null,"l Add next step: For a Multi-step (task analysis) skill, this indicates that the student has fully mastered the step and"]
[null,null,null,null,null,"                  is ready to move on to learning the next step up in the sequence (using backward chaining)."]
[]
[]
[]
[null,null,"Adding Notes"]
[]
[null,null,null,"l If you desire to add a note to a stimulus or step, first click the square to the left under the heading \"Note\"."]
[]
[]
[]
[]
[]
[]
[]
[]
[]
[]
[]
[]
[null,null,null,"l A window will appear where you can do the following:"]
[]
[null,null,null,null,"l Add a note by typing it in and pressing \"Add\""]
[]
[null,null,null,null,"l Clear the note by pressing \"Clear\""]
[]
[]
[]
[]
[]
[]
[]
[]
[]
[]
[]
[null,null,null,"l When a note is added, the box will be highlighted on the data entry form, and the note will be added "]
[null,null,null,"       to the \"Notes Report\""]

{"sheet":"Summary Form","index":1,"n_rows":103,"n_cols":24,"rows_kept":103,"cut":false,"hidden":false,"merged":[[95,18,95,21],[95,23,95,26],[3,2,3,27],[96,3,96,6],[96,8,96,11],[96,13,96,16],[96,18,96,21],[94,3,94,6],[94,8,94,11],[94,13,94,16],[94,18,94,21],[92,3,92,6],[92,8,92,11],[92,13,92,16],[92,18,92,21],[43,3,43,6],[44,3,44,6],[93,3,93,6],[4,10,4,13],[4,18,4,21],[55,10,55,13],[49,13,49,16],[50,13,50,16],[46,8,46,11],[47,8,47,11],[48,8,48,11],[49,8,49,11],[50,8,50,11],[95,3,95,6],[95,8,95,11],[95,13,95,16],[45,13,45,16],[41,8,41,11],[42,8,42,11],[43,8,43,11],[44,8,44,11],[45,8,45,11],[42,13,42,16],[43,13,43,16],[44,13,44,16],[41,18,41,21],[42,18,42,21],[46,13,46,16],[102,3,102,25],[41,3,41,6],[42,3,42,6],[43,18,43,21],[44,18,44,21],[45,18,45,21],[92,23,92,26],[41,23,41,26],[42,23,42,26],[43,23,43,26],[44,23,44,26],[45,23,45,26],[51,3,51,25],[94,23,94,26],[45,3,45,6],[96,23,96,26],[93,8,93,11],[93,13,93,16],[93,18,93,21],[55,18,55,21],[41,13,41,16],[97,18,97,21],[97,23,97,26],[46,23,46,26],[47,23,47,26],[48,23,48,26],[49,23,49,26],[50,23,50,26],[46,18,46,21],[47,18,47,21],[48,18,48,21],[49,18,49,21],[50,18,50,21],[93,23,93,26],[54,2,54,27],[97,3,97,6],[97,8,97,11],[97,13,97,16],[46,3,46,6],[47,3,47,6],[48,3,48,6],[49,3,49,6],[50,3,50,6],[47,13,47,16],[48,13,48,16],[101,3,101,6],[101,8,101,11],[101,13,101,16],[101,18,101,21],[101,23,101,26],[100,3,100,6],[100,8,100,11],[100,13,100,16],[100,18,100,21],[100,23,100,26],[99,3,99,6],[99,8,99,11],[99,13,99,16],[99,18,99,21],[99,23,99,26],[98,3,98,6],[98,8,98,11],[98,13,98,16],[98,18,98,21],[98,23,98,26]]}
[]
[]
[]
[null,null,"Summary Form"]
[{"$f":"'Month 1'!C25","v":0},null,null,null,null,null,null,null,null,"Student Name:",{"$f":"IF(ISBLANK('Month 1'!$F$6),\"\",'Month 1'!$F$6)","v":""},null,null,null,null,null,null,"Skill Title:",{"$f":"IF(ISBLANK('Month 1'!$F$8),\"\",'Month 1'!$F$8)","v":""}]
[0]
[]
[]
[]
[]
[]
[]
[]
[]
[]
[]
[]
[]
[]
[]
[]
[]
[]
[]
[]
[]
[]
[]
[]
[]
[]
[]
[]
[]
[]
[]
[]
[]
[]
[]
[null,null,null,null,null,null,null,null,null,null,null,null,null,null,null,{"$f":"IF('Month 1'!$F$10=\"Multi-Stimulus (Different Sd's)\",\"Stimuli Used\",IF('Month 1'!$F$10=\"Multi-Step (Task Analysis)\",\"Steps Used\",\"\"))","v":""}]
[null,null,"1.",{"$f":"IF(ISBLANK('Month 1'!$F$27),\"\",'Month 1'!$F$27)&IF(Modifications!$C$2=2,\"**\",\"\")","v":""},null,null,null,"11.",{"$f":"IF(ISBLANK('Month 1'!$F$37),\"\",'Month 1'!$F$37)&IF(Modifications!$C$12=2,\"**\",\"\")","v":""},null,null,null,"21.",{"$f":"IF(ISBLANK('Month 1'!$F$47),\"\",'Month 1'!$F$47)&IF(Modifications!$C$22=2,\"**\",\"\")","v":""},null,null,null,"31.",{"$f":"IF(ISBLANK('Month 1'!$F$57),\"\",'Month 1'!$F$57)&IF(Modifications!$C$32=2,\"**\",\"\")","v":""},null,null,null,"41.",{"$f":"IF(ISBLANK('Month 1'!$F$67),\"\",'Month 1'!$F$67)&IF(Modifications!$C$42=2,\"**\",\"\")","v":""}]
[null,null,"2.",{"$f":"IF(ISBLANK('Month 1'!$F$28),\"\",'Month 1'!$F$28)&IF(Modifications!$C$3=2,\"**\",\"\")","v":""},null,null,null,"12.",{"$f":"IF(ISBLANK('Month 1'!$F$38),\"\",'Month 1'!$F$38)&IF(Modifications!$C$13=2,\"**\",\"\")","v":""},null,null,null,"22.",{"$f":"IF(ISBLANK('Month 1'!$F$48),\"\",'Month 1'!$F$48)&IF(Modifications!$C$23=2,\"**\",\"\")","v":""},null,null,null,"32.",{"$f":"IF(ISBLANK('Month 1'!$F$58),\"\",'Month 1'!$F$58)&IF(Modifications!$C$33=2,\"**\",\"\")","v":""},null,null,null,"42.",{"$f":"IF(ISBLANK('Month 1'!$F$68),\"\",'Month 1'!$F$68)&IF(Modifications!$C$43=2,\"**\",\"\")","v":""}]
[null,null,"3.",{"$f":"IF(ISBLANK('Month 1'!$F$29),\"\",'Month 1'!$F$29)&IF(Modifications!$C$4=2,\"**\",\"\")","v":""},null,null,null,"13.",{"$f":"IF(ISBLANK('Month 1'!$F$39),\"\",'Month 1'!$F$39)&IF(Modifications!$C$14=2,\"**\",\"\")","v":""},null,null,null,"23.",{"$f":"IF(ISBLANK('Month 1'!$F$49),\"\",'Month 1'!$F$49)&IF(Modifications!$C$24=2,\"**\",\"\")","v":""},null,null,null,"33.",{"$f":"IF(ISBLANK('Month 1'!$F$59),\"\",'Month 1'!$F$59)&IF(Modifications!$C$34=2,\"**\",\"\")","v":""},null,null,null,"43.",{"$f":"IF(ISBLANK('Month 1'!$F$69),\"\",'Month 1'!$F$69)&IF(Modifications!$C$44=2,\"**\",\"\")","v":""}]
[null,null,"4.",{"$f":"IF(ISBLANK('Month 1'!$F$30),\"\",'Month 1'!$F$30)&IF(Modifications!$C$5=2,\"**\",\"\")","v":""},null,null,null,"14.",{"$f":"IF(ISBLANK('Month 1'!$F$40),\"\",'Month 1'!$F$40)&IF(Modifications!$C$15=2,\"**\",\"\")","v":""},null,null,null,"24.",{"$f":"IF(ISBLANK('Month 1'!$F$50),\"\",'Month 1'!$F$50)&IF(Modifications!$C$25=2,\"**\",\"\")","v":""},null,null,null,"34.",{"$f":"IF(ISBLANK('Month 1'!$F$60),\"\",'Month 1'!$F$60)&IF(Modifications!$C$35=2,\"**\",\"\")","v":""},null,null,null,"44.",{"$f":"IF(ISBLANK('Month 1'!$F$70),\"\",'Month 1'!$F$70)&IF(Modifications!$C$45=2,\"**\",\"\")","v":""}]
[null,null,"5.",{"$f":"IF(ISBLANK('Month 1'!$F$31),\"\",'Month 1'!$F$31)&IF(Modifications!$C$6=2,\"**\",\"\")","v":""},null,null,null,"15.",{"$f":"IF(ISBLANK('Month 1'!$F$41),\"\",'Month 1'!$F$41)&IF(Modifications!$C$16=2,\"**\",\"\")","v":""},null,null,null,"25.",{"$f":"IF(ISBLANK('Month 1'!$F$51),\"\",'Month 1'!$F$51)&IF(Modifications!$C$26=2,\"**\",\"\")","v":""},null,null,null,"35.",{"$f":"IF(ISBLANK('Month 1'!$F$61),\"\",'Month 1'!$F$61)&IF(Modifications!$C$36=2,\"**\",\"\")","v":""},null,null,null,"45.",{"$f":"IF(ISBLANK('Month 1'!$F$71),\"\",'Month 1'!$F$71)&IF(Modifications!$C$46=2,\"**\",\"\")","v":""}]
[null,null,"6.",{"$f":"IF(ISBLANK('Month 1'!$F$32),\"\",'Month 1'!$F$32)&IF(Modifications!$C$7=2,\"**\",\"\")","v":""},null,null,null,"16.",{"$f":"IF(ISBLANK('Month 1'!$F$42),\"\",'Month 1'!$F$42)&IF(Modifications!$C$17=2,\"**\",\"\")","v":""},null,null,null,"26.",{"$f":"IF(ISBLANK('Month 1'!$F$52),\"\",'Month 1'!$F$52)&IF(Modifications!$C$27=2,\"**\",\"\")","v":""},null,null,null,"36.",{"$f":"IF(ISBLANK('Month 1'!$F$62),\"\",'Month 1'!$F$62)&IF(Modifications!$C$37=2,\"**\",\"\")","v":""},null,null,null,"46.",{"$f":"IF(ISBLANK('Month 1'!$F$72),\"\",'Month 1'!$F$72)&IF(Modifications!$C$47=2,\"**\",\"\")","v":""}]
[null,null,"7.",{"$f":"IF(ISBLANK('Month 1'!$F$33),\"\",'Month 1'!$F$33)&IF(Modifications!$C$8=2,\"**\",\"\")","v":""},null,null,null,"17.",{"$f":"IF(ISBLANK('Month 1'!$F$43),\"\",'Month 1'!$F$43)&IF(Modifications!$C$18=2,\"**\",\"\")","v":""},null,null,null,"27.",{"$f":"IF(ISBLANK('Month 1'!$F$53),\"\",'Month 1'!$F$53)&IF(Modifications!$C$28=2,\"**\",\"\")","v":""},null,null,null,"37.",{"$f":"IF(ISBLANK('Month 1'!$F$63),\"\",'Month 1'!$F$63)&IF(Modifications!$C$38=2,\"**\",\"\")","v":""},null,null,null,"47.",{"$f":"IF(ISBLANK('Month 1'!$F$73),\"\",'Month 1'!$F$73)&IF(Modifications!$C$48=2,\"**\",\"\")","v":""}]
[null,null,"8.",{"$f":"IF(ISBLANK('Month 1'!$F$34),\"\",'Month 1'!$F$34)&IF(Modifications!$C$9=2,\"**\",\"\")","v":""},null,null,null,"18.",{"$f":"IF(ISBLANK('Month 1'!$F$44),\"\",'Month 1'!$F$44)&IF(Modifications!$C$19=2,\"**\",\"\")","v":""},null,null,null,"28.",{"$f":"IF(ISBLANK('Month 1'!$F$54),\"\",'Month 1'!$F$54)&IF(Modifications!$C$29=2,\"**\",\"\")","v":""},null,null,null,"38.",{"$f":"IF(ISBLANK('Month 1'!$F$64),\"\",'Month 1'!$F$64)&IF(Modifications!$C$39=2,\"**\",\"\")","v":""},null,null,null,"48.",{"$f":"IF(ISBLANK('Month 1'!$F$74),\"\",'Month 1'!$F$74)&IF(Modifications!$C$49=2,\"**\",\"\")","v":""}]
[null,null,"9.",{"$f":"IF(ISBLANK('Month 1'!$F$35),\"\",'Month 1'!$F$35)&IF(Modifications!$C$10=2,\"**\",\"\")","v":""},null,null,null,"19.",{"$f":"IF(ISBLANK('Month 1'!$F$45),\"\",'Month 1'!$F$45)&IF(Modifications!$C$20=2,\"**\",\"\")","v":""},null,null,null,"29.",{"$f":"IF(ISBLANK('Month 1'!$F$55),\"\",'Month 1'!$F$55)&IF(Modifications!$C$30=2,\"**\",\"\")","v":""},null,null,null,"39.",{"$f":"IF(ISBLANK('Month 1'!$F$65),\"\",'Month 1'!$F$65)&IF(Modifications!$C$40=2,\"**\",\"\")","v":""},null,null,null,"49.",{"$f":"IF(ISBLANK('Month 1'!$F$75),\"\",'Month 1'!$F$75)&IF(Modifications!$C$50=2,\"**\",\"\")","v":""}]
[null,null,"10.",{"$f":"IF(ISBLANK('Month 1'!$F$36),\"\",'Month 1'!$F$36)&IF(Modifications!$C$11=2,\"**\",\"\")","v":""},null,null,null,"20.",{"$f":"IF(ISBLANK('Month 1'!$F$46),\"\",'Month 1'!$F$46)&IF(Modifications!$C$21=2,\"**\",\"\")","v":""},null,null,null,"30.",{"$f":"IF(ISBLANK('Month 1'!$F$56),\"\",'Month 1'!$F$56)&IF(Modifications!$C$31=2,\"**\",\"\")","v":""},null,null,null,"40.",{"$f":"IF(ISBLANK('Month 1'!$F$66),\"\",'Month 1'!$F$66)&IF(Modifications!$C$41=2,\"**\",\"\")","v":""},null,null,null,"50.",{"$f":"IF(ISBLANK('Month 1'!$F$76),\"\",'Month 1'!$F$76)&IF(Modifications!$C$51=2,\"**\",\"\")","v":""}]
[null,null,null,{"$f":"IF(SUM(Modifications!C2:C51)>50,\"** indicates that a note has been added to the skill\",\"\")","v":""}]
[]
[]
[null,null,"Summary Form"]
[null,null,null,null,null,null,null,null,null,"Student Name:",{"$f":"IF(ISBLANK('Month 1'!$F$6),\"\",'Month 1'!$F$6)","v":""},null,null,null,null,null,null,"Skill Title:",{"$f":"IF(ISBLANK('Month 1'!$F$8),\"\",'Month 1'!$F$8)","v":""}]
[]
[]
[]
[]
[]
[]
[]
[]
[]
[]
[]
[]
[]
[]
[]
[]
[]
[]
[]
[]
[]
[]
[]
[]
[]
[]
[]
[]
[]
[]
[]
[]
[]
[]
[]
[null,null,null,null,null,null,null,null,null,null,null,null,null,null,null,{"$f":"IF('Month 1'!$F$10=\"Multi-Stimulus (Different Sd's)\",\"Stimuli Used\",IF('Month 1'!$F$10=\"Multi-Step (Task Analysis)\",\"Steps Used\",\"\"))","v":""}]
[null,null,"1.",{"$f":"IF(ISBLANK('Month 1'!$F$27),\"\",'Month 1'!$F$27)&IF(Modifications!$C$2=2,\"**\",\"\")","v":""},null,null,null,"11.",{"$f":"IF(ISBLANK('Month 1'!$F$37),\"\",'Month 1'!$F$37)&IF(Modifications!$C$12=2,\"**\",\"\")","v":""},null,null,null,"21.",{"$f":"IF(ISBLANK('Month 1'!$F$47),\"\",'Month 1'!$F$47)&IF(Modifications!$C$22=2,\"**\",\"\")","v":""},null,null,null,"31.",{"$f":"IF(ISBLANK('Month 1'!$F$57),\"\",'Month 1'!$F$57)&IF(Modifications!$C$32=2,\"**\",\"\")","v":""},null,null,null,"41.",{"$f":"IF(ISBLANK('Month 1'!$F$67),\"\",'Month 1'!$F$67)&IF(Modifications!$C$42=2,\"**\",\"\")","v":""}]
[null,null,"2.",{"$f":"IF(ISBLANK('Month 1'!$F$28),\"\",'Month 1'!$F$28)&IF(Modifications!$C$3=2,\"**\",\"\")","v":""},null,null,null,"12.",{"$f":"IF(ISBLANK('Month 1'!$F$38),\"\",'Month 1'!$F$38)&IF(Modifications!$C$13=2,\"**\",\"\")","v":""},null,null,null,"22.",{"$f":"IF(ISBLANK('Month 1'!$F$48),\"\",'Month 1'!$F$48)&IF(Modifications!$C$23=2,\"**\",\"\")","v":""},null,null,null,"32.",{"$f":"IF(ISBLANK('Month 1'!$F$58),\"\",'Month 1'!$F$58)&IF(Modifications!$C$33=2,\"**\",\"\")","v":""},null,null,null,"42.",{"$f":"IF(ISBLANK('Month 1'!$F$68),\"\",'Month 1'!$F$68)&IF(Modifications!$C$43=2,\"**\",\"\")","v":""}]
[null,null,"3.",{"$f":"IF(ISBLANK('Month 1'!$F$29),\"\",'Month 1'!$F$29)&IF(Modifications!$C$4=2,\"**\",\"\")","v":""},null,null,null,"13.",{"$f":"IF(ISBLANK('Month 1'!$F$39),\"\",'Month 1'!$F$39)&IF(Modifications!$C$14=2,\"**\",\"\")","v":""},null,null,null,"23.",{"$f":"IF(ISBLANK('Month 1'!$F$49),\"\",'Month 1'!$F$49)&IF(Modifications!$C$24=2,\"**\",\"\")","v":""},null,null,null,"33.",{"$f":"IF(ISBLANK('Month 1'!$F$59),\"\",'Month 1'!$F$59)&IF(Modifications!$C$34=2,\"**\",\"\")","v":""},null,null,null,"43.",{"$f":"IF(ISBLANK('Month 1'!$F$69),\"\",'Month 1'!$F$69)&IF(Modifications!$C$44=2,\"**\",\"\")","v":""}]
[null,null,"4.",{"$f":"IF(ISBLANK('Month 1'!$F$30),\"\",'Month 1'!$F$30)&IF(Modifications!$C$5=2,\"**\",\"\")","v":""},null,null,null,"14.",{"$f":"IF(ISBLANK('Month 1'!$F$40),\"\",'Month 1'!$F$40)&IF(Modifications!$C$15=2,\"**\",\"\")","v":""},null,null,null,"24.",{"$f":"IF(ISBLANK('Month 1'!$F$50),\"\",'Month 1'!$F$50)&IF(Modifications!$C$25=2,\"**\",\"\")","v":""},null,null,null,"34.",{"$f":"IF(ISBLANK('Month 1'!$F$60),\"\",'Month 1'!$F$60)&IF(Modifications!$C$35=2,\"**\",\"\")","v":""},null,null,null,"44.",{"$f":"IF(ISBLANK('Month 1'!$F$70),\"\",'Month 1'!$F$70)&IF(Modifications!$C$45=2,\"**\",\"\")","v":""}]
[null,null,"5.",{"$f":"IF(ISBLANK('Month 1'!$F$31),\"\",'Month 1'!$F$31)&IF(Modifications!$C$6=2,\"**\",\"\")","v":""},null,null,null,"15.",{"$f":"IF(ISBLANK('Month 1'!$F$41),\"\",'Month 1'!$F$41)&IF(Modifications!$C$16=2,\"**\",\"\")","v":""},null,null,null,"25.",{"$f":"IF(ISBLANK('Month 1'!$F$51),\"\",'Month 1'!$F$51)&IF(Modifications!$C$26=2,\"**\",\"\")","v":""},null,null,null,"35.",{"$f":"IF(ISBLANK('Month 1'!$F$61),\"\",'Month 1'!$F$61)&IF(Modifications!$C$36=2,\"**\",\"\")","v":""},null,null,null,"45.",{"$f":"IF(ISBLANK('Month 1'!$F$71),\"\",'Month 1'!$F$71)&IF(Modifications!$C$46=2,\"**\",\"\")","v":""}]
[null,null,"6.",{"$f":"IF(ISBLANK('Month 1'!$F$32),\"\",'Month 1'!$F$32)&IF(Modifications!$C$7=2,\"**\",\"\")","v":""},null,null,null,"16.",{"$f":"IF(ISBLANK('Month 1'!$F$42),\"\",'Month 1'!$F$42)&IF(Modifications!$C$17=2,\"**\",\"\")","v":""},null,null,null,"26.",{"$f":"IF(ISBLANK('Month 1'!$F$52),\"\",'Month 1'!$F$52)&IF(Modifications!$C$27=2,\"**\",\"\")","v":""},null,null,null,"36.",{"$f":"IF(ISBLANK('Month 1'!$F$62),\"\",'Month 1'!$F$62)&IF(Modifications!$C$37=2,\"**\",\"\")","v":""},null,null,null,"46.",{"$f":"IF(ISBLANK('Month 1'!$F$72),\"\",'Month 1'!$F$72)&IF(Modifications!$C$47=2,\"**\",\"\")","v":""}]
[null,null,"7.",{"$f":"IF(ISBLANK('Month 1'!$F$33),\"\",'Month 1'!$F$33)&IF(Modifications!$C$8=2,\"**\",\"\")","v":""},null,null,null,"17.",{"$f":"IF(ISBLANK('Month 1'!$F$43),\"\",'Month 1'!$F$43)&IF(Modifications!$C$18=2,\"**\",\"\")","v":""},null,null,null,"27.",{"$f":"IF(ISBLANK('Month 1'!$F$53),\"\",'Month 1'!$F$53)&IF(Modifications!$C$28=2,\"**\",\"\")","v":""},null,null,null,"37.",{"$f":"IF(ISBLANK('Month 1'!$F$63),\"\",'Month 1'!$F$63)&IF(Modifications!$C$38=2,\"**\",\"\")","v":""},null,null,null,"47.",{"$f":"IF(ISBLANK('Month 1'!$F$73),\"\",'Month 1'!$F$73)&IF(Modifications!$C$48=2,\"**\",\"\")","v":""}]
[null,null,"8.",{"$f":"IF(ISBLANK('Month 1'!$F$34),\"\",'Month 1'!$F$34)&IF(Modifications!$C$9=2,\"**\",\"\")","v":""},null,null,null,"18.",{"$f":"IF(ISBLANK('Month 1'!$F$44),\"\",'Month 1'!$F$44)&IF(Modifications!$C$19=2,\"**\",\"\")","v":""},null,null,null,"28.",{"$f":"IF(ISBLANK('Month 1'!$F$54),\"\",'Month 1'!$F$54)&IF(Modifications!$C$29=2,\"**\",\"\")","v":""},null,null,null,"38.",{"$f":"IF(ISBLANK('Month 1'!$F$64),\"\",'Month 1'!$F$64)&IF(Modifications!$C$39=2,\"**\",\"\")","v":""},null,null,null,"48.",{"$f":"IF(ISBLANK('Month 1'!$F$74),\"\",'Month 1'!$F$74)&IF(Modifications!$C$49=2,\"**\",\"\")","v":""}]
[null,null,"9.",{"$f":"IF(ISBLANK('Month 1'!$F$35),\"\",'Month 1'!$F$35)&IF(Modifications!$C$10=2,\"**\",\"\")","v":""},null,null,null,"19.",{"$f":"IF(ISBLANK('Month 1'!$F$45),\"\",'Month 1'!$F$45)&IF(Modifications!$C$20=2,\"**\",\"\")","v":""},null,null,null,"29.",{"$f":"IF(ISBLANK('Month 1'!$F$55),\"\",'Month 1'!$F$55)&IF(Modifications!$C$30=2,\"**\",\"\")","v":""},null,null,null,"39.",{"$f":"IF(ISBLANK('Month 1'!$F$65),\"\",'Month 1'!$F$65)&IF(Modifications!$C$40=2,\"**\",\"\")","v":""},null,null,null,"49.",{"$f":"IF(ISBLANK('Month 1'!$F$75),\"\",'Month 1'!$F$75)&IF(Modifications!$C$50=2,\"**\",\"\")","v":""}]
[null,null,"10.",{"$f":"IF(ISBLANK('Month 1'!$F$36),\"\",'Month 1'!$F$36)&IF(Modifications!$C$11=2,\"**\",\"\")","v":""},null,null,null,"20.",{"$f":"IF(ISBLANK('Month 1'!$F$46),\"\",'Month 1'!$F$46)&IF(Modifications!$C$21=2,\"**\",\"\")","v":""},null,null,null,"30.",{"$f":"IF(ISBLANK('Month 1'!$F$56),\"\",'Month 1'!$F$56)&IF(Modifications!$C$31=2,\"**\",\"\")","v":""},null,null,null,"40.",{"$f":"IF(ISBLANK('Month 1'!$F$66),\"\",'Month 1'!$F$66)&IF(Modifications!$C$41=2,\"**\",\"\")","v":""},null,null,null,"50.",{"$f":"IF(ISBLANK('Month 1'!$F$76),\"\",'Month 1'!$F$76)&IF(Modifications!$C$51=2,\"**\",\"\")","v":""}]
[null,null,null,{"$f":"IF(SUM(Modifications!C2:C51)>50,\"** indicates that a note has been added to the skill\",\"\")","v":""}]

{"sheet":"ModReport","index":2,"n_rows":111,"n_cols":6,"rows_kept":111,"cut":false,"hidden":false,"merged":[[3,2,4,6]]}
[]
[]
[51613839692014]
[null,null,"Notes Report"]
[]
[]
[]
[]
[]
[null,null,null,"Item",null,"     Modification"]
[null,null,"1.  ",{"$f":"Modifications!B2","v":"No Title Specified"},{"$f":"IF(Modifications!$C$2 = 1,\"@\",Modifications!$C$2)","v":"@"},{"$f":"Modifications!D2","v":"(No note added)"}]
[null,null,null,null,{"$f":"E11","v":"@"}]
[null,null,"2.  ",{"$f":"Modifications!B3","v":"No Title Specified"},{"$f":"IF(Modifications!$C$3 = 1,\"@\",Modifications!$C$3)","v":"@"},{"$f":"Modifications!D3","v":"(No note added)"}]
[null,null,null,null,{"$f":"E13","v":"@"}]
[null,null,"3.  ",{"$f":"Modifications!B4","v":"No Title Specified"},{"$f":"IF(Modifications!$C$4 = 1,\"@\",Modifications!$C$4)","v":"@"},{"$f":"Modifications!D4","v":"(No note added)"}]
[null,null,null,null,{"$f":"E15","v":"@"}]
[null,null,"4.  ",{"$f":"Modifications!B5","v":"No Title Specified"},{"$f":"IF(Modifications!$C$5 = 1,\"@\",Modifications!$C$5)","v":"@"},{"$f":"Modifications!D5","v":"(No note added)"}]
[null,null,null,null,{"$f":"E17","v":"@"}]
[null,null,"5.  ",{"$f":"Modifications!B6","v":"No Title Specified"},{"$f":"IF(Modifications!$C$6 = 1,\"@\",Modifications!$C$6)","v":"@"},{"$f":"Modifications!D6","v":"(No note added)"}]
[null,null,null,null,{"$f":"E19","v":"@"}]
[null,null,"6.  ",{"$f":"Modifications!B7","v":"No Title Specified"},{"$f":"IF(Modifications!$C$7 = 1,\"@\",Modifications!$C$7)","v":"@"},{"$f":"Modifications!D7","v":"(No note added)"}]
[null,null,null,null,{"$f":"E21","v":"@"}]
[null,null,"7.  ",{"$f":"Modifications!B8","v":"No Title Specified"},{"$f":"IF(Modifications!$C$8 = 1,\"@\",Modifications!$C$8)","v":"@"},{"$f":"Modifications!D8","v":"(No note added)"}]
[null,null,null,null,{"$f":"E23","v":"@"}]
[null,null,"8.  ",{"$f":"Modifications!B9","v":"No Title Specified"},{"$f":"IF(Modifications!$C$9 = 1,\"@\",Modifications!$C$9)","v":"@"},{"$f":"Modifications!D9","v":"(No note added)"}]
[null,null,null,null,{"$f":"E25","v":"@"}]
[null,null,"9.  ",{"$f":"Modifications!B10","v":"No Title Specified"},{"$f":"IF(Modifications!$C$10 = 1,\"@\",Modifications!$C$10)","v":"@"},{"$f":"Modifications!D10","v":"(No note added)"}]
[null,null,null,null,{"$f":"E27","v":"@"}]
[null,null,"10.  ",{"$f":"Modifications!B11","v":"No Title Specified"},{"$f":"IF(Modifications!$C$11 = 1,\"@\",Modifications!$C$11)","v":"@"},{"$f":"Modifications!D11","v":"(No note added)"}]
[null,null,null,null,{"$f":"E29","v":"@"}]
[null,null,"11.  ",{"$f":"Modifications!B12","v":"No Title Specified"},{"$f":"IF(Modifications!$C$12 = 1,\"@\",Modifications!$C$12)","v":"@"},{"$f":"Modifications!D12","v":"(No note added)"}]
[null,null,null,null,{"$f":"E31","v":"@"}]
[null,null,"12.  ",{"$f":"Modifications!B13","v":"No Title Specified"},{"$f":"IF(Modifications!$C$13 = 1,\"@\",Modifications!$C$13)","v":"@"},{"$f":"Modifications!D13","v":"(No note added)"}]
[null,null,null,null,{"$f":"E33","v":"@"}]
[null,null,"13.  ",{"$f":"Modifications!B14","v":"No Title Specified"},{"$f":"IF(Modifications!$C$14 = 1,\"@\",Modifications!$C$14)","v":"@"},{"$f":"Modifications!D14","v":"(No note added)"}]
[null,null,null,null,{"$f":"E35","v":"@"}]
[null,null,"14.  ",{"$f":"Modifications!B15","v":"No Title Specified"},{"$f":"IF(Modifications!$C$15 = 1,\"@\",Modifications!$C$15)","v":"@"},{"$f":"Modifications!D15","v":"(No note added)"}]
[null,null,null,null,{"$f":"E37","v":"@"}]
[null,null,"15.  ",{"$f":"Modifications!B16","v":"No Title Specified"},{"$f":"IF(Modifications!$C$16 = 1,\"@\",Modifications!$C$16)","v":"@"},{"$f":"Modifications!D16","v":"(No note added)"}]
[null,null,null,null,{"$f":"E39","v":"@"}]
[null,null,"16.  ",{"$f":"Modifications!B17","v":"No Title Specified"},{"$f":"IF(Modifications!$C$17 = 1,\"@\",Modifications!$C$17)","v":"@"},{"$f":"Modifications!D17","v":"(No note added)"}]
[null,null,null,null,{"$f":"E41","v":"@"}]
[null,null,"17.  ",{"$f":"Modifications!B18","v":"No Title Specified"},{"$f":"IF(Modifications!$C$18 = 1,\"@\",Modifications!$C$18)","v":"@"},{"$f":"Modifications!D18","v":"(No note added)"}]
[null,null,null,null,{"$f":"E43","v":"@"}]
[null,null,"18.  ",{"$f":"Modifications!B19","v":"No Title Specified"},{"$f":"IF(Modifications!$C$19 = 1,\"@\",Modifications!$C$19)","v":"@"},{"$f":"Modifications!D19","v":"(No note added)"}]
[null,null,null,null,{"$f":"E45","v":"@"}]
[null,null,"19.  ",{"$f":"Modifications!B20","v":"No Title Specified"},{"$f":"IF(Modifications!$C$20 = 1,\"@\",Modifications!$C$20)","v":"@"},{"$f":"Modifications!D20","v":"(No note added)"}]
[null,null,null,null,{"$f":"E47","v":"@"}]
[null,null,"20.  ",{"$f":"Modifications!B21","v":"No Title Specified"},{"$f":"IF(Modifications!$C$21 = 1,\"@\",Modifications!$C$21)","v":"@"},{"$f":"Modifications!D21","v":"(No note added)"}]
[null,null,null,null,{"$f":"E49","v":"@"}]
[null,null,"21.  ",{"$f":"Modifications!B22","v":"No Title Specified"},{"$f":"IF(Modifications!$C$22 = 1,\"@\",Modifications!$C$22)","v":"@"},{"$f":"Modifications!D22","v":"(No note added)"}]
[null,null,null,null,{"$f":"E51","v":"@"}]
[null,null,"22.  ",{"$f":"Modifications!B23","v":"No Title Specified"},{"$f":"IF(Modifications!$C$23 = 1,\"@\",Modifications!$C$23)","v":"@"},{"$f":"Modifications!D23","v":"(No note added)"}]
[null,null,null,null,{"$f":"E53","v":"@"}]
[null,null,"23.  ",{"$f":"Modifications!B24","v":"No Title Specified"},{"$f":"IF(Modifications!$C$24 = 1,\"@\",Modifications!$C$24)","v":"@"},{"$f":"Modifications!D24","v":"(No note added)"}]
[null,null,null,null,{"$f":"E55","v":"@"}]
[null,null,"24.  ",{"$f":"Modifications!B25","v":"No Title Specified"},{"$f":"IF(Modifications!$C$25 = 1,\"@\",Modifications!$C$25)","v":"@"},{"$f":"Modifications!D25","v":"(No note added)"}]
[null,null,null,null,{"$f":"E57","v":"@"}]
[null,null,"25.  ",{"$f":"Modifications!B26","v":"No Title Specified"},{"$f":"IF(Modifications!$C$26 = 1,\"@\",Modifications!$C$26)","v":"@"},{"$f":"Modifications!D26","v":"(No note added)"}]
[null,null,null,null,{"$f":"E59","v":"@"}]
[null,null,"26.  ",{"$f":"Modifications!B27","v":"No Title Specified"},{"$f":"IF(Modifications!$C$27 = 1,\"@\",Modifications!$C$27)","v":"@"},{"$f":"Modifications!D27","v":"(No note added)"}]
[null,null,null,null,{"$f":"E61","v":"@"}]
[null,null,"27.  ",{"$f":"Modifications!B28","v":"No Title Specified"},{"$f":"IF(Modifications!$C$28 = 1,\"@\",Modifications!$C$28)","v":"@"},{"$f":"Modifications!D28","v":"(No note added)"}]
[null,null,null,null,{"$f":"E63","v":"@"}]
[null,null,"28.  ",{"$f":"Modifications!B29","v":"No Title Specified"},{"$f":"IF(Modifications!$C$29 = 1,\"@\",Modifications!$C$29)","v":"@"},{"$f":"Modifications!D29","v":"(No note added)"}]
[null,null,null,null,{"$f":"E65","v":"@"}]
[null,null,"29.  ",{"$f":"Modifications!B30","v":"No Title Specified"},{"$f":"IF(Modifications!$C$30 = 1,\"@\",Modifications!$C$30)","v":"@"},{"$f":"Modifications!D30","v":"(No note added)"}]
[null,null,null,null,{"$f":"E67","v":"@"}]
[null,null,"30.  ",{"$f":"Modifications!B31","v":"No Title Specified"},{"$f":"IF(Modifications!$C$31 = 1,\"@\",Modifications!$C$31)","v":"@"},{"$f":"Modifications!D31","v":"(No note added)"}]
[null,null,null,null,{"$f":"E69","v":"@"}]
[null,null,"31.  ",{"$f":"Modifications!B32","v":"No Title Specified"},{"$f":"IF(Modifications!$C$32 = 1,\"@\",Modifications!$C$32)","v":"@"},{"$f":"Modifications!D32","v":"(No note added)"}]
[null,null,null,null,{"$f":"E71","v":"@"}]
[null,null,"32.  ",{"$f":"Modifications!B33","v":"No Title Specified"},{"$f":"IF(Modifications!$C$33 = 1,\"@\",Modifications!$C$33)","v":"@"},{"$f":"Modifications!D33","v":"(No note added)"}]
[null,null,null,null,{"$f":"E73","v":"@"}]
[null,null,"33.  ",{"$f":"Modifications!B34","v":"No Title Specified"},{"$f":"IF(Modifications!$C$34 = 1,\"@\",Modifications!$C$34)","v":"@"},{"$f":"Modifications!D34","v":"(No note added)"}]
[null,null,null,null,{"$f":"E75","v":"@"}]
[null,null,"34.  ",{"$f":"Modifications!B35","v":"No Title Specified"},{"$f":"IF(Modifications!$C$35 = 1,\"@\",Modifications!$C$35)","v":"@"},{"$f":"Modifications!D35","v":"(No note added)"}]
[null,null,null,null,{"$f":"E77","v":"@"}]
[null,null,"35.  ",{"$f":"Modifications!B36","v":"No Title Specified"},{"$f":"IF(Modifications!$C$36 = 1,\"@\",Modifications!$C$36)","v":"@"},{"$f":"Modifications!D36","v":"(No note added)"}]
[null,null,null,null,{"$f":"E79","v":"@"}]
[null,null,"36.  ",{"$f":"Modifications!B37","v":"No Title Specified"},{"$f":"IF(Modifications!$C$37 = 1,\"@\",Modifications!$C$37)","v":"@"},{"$f":"Modifications!D37","v":"(No note added)"}]
[null,null,null,null,{"$f":"E81","v":"@"}]
[null,null,"37.  ",{"$f":"Modifications!B38","v":"No Title Specified"},{"$f":"IF(Modifications!$C$38 = 1,\"@\",Modifications!$C$38)","v":"@"},{"$f":"Modifications!D38","v":"(No note added)"}]
[null,null,null,null,{"$f":"E83","v":"@"}]
[null,null,"38.  ",{"$f":"Modifications!B39","v":"No Title Specified"},{"$f":"IF(Modifications!$C$39 = 1,\"@\",Modifications!$C$39)","v":"@"},{"$f":"Modifications!D39","v":"(No note added)"}]
[null,null,null,null,{"$f":"E85","v":"@"}]
[null,null,"39.  ",{"$f":"Modifications!B40","v":"No Title Specified"},{"$f":"IF(Modifications!$C$40 = 1,\"@\",Modifications!$C$40)","v":"@"},{"$f":"Modifications!D40","v":"(No note added)"}]
[null,null,null,null,{"$f":"E87","v":"@"}]
[null,null,"40.  ",{"$f":"Modifications!B41","v":"No Title Specified"},{"$f":"IF(Modifications!$C$41 = 1,\"@\",Modifications!$C$41)","v":"@"},{"$f":"Modifications!D41","v":"(No note added)"}]
[null,null,null,null,{"$f":"E89","v":"@"}]
[null,null,"41.  ",{"$f":"Modifications!B42","v":"No Title Specified"},{"$f":"IF(Modifications!$C$42 = 1,\"@\",Modifications!$C$42)","v":"@"},{"$f":"Modifications!D42","v":"(No note added)"}]
[null,null,null,null,{"$f":"E91","v":"@"}]
[null,null,"42.  ",{"$f":"Modifications!B43","v":"No Title Specified"},{"$f":"IF(Modifications!$C$43 = 1,\"@\",Modifications!$C$43)","v":"@"},{"$f":"Modifications!D43","v":"(No note added)"}]
[null,null,null,null,{"$f":"E93","v":"@"}]
[null,null,"43.  ",{"$f":"Modifications!B44","v":"No Title Specified"},{"$f":"IF(Modifications!$C$44 = 1,\"@\",Modifications!$C$44)","v":"@"},{"$f":"Modifications!D44","v":"(No note added)"}]
[null,null,null,null,{"$f":"E95","v":"@"}]
[null,null,"44.  ",{"$f":"Modifications!B45","v":"No Title Specified"},{"$f":"IF(Modifications!$C$45 = 1,\"@\",Modifications!$C$45)","v":"@"},{"$f":"Modifications!D45","v":"(No note added)"}]
[null,null,null,null,{"$f":"E97","v":"@"}]
[null,null,"45.  ",{"$f":"Modifications!B46","v":"No Title Specified"},{"$f":"IF(Modifications!$C$46 = 1,\"@\",Modifications!$C$46)","v":"@"},{"$f":"Modifications!D46","v":"(No note added)"}]
[null,null,null,null,{"$f":"E99","v":"@"}]
[null,null,"46.  ",{"$f":"Modifications!B47","v":"No Title Specified"},{"$f":"IF(Modifications!$C$47 = 1,\"@\",Modifications!$C$47)","v":"@"},{"$f":"Modifications!D47","v":"(No note added)"}]
[null,null,null,null,{"$f":"E101","v":"@"}]
[null,null,"47.  ",{"$f":"Modifications!B48","v":"No Title Specified"},{"$f":"IF(Modifications!$C$48 = 1,\"@\",Modifications!$C$48)","v":"@"},{"$f":"Modifications!D48","v":"(No note added)"}]
[null,null,null,null,{"$f":"E103","v":"@"}]
[null,null,"48.  ",{"$f":"Modifications!B49","v":"No Title Specified"},{"$f":"IF(Modifications!$C$49 = 1,\"@\",Modifications!$C$49)","v":"@"},{"$f":"Modifications!D49","v":"(No note added)"}]
[null,null,null,null,{"$f":"E105","v":"@"}]
[null,null,"49.  ",{"$f":"Modifications!B50","v":"No Title Specified"},{"$f":"IF(Modifications!$C$50 = 1,\"@\",Modifications!$C$50)","v":"@"},{"$f":"Modifications!D50","v":"(No note added)"}]
[null,null,null,null,{"$f":"E107","v":"@"}]
[null,null,"50.  ",{"$f":"Modifications!B51","v":"No Title Specified"},{"$f":"IF(Modifications!$C$51 = 1,\"@\",Modifications!$C$51)","v":"@"},{"$f":"Modifications!D51","v":"(No note added)"}]
[null,null,null,null,{"$f":"E59","v":"@"}]
[null,null,null,"@",{"$f":"D111","v":"@"}]

{"sheet":"Modifications","index":3,"n_rows":51,"n_cols":12,"rows_kept":51,"cut":false,"hidden":true,"merged":[]}
["Item","Title","Mod?","Modification",null,"Button # ->",1,null,null,"Recent Data Entry Form ->",{"$f":"'Month 1'!$AL$23","v":0},{"$f":"IF(K12<>0,12,IF(K11<>0,11,IF(K10<>0,10,IF(K9<>0,9,IF(K8<>0,8,IF(K7<>0,7,IF(K6<>0,6,IF(K5<>0,5,IF(K4<>0,4,IF(K3<>0,3,IF(K2<>0,2,1)))))))))))","v":1}]
[1,{"$f":"IF(ISBLANK('Month 1'!F27),\"No Title Specified\",'Month 1'!F27)","v":"No Title Specified"},{"$f":"IF(OR(D2=\"(No note added)\",ISBLANK(D2)),1,2)","v":1},"(No note added)",null,null,null,null,null,null,{"$f":"'Month 2'!$AL$23","v":0}]
[2,{"$f":"IF(ISBLANK('Month 1'!F28),\"No Title Specified\",'Month 1'!F28)","v":"No Title Specified"},1,"(No note added)",null,null,null,null,null,null,{"$f":"'Month 3'!$AL$23","v":0}]
[3,{"$f":"IF(ISBLANK('Month 1'!F29),\"No Title Specified\",'Month 1'!F29)","v":"No Title Specified"},1,"(No note added)",null,null,null,null,null,null,{"$f":"'Month 4'!$AL$23","v":0}]
[4,{"$f":"IF(ISBLANK('Month 1'!F30),\"No Title Specified\",'Month 1'!F30)","v":"No Title Specified"},1,"(No note added)",null,null,null,null,null,null,{"$f":"'Month 5'!$AL$23","v":0}]
[5,{"$f":"IF(ISBLANK('Month 1'!F31),\"No Title Specified\",'Month 1'!F31)","v":"No Title Specified"},1,"(No note added)",null,null,null,null,null,null,{"$f":"'Month 6'!$AL$23","v":0}]
[6,{"$f":"IF(ISBLANK('Month 1'!F32),\"No Title Specified\",'Month 1'!F32)","v":"No Title Specified"},1,"(No note added)",null,null,null,null,null,null,{"$f":"'Month 7'!$AL$23","v":0}]
[7,{"$f":"IF(ISBLANK('Month 1'!F33),\"No Title Specified\",'Month 1'!F33)","v":"No Title Specified"},1,"(No note added)",null,null,null,null,null,null,{"$f":"'Month 8'!$AL$23","v":0}]
[8,{"$f":"IF(ISBLANK('Month 1'!F34),\"No Title Specified\",'Month 1'!F34)","v":"No Title Specified"},1,"(No note added)",null,null,null,null,null,null,{"$f":"'Month 9'!$AL$23","v":0}]
[9,{"$f":"IF(ISBLANK('Month 1'!F35),\"No Title Specified\",'Month 1'!F35)","v":"No Title Specified"},1,"(No note added)",null,null,null,null,null,null,{"$f":"'Month 10'!$AL$23","v":0}]
[10,{"$f":"IF(ISBLANK('Month 1'!F36),\"No Title Specified\",'Month 1'!F36)","v":"No Title Specified"},1,"(No note added)",null,null,null,null,null,null,{"$f":"'Month 11'!$AL$23","v":0}]
[11,{"$f":"IF(ISBLANK('Month 1'!F37),\"No Title Specified\",'Month 1'!F37)","v":"No Title Specified"},1,"(No note added)",null,null,null,null,null,null,{"$f":"'Month 12'!$AL$23","v":0}]
[12,{"$f":"IF(ISBLANK('Month 1'!F38),\"No Title Specified\",'Month 1'!F38)","v":"No Title Specified"},1,"(No note added)"]
[13,{"$f":"IF(ISBLANK('Month 1'!F39),\"No Title Specified\",'Month 1'!F39)","v":"No Title Specified"},1,"(No note added)"]
[14,{"$f":"IF(ISBLANK('Month 1'!F40),\"No Title Specified\",'Month 1'!F40)","v":"No Title Specified"},1,"(No note added)"]
[15,{"$f":"IF(ISBLANK('Month 1'!F41),\"No Title Specified\",'Month 1'!F41)","v":"No Title Specified"},1,"(No note added)"]
[16,{"$f":"IF(ISBLANK('Month 1'!F42),\"No Title Specified\",'Month 1'!F42)","v":"No Title Specified"},1,"(No note added)"]
[17,{"$f":"IF(ISBLANK('Month 1'!F43),\"No Title Specified\",'Month 1'!F43)","v":"No Title Specified"},1,"(No note added)"]
[18,{"$f":"IF(ISBLANK('Month 1'!F44),\"No Title Specified\",'Month 1'!F44)","v":"No Title Specified"},1,"(No note added)"]
[19,{"$f":"IF(ISBLANK('Month 1'!F45),\"No Title Specified\",'Month 1'!F45)","v":"No Title Specified"},1,"(No note added)"]
[20,{"$f":"IF(ISBLANK('Month 1'!F46),\"No Title Specified\",'Month 1'!F46)","v":"No Title Specified"},1,"(No note added)"]
[21,{"$f":"IF(ISBLANK('Month 1'!F47),\"No Title Specified\",'Month 1'!F47)","v":"No Title Specified"},1,"(No note added)"]
[22,{"$f":"IF(ISBLANK('Month 1'!F48),\"No Title Specified\",'Month 1'!F48)","v":"No Title Specified"},1,"(No note added)"]
[23,{"$f":"IF(ISBLANK('Month 1'!F49),\"No Title Specified\",'Month 1'!F49)","v":"No Title Specified"},1,"(No note added)"]
[24,{"$f":"IF(ISBLANK('Month 1'!F50),\"No Title Specified\",'Month 1'!F50)","v":"No Title Specified"},1,"(No note added)"]
[25,{"$f":"IF(ISBLANK('Month 1'!F51),\"No Title Specified\",'Month 1'!F51)","v":"No Title Specified"},1,"(No note added)"]
[26,{"$f":"IF(ISBLANK('Month 1'!F52),\"No Title Specified\",'Month 1'!F52)","v":"No Title Specified"},1,"(No note added)"]
[27,{"$f":"IF(ISBLANK('Month 1'!F53),\"No Title Specified\",'Month 1'!F53)","v":"No Title Specified"},1,"(No note added)"]
[28,{"$f":"IF(ISBLANK('Month 1'!F54),\"No Title Specified\",'Month 1'!F54)","v":"No Title Specified"},1,"(No note added)"]
[29,{"$f":"IF(ISBLANK('Month 1'!F55),\"No Title Specified\",'Month 1'!F55)","v":"No Title Specified"},1,"(No note added)"]
[30,{"$f":"IF(ISBLANK('Month 1'!F56),\"No Title Specified\",'Month 1'!F56)","v":"No Title Specified"},1,"(No note added)"]
[31,{"$f":"IF(ISBLANK('Month 1'!F57),\"No Title Specified\",'Month 1'!F57)","v":"No Title Specified"},1,"(No note added)"]
[32,{"$f":"IF(ISBLANK('Month 1'!F58),\"No Title Specified\",'Month 1'!F58)","v":"No Title Specified"},1,"(No note added)"]
[33,{"$f":"IF(ISBLANK('Month 1'!F59),\"No Title Specified\",'Month 1'!F59)","v":"No Title Specified"},{"$f":"IF(OR(D34=\"(No note added)\",ISBLANK(D34)),1,2)","v":1},"(No note added)"]
[34,{"$f":"IF(ISBLANK('Month 1'!F60),\"No Title Specified\",'Month 1'!F60)","v":"No Title Specified"},1,"(No note added)"]
[35,{"$f":"IF(ISBLANK('Month 1'!F61),\"No Title Specified\",'Month 1'!F61)","v":"No Title Specified"},1,"(No note added)"]
[36,{"$f":"IF(ISBLANK('Month 1'!F62),\"No Title Specified\",'Month 1'!F62)","v":"No Title Specified"},1,"(No note added)"]
[37,{"$f":"IF(ISBLANK('Month 1'!F63),\"No Title Specified\",'Month 1'!F63)","v":"No Title Specified"},1,"(No note added)"]
[38,{"$f":"IF(ISBLANK('Month 1'!F64),\"No Title Specified\",'Month 1'!F64)","v":"No Title Specified"},1,"(No note added)"]
[39,{"$f":"IF(ISBLANK('Month 1'!F65),\"No Title Specified\",'Month 1'!F65)","v":"No Title Specified"},1,"(No note added)"]
[40,{"$f":"IF(ISBLANK('Month 1'!F66),\"No Title Specified\",'Month 1'!F66)","v":"No Title Specified"},1,"(No note added)"]
[41,{"$f":"IF(ISBLANK('Month 1'!F67),\"No Title Specified\",'Month 1'!F67)","v":"No Title Specified"},1,"(No note added)"]
[42,{"$f":"IF(ISBLANK('Month 1'!F68),\"No Title Specified\",'Month 1'!F68)","v":"No Title Specified"},1,"(No note added)"]
[43,{"$f":"IF(ISBLANK('Month 1'!F69),\"No Title Specified\",'Month 1'!F69)","v":"No Title Specified"},1,"(No note added)"]
[44,{"$f":"IF(ISBLANK('Month 1'!F70),\"No Title Specified\",'Month 1'!F70)","v":"No Title Specified"},1,"(No note added)"]
[45,{"$f":"IF(ISBLANK('Month 1'!F71),\"No Title Specified\",'Month 1'!F71)","v":"No Title Specified"},1,"(No note added)"]
[46,{"$f":"IF(ISBLANK('Month 1'!F72),\"No Title Specified\",'Month 1'!F72)","v":"No Title Specified"},1,"(No note added)"]
[47,{"$f":"IF(ISBLANK('Month 1'!F73),\"No Title Specified\",'Month 1'!F73)","v":"No Title Specified"},1,"(No note added)"]
[48,{"$f":"IF(ISBLANK('Month 1'!F74),\"No Title Specified\",'Month 1'!F74)","v":"No Title Specified"},1,"(No note added)"]
[49,{"$f":"IF(ISBLANK('Month 1'!F75),\"No Title Specified\",'Month 1'!F75)","v":"No Title Specified"},1,"(No note added)"]
[50,{"$f":"IF(ISBLANK('Month 1'!F76),\"No Title Specified\",'Month 1'!F76)","v":"No Title Specified"},1,"(No note added)"]

{"sheet":"Printable Data Form","index":4,"n_rows":71,"n_cols":19,"rows_kept":71,"cut":false,"hidden":false,"merged":[[68,3,68,4],[69,3,69,4],[6,4,6,13],[63,3,63,4],[64,3,64,4],[65,3,65,4],[66,3,66,4],[67,3,67,4],[58,3,58,4],[59,3,59,4],[60,3,60,4],[61,3,61,4],[62,3,62,4],[53,3,53,4],[54,3,54,4],[55,3,55,4],[56,3,56,4],[57,3,57,4],[48,3,48,4],[49,3,49,4],[50,3,50,4],[51,3,51,4],[52,3,52,4],[45,3,45,4],[46,3,46,4],[47,3,47,4],[29,3,29,4],[30,3,30,4],[31,3,31,4],[42,3,42,4],[43,3,43,4],[44,3,44,4],[24,3,24,4],[25,3,25,4],[26,3,26,4],[6,18,11,35],[18,3,18,4],[19,3,19,4],[20,3,20,4],[21,3,21,4],[70,3,70,4],[15,4,16,35],[37,3,37,4],[38,3,38,4],[39,3,39,4],[40,3,40,4],[41,3,41,4],[32,3,32,4],[33,3,33,4],[34,3,34,4],[35,3,35,4],[36,3,36,4],[28,3,28,4],[27,3,27,4],[22,3,22,4],[23,3,23,4]]}
[]
[]
[]
[]
[null,null,null,"Student name:",{"$f":"'Month 1'!F6","v":0}]
[null,null,null,null,null,null,null,null,null,null,null,null,null,null,null,null,null,null,"General Notes:"]
[null,null,null,"Skill Title:",{"$f":"'Month 1'!F8","v":0}]
[]
[null,null,null,"Instructions"]
[null,null,null,"- Write in the objective below"]
[null,null,null,"- Write in the stimuli or steps used for this objective in the data form"]
[null,null,null,"- Test the student on each item (or only those specified by your classroom procedures)"]
[null,null,null,"     - Write a \"Y\" for correct and independent responses, and a \"N\" for incorrect responses"]
[null,null,null,"- Record the total number of stimuli that the student correctly responded to at the bottom of the grid"]
[]
[null,null,null,"Objective:",{"$f":"'Month 1'!F14","v":0}]
[]
[]
[null,null,null,"Initials   à"]
[null,null,null,"Date   à"]
[null,null,null,{"$f":"'Month 1'!F27","v":0}]
[null,null,null,{"$f":"'Month 1'!F28","v":0}]
[null,null,null,{"$f":"'Month 1'!F29","v":0}]
[null,null,null,{"$f":"'Month 1'!F30","v":0}]
[null,null,null,{"$f":"'Month 1'!F31","v":0}]
[null,null,null,{"$f":"'Month 1'!F32","v":0}]
[null,null,null,{"$f":"'Month 1'!F33","v":0}]
[null,null,null,{"$f":"'Month 1'!F34","v":0}]
[null,null,null,{"$f":"'Month 1'!F35","v":0}]
[null,null,null,{"$f":"'Month 1'!F36","v":0}]
[null,null,null,{"$f":"'Month 1'!F37","v":0}]
[null,null,null,{"$f":"'Month 1'!F38","v":0}]
[null,null,null,{"$f":"'Month 1'!F39","v":0}]
[null,null,null,{"$f":"'Month 1'!F40","v":0}]
[null,null,null,{"$f":"'Month 1'!F41","v":0}]
[null,null,null,{"$f":"'Month 1'!F42","v":0}]
[null,null,null,{"$f":"'Month 1'!F43","v":0}]
[null,null,null,{"$f":"'Month 1'!F44","v":0}]
[null,null,null,{"$f":"'Month 1'!F45","v":0}]
[null,null,null,{"$f":"'Month 1'!F46","v":0}]
[null,null,null,{"$f":"'Month 1'!F47","v":0}]
[null,null,null,{"$f":"'Month 1'!F48","v":0}]
[null,null,null,{"$f":"'Month 1'!F49","v":0}]
[null,null,null,{"$f":"'Month 1'!F50","v":0}]
[null,null,null,{"$f":"'Month 1'!F51","v":0}]
[null,null,null,{"$f":"'Month 1'!F52","v":0}]
[null,null,null,{"$f":"'Month 1'!F53","v":0}]
[null,null,null,{"$f":"'Month 1'!F54","v":0}]
[null,null,null,{"$f":"'Month 1'!F55","v":0}]
[null,null,null,{"$f":"'Month 1'!F56","v":0}]
[null,null,null,{"$f":"'Month 1'!F57","v":0}]
[null,null,null,{"$f":"'Month 1'!F58","v":0}]
[null,null,null,{"$f":"'Month 1'!F59","v":0}]
[null,null,null,{"$f":"'Month 1'!F60","v":0}]
[null,null,null,{"$f":"'Month 1'!F61","v":0}]
[null,null,null,{"$f":"'Month 1'!F62","v":0}]
[null,null,null,{"$f":"'Month 1'!F63","v":0}]
[null,null,null,{"$f":"'Month 1'!F64","v":0}]
[null,null,null,{"$f":"'Month 1'!F65","v":0}]
[null,null,null,{"$f":"'Month 1'!F66","v":0}]
[null,null,null,{"$f":"'Month 1'!F67","v":0}]
[null,null,null,{"$f":"'Month 1'!F68","v":0}]
[null,null,null,{"$f":"'Month 1'!F69","v":0}]
[null,null,null,{"$f":"'Month 1'!F70","v":0}]
[null,null,null,{"$f":"'Month 1'!F71","v":0}]
[null,null,null,{"$f":"'Month 1'!F72","v":0}]
[null,null,null,{"$f":"'Month 1'!F73","v":0}]
[null,null,null,{"$f":"'Month 1'!F74","v":0}]
[null,null,null,{"$f":"'Month 1'!F75","v":0}]
[null,null,null,{"$f":"'Month 1'!F76","v":0}]
[null,null,null,"Total of CORRECT responses   à"]

{"sheet":"Month 1","index":5,"n_rows":104,"n_cols":105,"rows_kept":104,"cut":false,"hidden":false,"merged":[[53,95,53,98],[53,99,53,101],[53,102,53,104],[6,23,20,35],[13,5,20,8]]}
[]
[]
[]
[]
[]
[null,null,null,null,"Student Name:",null,null,null,null,null,null,null,null,null,null,null,null,null,null,null,null,null,null,"General Notes:"]
["Go To:"]
[{"$f":"IF(ISBLANK('Month 1'!$F$12),\"Month 1\",'Month 1'!$F$12)","v":"--"},null,null,null,"Skill Title:"]
[{"$f":"IF(ISBLANK('Month 2'!$F$12),\"Month 2\",'Month 2'!$F$12)","v":"--"}]
[{"$f":"IF(ISBLANK('Month 3'!$F$12),\"Month 3\",'Month 3'!$F$12)","v":"--"},null,null,null,"Skill Type:"]
[{"$f":"IF(ISBLANK('Month 4'!$F$12),\"Month 4\",'Month 4'!$F$12)","v":"--"}]
[{"$f":"IF(ISBLANK('Month 5'!$F$12),\"Month 5\",'Month 5'!$F$12)","v":"--"},null,null,null,"Date Range:","--"]
[{"$f":"IF(ISBLANK('Month 6'!$F$12),\"Month 6\",'Month 6'!$F$12)","v":"--"}]
[{"$f":"IF(ISBLANK('Month 7'!$F$12),\"Month 7\",'Month 7'!$F$12)","v":"--"},null,null,null,"Objective:"]
[{"$f":"IF(ISBLANK('Month 8'!$F$12),\"Month 8\",'Month 8'!$F$12)","v":"--"}]
[{"$f":"IF(ISBLANK('Month 9'!$F$12),\"Month 9\",'Month 9'!$F$12)","v":"--"}]
[{"$f":"IF(ISBLANK('Month 10'!$F$12),\"Month 10\",'Month 10'!$F$12)","v":"--"}]
[{"$f":"IF(ISBLANK('Month 11'!$F$12),\"Month 11\",'Month 11'!$F$12)","v":"--"}]
[{"$f":"IF(ISBLANK('Month 12'!$F$12),\"Month 12\",'Month 12'!$F$12)","v":"--"}]
[]
[{"$f":"IF(C25<>C26,\"Refresh\",\"\")","v":""}]
[{"$f":"IF(C25<>C26,\"Graph\",\"\")","v":""}]
[null,null,null,null,null,null,{"$f":"SUM(COUNTIF(G27:G76,\"+\"),COUNTIF(G27:G76,\"-\"),COUNTIF(G27:G76,\"y\"),COUNTIF(G27:G76,\"n\"),COUNTIF(G27:G76,1),COUNTIF(G27:G76,2))","v":0},{"$f":"SUM(COUNTIF(H27:H76,\"+\"),COUNTIF(H27:H76,\"-\"),COUNTIF(H27:H76,\"y\"),COUNTIF(H27:H76,\"n\"),COUNTIF(H27:H76,1),COUNTIF(H27:H76,2))","v":0},0,0,0,0,0,0,0,0,0,0,0,0,0,0,0,0,0,0,0,0,0,0,0,0,0,0,0,0,0,{"$f":"SUM(G23:AK23)","v":0}]
[null,null,null,null,null,"Total Number Correct   à",{"$f":"IF(G23>0,SUM(CM55:CM104),\"\")","v":""},{"$f":"IF(H23>0,SUM(CL55:CL104),\"\")","v":""},{"$f":"IF(I23>0,SUM(CK55:CK104),\"\")","v":""},{"$f":"IF(J23>0,SUM(CJ55:CJ104),\"\")","v":""},{"$f":"IF(K23>0,SUM(CI55:CI104),\"\")","v":""},{"$f":"IF(L23>0,SUM(CH55:CH104),\"\")","v":""},{"$f":"IF(M23>0,SUM(CG55:CG104),\"\")","v":""},{"$f":"IF(N23>0,SUM(CF55:CF104),\"\")","v":""},{"$f":"IF(O23>0,SUM(CE55:CE104),\"\")","v":""},{"$f":"IF(P23>0,SUM(CD55:CD104),\"\")","v":""},{"$f":"IF(Q23>0,SUM(CC55:CC104),\"\")","v":""},{"$f":"IF(R23>0,SUM(CB55:CB104),\"\")","v":""},{"$f":"IF(S23>0,SUM(CA55:CA104),\"\")","v":""},{"$f":"IF(T23>0,SUM(BZ55:BZ104),\"\")","v":""},{"$f":"IF(U23>0,SUM(BY55:BY104),\"\")","v":""},{"$f":"IF(V23>0,SUM(BX55:BX104),\"\")","v":""},{"$f":"IF(W23>0,SUM(BW55:BW104),\"\")","v":""},{"$f":"IF(X23>0,SUM(BV55:BV104),\"\")","v":""},{"$f":"IF(Y23>0,SUM(BU55:BU104),\"\")","v":""},{"$f":"IF(Z23>0,SUM(BT55:BT104),\"\")","v":""},{"$f":"IF(AA23>0,SUM(BS55:BS104),\"\")","v":""},{"$f":"IF(AB23>0,SUM(BR55:BR104),\"\")","v":""},{"$f":"IF(AC23>0,SUM(BQ55:BQ104),\"\")","v":""},{"$f":"IF(AD23>0,SUM(BP55:BP104),\"\")","v":""},{"$f":"IF(AE23>0,SUM(BO55:BO104),\"\")","v":""},{"$f":"IF(AF23>0,SUM(BN55:BN104),\"\")","v":""},{"$f":"IF(AG23>0,SUM(BM55:BM104),\"\")","v":""},{"$f":"IF(AH23>0,SUM(BL55:BL104),\"\")","v":""},{"$f":"IF(AI23>0,SUM(BK55:BK104),\"\")","v":""},{"$f":"IF(AJ23>0,SUM(BJ55:BJ104),\"\")","v":""},{"$f":"IF(AK23>0,SUM(BI55:BI104),\"\")","v":""}]
[null,null,{"$f":"50-SUM(C27:C76)","v":0},"Note",null,"Initials   à"]
[null,null,0,"â",null,"Date   à"]
[null,null,{"$f":"IF(ISBLANK(F27),1,0)","v":1},{"$f":"IF(Modifications!$C$2=2,\"N\",\"\")","v":""},{"$f":"IF(AND(BH55>0,ISBLANK($F$10)),\"Choose Skill Type\",IF(CX55=\"\",\"\",IF(AND(DA55=3,$F$10=\"Multi-Step (Task Analysis)\"),\"Add Next Step\",IF(AND(DA55=3,$F$10=\"Multi-Stimulus (Different Sd's)\"),\"Continue\",IF(OR(AND(CV55=5,CY55<=1),AND(CW55=4,CZ55=0)),\"Intervene\",IF(OR(AND(CV55=5,CY55<=2),AND(CW55=4,CZ55<=1),AND(CX55=3,DA55=0)),\"Check\",\"Continue\"))))))","v":""}]
[null,null,{"$f":"IF(ISBLANK(F28),1,0)","v":1},{"$f":"IF(Modifications!$C$3=2,\"N\",\"\")","v":""},""]
[null,null,1,{"$f":"IF(Modifications!$C$4=2,\"N\",\"\")","v":""},""]
[null,null,1,{"$f":"IF(Modifications!$C$5=2,\"N\",\"\")","v":""},""]
[null,null,1,{"$f":"IF(Modifications!$C$6=2,\"N\",\"\")","v":""},""]
[null,null,1,{"$f":"IF(Modifications!$C$7=2,\"N\",\"\")","v":""},""]
[null,null,1,{"$f":"IF(Modifications!$C$8=2,\"N\",\"\")","v":""},""]
[null,null,1,{"$f":"IF(Modifications!$C$9=2,\"N\",\"\")","v":""},""]
[null,null,1,{"$f":"IF(Modifications!$C$10=2,\"N\",\"\")","v":""},""]
[null,null,1,{"$f":"IF(Modifications!$C$11=2,\"N\",\"\")","v":""},""]
[null,null,1,{"$f":"IF(Modifications!$C$12=2,\"N\",\"\")","v":""},""]
[null,null,1,{"$f":"IF(Modifications!$C$13=2,\"N\",\"\")","v":""},""]
[null,null,1,{"$f":"IF(Modifications!$C$14=2,\"N\",\"\")","v":""},""]
[null,null,1,{"$f":"IF(Modifications!$C$15=2,\"N\",\"\")","v":""},""]
[null,null,1,{"$f":"IF(Modifications!$C$16=2,\"N\",\"\")","v":""},""]
[null,null,1,{"$f":"IF(Modifications!$C$17=2,\"N\",\"\")","v":""},""]
[null,null,1,{"$f":"IF(Modifications!$C$18=2,\"N\",\"\")","v":""},""]
[null,null,1,{"$f":"IF(Modifications!$C$19=2,\"N\",\"\")","v":""},""]
[null,null,1,{"$f":"IF(Modifications!$C$20=2,\"N\",\"\")","v":""},""]
[null,null,1,{"$f":"IF(Modifications!$C$21=2,\"N\",\"\")","v":""},""]
[null,null,1,{"$f":"IF(Modifications!$C$22=2,\"N\",\"\")","v":""},""]
[null,null,1,{"$f":"IF(Modifications!$C$23=2,\"N\",\"\")","v":""},""]
[null,null,1,{"$f":"IF(Modifications!$C$24=2,\"N\",\"\")","v":""},""]
[null,null,1,{"$f":"IF(Modifications!$C$25=2,\"N\",\"\")","v":""},""]
[null,null,1,{"$f":"IF(Modifications!$C26=2,\"N\",\"\")","v":""},""]
[null,null,1,{"$f":"IF(Modifications!$C$27=2,\"N\",\"\")","v":""},""]
[null,null,1,{"$f":"IF(Modifications!$C$28=2,\"N\",\"\")","v":""},""]
[null,null,1,{"$f":"IF(Modifications!$C$29=2,\"N\",\"\")","v":""},"",null,null,null,null,null,null,null,null,null,null,null,null,null,null,null,null,null,null,null,null,null,null,null,null,null,null,null,null,null,null,null,null,null,null,null,null,null,null,null,null,null,null,null,null,null,null,null,null,null,null,null,null,null,null,null,null,null,null,null,null,null,null,null,null,null,null,null,null,null,null,null,null,null,null,null,null,null,null,null,null,null,null,null,null,null,null,null,null,null,null,"Locations (start,5,4,3)",null,null,null,"Are they in a row? (5,4,3)",null,null,"Sum of items in row (5,4,3)"]
[null,null,1,{"$f":"IF(Modifications!$C$30=2,\"N\",\"\")","v":""},"",null,null,null,null,null,null,null,null,null,null,null,null,null,null,null,null,null,null,null,null,null,null,null,null,null,null,null,null,null,null,null,null,null,null,null,null,null,null,null,null,null,null,null,null,null,null,null,null,null,null,null,null,null,null,{"$f":"SUM(COUNTIF(BI55:CM55,1),COUNTIF(BI55:CM55,0))","v":0},{"$f":"IF(OR(AK27=\"+\",AK27=\"Y\",AK27=2),1,IF(OR(AK27=\"-\",AK27=\"N\",AK27=1),0,IF(OR(BJ55=1,BJ55=0),\"#\",\"@\")))","v":"@"},{"$f":"IF(OR(AJ27=\"+\",AJ27=\"Y\",AJ27=2),1,IF(OR(AJ27=\"-\",AJ27=\"N\",AJ27=1),0,IF(OR(BK55=1,BK55=0),\"#\",\"@\")))","v":"@"},{"$f":"IF(OR(AI27=\"+\",AI27=\"Y\",AI27=2),1,IF(OR(AI27=\"-\",AI27=\"N\",AI27=1),0,IF(OR(BL55=1,BL55=0),\"#\",\"@\")))","v":"@"},{"$f":"IF(OR(AH27=\"+\",AH27=\"Y\",AH27=2),1,IF(OR(AH27=\"-\",AH27=\"N\",AH27=1),0,IF(OR(BM55=1,BM55=0),\"#\",\"@\")))","v":"@"},{"$f":"IF(OR(AG27=\"+\",AG27=\"Y\",AG27=2),1,IF(OR(AG27=\"-\",AG27=\"N\",AG27=1),0,IF(OR(BN55=1,BN55=0),\"#\",\"@\")))","v":"@"},{"$f":"IF(OR(AF27=\"+\",AF27=\"Y\",AF27=2),1,IF(OR(AF27=\"-\",AF27=\"N\",AF27=1),0,IF(OR(BO55=1,BO55=0),\"#\",\"@\")))","v":"@"},{"$f":"IF(OR(AE27=\"+\",AE27=\"Y\",AE27=2),1,IF(OR(AE27=\"-\",AE27=\"N\",AE27=1),0,IF(OR(BP55=1,BP55=0),\"#\",\"@\")))","v":"@"},{"$f":"IF(OR(AD27=\"+\",AD27=\"Y\",AD27=2),1,IF(OR(AD27=\"-\",AD27=\"N\",AD27=1),0,IF(OR(BQ55=1,BQ55=0),\"#\",\"@\")))","v":"@"},{"$f":"IF(OR(AC27=\"+\",AC27=\"Y\",AC27=2),1,IF(OR(AC27=\"-\",AC27=\"N\",AC27=1),0,IF(OR(BR55=1,BR55=0),\"#\",\"@\")))","v":"@"},{"$f":"IF(OR(AB27=\"+\",AB27=\"Y\",AB27=2),1,IF(OR(AB27=\"-\",AB27=\"N\",AB27=1),0,IF(OR(BS55=1,BS55=0),\"#\",\"@\")))","v":"@"},{"$f":"IF(OR(AA27=\"+\",AA27=\"Y\",AA27=2),1,IF(OR(AA27=\"-\",AA27=\"N\",AA27=1),0,IF(OR(BT55=1,BT55=0),\"#\",\"@\")))","v":"@"},{"$f":"IF(OR(Z27=\"+\",Z27=\"Y\",Z27=2),1,IF(OR(Z27=\"-\",Z27=\"N\",Z27=1),0,IF(OR(BU55=1,BU55=0),\"#\",\"@\")))","v":"@"},{"$f":"IF(OR(Y27=\"+\",Y27=\"Y\",Y27=2),1,IF(OR(Y27=\"-\",Y27=\"N\",Y27=1),0,IF(OR(BV55=1,BV55=0),\"#\",\"@\")))","v":"@"},{"$f":"IF(OR(X27=\"+\",X27=\"Y\",X27=2),1,IF(OR(X27=\"-\",X27=\"N\",X27=1),0,IF(OR(BW55=1,BW55=0),\"#\",\"@\")))","v":"@"},{"$f":"IF(OR(W27=\"+\",W27=\"Y\",W27=2),1,IF(OR(W27=\"-\",W27=\"N\",W27=1),0,IF(OR(BX55=1,BX55=0),\"#\",\"@\")))","v":"@"},{"$f":"IF(OR(V27=\"+\",V27=\"Y\",V27=2),1,IF(OR(V27=\"-\",V27=\"N\",V27=1),0,IF(OR(BY55=1,BY55=0),\"#\",\"@\")))","v":"@"},{"$f":"IF(OR(U27=\"+\",U27=\"Y\",U27=2),1,IF(OR(U27=\"-\",U27=\"N\",U27=1),0,IF(OR(BZ55=1,BZ55=0),\"#\",\"@\")))","v":"@"},{"$f":"IF(OR(T27=\"+\",T27=\"Y\",T27=2),1,IF(OR(T27=\"-\",T27=\"N\",T27=1),0,IF(OR(CA55=1,CA55=0),\"#\",\"@\")))","v":"@"},{"$f":"IF(OR(S27=\"+\",S27=\"Y\",S27=2),1,IF(OR(S27=\"-\",S27=\"N\",S27=1),0,IF(OR(CB55=1,CB55=0),\"#\",\"@\")))","v":"@"},{"$f":"IF(OR(R27=\"+\",R27=\"Y\",R27=2),1,IF(OR(R27=\"-\",R27=\"N\",R27=1),0,IF(OR(CC55=1,CC55=0),\"#\",\"@\")))","v":"@"},{"$f":"IF(OR(Q27=\"+\",Q27=\"Y\",Q27=2),1,IF(OR(Q27=\"-\",Q27=\"N\",Q27=1),0,IF(OR(CD55=1,CD55=0),\"#\",\"@\")))","v":"@"},{"$f":"IF(OR(P27=\"+\",P27=\"Y\",P27=2),1,IF(OR(P27=\"-\",P27=\"N\",P27=1),0,IF(OR(CE55=1,CE55=0),\"#\",\"@\")))","v":"@"},{"$f":"IF(OR(O27=\"+\",O27=\"Y\",O27=2),1,IF(OR(O27=\"-\",O27=\"N\",O27=1),0,IF(OR(CF55=1,CF55=0),\"#\",\"@\")))","v":"@"},{"$f":"IF(OR(N27=\"+\",N27=\"Y\",N27=2),1,IF(OR(N27=\"-\",N27=\"N\",N27=1),0,IF(OR(CG55=1,CG55=0),\"#\",\"@\")))","v":"@"},{"$f":"IF(OR(M27=\"+\",M27=\"Y\",M27=2),1,IF(OR(M27=\"-\",M27=\"N\",M27=1),0,IF(OR(CH55=1,CH55=0),\"#\",\"@\")))","v":"@"},{"$f":"IF(OR(L27=\"+\",L27=\"Y\",L27=2),1,IF(OR(L27=\"-\",L27=\"N\",L27=1),0,IF(OR(CI55=1,CI55=0),\"#\",\"@\")))","v":"@"},{"$f":"IF(OR(K27=\"+\",K27=\"Y\",K27=2),1,IF(OR(K27=\"-\",K27=\"N\",K27=1),0,IF(OR(CJ55=1,CJ55=0),\"#\",\"@\")))","v":"@"},{"$f":"IF(OR(J27=\"+\",J27=\"Y\",J27=2),1,IF(OR(J27=\"-\",J27=\"N\",J27=1),0,IF(OR(CK55=1,CK55=0),\"#\",\"@\")))","v":"@"},{"$f":"IF(OR(I27=\"+\",I27=\"Y\",I27=2),1,IF(OR(I27=\"-\",I27=\"N\",I27=1),0,IF(OR(CL55=1,CL55=0),\"#\",\"@\")))","v":"@"},{"$f":"IF(OR(H27=\"+\",H27=\"Y\",H27=2),1,IF(OR(H27=\"-\",H27=\"N\",H27=1),0,IF(OR(CM55=1,CM55=0),\"#\",\"@\")))","v":"@"},{"$f":"IF(OR(G27=\"+\",G27=\"Y\",G27=2),1,IF(OR(G27=\"-\",G27=\"N\",G27=1),0,\"@\"))","v":"@"},{"$f":"IF(AND($F$10=\"Multi-Step (Task Analysis)\",OR(ISTEXT(G27),ISNUMBER(G27)),OR(ISTEXT(H27),ISNUMBER(H27)),OR(ISTEXT(I27),ISNUMBER(I27)),OR(ISTEXT(J27),ISNUMBER(J27))),2,IF(AND($F$10=\"Multi-Step (Task Analysis)\",OR(ISTEXT(G27),ISNUMBER(G27)),OR(ISTEXT(H27),ISNUMBER(H27)),G27=H27,OR(G27=\"+\",G27=\"Y\",G27=2)),0,IF(AND($F$10=\"Multi-Step (Task Analysis)\",OR(ISTEXT(G27),ISNUMBER(G27)),OR(ISTEXT(H27),ISNUMBER(H27)),G27=H27,OR(G27=\"-\",G27=\"N\",G27=1)),2,IF($F$10=\"Multi-Step (Task Analysis)\",1,2))))","v":2},{"$f":"IF(AND($F$10=\"Multi-Step (Task Analysis)\",OR(ISTEXT(G27),ISNUMBER(G27)),OR(ISTEXT(H27),ISNUMBER(H27)),OR(ISTEXT(I27),ISNUMBER(I27))),1,IF($F$10=\"Multi-Step (Task Analysis)\",0,2))","v":2},null,null,{"$f":"ADDRESS(ROW(BH55),(MATCH(\"#\",BI55:CM55,0)+61))","v":{"$error":"#N/A"}},{"$f":"ADDRESS(ROW(BH55),(MATCH(\"#\",BI55:CM55,0)+65))","v":{"$error":"#N/A"}},{"$f":"ADDRESS(ROW(BH55),(MATCH(\"#\",BI55:CM55,0)+64))","v":{"$error":"#N/A"}},{"$f":"ADDRESS(ROW(BH55),(MATCH(\"#\",BI55:CM55,0)+63))","v":{"$error":"#N/A"}},{"$f":"IF(ISNUMBER(SUM(COUNTIF(INDIRECT(CR55):INDIRECT(CS55),2),COUNTIF(INDIRECT(CR55):INDIRECT(CS55),1),COUNTIF(INDIRECT(CR55):INDIRECT(CS55),0))),SUM(COUNTIF(INDIRECT(CR55):INDIRECT(CS55),2),COUNTIF(INDIRECT(CR55):INDIRECT(CS55),1),COUNTIF(INDIRECT(CR55):INDIRECT(CS55),0)),\"\")","v":""},{"$f":"IF(ISNUMBER(SUM(COUNTIF(INDIRECT(CR55):INDIRECT(CT55),2),COUNTIF(INDIRECT(CR55):INDIRECT(CT55),1),COUNTIF(INDIRECT(CR55):INDIRECT(CT55),0))),SUM(COUNTIF(INDIRECT(CR55):INDIRECT(CT55),2),COUNTIF(INDIRECT(CR55):INDIRECT(CT55),1),COUNTIF(INDIRECT(CR55):INDIRECT(CT55),0)),\"\")","v":""},{"$f":"IF(ISNUMBER(SUM(COUNTIF(INDIRECT(CR55):INDIRECT(CU55),1),COUNTIF(INDIRECT(CR55):INDIRECT(CU55),0))),SUM(COUNTIF(INDIRECT(CR55):INDIRECT(CU55),1),COUNTIF(INDIRECT(CR55):INDIRECT(CU55),0)),\"\")","v":""},{"$f":"SUM(INDIRECT(CR55):INDIRECT(CS55))","v":{"$error":"#N/A"}},{"$f":"SUM(INDIRECT(CR55):INDIRECT(CT55))","v":{"$error":"#N/A"}},{"$f":"SUM(INDIRECT(CR55):INDIRECT(CU55))","v":{"$error":"#N/A"}}]
[null,null,1,{"$f":"IF(Modifications!$C$31=2,\"N\",\"\")","v":""},"",null,null,null,null,null,null,null,null,null,null,null,null,null,null,null,null,null,null,null,null,null,null,null,null,null,null,null,null,null,null,null,null,null,null,null,null,null,null,null,null,null,null,null,null,null,null,null,null,null,null,null,null,null,null,0,"@","@","@","@","@","@","@","@","@","@","@","@","@","@","@","@","@","@","@","@","@","@","@","@","@","@","@","@","@","@","@",2,2,null,null,{"$error":"#N/A"},{"$error":"#N/A"},{"$error":"#N/A"},{"$error":"#N/A"},{"$f":"IF(ISNUMBER(SUM(COUNTIF(INDIRECT(CR56):INDIRECT(CS56),2),COUNTIF(INDIRECT(CR56):INDIRECT(CS56),1),COUNTIF(INDIRECT(CR56):INDIRECT(CS56),0))),SUM(COUNTIF(INDIRECT(CR56):INDIRECT(CS56),2),COUNTIF(INDIRECT(CR56):INDIRECT(CS56),1),COUNTIF(INDIRECT(CR56):INDIRECT(CS56),0)),\"\")","v":""},{"$f":"IF(ISNUMBER(SUM(COUNTIF(INDIRECT(CR56):INDIRECT(CT56),2),COUNTIF(INDIRECT(CR56):INDIRECT(CT56),1),COUNTIF(INDIRECT(CR56):INDIRECT(CT56),0))),SUM(COUNTIF(INDIRECT(CR56):INDIRECT(CT56),2),COUNTIF(INDIRECT(CR56):INDIRECT(CT56),1),COUNTIF(INDIRECT(CR56):INDIRECT(CT56),0)),\"\")","v":""},{"$f":"IF(ISNUMBER(SUM(COUNTIF(INDIRECT(CR56):INDIRECT(CU56),1),COUNTIF(INDIRECT(CR56):INDIRECT(CU56),0))),SUM(COUNTIF(INDIRECT(CR56):INDIRECT(CU56),1),COUNTIF(INDIRECT(CR56):INDIRECT(CU56),0)),\"\")","v":""},{"$f":"SUM(INDIRECT(CR56):INDIRECT(CS56))","v":{"$error":"#N/A"}},{"$f":"SUM(INDIRECT(CR56):INDIRECT(CT56))","v":{"$error":"#N/A"}},{"$f":"SUM(INDIRECT(CR56):INDIRECT(CU56))","v":{"$error":"#N/A"}}]
[null,null,1,{"$f":"IF(Modifications!$C$32=2,\"N\",\"\")","v":""},"",null,null,null,null,null,null,null,null,null,null,null,null,null,null,null,null,null,null,null,null,null,null,null,null,null,null,null,null,null,null,null,null,null,null,null,null,null,null,null,null,null,null,null,null,null,null,null,null,null,null,null,null,null,null,0,"@","@","@","@","@","@","@","@","@","@","@","@","@","@","@","@","@","@","@","@","@","@","@","@","@","@","@","@","@","@","@",2,2,null,null,{"$error":"#N/A"},{"$error":"#N/A"},{"$error":"#N/A"},{"$error":"#N/A"},{"$f":"IF(ISNUMBER(SUM(COUNTIF(INDIRECT(CR57):INDIRECT(CS57),2),COUNTIF(INDIRECT(CR57):INDIRECT(CS57),1),COUNTIF(INDIRECT(CR57):INDIRECT(CS57),0))),SUM(COUNTIF(INDIRECT(CR57):INDIRECT(CS57),2),COUNTIF(INDIRECT(CR57):INDIRECT(CS57),1),COUNTIF(INDIRECT(CR57):INDIRECT(CS57),0)),\"\")","v":""},{"$f":"IF(ISNUMBER(SUM(COUNTIF(INDIRECT(CR57):INDIRECT(CT57),2),COUNTIF(INDIRECT(CR57):INDIRECT(CT57),1),COUNTIF(INDIRECT(CR57):INDIRECT(CT57),0))),SUM(COUNTIF(INDIRECT(CR57):INDIRECT(CT57),2),COUNTIF(INDIRECT(CR57):INDIRECT(CT57),1),COUNTIF(INDIRECT(CR57):INDIRECT(CT57),0)),\"\")","v":""},{"$f":"IF(ISNUMBER(SUM(COUNTIF(INDIRECT(CR57):INDIRECT(CU57),1),COUNTIF(INDIRECT(CR57):INDIRECT(CU57),0))),SUM(COUNTIF(INDIRECT(CR57):INDIRECT(CU57),1),COUNTIF(INDIRECT(CR57):INDIRECT(CU57),0)),\"\")","v":""},{"$f":"SUM(INDIRECT(CR57):INDIRECT(CS57))","v":{"$error":"#N/A"}},{"$f":"SUM(INDIRECT(CR57):INDIRECT(CT57))","v":{"$error":"#N/A"}},{"$f":"SUM(INDIRECT(CR57):INDIRECT(CU57))","v":{"$error":"#N/A"}}]
[null,null,1,{"$f":"IF(Modifications!$C$33=2,\"N\",\"\")","v":""},"",null,null,null,null,null,null,null,null,null,null,null,null,null,null,null,null,null,null,null,null,null,null,null,null,null,null,null,null,null,null,null,null,null,null,null,null,null,null,null,null,null,null,null,null,null,null,null,null,null,null,null,null,null,null,0,"@","@","@","@","@","@","@","@","@","@","@","@","@","@","@","@","@","@","@","@","@","@","@","@","@","@","@","@","@","@","@",2,2,null,null,{"$error":"#N/A"},{"$error":"#N/A"},{"$error":"#N/A"},{"$error":"#N/A"},{"$f":"IF(ISNUMBER(SUM(COUNTIF(INDIRECT(CR58):INDIRECT(CS58),2),COUNTIF(INDIRECT(CR58):INDIRECT(CS58),1),COUNTIF(INDIRECT(CR58):INDIRECT(CS58),0))),SUM(COUNTIF(INDIRECT(CR58):INDIRECT(CS58),2),COUNTIF(INDIRECT(CR58):INDIRECT(CS58),1),COUNTIF(INDIRECT(CR58):INDIRECT(CS58),0)),\"\")","v":""},{"$f":"IF(ISNUMBER(SUM(COUNTIF(INDIRECT(CR58):INDIRECT(CT58),2),COUNTIF(INDIRECT(CR58):INDIRECT(CT58),1),COUNTIF(INDIRECT(CR58):INDIRECT(CT58),0))),SUM(COUNTIF(INDIRECT(CR58):INDIRECT(CT58),2),COUNTIF(INDIRECT(CR58):INDIRECT(CT58),1),COUNTIF(INDIRECT(CR58):INDIRECT(CT58),0)),\"\")","v":""},{"$f":"IF(ISNUMBER(SUM(COUNTIF(INDIRECT(CR58):INDIRECT(CU58),1),COUNTIF(INDIRECT(CR58):INDIRECT(CU58),0))),SUM(COUNTIF(INDIRECT(CR58):INDIRECT(CU58),1),COUNTIF(INDIRECT(CR58):INDIRECT(CU58),0)),\"\")","v":""},{"$f":"SUM(INDIRECT(CR58):INDIRECT(CS58))","v":{"$error":"#N/A"}},{"$f":"SUM(INDIRECT(CR58):INDIRECT(CT58))","v":{"$error":"#N/A"}},{"$f":"SUM(INDIRECT(CR58):INDIRECT(CU58))","v":{"$error":"#N/A"}}]
[null,null,1,{"$f":"IF(Modifications!$C$34=2,\"N\",\"\")","v":""},{"$f":"IF(AND(BH87>0,ISBLANK($F$10)),\"Choose Skill Type\",IF(CX87=\"\",\"\",IF(AND(DA87=3,$F$10=\"Multi-Step (Task Analysis)\"),\"Add Next Step\",IF(AND(DA87=3,$F$10=\"Multi-Stimulus (Different Sd's)\"),\"Continue\",IF(OR(AND(CV87=5,CY87<=1),AND(CW87=4,CZ87=0)),\"Intervene\",IF(OR(AND(CV87=5,CY87<=2),AND(CW87=4,CZ87<=1),AND(CX87=3,DA87=0)),\"Check\",\"Continue\"))))))","v":""},null,null,null,null,null,null,null,null,null,null,null,null,null,null,null,null,null,null,null,null,null,null,null,null,null,null,null,null,null,null,null,null,null,null,null,null,null,null,null,null,null,null,null,null,null,null,null,null,null,null,null,null,null,null,0,"@","@","@","@","@","@","@","@","@","@","@","@","@","@","@","@","@","@","@","@","@","@","@","@","@","@","@","@","@","@","@",2,2,null,null,{"$error":"#N/A"},{"$error":"#N/A"},{"$error":"#N/A"},{"$error":"#N/A"},{"$f":"IF(ISNUMBER(SUM(COUNTIF(INDIRECT(CR59):INDIRECT(CS59),2),COUNTIF(INDIRECT(CR59):INDIRECT(CS59),1),COUNTIF(INDIRECT(CR59):INDIRECT(CS59),0))),SUM(COUNTIF(INDIRECT(CR59):INDIRECT(CS59),2),COUNTIF(INDIRECT(CR59):INDIRECT(CS59),1),COUNTIF(INDIRECT(CR59):INDIRECT(CS59),0)),\"\")","v":""},{"$f":"IF(ISNUMBER(SUM(COUNTIF(INDIRECT(CR59):INDIRECT(CT59),2),COUNTIF(INDIRECT(CR59):INDIRECT(CT59),1),COUNTIF(INDIRECT(CR59):INDIRECT(CT59),0))),SUM(COUNTIF(INDIRECT(CR59):INDIRECT(CT59),2),COUNTIF(INDIRECT(CR59):INDIRECT(CT59),1),COUNTIF(INDIRECT(CR59):INDIRECT(CT59),0)),\"\")","v":""},{"$f":"IF(ISNUMBER(SUM(COUNTIF(INDIRECT(CR59):INDIRECT(CU59),1),COUNTIF(INDIRECT(CR59):INDIRECT(CU59),0))),SUM(COUNTIF(INDIRECT(CR59):INDIRECT(CU59),1),COUNTIF(INDIRECT(CR59):INDIRECT(CU59),0)),\"\")","v":""},{"$f":"SUM(INDIRECT(CR59):INDIRECT(CS59))","v":{"$error":"#N/A"}},{"$f":"SUM(INDIRECT(CR59):INDIRECT(CT59))","v":{"$error":"#N/A"}},{"$f":"SUM(INDIRECT(CR59):INDIRECT(CU59))","v":{"$error":"#N/A"}}]
[null,null,1,{"$f":"IF(Modifications!$C$35=2,\"N\",\"\")","v":""},"",null,null,null,null,null,null,null,null,null,null,null,null,null,null,null,null,null,null,null,null,null,null,null,null,null,null,null,null,null,null,null,null,null,null,null,null,null,null,null,null,null,null,null,null,null,null,null,null,null,null,null,null,null,null,0,"@","@","@","@","@","@","@","@","@","@","@","@","@","@","@","@","@","@","@","@","@","@","@","@","@","@","@","@","@","@","@",2,2,null,null,{"$error":"#N/A"},{"$error":"#N/A"},{"$error":"#N/A"},{"$error":"#N/A"},{"$f":"IF(ISNUMBER(SUM(COUNTIF(INDIRECT(CR60):INDIRECT(CS60),2),COUNTIF(INDIRECT(CR60):INDIRECT(CS60),1),COUNTIF(INDIRECT(CR60):INDIRECT(CS60),0))),SUM(COUNTIF(INDIRECT(CR60):INDIRECT(CS60),2),COUNTIF(INDIRECT(CR60):INDIRECT(CS60),1),COUNTIF(INDIRECT(CR60):INDIRECT(CS60),0)),\"\")","v":""},{"$f":"IF(ISNUMBER(SUM(COUNTIF(INDIRECT(CR60):INDIRECT(CT60),2),COUNTIF(INDIRECT(CR60):INDIRECT(CT60),1),COUNTIF(INDIRECT(CR60):INDIRECT(CT60),0))),SUM(COUNTIF(INDIRECT(CR60):INDIRECT(CT60),2),COUNTIF(INDIRECT(CR60):INDIRECT(CT60),1),COUNTIF(INDIRECT(CR60):INDIRECT(CT60),0)),\"\")","v":""},{"$f":"IF(ISNUMBER(SUM(COUNTIF(INDIRECT(CR60):INDIRECT(CU60),1),COUNTIF(INDIRECT(CR60):INDIRECT(CU60),0))),SUM(COUNTIF(INDIRECT(CR60):INDIRECT(CU60),1),COUNTIF(INDIRECT(CR60):INDIRECT(CU60),0)),\"\")","v":""},{"$f":"SUM(INDIRECT(CR60):INDIRECT(CS60))","v":{"$error":"#N/A"}},{"$f":"SUM(INDIRECT(CR60):INDIRECT(CT60))","v":{"$error":"#N/A"}},{"$f":"SUM(INDIRECT(CR60):INDIRECT(CU60))","v":{"$error":"#N/A"}}]
[null,null,1,{"$f":"IF(Modifications!$C$36=2,\"N\",\"\")","v":""},"",null,null,null,null,null,null,null,null,null,null,null,null,null,null,null,null,null,null,null,null,null,null,null,null,null,null,null,null,null,null,null,null,null,null,null,null,null,null,null,null,null,null,null,null,null,null,null,null,null,null,null,null,null,null,0,"@","@","@","@","@","@","@","@","@","@","@","@","@","@","@","@","@","@","@","@","@","@","@","@","@","@","@","@","@","@","@",2,2,null,null,{"$error":"#N/A"},{"$error":"#N/A"},{"$error":"#N/A"},{"$error":"#N/A"},{"$f":"IF(ISNUMBER(SUM(COUNTIF(INDIRECT(CR61):INDIRECT(CS61),2),COUNTIF(INDIRECT(CR61):INDIRECT(CS61),1),COUNTIF(INDIRECT(CR61):INDIRECT(CS61),0))),SUM(COUNTIF(INDIRECT(CR61):INDIRECT(CS61),2),COUNTIF(INDIRECT(CR61):INDIRECT(CS61),1),COUNTIF(INDIRECT(CR61):INDIRECT(CS61),0)),\"\")","v":""},{"$f":"IF(ISNUMBER(SUM(COUNTIF(INDIRECT(CR61):INDIRECT(CT61),2),COUNTIF(INDIRECT(CR61):INDIRECT(CT61),1),COUNTIF(INDIRECT(CR61):INDIRECT(CT61),0))),SUM(COUNTIF(INDIRECT(CR61):INDIRECT(CT61),2),COUNTIF(INDIRECT(CR61):INDIRECT(CT61),1),COUNTIF(INDIRECT(CR61):INDIRECT(CT61),0)),\"\")","v":""},{"$f":"IF(ISNUMBER(SUM(COUNTIF(INDIRECT(CR61):INDIRECT(CU61),1),COUNTIF(INDIRECT(CR61):INDIRECT(CU61),0))),SUM(COUNTIF(INDIRECT(CR61):INDIRECT(CU61),1),COUNTIF(INDIRECT(CR61):INDIRECT(CU61),0)),\"\")","v":""},{"$f":"SUM(INDIRECT(CR61):INDIRECT(CS61))","v":{"$error":"#N/A"}},{"$f":"SUM(INDIRECT(CR61):INDIRECT(CT61))","v":{"$error":"#N/A"}},{"$f":"SUM(INDIRECT(CR61):INDIRECT(CU61))","v":{"$error":"#N/A"}}]
[null,null,1,{"$f":"IF(Modifications!$C$37=2,\"N\",\"\")","v":""},"",null,null,null,null,null,null,null,null,null,null,null,null,null,null,null,null,null,null,null,null,null,null,null,null,null,null,null,null,null,null,null,null,null,null,null,null,null,null,null,null,null,null,null,null,null,null,null,null,null,null,null,null,null,null,0,"@","@","@","@","@","@","@","@","@","@","@","@","@","@","@","@","@","@","@","@","@","@","@","@","@","@","@","@","@","@","@",2,2,null,null,{"$error":"#N/A"},{"$error":"#N/A"},{"$error":"#N/A"},{"$error":"#N/A"},{"$f":"IF(ISNUMBER(SUM(COUNTIF(INDIRECT(CR62):INDIRECT(CS62),2),COUNTIF(INDIRECT(CR62):INDIRECT(CS62),1),COUNTIF(INDIRECT(CR62):INDIRECT(CS62),0))),SUM(COUNTIF(INDIRECT(CR62):INDIRECT(CS62),2),COUNTIF(INDIRECT(CR62):INDIRECT(CS62),1),COUNTIF(INDIRECT(CR62):INDIRECT(CS62),0)),\"\")","v":""},{"$f":"IF(ISNUMBER(SUM(COUNTIF(INDIRECT(CR62):INDIRECT(CT62),2),COUNTIF(INDIRECT(CR62):INDIRECT(CT62),1),COUNTIF(INDIRECT(CR62):INDIRECT(CT62),0))),SUM(COUNTIF(INDIRECT(CR62):INDIRECT(CT62),2),COUNTIF(INDIRECT(CR62):INDIRECT(CT62),1),COUNTIF(INDIRECT(CR62):INDIRECT(CT62),0)),\"\")","v":""},{"$f":"IF(ISNUMBER(SUM(COUNTIF(INDIRECT(CR62):INDIRECT(CU62),1),COUNTIF(INDIRECT(CR62):INDIRECT(CU62),0))),SUM(COUNTIF(INDIRECT(CR62):INDIRECT(CU62),1),COUNTIF(INDIRECT(CR62):INDIRECT(CU62),0)),\"\")","v":""},{"$f":"SUM(INDIRECT(CR62):INDIRECT(CS62))","v":{"$error":"#N/A"}},{"$f":"SUM(INDIRECT(CR62):INDIRECT(CT62))","v":{"$error":"#N/A"}},{"$f":"SUM(INDIRECT(CR62):INDIRECT(CU62))","v":{"$error":"#N/A"}}]
[null,null,1,{"$f":"IF(Modifications!$C$38=2,\"N\",\"\")","v":""},"",null,null,null,null,null,null,null,null,null,null,null,null,null,null,null,null,null,null,null,null,null,null,null,null,null,null,null,null,null,null,null,null,null,null,null,null,null,null,null,null,null,null,null,null,null,null,null,null,null,null,null,null,null,null,0,"@","@","@","@","@","@","@","@","@","@","@","@","@","@","@","@","@","@","@","@","@","@","@","@","@","@","@","@","@","@","@",2,2,null,null,{"$error":"#N/A"},{"$error":"#N/A"},{"$error":"#N/A"},{"$error":"#N/A"},{"$f":"IF(ISNUMBER(SUM(COUNTIF(INDIRECT(CR63):INDIRECT(CS63),2),COUNTIF(INDIRECT(CR63):INDIRECT(CS63),1),COUNTIF(INDIRECT(CR63):INDIRECT(CS63),0))),SUM(COUNTIF(INDIRECT(CR63):INDIRECT(CS63),2),COUNTIF(INDIRECT(CR63):INDIRECT(CS63),1),COUNTIF(INDIRECT(CR63):INDIRECT(CS63),0)),\"\")","v":""},{"$f":"IF(ISNUMBER(SUM(COUNTIF(INDIRECT(CR63):INDIRECT(CT63),2),COUNTIF(INDIRECT(CR63):INDIRECT(CT63),1),COUNTIF(INDIRECT(CR63):INDIRECT(CT63),0))),SUM(COUNTIF(INDIRECT(CR63):INDIRECT(CT63),2),COUNTIF(INDIRECT(CR63):INDIRECT(CT63),1),COUNTIF(INDIRECT(CR63):INDIRECT(CT63),0)),\"\")","v":""},{"$f":"IF(ISNUMBER(SUM(COUNTIF(INDIRECT(CR63):INDIRECT(CU63),1),COUNTIF(INDIRECT(CR63):INDIRECT(CU63),0))),SUM(COUNTIF(INDIRECT(CR63):INDIRECT(CU63),1),COUNTIF(INDIRECT(CR63):INDIRECT(CU63),0)),\"\")","v":""},{"$f":"SUM(INDIRECT(CR63):INDIRECT(CS63))","v":{"$error":"#N/A"}},{"$f":"SUM(INDIRECT(CR63):INDIRECT(CT63))","v":{"$error":"#N/A"}},{"$f":"SUM(INDIRECT(CR63):INDIRECT(CU63))","v":{"$error":"#N/A"}}]
[null,null,1,{"$f":"IF(Modifications!$C$39=2,\"N\",\"\")","v":""},"",null,null,null,null,null,null,null,null,null,null,null,null,null,null,null,null,null,null,null,null,null,null,null,null,null,null,null,null,null,null,null,null,null,null,null,null,null,null,null,null,null,null,null,null,null,null,null,null,null,null,null,null,null,null,0,"@","@","@","@","@","@","@","@","@","@","@","@","@","@","@","@","@","@","@","@","@","@","@","@","@","@","@","@","@","@","@",2,2,null,null,{"$error":"#N/A"},{"$error":"#N/A"},{"$error":"#N/A"},{"$error":"#N/A"},{"$f":"IF(ISNUMBER(SUM(COUNTIF(INDIRECT(CR64):INDIRECT(CS64),2),COUNTIF(INDIRECT(CR64):INDIRECT(CS64),1),COUNTIF(INDIRECT(CR64):INDIRECT(CS64),0))),SUM(COUNTIF(INDIRECT(CR64):INDIRECT(CS64),2),COUNTIF(INDIRECT(CR64):INDIRECT(CS64),1),COUNTIF(INDIRECT(CR64):INDIRECT(CS64),0)),\"\")","v":""},{"$f":"IF(ISNUMBER(SUM(COUNTIF(INDIRECT(CR64):INDIRECT(CT64),2),COUNTIF(INDIRECT(CR64):INDIRECT(CT64),1),COUNTIF(INDIRECT(CR64):INDIRECT(CT64),0))),SUM(COUNTIF(INDIRECT(CR64):INDIRECT(CT64),2),COUNTIF(INDIRECT(CR64):INDIRECT(CT64),1),COUNTIF(INDIRECT(CR64):INDIRECT(CT64),0)),\"\")","v":""},{"$f":"IF(ISNUMBER(SUM(COUNTIF(INDIRECT(CR64):INDIRECT(CU64),1),COUNTIF(INDIRECT(CR64):INDIRECT(CU64),0))),SUM(COUNTIF(INDIRECT(CR64):INDIRECT(CU64),1),COUNTIF(INDIRECT(CR64):INDIRECT(CU64),0)),\"\")","v":""},{"$f":"SUM(INDIRECT(CR64):INDIRECT(CS64))","v":{"$error":"#N/A"}},{"$f":"SUM(INDIRECT(CR64):INDIRECT(CT64))","v":{"$error":"#N/A"}},{"$f":"SUM(INDIRECT(CR64):INDIRECT(CU64))","v":{"$error":"#N/A"}}]
[null,null,1,{"$f":"IF(Modifications!$C$40=2,\"N\",\"\")","v":""},"",null,null,null,null,null,null,null,null,null,null,null,null,null,null,null,null,null,null,null,null,null,null,null,null,null,null,null,null,null,null,null,null,null,null,null,null,null,null,null,null,null,null,null,null,null,null,null,null,null,null,null,null,null,null,0,"@","@","@","@","@","@","@","@","@","@","@","@","@","@","@","@","@","@","@","@","@","@","@","@","@","@","@","@","@","@","@",2,2,null,null,{"$error":"#N/A"},{"$error":"#N/A"},{"$error":"#N/A"},{"$error":"#N/A"},{"$f":"IF(ISNUMBER(SUM(COUNTIF(INDIRECT(CR65):INDIRECT(CS65),2),COUNTIF(INDIRECT(CR65):INDIRECT(CS65),1),COUNTIF(INDIRECT(CR65):INDIRECT(CS65),0))),SUM(COUNTIF(INDIRECT(CR65):INDIRECT(CS65),2),COUNTIF(INDIRECT(CR65):INDIRECT(CS65),1),COUNTIF(INDIRECT(CR65):INDIRECT(CS65),0)),\"\")","v":""},{"$f":"IF(ISNUMBER(SUM(COUNTIF(INDIRECT(CR65):INDIRECT(CT65),2),COUNTIF(INDIRECT(CR65):INDIRECT(CT65),1),COUNTIF(INDIRECT(CR65):INDIRECT(CT65),0))),SUM(COUNTIF(INDIRECT(CR65):INDIRECT(CT65),2),COUNTIF(INDIRECT(CR65):INDIRECT(CT65),1),COUNTIF(INDIRECT(CR65):INDIRECT(CT65),0)),\"\")","v":""},{"$f":"IF(ISNUMBER(SUM(COUNTIF(INDIRECT(CR65):INDIRECT(CU65),1),COUNTIF(INDIRECT(CR65):INDIRECT(CU65),0))),SUM(COUNTIF(INDIRECT(CR65):INDIRECT(CU65),1),COUNTIF(INDIRECT(CR65):INDIRECT(CU65),0)),\"\")","v":""},{"$f":"SUM(INDIRECT(CR65):INDIRECT(CS65))","v":{"$error":"#N/A"}},{"$f":"SUM(INDIRECT(CR65):INDIRECT(CT65))","v":{"$error":"#N/A"}},{"$f":"SUM(INDIRECT(CR65):INDIRECT(CU65))","v":{"$error":"#N/A"}}]
[null,null,1,{"$f":"IF(Modifications!$C$41=2,\"N\",\"\")","v":""},"",null,null,null,null,null,null,null,null,null,null,null,null,null,null,null,null,null,null,null,null,null,null,null,null,null,null,null,null,null,null,null,null,null,null,null,null,null,null,null,null,null,null,null,null,null,null,null,null,null,null,null,null,null,null,0,"@","@","@","@","@","@","@","@","@","@","@","@","@","@","@","@","@","@","@","@","@","@","@","@","@","@","@","@","@","@","@",2,2,null,null,{"$error":"#N/A"},{"$error":"#N/A"},{"$error":"#N/A"},{"$error":"#N/A"},{"$f":"IF(ISNUMBER(SUM(COUNTIF(INDIRECT(CR66):INDIRECT(CS66),2),COUNTIF(INDIRECT(CR66):INDIRECT(CS66),1),COUNTIF(INDIRECT(CR66):INDIRECT(CS66),0))),SUM(COUNTIF(INDIRECT(CR66):INDIRECT(CS66),2),COUNTIF(INDIRECT(CR66):INDIRECT(CS66),1),COUNTIF(INDIRECT(CR66):INDIRECT(CS66),0)),\"\")","v":""},{"$f":"IF(ISNUMBER(SUM(COUNTIF(INDIRECT(CR66):INDIRECT(CT66),2),COUNTIF(INDIRECT(CR66):INDIRECT(CT66),1),COUNTIF(INDIRECT(CR66):INDIRECT(CT66),0))),SUM(COUNTIF(INDIRECT(CR66):INDIRECT(CT66),2),COUNTIF(INDIRECT(CR66):INDIRECT(CT66),1),COUNTIF(INDIRECT(CR66):INDIRECT(CT66),0)),\"\")","v":""},{"$f":"IF(ISNUMBER(SUM(COUNTIF(INDIRECT(CR66):INDIRECT(CU66),1),COUNTIF(INDIRECT(CR66):INDIRECT(CU66),0))),SUM(COUNTIF(INDIRECT(CR66):INDIRECT(CU66),1),COUNTIF(INDIRECT(CR66):INDIRECT(CU66),0)),\"\")","v":""},{"$f":"SUM(INDIRECT(CR66):INDIRECT(CS66))","v":{"$error":"#N/A"}},{"$f":"SUM(INDIRECT(CR66):INDIRECT(CT66))","v":{"$error":"#N/A"}},{"$f":"SUM(INDIRECT(CR66):INDIRECT(CU66))","v":{"$error":"#N/A"}}]
[null,null,1,{"$f":"IF(Modifications!$C$42=2,\"N\",\"\")","v":""},"",null,null,null,null,null,null,null,null,null,null,null,null,null,null,null,null,null,null,null,null,null,null,null,null,null,null,null,null,null,null,null,null,null,null,null,null,null,null,null,null,null,null,null,null,null,null,null,null,null,null,null,null,null,null,0,"@","@","@","@","@","@","@","@","@","@","@","@","@","@","@","@","@","@","@","@","@","@","@","@","@","@","@","@","@","@","@",2,2,null,null,{"$error":"#N/A"},{"$error":"#N/A"},{"$error":"#N/A"},{"$error":"#N/A"},{"$f":"IF(ISNUMBER(SUM(COUNTIF(INDIRECT(CR67):INDIRECT(CS67),2),COUNTIF(INDIRECT(CR67):INDIRECT(CS67),1),COUNTIF(INDIRECT(CR67):INDIRECT(CS67),0))),SUM(COUNTIF(INDIRECT(CR67):INDIRECT(CS67),2),COUNTIF(INDIRECT(CR67):INDIRECT(CS67),1),COUNTIF(INDIRECT(CR67):INDIRECT(CS67),0)),\"\")","v":""},{"$f":"IF(ISNUMBER(SUM(COUNTIF(INDIRECT(CR67):INDIRECT(CT67),2),COUNTIF(INDIRECT(CR67):INDIRECT(CT67),1),COUNTIF(INDIRECT(CR67):INDIRECT(CT67),0))),SUM(COUNTIF(INDIRECT(CR67):INDIRECT(CT67),2),COUNTIF(INDIRECT(CR67):INDIRECT(CT67),1),COUNTIF(INDIRECT(CR67):INDIRECT(CT67),0)),\"\")","v":""},{"$f":"IF(ISNUMBER(SUM(COUNTIF(INDIRECT(CR67):INDIRECT(CU67),1),COUNTIF(INDIRECT(CR67):INDIRECT(CU67),0))),SUM(COUNTIF(INDIRECT(CR67):INDIRECT(CU67),1),COUNTIF(INDIRECT(CR67):INDIRECT(CU67),0)),\"\")","v":""},{"$f":"SUM(INDIRECT(CR67):INDIRECT(CS67))","v":{"$error":"#N/A"}},{"$f":"SUM(INDIRECT(CR67):INDIRECT(CT67))","v":{"$error":"#N/A"}},{"$f":"SUM(INDIRECT(CR67):INDIRECT(CU67))","v":{"$error":"#N/A"}}]
[null,null,1,{"$f":"IF(Modifications!$C$43=2,\"N\",\"\")","v":""},"",null,null,null,null,null,null,null,null,null,null,null,null,null,null,null,null,null,null,null,null,null,null,null,null,null,null,null,null,null,null,null,null,null,null,null,null,null,null,null,null,null,null,null,null,null,null,null,null,null,null,null,null,null,null,0,"@","@","@","@","@","@","@","@","@","@","@","@","@","@","@","@","@","@","@","@","@","@","@","@","@","@","@","@","@","@","@",2,2,null,null,{"$error":"#N/A"},{"$error":"#N/A"},{"$error":"#N/A"},{"$error":"#N/A"},{"$f":"IF(ISNUMBER(SUM(COUNTIF(INDIRECT(CR68):INDIRECT(CS68),2),COUNTIF(INDIRECT(CR68):INDIRECT(CS68),1),COUNTIF(INDIRECT(CR68):INDIRECT(CS68),0))),SUM(COUNTIF(INDIRECT(CR68):INDIRECT(CS68),2),COUNTIF(INDIRECT(CR68):INDIRECT(CS68),1),COUNTIF(INDIRECT(CR68):INDIRECT(CS68),0)),\"\")","v":""},{"$f":"IF(ISNUMBER(SUM(COUNTIF(INDIRECT(CR68):INDIRECT(CT68),2),COUNTIF(INDIRECT(CR68):INDIRECT(CT68),1),COUNTIF(INDIRECT(CR68):INDIRECT(CT68),0))),SUM(COUNTIF(INDIRECT(CR68):INDIRECT(CT68),2),COUNTIF(INDIRECT(CR68):INDIRECT(CT68),1),COUNTIF(INDIRECT(CR68):INDIRECT(CT68),0)),\"\")","v":""},{"$f":"IF(ISNUMBER(SUM(COUNTIF(INDIRECT(CR68):INDIRECT(CU68),1),COUNTIF(INDIRECT(CR68):INDIRECT(CU68),0))),SUM(COUNTIF(INDIRECT(CR68):INDIRECT(CU68),1),COUNTIF(INDIRECT(CR68):INDIRECT(CU68),0)),\"\")","v":""},{"$f":"SUM(INDIRECT(CR68):INDIRECT(CS68))","v":{"$error":"#N/A"}},{"$f":"SUM(INDIRECT(CR68):INDIRECT(CT68))","v":{"$error":"#N/A"}},{"$f":"SUM(INDIRECT(CR68):INDIRECT(CU68))","v":{"$error":"#N/A"}}]
[null,null,1,{"$f":"IF(Modifications!$C$44=2,\"N\",\"\")","v":""},"",null,null,null,null,null,null,null,null,null,null,null,null,null,null,null,null,null,null,null,null,null,null,null,null,null,null,null,null,null,null,null,null,null,null,null,null,null,null,null,null,null,null,null,null,null,null,null,null,null,null,null,null,null,null,0,"@","@","@","@","@","@","@","@","@","@","@","@","@","@","@","@","@","@","@","@","@","@","@","@","@","@","@","@","@","@","@",2,2,null,null,{"$error":"#N/A"},{"$error":"#N/A"},{"$error":"#N/A"},{"$error":"#N/A"},{"$f":"IF(ISNUMBER(SUM(COUNTIF(INDIRECT(CR69):INDIRECT(CS69),2),COUNTIF(INDIRECT(CR69):INDIRECT(CS69),1),COUNTIF(INDIRECT(CR69):INDIRECT(CS69),0))),SUM(COUNTIF(INDIRECT(CR69):INDIRECT(CS69),2),COUNTIF(INDIRECT(CR69):INDIRECT(CS69),1),COUNTIF(INDIRECT(CR69):INDIRECT(CS69),0)),\"\")","v":""},{"$f":"IF(ISNUMBER(SUM(COUNTIF(INDIRECT(CR69):INDIRECT(CT69),2),COUNTIF(INDIRECT(CR69):INDIRECT(CT69),1),COUNTIF(INDIRECT(CR69):INDIRECT(CT69),0))),SUM(COUNTIF(INDIRECT(CR69):INDIRECT(CT69),2),COUNTIF(INDIRECT(CR69):INDIRECT(CT69),1),COUNTIF(INDIRECT(CR69):INDIRECT(CT69),0)),\"\")","v":""},{"$f":"IF(ISNUMBER(SUM(COUNTIF(INDIRECT(CR69):INDIRECT(CU69),1),COUNTIF(INDIRECT(CR69):INDIRECT(CU69),0))),SUM(COUNTIF(INDIRECT(CR69):INDIRECT(CU69),1),COUNTIF(INDIRECT(CR69):INDIRECT(CU69),0)),\"\")","v":""},{"$f":"SUM(INDIRECT(CR69):INDIRECT(CS69))","v":{"$error":"#N/A"}},{"$f":"SUM(INDIRECT(CR69):INDIRECT(CT69))","v":{"$error":"#N/A"}},{"$f":"SUM(INDIRECT(CR69):INDIRECT(CU69))","v":{"$error":"#N/A"}}]
[null,null,1,{"$f":"IF(Modifications!$C$45=2,\"N\",\"\")","v":""},"",null,null,null,null,null,null,null,null,null,null,null,null,null,null,null,null,null,null,null,null,null,null,null,null,null,null,null,null,null,null,null,null,null,null,null,null,null,null,null,null,null,null,null,null,null,null,null,null,null,null,null,null,null,null,0,"@","@","@","@","@","@","@","@","@","@","@","@","@","@","@","@","@","@","@","@","@","@","@","@","@","@","@","@","@","@","@",2,2,null,null,{"$error":"#N/A"},{"$error":"#N/A"},{"$error":"#N/A"},{"$error":"#N/A"},{"$f":"IF(ISNUMBER(SUM(COUNTIF(INDIRECT(CR70):INDIRECT(CS70),2),COUNTIF(INDIRECT(CR70):INDIRECT(CS70),1),COUNTIF(INDIRECT(CR70):INDIRECT(CS70),0))),SUM(COUNTIF(INDIRECT(CR70):INDIRECT(CS70),2),COUNTIF(INDIRECT(CR70):INDIRECT(CS70),1),COUNTIF(INDIRECT(CR70):INDIRECT(CS70),0)),\"\")","v":""},{"$f":"IF(ISNUMBER(SUM(COUNTIF(INDIRECT(CR70):INDIRECT(CT70),2),COUNTIF(INDIRECT(CR70):INDIRECT(CT70),1),COUNTIF(INDIRECT(CR70):INDIRECT(CT70),0))),SUM(COUNTIF(INDIRECT(CR70):INDIRECT(CT70),2),COUNTIF(INDIRECT(CR70):INDIRECT(CT70),1),COUNTIF(INDIRECT(CR70):INDIRECT(CT70),0)),\"\")","v":""},{"$f":"IF(ISNUMBER(SUM(COUNTIF(INDIRECT(CR70):INDIRECT(CU70),1),COUNTIF(INDIRECT(CR70):INDIRECT(CU70),0))),SUM(COUNTIF(INDIRECT(CR70):INDIRECT(CU70),1),COUNTIF(INDIRECT(CR70):INDIRECT(CU70),0)),\"\")","v":""},{"$f":"SUM(INDIRECT(CR70):INDIRECT(CS70))","v":{"$error":"#N/A"}},{"$f":"SUM(INDIRECT(CR70):INDIRECT(CT70))","v":{"$error":"#N/A"}},{"$f":"SUM(INDIRECT(CR70):INDIRECT(CU70))","v":{"$error":"#N/A"}}]
[null,null,1,{"$f":"IF(Modifications!$C$46=2,\"N\",\"\")","v":""},"",null,null,null,null,null,null,null,null,null,null,null,null,null,null,null,null,null,null,null,null,null,null,null,null,null,null,null,null,null,null,null,null,null,null,null,null,null,null,null,null,null,null,null,null,null,null,null,null,null,null,null,null,null,null,0,"@","@","@","@","@","@","@","@","@","@","@","@","@","@","@","@","@","@","@","@","@","@","@","@","@","@","@","@","@","@","@",2,2,null,null,{"$error":"#N/A"},{"$error":"#N/A"},{"$error":"#N/A"},{"$error":"#N/A"},{"$f":"IF(ISNUMBER(SUM(COUNTIF(INDIRECT(CR71):INDIRECT(CS71),2),COUNTIF(INDIRECT(CR71):INDIRECT(CS71),1),COUNTIF(INDIRECT(CR71):INDIRECT(CS71),0))),SUM(COUNTIF(INDIRECT(CR71):INDIRECT(CS71),2),COUNTIF(INDIRECT(CR71):INDIRECT(CS71),1),COUNTIF(INDIRECT(CR71):INDIRECT(CS71),0)),\"\")","v":""},{"$f":"IF(ISNUMBER(SUM(COUNTIF(INDIRECT(CR71):INDIRECT(CT71),2),COUNTIF(INDIRECT(CR71):INDIRECT(CT71),1),COUNTIF(INDIRECT(CR71):INDIRECT(CT71),0))),SUM(COUNTIF(INDIRECT(CR71):INDIRECT(CT71),2),COUNTIF(INDIRECT(CR71):INDIRECT(CT71),1),COUNTIF(INDIRECT(CR71):INDIRECT(CT71),0)),\"\")","v":""},{"$f":"IF(ISNUMBER(SUM(COUNTIF(INDIRECT(CR71):INDIRECT(CU71),1),COUNTIF(INDIRECT(CR71):INDIRECT(CU71),0))),SUM(COUNTIF(INDIRECT(CR71):INDIRECT(CU71),1),COUNTIF(INDIRECT(CR71):INDIRECT(CU71),0)),\"\")","v":""},{"$f":"SUM(INDIRECT(CR71):INDIRECT(CS71))","v":{"$error":"#N/A"}},{"$f":"SUM(INDIRECT(CR71):INDIRECT(CT71))","v":{"$error":"#N/A"}},{"$f":"SUM(INDIRECT(CR71):INDIRECT(CU71))","v":{"$error":"#N/A"}}]
[null,null,1,{"$f":"IF(Modifications!$C$47=2,\"N\",\"\")","v":""},"",null,null,null,null,null,null,null,null,null,null,null,null,null,null,null,null,null,null,null,null,null,null,null,null,null,null,null,null,null,null,null,null,null,null,null,null,null,null,null,null,null,null,null,null,null,null,null,null,null,null,null,null,null,null,0,"@","@","@","@","@","@","@","@","@","@","@","@","@","@","@","@","@","@","@","@","@","@","@","@","@","@","@","@","@","@","@",2,2,null,null,{"$error":"#N/A"},{"$error":"#N/A"},{"$error":"#N/A"},{"$error":"#N/A"},{"$f":"IF(ISNUMBER(SUM(COUNTIF(INDIRECT(CR72):INDIRECT(CS72),2),COUNTIF(INDIRECT(CR72):INDIRECT(CS72),1),COUNTIF(INDIRECT(CR72):INDIRECT(CS72),0))),SUM(COUNTIF(INDIRECT(CR72):INDIRECT(CS72),2),COUNTIF(INDIRECT(CR72):INDIRECT(CS72),1),COUNTIF(INDIRECT(CR72):INDIRECT(CS72),0)),\"\")","v":""},{"$f":"IF(ISNUMBER(SUM(COUNTIF(INDIRECT(CR72):INDIRECT(CT72),2),COUNTIF(INDIRECT(CR72):INDIRECT(CT72),1),COUNTIF(INDIRECT(CR72):INDIRECT(CT72),0))),SUM(COUNTIF(INDIRECT(CR72):INDIRECT(CT72),2),COUNTIF(INDIRECT(CR72):INDIRECT(CT72),1),COUNTIF(INDIRECT(CR72):INDIRECT(CT72),0)),\"\")","v":""},{"$f":"IF(ISNUMBER(SUM(COUNTIF(INDIRECT(CR72):INDIRECT(CU72),1),COUNTIF(INDIRECT(CR72):INDIRECT(CU72),0))),SUM(COUNTIF(INDIRECT(CR72):INDIRECT(CU72),1),COUNTIF(INDIRECT(CR72):INDIRECT(CU72),0)),\"\")","v":""},{"$f":"SUM(INDIRECT(CR72):INDIRECT(CS72))","v":{"$error":"#N/A"}},{"$f":"SUM(INDIRECT(CR72):INDIRECT(CT72))","v":{"$error":"#N/A"}},{"$f":"SUM(INDIRECT(CR72):INDIRECT(CU72))","v":{"$error":"#N/A"}}]
[null,null,1,{"$f":"IF(Modifications!$C$48=2,\"N\",\"\")","v":""},"",null,null,null,null,null,null,null,null,null,null,null,null,null,null,null,null,null,null,null,null,null,null,null,null,null,null,null,null,null,null,null,null,null,null,null,null,null,null,null,null,null,null,null,null,null,null,null,null,null,null,null,null,null,null,0,"@","@","@","@","@","@","@","@","@","@","@","@","@","@","@","@","@","@","@","@","@","@","@","@","@","@","@","@","@","@","@",2,2,null,null,{"$error":"#N/A"},{"$error":"#N/A"},{"$error":"#N/A"},{"$error":"#N/A"},{"$f":"IF(ISNUMBER(SUM(COUNTIF(INDIRECT(CR73):INDIRECT(CS73),2),COUNTIF(INDIRECT(CR73):INDIRECT(CS73),1),COUNTIF(INDIRECT(CR73):INDIRECT(CS73),0))),SUM(COUNTIF(INDIRECT(CR73):INDIRECT(CS73),2),COUNTIF(INDIRECT(CR73):INDIRECT(CS73),1),COUNTIF(INDIRECT(CR73):INDIRECT(CS73),0)),\"\")","v":""},{"$f":"IF(ISNUMBER(SUM(COUNTIF(INDIRECT(CR73):INDIRECT(CT73),2),COUNTIF(INDIRECT(CR73):INDIRECT(CT73),1),COUNTIF(INDIRECT(CR73):INDIRECT(CT73),0))),SUM(COUNTIF(INDIRECT(CR73):INDIRECT(CT73),2),COUNTIF(INDIRECT(CR73):INDIRECT(CT73),1),COUNTIF(INDIRECT(CR73):INDIRECT(CT73),0)),\"\")","v":""},{"$f":"IF(ISNUMBER(SUM(COUNTIF(INDIRECT(CR73):INDIRECT(CU73),1),COUNTIF(INDIRECT(CR73):INDIRECT(CU73),0))),SUM(COUNTIF(INDIRECT(CR73):INDIRECT(CU73),1),COUNTIF(INDIRECT(CR73):INDIRECT(CU73),0)),\"\")","v":""},{"$f":"SUM(INDIRECT(CR73):INDIRECT(CS73))","v":{"$error":"#N/A"}},{"$f":"SUM(INDIRECT(CR73):INDIRECT(CT73))","v":{"$error":"#N/A"}},{"$f":"SUM(INDIRECT(CR73):INDIRECT(CU73))","v":{"$error":"#N/A"}}]
[null,null,1,{"$f":"IF(Modifications!$C$49=2,\"N\",\"\")","v":""},"",null,null,null,null,null,null,null,null,null,null,null,null,null,null,null,null,null,null,null,null,null,null,null,null,null,null,null,null,null,null,null,null,null,null,null,null,null,null,null,null,null,null,null,null,null,null,null,null,null,null,null,null,null,null,0,"@","@","@","@","@","@","@","@","@","@","@","@","@","@","@","@","@","@","@","@","@","@","@","@","@","@","@","@","@","@","@",2,2,null,null,{"$error":"#N/A"},{"$error":"#N/A"},{"$error":"#N/A"},{"$error":"#N/A"},{"$f":"IF(ISNUMBER(SUM(COUNTIF(INDIRECT(CR74):INDIRECT(CS74),2),COUNTIF(INDIRECT(CR74):INDIRECT(CS74),1),COUNTIF(INDIRECT(CR74):INDIRECT(CS74),0))),SUM(COUNTIF(INDIRECT(CR74):INDIRECT(CS74),2),COUNTIF(INDIRECT(CR74):INDIRECT(CS74),1),COUNTIF(INDIRECT(CR74):INDIRECT(CS74),0)),\"\")","v":""},{"$f":"IF(ISNUMBER(SUM(COUNTIF(INDIRECT(CR74):INDIRECT(CT74),2),COUNTIF(INDIRECT(CR74):INDIRECT(CT74),1),COUNTIF(INDIRECT(CR74):INDIRECT(CT74),0))),SUM(COUNTIF(INDIRECT(CR74):INDIRECT(CT74),2),COUNTIF(INDIRECT(CR74):INDIRECT(CT74),1),COUNTIF(INDIRECT(CR74):INDIRECT(CT74),0)),\"\")","v":""},{"$f":"IF(ISNUMBER(SUM(COUNTIF(INDIRECT(CR74):INDIRECT(CU74),1),COUNTIF(INDIRECT(CR74):INDIRECT(CU74),0))),SUM(COUNTIF(INDIRECT(CR74):INDIRECT(CU74),1),COUNTIF(INDIRECT(CR74):INDIRECT(CU74),0)),\"\")","v":""},{"$f":"SUM(INDIRECT(CR74):INDIRECT(CS74))","v":{"$error":"#N/A"}},{"$f":"SUM(INDIRECT(CR74):INDIRECT(CT74))","v":{"$error":"#N/A"}},{"$f":"SUM(INDIRECT(CR74):INDIRECT(CU74))","v":{"$error":"#N/A"}}]
[null,null,1,{"$f":"IF(Modifications!$C$50=2,\"N\",\"\")","v":""},"",null,null,null,null,null,null,null,null,null,null,null,null,null,null,null,null,null,null,null,null,null,null,null,null,null,null,null,null,null,null,null,null,null,null,null,null,null,null,null,null,null,null,null,null,null,null,null,null,null,null,null,null,null,null,0,"@","@","@","@","@","@","@","@","@","@","@","@","@","@","@","@","@","@","@","@","@","@","@","@","@","@","@","@","@","@","@",2,2,null,null,{"$error":"#N/A"},{"$error":"#N/A"},{"$error":"#N/A"},{"$error":"#N/A"},{"$f":"IF(ISNUMBER(SUM(COUNTIF(INDIRECT(CR75):INDIRECT(CS75),2),COUNTIF(INDIRECT(CR75):INDIRECT(CS75),1),COUNTIF(INDIRECT(CR75):INDIRECT(CS75),0))),SUM(COUNTIF(INDIRECT(CR75):INDIRECT(CS75),2),COUNTIF(INDIRECT(CR75):INDIRECT(CS75),1),COUNTIF(INDIRECT(CR75):INDIRECT(CS75),0)),\"\")","v":""},{"$f":"IF(ISNUMBER(SUM(COUNTIF(INDIRECT(CR75):INDIRECT(CT75),2),COUNTIF(INDIRECT(CR75):INDIRECT(CT75),1),COUNTIF(INDIRECT(CR75):INDIRECT(CT75),0))),SUM(COUNTIF(INDIRECT(CR75):INDIRECT(CT75),2),COUNTIF(INDIRECT(CR75):INDIRECT(CT75),1),COUNTIF(INDIRECT(CR75):INDIRECT(CT75),0)),\"\")","v":""},{"$f":"IF(ISNUMBER(SUM(COUNTIF(INDIRECT(CR75):INDIRECT(CU75),1),COUNTIF(INDIRECT(CR75):INDIRECT(CU75),0))),SUM(COUNTIF(INDIRECT(CR75):INDIRECT(CU75),1),COUNTIF(INDIRECT(CR75):INDIRECT(CU75),0)),\"\")","v":""},{"$f":"SUM(INDIRECT(CR75):INDIRECT(CS75))","v":{"$error":"#N/A"}},{"$f":"SUM(INDIRECT(CR75):INDIRECT(CT75))","v":{"$error":"#N/A"}},{"$f":"SUM(INDIRECT(CR75):INDIRECT(CU75))","v":{"$error":"#N/A"}}]
[null,null,1,{"$f":"IF(Modifications!$C$51=2,\"N\",\"\")","v":""},"",null,null,null,null,null,null,null,null,null,null,null,null,null,null,null,null,null,null,null,null,null,null,null,null,null,null,null,null,null,null,null,null,null,null,null,null,null,null,null,null,null,null,null,null,null,null,null,null,null,null,null,null,null,null,0,"@","@","@","@","@","@","@","@","@","@","@","@","@","@","@","@","@","@","@","@","@","@","@","@","@","@","@","@","@","@","@",2,2,null,null,{"$error":"#N/A"},{"$error":"#N/A"},{"$error":"#N/A"},{"$error":"#N/A"},{"$f":"IF(ISNUMBER(SUM(COUNTIF(INDIRECT(CR76):INDIRECT(CS76),2),COUNTIF(INDIRECT(CR76):INDIRECT(CS76),1),COUNTIF(INDIRECT(CR76):INDIRECT(CS76),0))),SUM(COUNTIF(INDIRECT(CR76):INDIRECT(CS76),2),COUNTIF(INDIRECT(CR76):INDIRECT(CS76),1),COUNTIF(INDIRECT(CR76):INDIRECT(CS76),0)),\"\")","v":""},{"$f":"IF(ISNUMBER(SUM(COUNTIF(INDIRECT(CR76):INDIRECT(CT76),2),COUNTIF(INDIRECT(CR76):INDIRECT(CT76),1),COUNTIF(INDIRECT(CR76):INDIRECT(CT76),0))),SUM(COUNTIF(INDIRECT(CR76):INDIRECT(CT76),2),COUNTIF(INDIRECT(CR76):INDIRECT(CT76),1),COUNTIF(INDIRECT(CR76):INDIRECT(CT76),0)),\"\")","v":""},{"$f":"IF(ISNUMBER(SUM(COUNTIF(INDIRECT(CR76):INDIRECT(CU76),1),COUNTIF(INDIRECT(CR76):INDIRECT(CU76),0))),SUM(COUNTIF(INDIRECT(CR76):INDIRECT(CU76),1),COUNTIF(INDIRECT(CR76):INDIRECT(CU76),0)),\"\")","v":""},{"$f":"SUM(INDIRECT(CR76):INDIRECT(CS76))","v":{"$error":"#N/A"}},{"$f":"SUM(INDIRECT(CR76):INDIRECT(CT76))","v":{"$error":"#N/A"}},{"$f":"SUM(INDIRECT(CR76):INDIRECT(CU76))","v":{"$error":"#N/A"}}]
[null,null,null,null,null,null,null,null,null,null,null,null,null,null,null,null,null,null,null,null,null,null,null,null,null,null,null,null,null,null,null,null,null,null,null,null,null,null,null,null,null,null,null,null,null,null,null,null,null,null,null,null,null,null,null,null,null,null,null,0,"@","@","@","@","@","@","@","@","@","@","@","@","@","@","@","@","@","@","@","@","@","@","@","@","@","@","@","@","@","@","@",2,2,null,null,{"$error":"#N/A"},{"$error":"#N/A"},{"$error":"#N/A"},{"$error":"#N/A"},{"$f":"IF(ISNUMBER(SUM(COUNTIF(INDIRECT(CR77):INDIRECT(CS77),2),COUNTIF(INDIRECT(CR77):INDIRECT(CS77),1),COUNTIF(INDIRECT(CR77):INDIRECT(CS77),0))),SUM(COUNTIF(INDIRECT(CR77):INDIRECT(CS77),2),COUNTIF(INDIRECT(CR77):INDIRECT(CS77),1),COUNTIF(INDIRECT(CR77):INDIRECT(CS77),0)),\"\")","v":""},{"$f":"IF(ISNUMBER(SUM(COUNTIF(INDIRECT(CR77):INDIRECT(CT77),2),COUNTIF(INDIRECT(CR77):INDIRECT(CT77),1),COUNTIF(INDIRECT(CR77):INDIRECT(CT77),0))),SUM(COUNTIF(INDIRECT(CR77):INDIRECT(CT77),2),COUNTIF(INDIRECT(CR77):INDIRECT(CT77),1),COUNTIF(INDIRECT(CR77):INDIRECT(CT77),0)),\"\")","v":""},{"$f":"IF(ISNUMBER(SUM(COUNTIF(INDIRECT(CR77):INDIRECT(CU77),1),COUNTIF(INDIRECT(CR77):INDIRECT(CU77),0))),SUM(COUNTIF(INDIRECT(CR77):INDIRECT(CU77),1),COUNTIF(INDIRECT(CR77):INDIRECT(CU77),0)),\"\")","v":""},{"$f":"SUM(INDIRECT(CR77):INDIRECT(CS77))","v":{"$error":"#N/A"}},{"$f":"SUM(INDIRECT(CR77):INDIRECT(CT77))","v":{"$error":"#N/A"}},{"$f":"SUM(INDIRECT(CR77):INDIRECT(CU77))","v":{"$error":"#N/A"}}]
[null,null,null,null,null,null,null,null,null,null,null,null,null,null,null,null,null,null,null,null,null,null,null,null,null,null,null,null,null,null,null,null,null,null,null,null,null,null,null,null,null,null,null,null,null,null,null,null,null,null,null,null,null,null,null,null,null,null,null,0,"@","@","@","@","@","@","@","@","@","@","@","@","@","@","@","@","@","@","@","@","@","@","@","@","@","@","@","@","@","@","@",2,2,null,null,{"$error":"#N/A"},{"$error":"#N/A"},{"$error":"#N/A"},{"$error":"#N/A"},{"$f":"IF(ISNUMBER(SUM(COUNTIF(INDIRECT(CR78):INDIRECT(CS78),2),COUNTIF(INDIRECT(CR78):INDIRECT(CS78),1),COUNTIF(INDIRECT(CR78):INDIRECT(CS78),0))),SUM(COUNTIF(INDIRECT(CR78):INDIRECT(CS78),2),COUNTIF(INDIRECT(CR78):INDIRECT(CS78),1),COUNTIF(INDIRECT(CR78):INDIRECT(CS78),0)),\"\")","v":""},{"$f":"IF(ISNUMBER(SUM(COUNTIF(INDIRECT(CR78):INDIRECT(CT78),2),COUNTIF(INDIRECT(CR78):INDIRECT(CT78),1),COUNTIF(INDIRECT(CR78):INDIRECT(CT78),0))),SUM(COUNTIF(INDIRECT(CR78):INDIRECT(CT78),2),COUNTIF(INDIRECT(CR78):INDIRECT(CT78),1),COUNTIF(INDIRECT(CR78):INDIRECT(CT78),0)),\"\")","v":""},{"$f":"IF(ISNUMBER(SUM(COUNTIF(INDIRECT(CR78):INDIRECT(CU78),1),COUNTIF(INDIRECT(CR78):INDIRECT(CU78),0))),SUM(COUNTIF(INDIRECT(CR78):INDIRECT(CU78),1),COUNTIF(INDIRECT(CR78):INDIRECT(CU78),0)),\"\")","v":""},{"$f":"SUM(INDIRECT(CR78):INDIRECT(CS78))","v":{"$error":"#N/A"}},{"$f":"SUM(INDIRECT(CR78):INDIRECT(CT78))","v":{"$error":"#N/A"}},{"$f":"SUM(INDIRECT(CR78):INDIRECT(CU78))","v":{"$error":"#N/A"}}]
[null,null,null,null,null,null,{"$f":"IF(ISBLANK(G26),\"\",G26)","v":""},"","","","","","","","","","","","","","","","","","","","","","","","","","","","","","",null,null,null,null,null,null,null,null,null,null,null,null,null,null,null,null,null,null,null,null,null,null,0,"@","@","@","@","@","@","@","@","@","@","@","@","@","@","@","@","@","@","@","@","@","@","@","@","@","@","@","@","@","@","@",2,2,null,null,{"$error":"#N/A"},{"$error":"#N/A"},{"$error":"#N/A"},{"$error":"#N/A"},{"$f":"IF(ISNUMBER(SUM(COUNTIF(INDIRECT(CR79):INDIRECT(CS79),2),COUNTIF(INDIRECT(CR79):INDIRECT(CS79),1),COUNTIF(INDIRECT(CR79):INDIRECT(CS79),0))),SUM(COUNTIF(INDIRECT(CR79):INDIRECT(CS79),2),COUNTIF(INDIRECT(CR79):INDIRECT(CS79),1),COUNTIF(INDIRECT(CR79):INDIRECT(CS79),0)),\"\")","v":""},{"$f":"IF(ISNUMBER(SUM(COUNTIF(INDIRECT(CR79):INDIRECT(CT79),2),COUNTIF(INDIRECT(CR79):INDIRECT(CT79),1),COUNTIF(INDIRECT(CR79):INDIRECT(CT79),0))),SUM(COUNTIF(INDIRECT(CR79):INDIRECT(CT79),2),COUNTIF(INDIRECT(CR79):INDIRECT(CT79),1),COUNTIF(INDIRECT(CR79):INDIRECT(CT79),0)),\"\")","v":""},{"$f":"IF(ISNUMBER(SUM(COUNTIF(INDIRECT(CR79):INDIRECT(CU79),1),COUNTIF(INDIRECT(CR79):INDIRECT(CU79),0))),SUM(COUNTIF(INDIRECT(CR79):INDIRECT(CU79),1),COUNTIF(INDIRECT(CR79):INDIRECT(CU79),0)),\"\")","v":""},{"$f":"SUM(INDIRECT(CR79):INDIRECT(CS79))","v":{"$error":"#N/A"}},{"$f":"SUM(INDIRECT(CR79):INDIRECT(CT79))","v":{"$error":"#N/A"}},{"$f":"SUM(INDIRECT(CR79):INDIRECT(CU79))","v":{"$error":"#N/A"}}]
[null,null,null,null,null,null,{"$f":"IF(G24=\"\",NA(),G24)","v":{"$error":"#N/A"}},{"$error":"#N/A"},{"$error":"#N/A"},{"$error":"#N/A"},{"$error":"#N/A"},{"$error":"#N/A"},{"$error":"#N/A"},{"$error":"#N/A"},{"$error":"#N/A"},{"$error":"#N/A"},{"$error":"#N/A"},{"$error":"#N/A"},{"$error":"#N/A"},{"$error":"#N/A"},{"$error":"#N/A"},{"$error":"#N/A"},{"$error":"#N/A"},{"$error":"#N/A"},{"$error":"#N/A"},{"$error":"#N/A"},{"$error":"#N/A"},{"$error":"#N/A"},{"$error":"#N/A"},{"$error":"#N/A"},{"$error":"#N/A"},{"$error":"#N/A"},{"$error":"#N/A"},{"$error":"#N/A"},{"$error":"#N/A"},{"$error":"#N/A"},{"$error":"#N/A"},null,null,null,null,null,null,null,null,null,null,null,null,null,null,null,null,null,null,null,null,null,null,{"$f":"SUM(COUNTIF(BI80:CM80,1),COUNTIF(BI80:CM80,0))","v":0},"@","@","@","@","@","@","@","@","@","@","@","@","@","@","@","@","@","@","@","@","@","@","@","@","@","@","@","@","@","@","@",2,2,null,null,{"$error":"#N/A"},{"$error":"#N/A"},{"$error":"#N/A"},{"$error":"#N/A"},{"$f":"IF(ISNUMBER(SUM(COUNTIF(INDIRECT(CR80):INDIRECT(CS80),2),COUNTIF(INDIRECT(CR80):INDIRECT(CS80),1),COUNTIF(INDIRECT(CR80):INDIRECT(CS80),0))),SUM(COUNTIF(INDIRECT(CR80):INDIRECT(CS80),2),COUNTIF(INDIRECT(CR80):INDIRECT(CS80),1),COUNTIF(INDIRECT(CR80):INDIRECT(CS80),0)),\"\")","v":""},{"$f":"IF(ISNUMBER(SUM(COUNTIF(INDIRECT(CR80):INDIRECT(CT80),2),COUNTIF(INDIRECT(CR80):INDIRECT(CT80),1),COUNTIF(INDIRECT(CR80):INDIRECT(CT80),0))),SUM(COUNTIF(INDIRECT(CR80):INDIRECT(CT80),2),COUNTIF(INDIRECT(CR80):INDIRECT(CT80),1),COUNTIF(INDIRECT(CR80):INDIRECT(CT80),0)),\"\")","v":""},{"$f":"IF(ISNUMBER(SUM(COUNTIF(INDIRECT(CR80):INDIRECT(CU80),1),COUNTIF(INDIRECT(CR80):INDIRECT(CU80),0))),SUM(COUNTIF(INDIRECT(CR80):INDIRECT(CU80),1),COUNTIF(INDIRECT(CR80):INDIRECT(CU80),0)),\"\")","v":""},{"$f":"SUM(INDIRECT(CR80):INDIRECT(CS80))","v":{"$error":"#N/A"}},{"$f":"SUM(INDIRECT(CR80):INDIRECT(CT80))","v":{"$error":"#N/A"}},{"$f":"SUM(INDIRECT(CR80):INDIRECT(CU80))","v":{"$error":"#N/A"}}]
[null,null,null,null,null,null,null,null,null,null,null,null,null,null,null,null,null,null,null,null,null,null,null,null,null,null,null,null,null,null,null,null,null,null,null,null,null,null,null,null,null,null,null,null,null,null,null,null,null,null,null,null,null,null,null,null,null,null,null,0,"@","@","@","@","@","@","@","@","@","@","@","@","@","@","@","@","@","@","@","@","@","@","@","@","@","@","@","@","@","@","@",2,2,null,null,{"$error":"#N/A"},{"$error":"#N/A"},{"$error":"#N/A"},{"$error":"#N/A"},{"$f":"IF(ISNUMBER(SUM(COUNTIF(INDIRECT(CR81):INDIRECT(CS81),2),COUNTIF(INDIRECT(CR81):INDIRECT(CS81),1),COUNTIF(INDIRECT(CR81):INDIRECT(CS81),0))),SUM(COUNTIF(INDIRECT(CR81):INDIRECT(CS81),2),COUNTIF(INDIRECT(CR81):INDIRECT(CS81),1),COUNTIF(INDIRECT(CR81):INDIRECT(CS81),0)),\"\")","v":""},{"$f":"IF(ISNUMBER(SUM(COUNTIF(INDIRECT(CR81):INDIRECT(CT81),2),COUNTIF(INDIRECT(CR81):INDIRECT(CT81),1),COUNTIF(INDIRECT(CR81):INDIRECT(CT81),0))),SUM(COUNTIF(INDIRECT(CR81):INDIRECT(CT81),2),COUNTIF(INDIRECT(CR81):INDIRECT(CT81),1),COUNTIF(INDIRECT(CR81):INDIRECT(CT81),0)),\"\")","v":""},{"$f":"IF(ISNUMBER(SUM(COUNTIF(INDIRECT(CR81):INDIRECT(CU81),1),COUNTIF(INDIRECT(CR81):INDIRECT(CU81),0))),SUM(COUNTIF(INDIRECT(CR81):INDIRECT(CU81),1),COUNTIF(INDIRECT(CR81):INDIRECT(CU81),0)),\"\")","v":""},{"$f":"SUM(INDIRECT(CR81):INDIRECT(CS81))","v":{"$error":"#N/A"}},{"$f":"SUM(INDIRECT(CR81):INDIRECT(CT81))","v":{"$error":"#N/A"}},{"$f":"SUM(INDIRECT(CR81):INDIRECT(CU81))","v":{"$error":"#N/A"}}]
[null,null,null,null,null,null,null,null,null,null,null,null,null,null,null,null,null,null,null,null,null,null,null,null,null,null,null,null,null,null,null,null,null,null,null,null,null,null,null,null,null,null,null,null,null,null,null,null,null,null,null,null,null,null,null,null,null,null,null,0,"@","@","@","@","@","@","@","@","@","@","@","@","@","@","@","@","@","@","@","@","@","@","@","@","@","@","@","@","@","@","@",2,2,null,null,{"$error":"#N/A"},{"$error":"#N/A"},{"$error":"#N/A"},{"$error":"#N/A"},{"$f":"IF(ISNUMBER(SUM(COUNTIF(INDIRECT(CR82):INDIRECT(CS82),2),COUNTIF(INDIRECT(CR82):INDIRECT(CS82),1),COUNTIF(INDIRECT(CR82):INDIRECT(CS82),0))),SUM(COUNTIF(INDIRECT(CR82):INDIRECT(CS82),2),COUNTIF(INDIRECT(CR82):INDIRECT(CS82),1),COUNTIF(INDIRECT(CR82):INDIRECT(CS82),0)),\"\")","v":""},{"$f":"IF(ISNUMBER(SUM(COUNTIF(INDIRECT(CR82):INDIRECT(CT82),2),COUNTIF(INDIRECT(CR82):INDIRECT(CT82),1),COUNTIF(INDIRECT(CR82):INDIRECT(CT82),0))),SUM(COUNTIF(INDIRECT(CR82):INDIRECT(CT82),2),COUNTIF(INDIRECT(CR82):INDIRECT(CT82),1),COUNTIF(INDIRECT(CR82):INDIRECT(CT82),0)),\"\")","v":""},{"$f":"IF(ISNUMBER(SUM(COUNTIF(INDIRECT(CR82):INDIRECT(CU82),1),COUNTIF(INDIRECT(CR82):INDIRECT(CU82),0))),SUM(COUNTIF(INDIRECT(CR82):INDIRECT(CU82),1),COUNTIF(INDIRECT(CR82):INDIRECT(CU82),0)),\"\")","v":""},{"$f":"SUM(INDIRECT(CR82):INDIRECT(CS82))","v":{"$error":"#N/A"}},{"$f":"SUM(INDIRECT(CR82):INDIRECT(CT82))","v":{"$error":"#N/A"}},{"$f":"SUM(INDIRECT(CR82):INDIRECT(CU82))","v":{"$error":"#N/A"}}]
[null,null,null,null,null,null,null,null,null,null,null,null,null,null,null,null,null,null,null,null,null,null,null,null,null,null,null,null,null,null,null,null,null,null,null,null,null,null,null,null,null,null,null,null,null,null,null,null,null,null,null,null,null,null,null,null,null,null,null,0,"@","@","@","@","@","@","@","@","@","@","@","@","@","@","@","@","@","@","@","@","@","@","@","@","@","@","@","@","@","@","@",2,2,null,null,{"$error":"#N/A"},{"$error":"#N/A"},{"$error":"#N/A"},{"$error":"#N/A"},{"$f":"IF(ISNUMBER(SUM(COUNTIF(INDIRECT(CR83):INDIRECT(CS83),2),COUNTIF(INDIRECT(CR83):INDIRECT(CS83),1),COUNTIF(INDIRECT(CR83):INDIRECT(CS83),0))),SUM(COUNTIF(INDIRECT(CR83):INDIRECT(CS83),2),COUNTIF(INDIRECT(CR83):INDIRECT(CS83),1),COUNTIF(INDIRECT(CR83):INDIRECT(CS83),0)),\"\")","v":""},{"$f":"IF(ISNUMBER(SUM(COUNTIF(INDIRECT(CR83):INDIRECT(CT83),2),COUNTIF(INDIRECT(CR83):INDIRECT(CT83),1),COUNTIF(INDIRECT(CR83):INDIRECT(CT83),0))),SUM(COUNTIF(INDIRECT(CR83):INDIRECT(CT83),2),COUNTIF(INDIRECT(CR83):INDIRECT(CT83),1),COUNTIF(INDIRECT(CR83):INDIRECT(CT83),0)),\"\")","v":""},{"$f":"IF(ISNUMBER(SUM(COUNTIF(INDIRECT(CR83):INDIRECT(CU83),1),COUNTIF(INDIRECT(CR83):INDIRECT(CU83),0))),SUM(COUNTIF(INDIRECT(CR83):INDIRECT(CU83),1),COUNTIF(INDIRECT(CR83):INDIRECT(CU83),0)),\"\")","v":""},{"$f":"SUM(INDIRECT(CR83):INDIRECT(CS83))","v":{"$error":"#N/A"}},{"$f":"SUM(INDIRECT(CR83):INDIRECT(CT83))","v":{"$error":"#N/A"}},{"$f":"SUM(INDIRECT(CR83):INDIRECT(CU83))","v":{"$error":"#N/A"}}]
[null,null,null,null,null,null,null,null,null,null,null,null,null,null,null,null,null,null,null,null,null,null,null,null,null,null,null,null,null,null,null,null,null,null,null,null,null,null,null,null,null,null,null,null,null,null,null,null,null,null,null,null,null,null,null,null,null,null,null,0,"@","@","@","@","@","@","@","@","@","@","@","@","@","@","@","@","@","@","@","@","@","@","@","@","@","@","@","@","@","@","@",2,2,null,null,{"$error":"#N/A"},{"$error":"#N/A"},{"$error":"#N/A"},{"$error":"#N/A"},{"$f":"IF(ISNUMBER(SUM(COUNTIF(INDIRECT(CR84):INDIRECT(CS84),2),COUNTIF(INDIRECT(CR84):INDIRECT(CS84),1),COUNTIF(INDIRECT(CR84):INDIRECT(CS84),0))),SUM(COUNTIF(INDIRECT(CR84):INDIRECT(CS84),2),COUNTIF(INDIRECT(CR84):INDIRECT(CS84),1),COUNTIF(INDIRECT(CR84):INDIRECT(CS84),0)),\"\")","v":""},{"$f":"IF(ISNUMBER(SUM(COUNTIF(INDIRECT(CR84):INDIRECT(CT84),2),COUNTIF(INDIRECT(CR84):INDIRECT(CT84),1),COUNTIF(INDIRECT(CR84):INDIRECT(CT84),0))),SUM(COUNTIF(INDIRECT(CR84):INDIRECT(CT84),2),COUNTIF(INDIRECT(CR84):INDIRECT(CT84),1),COUNTIF(INDIRECT(CR84):INDIRECT(CT84),0)),\"\")","v":""},{"$f":"IF(ISNUMBER(SUM(COUNTIF(INDIRECT(CR84):INDIRECT(CU84),1),COUNTIF(INDIRECT(CR84):INDIRECT(CU84),0))),SUM(COUNTIF(INDIRECT(CR84):INDIRECT(CU84),1),COUNTIF(INDIRECT(CR84):INDIRECT(CU84),0)),\"\")","v":""},{"$f":"SUM(INDIRECT(CR84):INDIRECT(CS84))","v":{"$error":"#N/A"}},{"$f":"SUM(INDIRECT(CR84):INDIRECT(CT84))","v":{"$error":"#N/A"}},{"$f":"SUM(INDIRECT(CR84):INDIRECT(CU84))","v":{"$error":"#N/A"}}]
[null,null,null,null,null,null,null,null,null,null,null,null,null,null,null,null,null,null,null,null,null,null,null,null,null,null,null,null,null,null,null,null,null,null,null,null,null,null,null,null,null,null,null,null,null,null,null,null,null,null,null,null,null,null,null,null,null,null,null,0,"@","@","@","@","@","@","@","@","@","@","@","@","@","@","@","@","@","@","@","@","@","@","@","@","@","@","@","@","@","@","@",2,2,null,null,{"$error":"#N/A"},{"$error":"#N/A"},{"$error":"#N/A"},{"$error":"#N/A"},{"$f":"IF(ISNUMBER(SUM(COUNTIF(INDIRECT(CR85):INDIRECT(CS85),2),COUNTIF(INDIRECT(CR85):INDIRECT(CS85),1),COUNTIF(INDIRECT(CR85):INDIRECT(CS85),0))),SUM(COUNTIF(INDIRECT(CR85):INDIRECT(CS85),2),COUNTIF(INDIRECT(CR85):INDIRECT(CS85),1),COUNTIF(INDIRECT(CR85):INDIRECT(CS85),0)),\"\")","v":""},{"$f":"IF(ISNUMBER(SUM(COUNTIF(INDIRECT(CR85):INDIRECT(CT85),2),COUNTIF(INDIRECT(CR85):INDIRECT(CT85),1),COUNTIF(INDIRECT(CR85):INDIRECT(CT85),0))),SUM(COUNTIF(INDIRECT(CR85):INDIRECT(CT85),2),COUNTIF(INDIRECT(CR85):INDIRECT(CT85),1),COUNTIF(INDIRECT(CR85):INDIRECT(CT85),0)),\"\")","v":""},{"$f":"IF(ISNUMBER(SUM(COUNTIF(INDIRECT(CR85):INDIRECT(CU85),1),COUNTIF(INDIRECT(CR85):INDIRECT(CU85),0))),SUM(COUNTIF(INDIRECT(CR85):INDIRECT(CU85),1),COUNTIF(INDIRECT(CR85):INDIRECT(CU85),0)),\"\")","v":""},{"$f":"SUM(INDIRECT(CR85):INDIRECT(CS85))","v":{"$error":"#N/A"}},{"$f":"SUM(INDIRECT(CR85):INDIRECT(CT85))","v":{"$error":"#N/A"}},{"$f":"SUM(INDIRECT(CR85):INDIRECT(CU85))","v":{"$error":"#N/A"}}]
[null,null,null,null,null,null,null,null,null,null,null,null,null,null,null,null,null,null,null,null,null,null,null,null,null,null,null,null,null,null,null,null,null,null,null,null,null,null,null,null,null,null,null,null,null,null,null,null,null,null,null,null,null,null,null,null,null,null,null,0,"@","@","@","@","@","@","@","@","@","@","@","@","@","@","@","@","@","@","@","@","@","@","@","@","@","@","@","@","@","@","@",2,2,null,null,{"$error":"#N/A"},{"$error":"#N/A"},{"$error":"#N/A"},{"$error":"#N/A"},{"$f":"IF(ISNUMBER(SUM(COUNTIF(INDIRECT(CR86):INDIRECT(CS86),2),COUNTIF(INDIRECT(CR86):INDIRECT(CS86),1),COUNTIF(INDIRECT(CR86):INDIRECT(CS86),0))),SUM(COUNTIF(INDIRECT(CR86):INDIRECT(CS86),2),COUNTIF(INDIRECT(CR86):INDIRECT(CS86),1),COUNTIF(INDIRECT(CR86):INDIRECT(CS86),0)),\"\")","v":""},{"$f":"IF(ISNUMBER(SUM(COUNTIF(INDIRECT(CR86):INDIRECT(CT86),2),COUNTIF(INDIRECT(CR86):INDIRECT(CT86),1),COUNTIF(INDIRECT(CR86):INDIRECT(CT86),0))),SUM(COUNTIF(INDIRECT(CR86):INDIRECT(CT86),2),COUNTIF(INDIRECT(CR86):INDIRECT(CT86),1),COUNTIF(INDIRECT(CR86):INDIRECT(CT86),0)),\"\")","v":""},{"$f":"IF(ISNUMBER(SUM(COUNTIF(INDIRECT(CR86):INDIRECT(CU86),1),COUNTIF(INDIRECT(CR86):INDIRECT(CU86),0))),SUM(COUNTIF(INDIRECT(CR86):INDIRECT(CU86),1),COUNTIF(INDIRECT(CR86):INDIRECT(CU86),0)),\"\")","v":""},{"$f":"SUM(INDIRECT(CR86):INDIRECT(CS86))","v":{"$error":"#N/A"}},{"$f":"SUM(INDIRECT(CR86):INDIRECT(CT86))","v":{"$error":"#N/A"}},{"$f":"SUM(INDIRECT(CR86):INDIRECT(CU86))","v":{"$error":"#N/A"}}]
[null,null,null,null,null,null,null,null,null,null,null,null,null,null,null,null,null,null,null,null,null,null,null,null,null,null,null,null,null,null,null,null,null,null,null,null,null,null,null,null,null,null,null,null,null,null,null,null,null,null,null,null,null,null,null,null,null,null,null,0,{"$f":"IF(OR(AK59=\"+\",AK59=\"Y\",AK59=2),1,IF(OR(AK59=\"-\",AK59=\"N\",AK59=1),0,IF(OR(BJ87=1,BJ87=0),\"#\",\"@\")))","v":"@"},{"$f":"IF(OR(AJ59=\"+\",AJ59=\"Y\",AJ59=2),1,IF(OR(AJ59=\"-\",AJ59=\"N\",AJ59=1),0,IF(OR(BK87=1,BK87=0),\"#\",\"@\")))","v":"@"},{"$f":"IF(OR(AI59=\"+\",AI59=\"Y\",AI59=2),1,IF(OR(AI59=\"-\",AI59=\"N\",AI59=1),0,IF(OR(BL87=1,BL87=0),\"#\",\"@\")))","v":"@"},{"$f":"IF(OR(AH59=\"+\",AH59=\"Y\",AH59=2),1,IF(OR(AH59=\"-\",AH59=\"N\",AH59=1),0,IF(OR(BM87=1,BM87=0),\"#\",\"@\")))","v":"@"},{"$f":"IF(OR(AG59=\"+\",AG59=\"Y\",AG59=2),1,IF(OR(AG59=\"-\",AG59=\"N\",AG59=1),0,IF(OR(BN87=1,BN87=0),\"#\",\"@\")))","v":"@"},{"$f":"IF(OR(AF59=\"+\",AF59=\"Y\",AF59=2),1,IF(OR(AF59=\"-\",AF59=\"N\",AF59=1),0,IF(OR(BO87=1,BO87=0),\"#\",\"@\")))","v":"@"},{"$f":"IF(OR(AE59=\"+\",AE59=\"Y\",AE59=2),1,IF(OR(AE59=\"-\",AE59=\"N\",AE59=1),0,IF(OR(BP87=1,BP87=0),\"#\",\"@\")))","v":"@"},{"$f":"IF(OR(AD59=\"+\",AD59=\"Y\",AD59=2),1,IF(OR(AD59=\"-\",AD59=\"N\",AD59=1),0,IF(OR(BQ87=1,BQ87=0),\"#\",\"@\")))","v":"@"},{"$f":"IF(OR(AC59=\"+\",AC59=\"Y\",AC59=2),1,IF(OR(AC59=\"-\",AC59=\"N\",AC59=1),0,IF(OR(BR87=1,BR87=0),\"#\",\"@\")))","v":"@"},{"$f":"IF(OR(AB59=\"+\",AB59=\"Y\",AB59=2),1,IF(OR(AB59=\"-\",AB59=\"N\",AB59=1),0,IF(OR(BS87=1,BS87=0),\"#\",\"@\")))","v":"@"},{"$f":"IF(OR(AA59=\"+\",AA59=\"Y\",AA59=2),1,IF(OR(AA59=\"-\",AA59=\"N\",AA59=1),0,IF(OR(BT87=1,BT87=0),\"#\",\"@\")))","v":"@"},{"$f":"IF(OR(Z59=\"+\",Z59=\"Y\",Z59=2),1,IF(OR(Z59=\"-\",Z59=\"N\",Z59=1),0,IF(OR(BU87=1,BU87=0),\"#\",\"@\")))","v":"@"},{"$f":"IF(OR(Y59=\"+\",Y59=\"Y\",Y59=2),1,IF(OR(Y59=\"-\",Y59=\"N\",Y59=1),0,IF(OR(BV87=1,BV87=0),\"#\",\"@\")))","v":"@"},{"$f":"IF(OR(X59=\"+\",X59=\"Y\",X59=2),1,IF(OR(X59=\"-\",X59=\"N\",X59=1),0,IF(OR(BW87=1,BW87=0),\"#\",\"@\")))","v":"@"},{"$f":"IF(OR(W59=\"+\",W59=\"Y\",W59=2),1,IF(OR(W59=\"-\",W59=\"N\",W59=1),0,IF(OR(BX87=1,BX87=0),\"#\",\"@\")))","v":"@"},{"$f":"IF(OR(V59=\"+\",V59=\"Y\",V59=2),1,IF(OR(V59=\"-\",V59=\"N\",V59=1),0,IF(OR(BY87=1,BY87=0),\"#\",\"@\")))","v":"@"},{"$f":"IF(OR(U59=\"+\",U59=\"Y\",U59=2),1,IF(OR(U59=\"-\",U59=\"N\",U59=1),0,IF(OR(BZ87=1,BZ87=0),\"#\",\"@\")))","v":"@"},{"$f":"IF(OR(T59=\"+\",T59=\"Y\",T59=2),1,IF(OR(T59=\"-\",T59=\"N\",T59=1),0,IF(OR(CA87=1,CA87=0),\"#\",\"@\")))","v":"@"},{"$f":"IF(OR(S59=\"+\",S59=\"Y\",S59=2),1,IF(OR(S59=\"-\",S59=\"N\",S59=1),0,IF(OR(CB87=1,CB87=0),\"#\",\"@\")))","v":"@"},{"$f":"IF(OR(R59=\"+\",R59=\"Y\",R59=2),1,IF(OR(R59=\"-\",R59=\"N\",R59=1),0,IF(OR(CC87=1,CC87=0),\"#\",\"@\")))","v":"@"},{"$f":"IF(OR(Q59=\"+\",Q59=\"Y\",Q59=2),1,IF(OR(Q59=\"-\",Q59=\"N\",Q59=1),0,IF(OR(CD87=1,CD87=0),\"#\",\"@\")))","v":"@"},{"$f":"IF(OR(P59=\"+\",P59=\"Y\",P59=2),1,IF(OR(P59=\"-\",P59=\"N\",P59=1),0,IF(OR(CE87=1,CE87=0),\"#\",\"@\")))","v":"@"},{"$f":"IF(OR(O59=\"+\",O59=\"Y\",O59=2),1,IF(OR(O59=\"-\",O59=\"N\",O59=1),0,IF(OR(CF87=1,CF87=0),\"#\",\"@\")))","v":"@"},{"$f":"IF(OR(N59=\"+\",N59=\"Y\",N59=2),1,IF(OR(N59=\"-\",N59=\"N\",N59=1),0,IF(OR(CG87=1,CG87=0),\"#\",\"@\")))","v":"@"},{"$f":"IF(OR(M59=\"+\",M59=\"Y\",M59=2),1,IF(OR(M59=\"-\",M59=\"N\",M59=1),0,IF(OR(CH87=1,CH87=0),\"#\",\"@\")))","v":"@"},{"$f":"IF(OR(L59=\"+\",L59=\"Y\",L59=2),1,IF(OR(L59=\"-\",L59=\"N\",L59=1),0,IF(OR(CI87=1,CI87=0),\"#\",\"@\")))","v":"@"},{"$f":"IF(OR(K59=\"+\",K59=\"Y\",K59=2),1,IF(OR(K59=\"-\",K59=\"N\",K59=1),0,IF(OR(CJ87=1,CJ87=0),\"#\",\"@\")))","v":"@"},{"$f":"IF(OR(J59=\"+\",J59=\"Y\",J59=2),1,IF(OR(J59=\"-\",J59=\"N\",J59=1),0,IF(OR(CK87=1,CK87=0),\"#\",\"@\")))","v":"@"},{"$f":"IF(OR(I59=\"+\",I59=\"Y\",I59=2),1,IF(OR(I59=\"-\",I59=\"N\",I59=1),0,IF(OR(CL87=1,CL87=0),\"#\",\"@\")))","v":"@"},{"$f":"IF(OR(H59=\"+\",H59=\"Y\",H59=2),1,IF(OR(H59=\"-\",H59=\"N\",H59=1),0,IF(OR(CM87=1,CM87=0),\"#\",\"@\")))","v":"@"},{"$f":"IF(OR(G59=\"+\",G59=\"Y\",G59=2),1,IF(OR(G59=\"-\",G59=\"N\",G59=1),0,\"@\"))","v":"@"},{"$f":"IF(AND($F$10=\"Multi-Step (Task Analysis)\",OR(ISTEXT(G59),ISNUMBER(G59)),OR(ISTEXT(H59),ISNUMBER(H59)),OR(ISTEXT(I59),ISNUMBER(I59)),OR(ISTEXT(J59),ISNUMBER(J59))),2,IF(AND($F$10=\"Multi-Step (Task Analysis)\",OR(ISTEXT(G59),ISNUMBER(G59)),OR(ISTEXT(H59),ISNUMBER(H59)),G59=H59,OR(G59=\"+\",G59=\"Y\",G59=2)),0,IF(AND($F$10=\"Multi-Step (Task Analysis)\",OR(ISTEXT(G59),ISNUMBER(G59)),OR(ISTEXT(H59),ISNUMBER(H59)),G59=H59,OR(G59=\"-\",G59=\"N\",G59=1)),2,IF($F$10=\"Multi-Step (Task Analysis)\",1,2))))","v":2},{"$f":"IF(AND($F$10=\"Multi-Step (Task Analysis)\",OR(ISTEXT(G59),ISNUMBER(G59)),OR(ISTEXT(H59),ISNUMBER(H59)),OR(ISTEXT(I59),ISNUMBER(I59))),1,IF($F$10=\"Multi-Step (Task Analysis)\",0,2))","v":2},null,null,{"$f":"ADDRESS(ROW(BH87),(MATCH(\"#\",BI87:CM87,0)+61))","v":{"$error":"#N/A"}},{"$f":"ADDRESS(ROW(BH87),(MATCH(\"#\",BI87:CM87,0)+65))","v":{"$error":"#N/A"}},{"$f":"ADDRESS(ROW(BH87),(MATCH(\"#\",BI87:CM87,0)+64))","v":{"$error":"#N/A"}},{"$f":"ADDRESS(ROW(BH87),(MATCH(\"#\",BI87:CM87,0)+63))","v":{"$error":"#N/A"}},{"$f":"IF(ISNUMBER(SUM(COUNTIF(INDIRECT(CR87):INDIRECT(CS87),2),COUNTIF(INDIRECT(CR87):INDIRECT(CS87),1),COUNTIF(INDIRECT(CR87):INDIRECT(CS87),0))),SUM(COUNTIF(INDIRECT(CR87):INDIRECT(CS87),2),COUNTIF(INDIRECT(CR87):INDIRECT(CS87),1),COUNTIF(INDIRECT(CR87):INDIRECT(CS87),0)),\"\")","v":""},{"$f":"IF(ISNUMBER(SUM(COUNTIF(INDIRECT(CR87):INDIRECT(CT87),2),COUNTIF(INDIRECT(CR87):INDIRECT(CT87),1),COUNTIF(INDIRECT(CR87):INDIRECT(CT87),0))),SUM(COUNTIF(INDIRECT(CR87):INDIRECT(CT87),2),COUNTIF(INDIRECT(CR87):INDIRECT(CT87),1),COUNTIF(INDIRECT(CR87):INDIRECT(CT87),0)),\"\")","v":""},{"$f":"IF(ISNUMBER(SUM(COUNTIF(INDIRECT(CR87):INDIRECT(CU87),1),COUNTIF(INDIRECT(CR87):INDIRECT(CU87),0))),SUM(COUNTIF(INDIRECT(CR87):INDIRECT(CU87),1),COUNTIF(INDIRECT(CR87):INDIRECT(CU87),0)),\"\")","v":""},{"$f":"SUM(INDIRECT(CR87):INDIRECT(CS87))","v":{"$error":"#N/A"}},{"$f":"SUM(INDIRECT(CR87):INDIRECT(CT87))","v":{"$error":"#N/A"}},{"$f":"SUM(INDIRECT(CR87):INDIRECT(CU87))","v":{"$error":"#N/A"}}]
[null,null,null,null,null,null,null,null,null,null,null,null,null,null,null,null,null,null,null,null,null,null,null,null,null,null,null,null,null,null,null,null,null,null,null,null,null,null,null,null,null,null,null,null,null,null,null,null,null,null,null,null,null,null,null,null,null,null,null,0,"@","@","@","@","@","@","@","@","@","@","@","@","@","@","@","@","@","@","@","@","@","@","@","@","@","@","@","@","@","@","@",2,2,null,null,{"$error":"#N/A"},{"$error":"#N/A"},{"$error":"#N/A"},{"$error":"#N/A"},{"$f":"IF(ISNUMBER(SUM(COUNTIF(INDIRECT(CR88):INDIRECT(CS88),2),COUNTIF(INDIRECT(CR88):INDIRECT(CS88),1),COUNTIF(INDIRECT(CR88):INDIRECT(CS88),0))),SUM(COUNTIF(INDIRECT(CR88):INDIRECT(CS88),2),COUNTIF(INDIRECT(CR88):INDIRECT(CS88),1),COUNTIF(INDIRECT(CR88):INDIRECT(CS88),0)),\"\")","v":""},{"$f":"IF(ISNUMBER(SUM(COUNTIF(INDIRECT(CR88):INDIRECT(CT88),2),COUNTIF(INDIRECT(CR88):INDIRECT(CT88),1),COUNTIF(INDIRECT(CR88):INDIRECT(CT88),0))),SUM(COUNTIF(INDIRECT(CR88):INDIRECT(CT88),2),COUNTIF(INDIRECT(CR88):INDIRECT(CT88),1),COUNTIF(INDIRECT(CR88):INDIRECT(CT88),0)),\"\")","v":""},{"$f":"IF(ISNUMBER(SUM(COUNTIF(INDIRECT(CR88):INDIRECT(CU88),1),COUNTIF(INDIRECT(CR88):INDIRECT(CU88),0))),SUM(COUNTIF(INDIRECT(CR88):INDIRECT(CU88),1),COUNTIF(INDIRECT(CR88):INDIRECT(CU88),0)),\"\")","v":""},{"$f":"SUM(INDIRECT(CR88):INDIRECT(CS88))","v":{"$error":"#N/A"}},{"$f":"SUM(INDIRECT(CR88):INDIRECT(CT88))","v":{"$error":"#N/A"}},{"$f":"SUM(INDIRECT(CR88):INDIRECT(CU88))","v":{"$error":"#N/A"}}]
[null,null,null,null,null,null,null,null,null,null,null,null,null,null,null,null,null,null,null,null,null,null,null,null,null,null,null,null,null,null,null,null,null,null,null,null,null,null,null,null,null,null,null,null,null,null,null,null,null,null,null,null,null,null,null,null,null,null,null,0,"@","@","@","@","@","@","@","@","@","@","@","@","@","@","@","@","@","@","@","@","@","@","@","@","@","@","@","@","@","@","@",2,2,null,null,{"$error":"#N/A"},{"$error":"#N/A"},{"$error":"#N/A"},{"$error":"#N/A"},{"$f":"IF(ISNUMBER(SUM(COUNTIF(INDIRECT(CR89):INDIRECT(CS89),2),COUNTIF(INDIRECT(CR89):INDIRECT(CS89),1),COUNTIF(INDIRECT(CR89):INDIRECT(CS89),0))),SUM(COUNTIF(INDIRECT(CR89):INDIRECT(CS89),2),COUNTIF(INDIRECT(CR89):INDIRECT(CS89),1),COUNTIF(INDIRECT(CR89):INDIRECT(CS89),0)),\"\")","v":""},{"$f":"IF(ISNUMBER(SUM(COUNTIF(INDIRECT(CR89):INDIRECT(CT89),2),COUNTIF(INDIRECT(CR89):INDIRECT(CT89),1),COUNTIF(INDIRECT(CR89):INDIRECT(CT89),0))),SUM(COUNTIF(INDIRECT(CR89):INDIRECT(CT89),2),COUNTIF(INDIRECT(CR89):INDIRECT(CT89),1),COUNTIF(INDIRECT(CR89):INDIRECT(CT89),0)),\"\")","v":""},{"$f":"IF(ISNUMBER(SUM(COUNTIF(INDIRECT(CR89):INDIRECT(CU89),1),COUNTIF(INDIRECT(CR89):INDIRECT(CU89),0))),SUM(COUNTIF(INDIRECT(CR89):INDIRECT(CU89),1),COUNTIF(INDIRECT(CR89):INDIRECT(CU89),0)),\"\")","v":""},{"$f":"SUM(INDIRECT(CR89):INDIRECT(CS89))","v":{"$error":"#N/A"}},{"$f":"SUM(INDIRECT(CR89):INDIRECT(CT89))","v":{"$error":"#N/A"}},{"$f":"SUM(INDIRECT(CR89):INDIRECT(CU89))","v":{"$error":"#N/A"}}]
[null,null,null,null,null,null,null,null,null,null,null,null,null,null,null,null,null,null,null,null,null,null,null,null,null,null,null,null,null,null,null,null,null,null,null,null,null,null,null,null,null,null,null,null,null,null,null,null,null,null,null,null,null,null,null,null,null,null,null,0,"@","@","@","@","@","@","@","@","@","@","@","@","@","@","@","@","@","@","@","@","@","@","@","@","@","@","@","@","@","@","@",2,2,null,null,{"$error":"#N/A"},{"$error":"#N/A"},{"$error":"#N/A"},{"$error":"#N/A"},{"$f":"IF(ISNUMBER(SUM(COUNTIF(INDIRECT(CR90):INDIRECT(CS90),2),COUNTIF(INDIRECT(CR90):INDIRECT(CS90),1),COUNTIF(INDIRECT(CR90):INDIRECT(CS90),0))),SUM(COUNTIF(INDIRECT(CR90):INDIRECT(CS90),2),COUNTIF(INDIRECT(CR90):INDIRECT(CS90),1),COUNTIF(INDIRECT(CR90):INDIRECT(CS90),0)),\"\")","v":""},{"$f":"IF(ISNUMBER(SUM(COUNTIF(INDIRECT(CR90):INDIRECT(CT90),2),COUNTIF(INDIRECT(CR90):INDIRECT(CT90),1),COUNTIF(INDIRECT(CR90):INDIRECT(CT90),0))),SUM(COUNTIF(INDIRECT(CR90):INDIRECT(CT90),2),COUNTIF(INDIRECT(CR90):INDIRECT(CT90),1),COUNTIF(INDIRECT(CR90):INDIRECT(CT90),0)),\"\")","v":""},{"$f":"IF(ISNUMBER(SUM(COUNTIF(INDIRECT(CR90):INDIRECT(CU90),1),COUNTIF(INDIRECT(CR90):INDIRECT(CU90),0))),SUM(COUNTIF(INDIRECT(CR90):INDIRECT(CU90),1),COUNTIF(INDIRECT(CR90):INDIRECT(CU90),0)),\"\")","v":""},{"$f":"SUM(INDIRECT(CR90):INDIRECT(CS90))","v":{"$error":"#N/A"}},{"$f":"SUM(INDIRECT(CR90):INDIRECT(CT90))","v":{"$error":"#N/A"}},{"$f":"SUM(INDIRECT(CR90):INDIRECT(CU90))","v":{"$error":"#N/A"}}]
[null,null,null,null,null,null,null,null,null,null,null,null,null,null,null,null,null,null,null,null,null,null,null,null,null,null,null,null,null,null,null,null,null,null,null,null,null,null,null,null,null,null,null,null,null,null,null,null,null,null,null,null,null,null,null,null,null,null,null,0,"@","@","@","@","@","@","@","@","@","@","@","@","@","@","@","@","@","@","@","@","@","@","@","@","@","@","@","@","@","@","@",2,2,null,null,{"$error":"#N/A"},{"$error":"#N/A"},{"$error":"#N/A"},{"$error":"#N/A"},{"$f":"IF(ISNUMBER(SUM(COUNTIF(INDIRECT(CR91):INDIRECT(CS91),2),COUNTIF(INDIRECT(CR91):INDIRECT(CS91),1),COUNTIF(INDIRECT(CR91):INDIRECT(CS91),0))),SUM(COUNTIF(INDIRECT(CR91):INDIRECT(CS91),2),COUNTIF(INDIRECT(CR91):INDIRECT(CS91),1),COUNTIF(INDIRECT(CR91):INDIRECT(CS91),0)),\"\")","v":""},{"$f":"IF(ISNUMBER(SUM(COUNTIF(INDIRECT(CR91):INDIRECT(CT91),2),COUNTIF(INDIRECT(CR91):INDIRECT(CT91),1),COUNTIF(INDIRECT(CR91):INDIRECT(CT91),0))),SUM(COUNTIF(INDIRECT(CR91):INDIRECT(CT91),2),COUNTIF(INDIRECT(CR91):INDIRECT(CT91),1),COUNTIF(INDIRECT(CR91):INDIRECT(CT91),0)),\"\")","v":""},{"$f":"IF(ISNUMBER(SUM(COUNTIF(INDIRECT(CR91):INDIRECT(CU91),1),COUNTIF(INDIRECT(CR91):INDIRECT(CU91),0))),SUM(COUNTIF(INDIRECT(CR91):INDIRECT(CU91),1),COUNTIF(INDIRECT(CR91):INDIRECT(CU91),0)),\"\")","v":""},{"$f":"SUM(INDIRECT(CR91):INDIRECT(CS91))","v":{"$error":"#N/A"}},{"$f":"SUM(INDIRECT(CR91):INDIRECT(CT91))","v":{"$error":"#N/A"}},{"$f":"SUM(INDIRECT(CR91):INDIRECT(CU91))","v":{"$error":"#N/A"}}]
[null,null,null,null,null,null,null,null,null,null,null,null,null,null,null,null,null,null,null,null,null,null,null,null,null,null,null,null,null,null,null,null,null,null,null,null,null,null,null,null,null,null,null,null,null,null,null,null,null,null,null,null,null,null,null,null,null,null,null,0,"@","@","@","@","@","@","@","@","@","@","@","@","@","@","@","@","@","@","@","@","@","@","@","@","@","@","@","@","@","@","@",2,2,null,null,{"$error":"#N/A"},{"$error":"#N/A"},{"$error":"#N/A"},{"$error":"#N/A"},{"$f":"IF(ISNUMBER(SUM(COUNTIF(INDIRECT(CR92):INDIRECT(CS92),2),COUNTIF(INDIRECT(CR92):INDIRECT(CS92),1),COUNTIF(INDIRECT(CR92):INDIRECT(CS92),0))),SUM(COUNTIF(INDIRECT(CR92):INDIRECT(CS92),2),COUNTIF(INDIRECT(CR92):INDIRECT(CS92),1),COUNTIF(INDIRECT(CR92):INDIRECT(CS92),0)),\"\")","v":""},{"$f":"IF(ISNUMBER(SUM(COUNTIF(INDIRECT(CR92):INDIRECT(CT92),2),COUNTIF(INDIRECT(CR92):INDIRECT(CT92),1),COUNTIF(INDIRECT(CR92):INDIRECT(CT92),0))),SUM(COUNTIF(INDIRECT(CR92):INDIRECT(CT92),2),COUNTIF(INDIRECT(CR92):INDIRECT(CT92),1),COUNTIF(INDIRECT(CR92):INDIRECT(CT92),0)),\"\")","v":""},{"$f":"IF(ISNUMBER(SUM(COUNTIF(INDIRECT(CR92):INDIRECT(CU92),1),COUNTIF(INDIRECT(CR92):INDIRECT(CU92),0))),SUM(COUNTIF(INDIRECT(CR92):INDIRECT(CU92),1),COUNTIF(INDIRECT(CR92):INDIRECT(CU92),0)),\"\")","v":""},{"$f":"SUM(INDIRECT(CR92):INDIRECT(CS92))","v":{"$error":"#N/A"}},{"$f":"SUM(INDIRECT(CR92):INDIRECT(CT92))","v":{"$error":"#N/A"}},{"$f":"SUM(INDIRECT(CR92):INDIRECT(CU92))","v":{"$error":"#N/A"}}]
[null,null,null,null,null,null,null,null,null,null,null,null,null,null,null,null,null,null,null,null,null,null,null,null,null,null,null,null,null,null,null,null,null,null,null,null,null,null,null,null,null,null,null,null,null,null,null,null,null,null,null,null,null,null,null,null,null,null,null,0,"@","@","@","@","@","@","@","@","@","@","@","@","@","@","@","@","@","@","@","@","@","@","@","@","@","@","@","@","@","@","@",2,2,null,null,{"$error":"#N/A"},{"$error":"#N/A"},{"$error":"#N/A"},{"$error":"#N/A"},{"$f":"IF(ISNUMBER(SUM(COUNTIF(INDIRECT(CR93):INDIRECT(CS93),2),COUNTIF(INDIRECT(CR93):INDIRECT(CS93),1),COUNTIF(INDIRECT(CR93):INDIRECT(CS93),0))),SUM(COUNTIF(INDIRECT(CR93):INDIRECT(CS93),2),COUNTIF(INDIRECT(CR93):INDIRECT(CS93),1),COUNTIF(INDIRECT(CR93):INDIRECT(CS93),0)),\"\")","v":""},{"$f":"IF(ISNUMBER(SUM(COUNTIF(INDIRECT(CR93):INDIRECT(CT93),2),COUNTIF(INDIRECT(CR93):INDIRECT(CT93),1),COUNTIF(INDIRECT(CR93):INDIRECT(CT93),0))),SUM(COUNTIF(INDIRECT(CR93):INDIRECT(CT93),2),COUNTIF(INDIRECT(CR93):INDIRECT(CT93),1),COUNTIF(INDIRECT(CR93):INDIRECT(CT93),0)),\"\")","v":""},{"$f":"IF(ISNUMBER(SUM(COUNTIF(INDIRECT(CR93):INDIRECT(CU93),1),COUNTIF(INDIRECT(CR93):INDIRECT(CU93),0))),SUM(COUNTIF(INDIRECT(CR93):INDIRECT(CU93),1),COUNTIF(INDIRECT(CR93):INDIRECT(CU93),0)),\"\")","v":""},{"$f":"SUM(INDIRECT(CR93):INDIRECT(CS93))","v":{"$error":"#N/A"}},{"$f":"SUM(INDIRECT(CR93):INDIRECT(CT93))","v":{"$error":"#N/A"}},{"$f":"SUM(INDIRECT(CR93):INDIRECT(CU93))","v":{"$error":"#N/A"}}]
[null,null,null,null,null,null,null,null,null,null,null,null,null,null,null,null,null,null,null,null,null,null,null,null,null,null,null,null,null,null,null,null,null,null,null,null,null,null,null,null,null,null,null,null,null,null,null,null,null,null,null,null,null,null,null,null,null,null,null,0,"@","@","@","@","@","@","@","@","@","@","@","@","@","@","@","@","@","@","@","@","@","@","@","@","@","@","@","@","@","@","@",2,2,null,null,{"$error":"#N/A"},{"$error":"#N/A"},{"$error":"#N/A"},{"$error":"#N/A"},{"$f":"IF(ISNUMBER(SUM(COUNTIF(INDIRECT(CR94):INDIRECT(CS94),2),COUNTIF(INDIRECT(CR94):INDIRECT(CS94),1),COUNTIF(INDIRECT(CR94):INDIRECT(CS94),0))),SUM(COUNTIF(INDIRECT(CR94):INDIRECT(CS94),2),COUNTIF(INDIRECT(CR94):INDIRECT(CS94),1),COUNTIF(INDIRECT(CR94):INDIRECT(CS94),0)),\"\")","v":""},{"$f":"IF(ISNUMBER(SUM(COUNTIF(INDIRECT(CR94):INDIRECT(CT94),2),COUNTIF(INDIRECT(CR94):INDIRECT(CT94),1),COUNTIF(INDIRECT(CR94):INDIRECT(CT94),0))),SUM(COUNTIF(INDIRECT(CR94):INDIRECT(CT94),2),COUNTIF(INDIRECT(CR94):INDIRECT(CT94),1),COUNTIF(INDIRECT(CR94):INDIRECT(CT94),0)),\"\")","v":""},{"$f":"IF(ISNUMBER(SUM(COUNTIF(INDIRECT(CR94):INDIRECT(CU94),1),COUNTIF(INDIRECT(CR94):INDIRECT(CU94),0))),SUM(COUNTIF(INDIRECT(CR94):INDIRECT(CU94),1),COUNTIF(INDIRECT(CR94):INDIRECT(CU94),0)),\"\")","v":""},{"$f":"SUM(INDIRECT(CR94):INDIRECT(CS94))","v":{"$error":"#N/A"}},{"$f":"SUM(INDIRECT(CR94):INDIRECT(CT94))","v":{"$error":"#N/A"}},{"$f":"SUM(INDIRECT(CR94):INDIRECT(CU94))","v":{"$error":"#N/A"}}]
[null,null,null,null,null,null,null,null,null,null,null,null,null,null,null,null,null,null,null,null,null,null,null,null,null,null,null,null,null,null,null,null,null,null,null,null,null,null,null,null,null,null,null,null,null,null,null,null,null,null,null,null,null,null,null,null,null,null,null,0,"@","@","@","@","@","@","@","@","@","@","@","@","@","@","@","@","@","@","@","@","@","@","@","@","@","@","@","@","@","@","@",2,2,null,null,{"$error":"#N/A"},{"$error":"#N/A"},{"$error":"#N/A"},{"$error":"#N/A"},{"$f":"IF(ISNUMBER(SUM(COUNTIF(INDIRECT(CR95):INDIRECT(CS95),2),COUNTIF(INDIRECT(CR95):INDIRECT(CS95),1),COUNTIF(INDIRECT(CR95):INDIRECT(CS95),0))),SUM(COUNTIF(INDIRECT(CR95):INDIRECT(CS95),2),COUNTIF(INDIRECT(CR95):INDIRECT(CS95),1),COUNTIF(INDIRECT(CR95):INDIRECT(CS95),0)),\"\")","v":""},{"$f":"IF(ISNUMBER(SUM(COUNTIF(INDIRECT(CR95):INDIRECT(CT95),2),COUNTIF(INDIRECT(CR95):INDIRECT(CT95),1),COUNTIF(INDIRECT(CR95):INDIRECT(CT95),0))),SUM(COUNTIF(INDIRECT(CR95):INDIRECT(CT95),2),COUNTIF(INDIRECT(CR95):INDIRECT(CT95),1),COUNTIF(INDIRECT(CR95):INDIRECT(CT95),0)),\"\")","v":""},{"$f":"IF(ISNUMBER(SUM(COUNTIF(INDIRECT(CR95):INDIRECT(CU95),1),COUNTIF(INDIRECT(CR95):INDIRECT(CU95),0))),SUM(COUNTIF(INDIRECT(CR95):INDIRECT(CU95),1),COUNTIF(INDIRECT(CR95):INDIRECT(CU95),0)),\"\")","v":""},{"$f":"SUM(INDIRECT(CR95):INDIRECT(CS95))","v":{"$error":"#N/A"}},{"$f":"SUM(INDIRECT(CR95):INDIRECT(CT95))","v":{"$error":"#N/A"}},{"$f":"SUM(INDIRECT(CR95):INDIRECT(CU95))","v":{"$error":"#N/A"}}]
[null,null,null,null,null,null,null,null,null,null,null,null,null,null,null,null,null,null,null,null,null,null,null,null,null,null,null,null,null,null,null,null,null,null,null,null,null,null,null,null,null,null,null,null,null,null,null,null,null,null,null,null,null,null,null,null,null,null,null,0,"@","@","@","@","@","@","@","@","@","@","@","@","@","@","@","@","@","@","@","@","@","@","@","@","@","@","@","@","@","@","@",2,2,null,null,{"$error":"#N/A"},{"$error":"#N/A"},{"$error":"#N/A"},{"$error":"#N/A"},{"$f":"IF(ISNUMBER(SUM(COUNTIF(INDIRECT(CR96):INDIRECT(CS96),2),COUNTIF(INDIRECT(CR96):INDIRECT(CS96),1),COUNTIF(INDIRECT(CR96):INDIRECT(CS96),0))),SUM(COUNTIF(INDIRECT(CR96):INDIRECT(CS96),2),COUNTIF(INDIRECT(CR96):INDIRECT(CS96),1),COUNTIF(INDIRECT(CR96):INDIRECT(CS96),0)),\"\")","v":""},{"$f":"IF(ISNUMBER(SUM(COUNTIF(INDIRECT(CR96):INDIRECT(CT96),2),COUNTIF(INDIRECT(CR96):INDIRECT(CT96),1),COUNTIF(INDIRECT(CR96):INDIRECT(CT96),0))),SUM(COUNTIF(INDIRECT(CR96):INDIRECT(CT96),2),COUNTIF(INDIRECT(CR96):INDIRECT(CT96),1),COUNTIF(INDIRECT(CR96):INDIRECT(CT96),0)),\"\")","v":""},{"$f":"IF(ISNUMBER(SUM(COUNTIF(INDIRECT(CR96):INDIRECT(CU96),1),COUNTIF(INDIRECT(CR96):INDIRECT(CU96),0))),SUM(COUNTIF(INDIRECT(CR96):INDIRECT(CU96),1),COUNTIF(INDIRECT(CR96):INDIRECT(CU96),0)),\"\")","v":""},{"$f":"SUM(INDIRECT(CR96):INDIRECT(CS96))","v":{"$error":"#N/A"}},{"$f":"SUM(INDIRECT(CR96):INDIRECT(CT96))","v":{"$error":"#N/A"}},{"$f":"SUM(INDIRECT(CR96):INDIRECT(CU96))","v":{"$error":"#N/A"}}]
[null,null,null,null,null,null,null,null,null,null,null,null,null,null,null,null,null,null,null,null,null,null,null,null,null,null,null,null,null,null,null,null,null,null,null,null,null,null,null,null,null,null,null,null,null,null,null,null,null,null,null,null,null,null,null,null,null,null,null,0,"@","@","@","@","@","@","@","@","@","@","@","@","@","@","@","@","@","@","@","@","@","@","@","@","@","@","@","@","@","@","@",2,2,null,null,{"$error":"#N/A"},{"$error":"#N/A"},{"$error":"#N/A"},{"$error":"#N/A"},{"$f":"IF(ISNUMBER(SUM(COUNTIF(INDIRECT(CR97):INDIRECT(CS97),2),COUNTIF(INDIRECT(CR97):INDIRECT(CS97),1),COUNTIF(INDIRECT(CR97):INDIRECT(CS97),0))),SUM(COUNTIF(INDIRECT(CR97):INDIRECT(CS97),2),COUNTIF(INDIRECT(CR97):INDIRECT(CS97),1),COUNTIF(INDIRECT(CR97):INDIRECT(CS97),0)),\"\")","v":""},{"$f":"IF(ISNUMBER(SUM(COUNTIF(INDIRECT(CR97):INDIRECT(CT97),2),COUNTIF(INDIRECT(CR97):INDIRECT(CT97),1),COUNTIF(INDIRECT(CR97):INDIRECT(CT97),0))),SUM(COUNTIF(INDIRECT(CR97):INDIRECT(CT97),2),COUNTIF(INDIRECT(CR97):INDIRECT(CT97),1),COUNTIF(INDIRECT(CR97):INDIRECT(CT97),0)),\"\")","v":""},{"$f":"IF(ISNUMBER(SUM(COUNTIF(INDIRECT(CR97):INDIRECT(CU97),1),COUNTIF(INDIRECT(CR97):INDIRECT(CU97),0))),SUM(COUNTIF(INDIRECT(CR97):INDIRECT(CU97),1),COUNTIF(INDIRECT(CR97):INDIRECT(CU97),0)),\"\")","v":""},{"$f":"SUM(INDIRECT(CR97):INDIRECT(CS97))","v":{"$error":"#N/A"}},{"$f":"SUM(INDIRECT(CR97):INDIRECT(CT97))","v":{"$error":"#N/A"}},{"$f":"SUM(INDIRECT(CR97):INDIRECT(CU97))","v":{"$error":"#N/A"}}]
[null,null,null,null,null,null,null,null,null,null,null,null,null,null,null,null,null,null,null,null,null,null,null,null,null,null,null,null,null,null,null,null,null,null,null,null,null,null,null,null,null,null,null,null,null,null,null,null,null,null,null,null,null,null,null,null,null,null,null,0,"@","@","@","@","@","@","@","@","@","@","@","@","@","@","@","@","@","@","@","@","@","@","@","@","@","@","@","@","@","@","@",2,2,null,null,{"$error":"#N/A"},{"$error":"#N/A"},{"$error":"#N/A"},{"$error":"#N/A"},{"$f":"IF(ISNUMBER(SUM(COUNTIF(INDIRECT(CR98):INDIRECT(CS98),2),COUNTIF(INDIRECT(CR98):INDIRECT(CS98),1),COUNTIF(INDIRECT(CR98):INDIRECT(CS98),0))),SUM(COUNTIF(INDIRECT(CR98):INDIRECT(CS98),2),COUNTIF(INDIRECT(CR98):INDIRECT(CS98),1),COUNTIF(INDIRECT(CR98):INDIRECT(CS98),0)),\"\")","v":""},{"$f":"IF(ISNUMBER(SUM(COUNTIF(INDIRECT(CR98):INDIRECT(CT98),2),COUNTIF(INDIRECT(CR98):INDIRECT(CT98),1),COUNTIF(INDIRECT(CR98):INDIRECT(CT98),0))),SUM(COUNTIF(INDIRECT(CR98):INDIRECT(CT98),2),COUNTIF(INDIRECT(CR98):INDIRECT(CT98),1),COUNTIF(INDIRECT(CR98):INDIRECT(CT98),0)),\"\")","v":""},{"$f":"IF(ISNUMBER(SUM(COUNTIF(INDIRECT(CR98):INDIRECT(CU98),1),COUNTIF(INDIRECT(CR98):INDIRECT(CU98),0))),SUM(COUNTIF(INDIRECT(CR98):INDIRECT(CU98),1),COUNTIF(INDIRECT(CR98):INDIRECT(CU98),0)),\"\")","v":""},{"$f":"SUM(INDIRECT(CR98):INDIRECT(CS98))","v":{"$error":"#N/A"}},{"$f":"SUM(INDIRECT(CR98):INDIRECT(CT98))","v":{"$error":"#N/A"}},{"$f":"SUM(INDIRECT(CR98):INDIRECT(CU98))","v":{"$error":"#N/A"}}]
[null,null,null,null,null,null,null,null,null,null,null,null,null,null,null,null,null,null,null,null,null,null,null,null,null,null,null,null,null,null,null,null,null,null,null,null,null,null,null,null,null,null,null,null,null,null,null,null,null,null,null,null,null,null,null,null,null,null,null,0,"@","@","@","@","@","@","@","@","@","@","@","@","@","@","@","@","@","@","@","@","@","@","@","@","@","@","@","@","@","@","@",2,2,null,null,{"$error":"#N/A"},{"$error":"#N/A"},{"$error":"#N/A"},{"$error":"#N/A"},{"$f":"IF(ISNUMBER(SUM(COUNTIF(INDIRECT(CR99):INDIRECT(CS99),2),COUNTIF(INDIRECT(CR99):INDIRECT(CS99),1),COUNTIF(INDIRECT(CR99):INDIRECT(CS99),0))),SUM(COUNTIF(INDIRECT(CR99):INDIRECT(CS99),2),COUNTIF(INDIRECT(CR99):INDIRECT(CS99),1),COUNTIF(INDIRECT(CR99):INDIRECT(CS99),0)),\"\")","v":""},{"$f":"IF(ISNUMBER(SUM(COUNTIF(INDIRECT(CR99):INDIRECT(CT99),2),COUNTIF(INDIRECT(CR99):INDIRECT(CT99),1),COUNTIF(INDIRECT(CR99):INDIRECT(CT99),0))),SUM(COUNTIF(INDIRECT(CR99):INDIRECT(CT99),2),COUNTIF(INDIRECT(CR99):INDIRECT(CT99),1),COUNTIF(INDIRECT(CR99):INDIRECT(CT99),0)),\"\")","v":""},{"$f":"IF(ISNUMBER(SUM(COUNTIF(INDIRECT(CR99):INDIRECT(CU99),1),COUNTIF(INDIRECT(CR99):INDIRECT(CU99),0))),SUM(COUNTIF(INDIRECT(CR99):INDIRECT(CU99),1),COUNTIF(INDIRECT(CR99):INDIRECT(CU99),0)),\"\")","v":""},{"$f":"SUM(INDIRECT(CR99):INDIRECT(CS99))","v":{"$error":"#N/A"}},{"$f":"SUM(INDIRECT(CR99):INDIRECT(CT99))","v":{"$error":"#N/A"}},{"$f":"SUM(INDIRECT(CR99):INDIRECT(CU99))","v":{"$error":"#N/A"}}]
[null,null,null,null,null,null,null,null,null,null,null,null,null,null,null,null,null,null,null,null,null,null,null,null,null,null,null,null,null,null,null,null,null,null,null,null,null,null,null,null,null,null,null,null,null,null,null,null,null,null,null,null,null,null,null,null,null,null,null,0,"@","@","@","@","@","@","@","@","@","@","@","@","@","@","@","@","@","@","@","@","@","@","@","@","@","@","@","@","@","@","@",2,2,null,null,{"$error":"#N/A"},{"$error":"#N/A"},{"$error":"#N/A"},{"$error":"#N/A"},{"$f":"IF(ISNUMBER(SUM(COUNTIF(INDIRECT(CR100):INDIRECT(CS100),2),COUNTIF(INDIRECT(CR100):INDIRECT(CS100),1),COUNTIF(INDIRECT(CR100):INDIRECT(CS100),0))),SUM(COUNTIF(INDIRECT(CR100):INDIRECT(CS100),2),COUNTIF(INDIRECT(CR100):INDIRECT(CS100),1),COUNTIF(INDIRECT(CR100):INDIRECT(CS100),0)),\"\")","v":""},{"$f":"IF(ISNUMBER(SUM(COUNTIF(INDIRECT(CR100):INDIRECT(CT100),2),COUNTIF(INDIRECT(CR100):INDIRECT(CT100),1),COUNTIF(INDIRECT(CR100):INDIRECT(CT100),0))),SUM(COUNTIF(INDIRECT(CR100):INDIRECT(CT100),2),COUNTIF(INDIRECT(CR100):INDIRECT(CT100),1),COUNTIF(INDIRECT(CR100):INDIRECT(CT100),0)),\"\")","v":""},{"$f":"IF(ISNUMBER(SUM(COUNTIF(INDIRECT(CR100):INDIRECT(CU100),1),COUNTIF(INDIRECT(CR100):INDIRECT(CU100),0))),SUM(COUNTIF(INDIRECT(CR100):INDIRECT(CU100),1),COUNTIF(INDIRECT(CR100):INDIRECT(CU100),0)),\"\")","v":""},{"$f":"SUM(INDIRECT(CR100):INDIRECT(CS100))","v":{"$error":"#N/A"}},{"$f":"SUM(INDIRECT(CR100):INDIRECT(CT100))","v":{"$error":"#N/A"}},{"$f":"SUM(INDIRECT(CR100):INDIRECT(CU100))","v":{"$error":"#N/A"}}]
[null,null,null,null,null,null,null,null,null,null,null,null,null,null,null,null,null,null,null,null,null,null,null,null,null,null,null,null,null,null,null,null,null,null,null,null,null,null,null,null,null,null,null,null,null,null,null,null,null,null,null,null,null,null,null,null,null,null,null,0,"@","@","@","@","@","@","@","@","@","@","@","@","@","@","@","@","@","@","@","@","@","@","@","@","@","@","@","@","@","@","@",2,2,null,null,{"$error":"#N/A"},{"$error":"#N/A"},{"$error":"#N/A"},{"$error":"#N/A"},{"$f":"IF(ISNUMBER(SUM(COUNTIF(INDIRECT(CR101):INDIRECT(CS101),2),COUNTIF(INDIRECT(CR101):INDIRECT(CS101),1),COUNTIF(INDIRECT(CR101):INDIRECT(CS101),0))),SUM(COUNTIF(INDIRECT(CR101):INDIRECT(CS101),2),COUNTIF(INDIRECT(CR101):INDIRECT(CS101),1),COUNTIF(INDIRECT(CR101):INDIRECT(CS101),0)),\"\")","v":""},{"$f":"IF(ISNUMBER(SUM(COUNTIF(INDIRECT(CR101):INDIRECT(CT101),2),COUNTIF(INDIRECT(CR101):INDIRECT(CT101),1),COUNTIF(INDIRECT(CR101):INDIRECT(CT101),0))),SUM(COUNTIF(INDIRECT(CR101):INDIRECT(CT101),2),COUNTIF(INDIRECT(CR101):INDIRECT(CT101),1),COUNTIF(INDIRECT(CR101):INDIRECT(CT101),0)),\"\")","v":""},{"$f":"IF(ISNUMBER(SUM(COUNTIF(INDIRECT(CR101):INDIRECT(CU101),1),COUNTIF(INDIRECT(CR101):INDIRECT(CU101),0))),SUM(COUNTIF(INDIRECT(CR101):INDIRECT(CU101),1),COUNTIF(INDIRECT(CR101):INDIRECT(CU101),0)),\"\")","v":""},{"$f":"SUM(INDIRECT(CR101):INDIRECT(CS101))","v":{"$error":"#N/A"}},{"$f":"SUM(INDIRECT(CR101):INDIRECT(CT101))","v":{"$error":"#N/A"}},{"$f":"SUM(INDIRECT(CR101):INDIRECT(CU101))","v":{"$error":"#N/A"}}]
[null,null,null,null,null,null,null,null,null,null,null,null,null,null,null,null,null,null,null,null,null,null,null,null,null,null,null,null,null,null,null,null,null,null,null,null,null,null,null,null,null,null,null,null,null,null,null,null,null,null,null,null,null,null,null,null,null,null,null,0,"@","@","@","@","@","@","@","@","@","@","@","@","@","@","@","@","@","@","@","@","@","@","@","@","@","@","@","@","@","@","@",2,2,null,null,{"$error":"#N/A"},{"$error":"#N/A"},{"$error":"#N/A"},{"$error":"#N/A"},{"$f":"IF(ISNUMBER(SUM(COUNTIF(INDIRECT(CR102):INDIRECT(CS102),2),COUNTIF(INDIRECT(CR102):INDIRECT(CS102),1),COUNTIF(INDIRECT(CR102):INDIRECT(CS102),0))),SUM(COUNTIF(INDIRECT(CR102):INDIRECT(CS102),2),COUNTIF(INDIRECT(CR102):INDIRECT(CS102),1),COUNTIF(INDIRECT(CR102):INDIRECT(CS102),0)),\"\")","v":""},{"$f":"IF(ISNUMBER(SUM(COUNTIF(INDIRECT(CR102):INDIRECT(CT102),2),COUNTIF(INDIRECT(CR102):INDIRECT(CT102),1),COUNTIF(INDIRECT(CR102):INDIRECT(CT102),0))),SUM(COUNTIF(INDIRECT(CR102):INDIRECT(CT102),2),COUNTIF(INDIRECT(CR102):INDIRECT(CT102),1),COUNTIF(INDIRECT(CR102):INDIRECT(CT102),0)),\"\")","v":""},{"$f":"IF(ISNUMBER(SUM(COUNTIF(INDIRECT(CR102):INDIRECT(CU102),1),COUNTIF(INDIRECT(CR102):INDIRECT(CU102),0))),SUM(COUNTIF(INDIRECT(CR102):INDIRECT(CU102),1),COUNTIF(INDIRECT(CR102):INDIRECT(CU102),0)),\"\")","v":""},{"$f":"SUM(INDIRECT(CR102):INDIRECT(CS102))","v":{"$error":"#N/A"}},{"$f":"SUM(INDIRECT(CR102):INDIRECT(CT102))","v":{"$error":"#N/A"}},{"$f":"SUM(INDIRECT(CR102):INDIRECT(CU102))","v":{"$error":"#N/A"}}]
[null,null,null,null,null,null,null,null,null,null,null,null,null,null,null,null,null,null,null,null,null,null,null,null,null,null,null,null,null,null,null,null,null,null,null,null,null,null,null,null,null,null,null,null,null,null,null,null,null,null,null,null,null,null,null,null,null,null,null,0,"@","@","@","@","@","@","@","@","@","@","@","@","@","@","@","@","@","@","@","@","@","@","@","@","@","@","@","@","@","@","@",2,2,null,null,{"$error":"#N/A"},{"$error":"#N/A"},{"$error":"#N/A"},{"$error":"#N/A"},{"$f":"IF(ISNUMBER(SUM(COUNTIF(INDIRECT(CR103):INDIRECT(CS103),2),COUNTIF(INDIRECT(CR103):INDIRECT(CS103),1),COUNTIF(INDIRECT(CR103):INDIRECT(CS103),0))),SUM(COUNTIF(INDIRECT(CR103):INDIRECT(CS103),2),COUNTIF(INDIRECT(CR103):INDIRECT(CS103),1),COUNTIF(INDIRECT(CR103):INDIRECT(CS103),0)),\"\")","v":""},{"$f":"IF(ISNUMBER(SUM(COUNTIF(INDIRECT(CR103):INDIRECT(CT103),2),COUNTIF(INDIRECT(CR103):INDIRECT(CT103),1),COUNTIF(INDIRECT(CR103):INDIRECT(CT103),0))),SUM(COUNTIF(INDIRECT(CR103):INDIRECT(CT103),2),COUNTIF(INDIRECT(CR103):INDIRECT(CT103),1),COUNTIF(INDIRECT(CR103):INDIRECT(CT103),0)),\"\")","v":""},{"$f":"IF(ISNUMBER(SUM(COUNTIF(INDIRECT(CR103):INDIRECT(CU103),1),COUNTIF(INDIRECT(CR103):INDIRECT(CU103),0))),SUM(COUNTIF(INDIRECT(CR103):INDIRECT(CU103),1),COUNTIF(INDIRECT(CR103):INDIRECT(CU103),0)),\"\")","v":""},{"$f":"SUM(INDIRECT(CR103):INDIRECT(CS103))","v":{"$error":"#N/A"}},{"$f":"SUM(INDIRECT(CR103):INDIRECT(CT103))","v":{"$error":"#N/A"}},{"$f":"SUM(INDIRECT(CR103):INDIRECT(CU103))","v":{"$error":"#N/A"}}]
[null,null,null,null,null,null,null,null,null,null,null,null,null,null,null,null,null,null,null,null,null,null,null,null,null,null,null,null,null,null,null,null,null,null,null,null,null,null,null,null,null,null,null,null,null,null,null,null,null,null,null,null,null,null,null,null,null,null,null,0,"@","@","@","@","@","@","@","@","@","@","@","@","@","@","@","@","@","@","@","@","@","@","@","@","@","@","@","@","@","@","@",2,2,null,null,{"$error":"#N/A"},{"$error":"#N/A"},{"$error":"#N/A"},{"$error":"#N/A"},{"$f":"IF(ISNUMBER(SUM(COUNTIF(INDIRECT(CR104):INDIRECT(CS104),2),COUNTIF(INDIRECT(CR104):INDIRECT(CS104),1),COUNTIF(INDIRECT(CR104):INDIRECT(CS104),0))),SUM(COUNTIF(INDIRECT(CR104):INDIRECT(CS104),2),COUNTIF(INDIRECT(CR104):INDIRECT(CS104),1),COUNTIF(INDIRECT(CR104):INDIRECT(CS104),0)),\"\")","v":""},{"$f":"IF(ISNUMBER(SUM(COUNTIF(INDIRECT(CR104):INDIRECT(CT104),2),COUNTIF(INDIRECT(CR104):INDIRECT(CT104),1),COUNTIF(INDIRECT(CR104):INDIRECT(CT104),0))),SUM(COUNTIF(INDIRECT(CR104):INDIRECT(CT104),2),COUNTIF(INDIRECT(CR104):INDIRECT(CT104),1),COUNTIF(INDIRECT(CR104):INDIRECT(CT104),0)),\"\")","v":""},{"$f":"IF(ISNUMBER(SUM(COUNTIF(INDIRECT(CR104):INDIRECT(CU104),1),COUNTIF(INDIRECT(CR104):INDIRECT(CU104),0))),SUM(COUNTIF(INDIRECT(CR104):INDIRECT(CU104),1),COUNTIF(INDIRECT(CR104):INDIRECT(CU104),0)),\"\")","v":""},{"$f":"SUM(INDIRECT(CR104):INDIRECT(CS104))","v":{"$error":"#N/A"}},{"$f":"SUM(INDIRECT(CR104):INDIRECT(CT104))","v":{"$error":"#N/A"}},{"$f":"SUM(INDIRECT(CR104):INDIRECT(CU104))","v":{"$error":"#N/A"}}]

{"sheet":"Month 2","index":6,"n_rows":104,"n_cols":105,"rows_kept":104,"cut":false,"hidden":false,"merged":[[53,95,53,98],[53,99,53,101],[53,102,53,104],[6,23,20,35],[13,5,20,8]]}
[]
[]
[]
[]
[]
[null,null,null,null,"Student Name:",{"$f":"IF(ISTEXT('Month 1'!F6),'Month 1'!F6,\"\")","v":""},null,null,null,null,null,null,null,null,null,null,null,null,null,null,null,null,null,"General Notes:"]
["Go To:"]
[{"$f":"IF(ISBLANK('Month 1'!$F$12),\"Month 1\",'Month 1'!$F$12)","v":"--"},null,null,null,"Skill Title:",{"$f":"IF(ISTEXT('Month 1'!F8),'Month 1'!F8,\"\")","v":""}]
[{"$f":"IF(ISBLANK('Month 2'!$F$12),\"Month 2\",'Month 2'!$F$12)","v":"--"}]
[{"$f":"IF(ISBLANK('Month 3'!$F$12),\"Month 3\",'Month 3'!$F$12)","v":"--"},null,null,null,"Skill Type:",{"$f":"IF(ISBLANK('Month 1'!F10),\"\",'Month 1'!F10)","v":""}]
[{"$f":"IF(ISBLANK('Month 4'!$F$12),\"Month 4\",'Month 4'!$F$12)","v":"--"}]
[{"$f":"IF(ISBLANK('Month 5'!$F$12),\"Month 5\",'Month 5'!$F$12)","v":"--"},null,null,null,"Date Range:","--"]
[{"$f":"IF(ISBLANK('Month 6'!$F$12),\"Month 6\",'Month 6'!$F$12)","v":"--"}]
[{"$f":"IF(ISBLANK('Month 7'!$F$12),\"Month 7\",'Month 7'!$F$12)","v":"--"},null,null,null,"Objective:",{"$f":"IF(ISBLANK('Month 1'!$F$14),\"\",'Month 1'!$F$14)","v":""}]
[{"$f":"IF(ISBLANK('Month 8'!$F$12),\"Month 8\",'Month 8'!$F$12)","v":"--"}]
[{"$f":"IF(ISBLANK('Month 9'!$F$12),\"Month 9\",'Month 9'!$F$12)","v":"--"}]
[{"$f":"IF(ISBLANK('Month 10'!$F$12),\"Month 10\",'Month 10'!$F$12)","v":"--"}]
[{"$f":"IF(ISBLANK('Month 11'!$F$12),\"Month 11\",'Month 11'!$F$12)","v":"--"}]
[{"$f":"IF(ISBLANK('Month 12'!$F$12),\"Month 12\",'Month 12'!$F$12)","v":"--"}]
[]
[]
[]
[null,null,null,null,null,null,{"$f":"SUM(COUNTIF(G27:G76,\"+\"),COUNTIF(G27:G76,\"-\"),COUNTIF(G27:G76,\"y\"),COUNTIF(G27:G76,\"n\"),COUNTIF(G27:G76,1),COUNTIF(G27:G76,2))","v":0},0,0,0,0,0,0,0,0,0,0,0,0,0,0,0,0,0,0,0,0,0,0,0,0,0,0,0,0,0,0,{"$f":"SUM(G23:AK23)","v":0}]
[null,null,null,null,null,"Total Number Correct   à",{"$f":"IF(G23>0,SUM(CM55:CM104),\"\")","v":""},{"$f":"IF(H23>0,SUM(CL55:CL104),\"\")","v":""},{"$f":"IF(I23>0,SUM(CK55:CK104),\"\")","v":""},{"$f":"IF(J23>0,SUM(CJ55:CJ104),\"\")","v":""},{"$f":"IF(K23>0,SUM(CI55:CI104),\"\")","v":""},{"$f":"IF(L23>0,SUM(CH55:CH104),\"\")","v":""},{"$f":"IF(M23>0,SUM(CG55:CG104),\"\")","v":""},{"$f":"IF(N23>0,SUM(CF55:CF104),\"\")","v":""},{"$f":"IF(O23>0,SUM(CE55:CE104),\"\")","v":""},{"$f":"IF(P23>0,SUM(CD55:CD104),\"\")","v":""},{"$f":"IF(Q23>0,SUM(CC55:CC104),\"\")","v":""},{"$f":"IF(R23>0,SUM(CB55:CB104),\"\")","v":""},{"$f":"IF(S23>0,SUM(CA55:CA104),\"\")","v":""},{"$f":"IF(T23>0,SUM(BZ55:BZ104),\"\")","v":""},{"$f":"IF(U23>0,SUM(BY55:BY104),\"\")","v":""},{"$f":"IF(V23>0,SUM(BX55:BX104),\"\")","v":""},{"$f":"IF(W23>0,SUM(BW55:BW104),\"\")","v":""},{"$f":"IF(X23>0,SUM(BV55:BV104),\"\")","v":""},{"$f":"IF(Y23>0,SUM(BU55:BU104),\"\")","v":""},{"$f":"IF(Z23>0,SUM(BT55:BT104),\"\")","v":""},{"$f":"IF(AA23>0,SUM(BS55:BS104),\"\")","v":""},{"$f":"IF(AB23>0,SUM(BR55:BR104),\"\")","v":""},{"$f":"IF(AC23>0,SUM(BQ55:BQ104),\"\")","v":""},{"$f":"IF(AD23>0,SUM(BP55:BP104),\"\")","v":""},{"$f":"IF(AE23>0,SUM(BO55:BO104),\"\")","v":""},{"$f":"IF(AF23>0,SUM(BN55:BN104),\"\")","v":""},{"$f":"IF(AG23>0,SUM(BM55:BM104),\"\")","v":""},{"$f":"IF(AH23>0,SUM(BL55:BL104),\"\")","v":""},{"$f":"IF(AI23>0,SUM(BK55:BK104),\"\")","v":""},{"$f":"IF(AJ23>0,SUM(BJ55:BJ104),\"\")","v":""},{"$f":"IF(AK23>0,SUM(BI55:BI104),\"\")","v":""}]
[null,null,{"$f":"50-SUM(C27:C76)","v":0},"Note",null,"Initials   à"]
[null,null,0,"â",null,"Date   à"]
[null,null,{"$f":"IF(F27=\"\",1,0)","v":1},{"$f":"IF(Modifications!$C$2=2,\"N\",\"\")","v":""},{"$f":"IF(AND(BH55>0,$F$10=\"\"),\"Choose Skill Type\",IF(CX55=\"\",\"\",IF(AND(DA55=3,$F$10=\"Multi-Step (Task Analysis)\"),\"Add Next Step\",IF(AND(DA55=3,$F$10=\"Multi-Stimulus (Different Sd's)\"),\"Continue\",IF(OR(AND(CV55=5,CY55<=1),AND(CW55=4,CZ55=0)),\"Intervene\",IF(OR(AND(CV55=5,CY55<=2),AND(CW55=4,CZ55<=1),AND(CX55=3,DA55=0)),\"Check\",\"Continue\"))))))","v":""},{"$f":"IF(ISBLANK('Month 1'!$F$27),\"\",'Month 1'!$F$27)","v":""}]
[null,null,{"$f":"IF(F28=\"\",1,0)","v":1},{"$f":"IF(Modifications!$C$3=2,\"N\",\"\")","v":""},"",{"$f":"IF(ISBLANK('Month 1'!$F$28),\"\",'Month 1'!$F$28)","v":""}]
[null,null,1,{"$f":"IF(Modifications!$C$4=2,\"N\",\"\")","v":""},"",{"$f":"IF(ISBLANK('Month 1'!$F$29),\"\",'Month 1'!$F$29)","v":""}]
[null,null,1,{"$f":"IF(Modifications!$C$5=2,\"N\",\"\")","v":""},"",{"$f":"IF(ISBLANK('Month 1'!$F$30),\"\",'Month 1'!$F$30)","v":""}]
[null,null,1,{"$f":"IF(Modifications!$C$6=2,\"N\",\"\")","v":""},"",{"$f":"IF(ISBLANK('Month 1'!$F$31),\"\",'Month 1'!$F$31)","v":""}]
[null,null,1,{"$f":"IF(Modifications!$C$7=2,\"N\",\"\")","v":""},"",{"$f":"IF(ISBLANK('Month 1'!$F$32),\"\",'Month 1'!$F$32)","v":""}]
[null,null,1,{"$f":"IF(Modifications!$C$8=2,\"N\",\"\")","v":""},"",{"$f":"IF(ISBLANK('Month 1'!$F$33),\"\",'Month 1'!$F$33)","v":""}]
[null,null,1,{"$f":"IF(Modifications!$C$9=2,\"N\",\"\")","v":""},"",{"$f":"IF(ISBLANK('Month 1'!$F$34),\"\",'Month 1'!$F$34)","v":""}]
[null,null,1,{"$f":"IF(Modifications!$C$10=2,\"N\",\"\")","v":""},"",{"$f":"IF(ISBLANK('Month 1'!$F$35),\"\",'Month 1'!$F$35)","v":""}]
[null,null,1,{"$f":"IF(Modifications!$C$11=2,\"N\",\"\")","v":""},"",{"$f":"IF(ISBLANK('Month 1'!$F$36),\"\",'Month 1'!$F$36)","v":""}]
[null,null,1,{"$f":"IF(Modifications!$C$12=2,\"N\",\"\")","v":""},"",{"$f":"IF(ISBLANK('Month 1'!$F$37),\"\",'Month 1'!$F$37)","v":""}]
[null,null,1,{"$f":"IF(Modifications!$C$13=2,\"N\",\"\")","v":""},"",{"$f":"IF(ISBLANK('Month 1'!$F$38),\"\",'Month 1'!$F$38)","v":""}]
[null,null,1,{"$f":"IF(Modifications!$C$14=2,\"N\",\"\")","v":""},"",{"$f":"IF(ISBLANK('Month 1'!$F$39),\"\",'Month 1'!$F$39)","v":""}]
[null,null,1,{"$f":"IF(Modifications!$C$15=2,\"N\",\"\")","v":""},"",{"$f":"IF(ISBLANK('Month 1'!$F$40),\"\",'Month 1'!$F$40)","v":""}]
[null,null,1,{"$f":"IF(Modifications!$C$16=2,\"N\",\"\")","v":""},"",{"$f":"IF(ISBLANK('Month 1'!$F$41),\"\",'Month 1'!$F$41)","v":""}]
[null,null,1,{"$f":"IF(Modifications!$C$17=2,\"N\",\"\")","v":""},"",{"$f":"IF(ISBLANK('Month 1'!$F$42),\"\",'Month 1'!$F$42)","v":""}]
[null,null,1,{"$f":"IF(Modifications!$C$18=2,\"N\",\"\")","v":""},"",{"$f":"IF(ISBLANK('Month 1'!$F$43),\"\",'Month 1'!$F$43)","v":""}]
[null,null,1,{"$f":"IF(Modifications!$C$19=2,\"N\",\"\")","v":""},"",{"$f":"IF(ISBLANK('Month 1'!$F$44),\"\",'Month 1'!$F$44)","v":""}]
[null,null,1,{"$f":"IF(Modifications!$C$20=2,\"N\",\"\")","v":""},"",{"$f":"IF(ISBLANK('Month 1'!$F$45),\"\",'Month 1'!$F$45)","v":""}]
[null,null,1,{"$f":"IF(Modifications!$C$21=2,\"N\",\"\")","v":""},"",{"$f":"IF(ISBLANK('Month 1'!$F$46),\"\",'Month 1'!$F$46)","v":""}]
[null,null,1,{"$f":"IF(Modifications!$C$22=2,\"N\",\"\")","v":""},"",{"$f":"IF(ISBLANK('Month 1'!$F$47),\"\",'Month 1'!$F$47)","v":""}]
[null,null,1,{"$f":"IF(Modifications!$C$23=2,\"N\",\"\")","v":""},"",{"$f":"IF(ISBLANK('Month 1'!$F$48),\"\",'Month 1'!$F$48)","v":""}]
[null,null,1,{"$f":"IF(Modifications!$C$24=2,\"N\",\"\")","v":""},"",{"$f":"IF(ISBLANK('Month 1'!$F$49),\"\",'Month 1'!$F$49)","v":""}]
[null,null,1,{"$f":"IF(Modifications!$C$25=2,\"N\",\"\")","v":""},"",{"$f":"IF(ISBLANK('Month 1'!$F$50),\"\",'Month 1'!$F$50)","v":""}]
[null,null,1,{"$f":"IF(Modifications!$C$26=2,\"N\",\"\")","v":""},"",{"$f":"IF(ISBLANK('Month 1'!$F$51),\"\",'Month 1'!$F$51)","v":""}]
[null,null,1,{"$f":"IF(Modifications!$C$27=2,\"N\",\"\")","v":""},"",{"$f":"IF(ISBLANK('Month 1'!$F$52),\"\",'Month 1'!$F$52)","v":""}]
[null,null,1,{"$f":"IF(Modifications!$C$28=2,\"N\",\"\")","v":""},"",{"$f":"IF(ISBLANK('Month 1'!$F$53),\"\",'Month 1'!$F$53)","v":""}]
[null,null,1,{"$f":"IF(Modifications!$C$29=2,\"N\",\"\")","v":""},"",{"$f":"IF(ISBLANK('Month 1'!$F$54),\"\",'Month 1'!$F$54)","v":""},null,null,null,null,null,null,null,null,null,null,null,null,null,null,null,null,null,null,null,null,null,null,null,null,null,null,null,null,null,null,null,null,null,null,null,null,null,null,null,null,null,null,null,null,null,null,null,null,null,null,null,null,null,null,null,null,null,null,null,null,null,null,null,null,null,null,null,null,null,null,null,null,null,null,null,null,null,null,null,null,null,null,null,null,null,null,null,null,null,"Locations (start,5,4,3)",null,null,null,"Are they in a row? (5,4,3)",null,null,"Sum of items in row (5,4,3)"]
[null,null,1,{"$f":"IF(Modifications!$C$30=2,\"N\",\"\")","v":""},"",{"$f":"IF(ISBLANK('Month 1'!$F$55),\"\",'Month 1'!$F$55)","v":""},null,null,null,null,null,null,null,null,null,null,null,null,null,null,null,null,null,null,null,null,null,null,null,null,null,null,null,null,null,null,null,null,null,null,null,null,null,null,null,null,null,null,null,null,null,null,null,null,null,null,null,null,null,{"$f":"SUM(COUNTIF(BI55:CM55,1),COUNTIF(BI55:CM55,0))","v":0},{"$f":"IF(OR(AK27=\"+\",AK27=\"Y\",AK27=2),1,IF(OR(AK27=\"-\",AK27=\"N\",AK27=1),0,IF(OR(BJ55=1,BJ55=0),\"#\",\"@\")))","v":"@"},{"$f":"IF(OR(AJ27=\"+\",AJ27=\"Y\",AJ27=2),1,IF(OR(AJ27=\"-\",AJ27=\"N\",AJ27=1),0,IF(OR(BK55=1,BK55=0),\"#\",\"@\")))","v":"@"},{"$f":"IF(OR(AI27=\"+\",AI27=\"Y\",AI27=2),1,IF(OR(AI27=\"-\",AI27=\"N\",AI27=1),0,IF(OR(BL55=1,BL55=0),\"#\",\"@\")))","v":"@"},{"$f":"IF(OR(AH27=\"+\",AH27=\"Y\",AH27=2),1,IF(OR(AH27=\"-\",AH27=\"N\",AH27=1),0,IF(OR(BM55=1,BM55=0),\"#\",\"@\")))","v":"@"},{"$f":"IF(OR(AG27=\"+\",AG27=\"Y\",AG27=2),1,IF(OR(AG27=\"-\",AG27=\"N\",AG27=1),0,IF(OR(BN55=1,BN55=0),\"#\",\"@\")))","v":"@"},{"$f":"IF(OR(AF27=\"+\",AF27=\"Y\",AF27=2),1,IF(OR(AF27=\"-\",AF27=\"N\",AF27=1),0,IF(OR(BO55=1,BO55=0),\"#\",\"@\")))","v":"@"},{"$f":"IF(OR(AE27=\"+\",AE27=\"Y\",AE27=2),1,IF(OR(AE27=\"-\",AE27=\"N\",AE27=1),0,IF(OR(BP55=1,BP55=0),\"#\",\"@\")))","v":"@"},{"$f":"IF(OR(AD27=\"+\",AD27=\"Y\",AD27=2),1,IF(OR(AD27=\"-\",AD27=\"N\",AD27=1),0,IF(OR(BQ55=1,BQ55=0),\"#\",\"@\")))","v":"@"},{"$f":"IF(OR(AC27=\"+\",AC27=\"Y\",AC27=2),1,IF(OR(AC27=\"-\",AC27=\"N\",AC27=1),0,IF(OR(BR55=1,BR55=0),\"#\",\"@\")))","v":"@"},{"$f":"IF(OR(AB27=\"+\",AB27=\"Y\",AB27=2),1,IF(OR(AB27=\"-\",AB27=\"N\",AB27=1),0,IF(OR(BS55=1,BS55=0),\"#\",\"@\")))","v":"@"},{"$f":"IF(OR(AA27=\"+\",AA27=\"Y\",AA27=2),1,IF(OR(AA27=\"-\",AA27=\"N\",AA27=1),0,IF(OR(BT55=1,BT55=0),\"#\",\"@\")))","v":"@"},{"$f":"IF(OR(Z27=\"+\",Z27=\"Y\",Z27=2),1,IF(OR(Z27=\"-\",Z27=\"N\",Z27=1),0,IF(OR(BU55=1,BU55=0),\"#\",\"@\")))","v":"@"},{"$f":"IF(OR(Y27=\"+\",Y27=\"Y\",Y27=2),1,IF(OR(Y27=\"-\",Y27=\"N\",Y27=1),0,IF(OR(BV55=1,BV55=0),\"#\",\"@\")))","v":"@"},{"$f":"IF(OR(X27=\"+\",X27=\"Y\",X27=2),1,IF(OR(X27=\"-\",X27=\"N\",X27=1),0,IF(OR(BW55=1,BW55=0),\"#\",\"@\")))","v":"@"},{"$f":"IF(OR(W27=\"+\",W27=\"Y\",W27=2),1,IF(OR(W27=\"-\",W27=\"N\",W27=1),0,IF(OR(BX55=1,BX55=0),\"#\",\"@\")))","v":"@"},{"$f":"IF(OR(V27=\"+\",V27=\"Y\",V27=2),1,IF(OR(V27=\"-\",V27=\"N\",V27=1),0,IF(OR(BY55=1,BY55=0),\"#\",\"@\")))","v":"@"},{"$f":"IF(OR(U27=\"+\",U27=\"Y\",U27=2),1,IF(OR(U27=\"-\",U27=\"N\",U27=1),0,IF(OR(BZ55=1,BZ55=0),\"#\",\"@\")))","v":"@"},{"$f":"IF(OR(T27=\"+\",T27=\"Y\",T27=2),1,IF(OR(T27=\"-\",T27=\"N\",T27=1),0,IF(OR(CA55=1,CA55=0),\"#\",\"@\")))","v":"@"},{"$f":"IF(OR(S27=\"+\",S27=\"Y\",S27=2),1,IF(OR(S27=\"-\",S27=\"N\",S27=1),0,IF(OR(CB55=1,CB55=0),\"#\",\"@\")))","v":"@"},{"$f":"IF(OR(R27=\"+\",R27=\"Y\",R27=2),1,IF(OR(R27=\"-\",R27=\"N\",R27=1),0,IF(OR(CC55=1,CC55=0),\"#\",\"@\")))","v":"@"},{"$f":"IF(OR(Q27=\"+\",Q27=\"Y\",Q27=2),1,IF(OR(Q27=\"-\",Q27=\"N\",Q27=1),0,IF(OR(CD55=1,CD55=0),\"#\",\"@\")))","v":"@"},{"$f":"IF(OR(P27=\"+\",P27=\"Y\",P27=2),1,IF(OR(P27=\"-\",P27=\"N\",P27=1),0,IF(OR(CE55=1,CE55=0),\"#\",\"@\")))","v":"@"},{"$f":"IF(OR(O27=\"+\",O27=\"Y\",O27=2),1,IF(OR(O27=\"-\",O27=\"N\",O27=1),0,IF(OR(CF55=1,CF55=0),\"#\",\"@\")))","v":"@"},{"$f":"IF(OR(N27=\"+\",N27=\"Y\",N27=2),1,IF(OR(N27=\"-\",N27=\"N\",N27=1),0,IF(OR(CG55=1,CG55=0),\"#\",\"@\")))","v":"@"},{"$f":"IF(OR(M27=\"+\",M27=\"Y\",M27=2),1,IF(OR(M27=\"-\",M27=\"N\",M27=1),0,IF(OR(CH55=1,CH55=0),\"#\",\"@\")))","v":"@"},{"$f":"IF(OR(L27=\"+\",L27=\"Y\",L27=2),1,IF(OR(L27=\"-\",L27=\"N\",L27=1),0,IF(OR(CI55=1,CI55=0),\"#\",\"@\")))","v":"@"},{"$f":"IF(OR(K27=\"+\",K27=\"Y\",K27=2),1,IF(OR(K27=\"-\",K27=\"N\",K27=1),0,IF(OR(CJ55=1,CJ55=0),\"#\",\"@\")))","v":"@"},{"$f":"IF(OR(J27=\"+\",J27=\"Y\",J27=2),1,IF(OR(J27=\"-\",J27=\"N\",J27=1),0,IF(OR(CK55=1,CK55=0),\"#\",\"@\")))","v":"@"},{"$f":"IF(OR(I27=\"+\",I27=\"Y\",I27=2),1,IF(OR(I27=\"-\",I27=\"N\",I27=1),0,IF(OR(CL55=1,CL55=0),\"#\",\"@\")))","v":"@"},{"$f":"IF(OR(H27=\"+\",H27=\"Y\",H27=2),1,IF(OR(H27=\"-\",H27=\"N\",H27=1),0,IF(OR(CM55=1,CM55=0),\"#\",\"@\")))","v":"@"},{"$f":"IF(OR(G27=\"+\",G27=\"Y\",G27=2),1,IF(OR(G27=\"-\",G27=\"N\",G27=1),0,\"@\"))","v":"@"},{"$f":"'Month 1'!BL55","v":"@"},{"$f":"'Month 1'!BK55","v":"@"},{"$f":"'Month 1'!BJ55","v":"@"},{"$f":"'Month 1'!BI55","v":"@"},{"$f":"ADDRESS(ROW(BH55),(MATCH(\"#\",BI55:CM55,0)+61))","v":{"$error":"#N/A"}},{"$f":"ADDRESS(ROW(BH55),(MATCH(\"#\",BI55:CM55,0)+65))","v":{"$error":"#N/A"}},{"$f":"ADDRESS(ROW(BH55),(MATCH(\"#\",BI55:CM55,0)+64))","v":{"$error":"#N/A"}},{"$f":"ADDRESS(ROW(BH55),(MATCH(\"#\",BI55:CM55,0)+63))","v":{"$error":"#N/A"}},{"$f":"IF(ISNUMBER(SUM(COUNTIF(INDIRECT(CR55):INDIRECT(CS55),2),COUNTIF(INDIRECT(CR55):INDIRECT(CS55),1),COUNTIF(INDIRECT(CR55):INDIRECT(CS55),0))),SUM(COUNTIF(INDIRECT(CR55):INDIRECT(CS55),2),COUNTIF(INDIRECT(CR55):INDIRECT(CS55),1),COUNTIF(INDIRECT(CR55):INDIRECT(CS55),0)),\"\")","v":""},{"$f":"IF(ISNUMBER(SUM(COUNTIF(INDIRECT(CR55):INDIRECT(CT55),2),COUNTIF(INDIRECT(CR55):INDIRECT(CT55),1),COUNTIF(INDIRECT(CR55):INDIRECT(CT55),0))),SUM(COUNTIF(INDIRECT(CR55):INDIRECT(CT55),2),COUNTIF(INDIRECT(CR55):INDIRECT(CT55),1),COUNTIF(INDIRECT(CR55):INDIRECT(CT55),0)),\"\")","v":""},{"$f":"IF(ISNUMBER(SUM(COUNTIF(INDIRECT(CR55):INDIRECT(CU55),1),COUNTIF(INDIRECT(CR55):INDIRECT(CU55),0))),SUM(COUNTIF(INDIRECT(CR55):INDIRECT(CU55),1),COUNTIF(INDIRECT(CR55):INDIRECT(CU55),0)),\"\")","v":""},{"$f":"SUM(INDIRECT(CR55):INDIRECT(CS55))","v":{"$error":"#N/A"}},{"$f":"SUM(INDIRECT(CR55):INDIRECT(CT55))","v":{"$error":"#N/A"}},{"$f":"SUM(INDIRECT(CR55):INDIRECT(CU55))","v":{"$error":"#N/A"}}]
[null,null,1,{"$f":"IF(Modifications!$C$31=2,\"N\",\"\")","v":""},"",{"$f":"IF(ISBLANK('Month 1'!$F$56),\"\",'Month 1'!$F$56)","v":""},null,null,null,null,null,null,null,null,null,null,null,null,null,null,null,null,null,null,null,null,null,null,null,null,null,null,null,null,null,null,null,null,null,null,null,null,null,null,null,null,null,null,null,null,null,null,null,null,null,null,null,null,null,0,"@","@","@","@","@","@","@","@","@","@","@","@","@","@","@","@","@","@","@","@","@","@","@","@","@","@","@","@","@","@","@",{"$f":"'Month 1'!BL56","v":"@"},{"$f":"'Month 1'!BK56","v":"@"},{"$f":"'Month 1'!BJ56","v":"@"},{"$f":"'Month 1'!BI56","v":"@"},{"$error":"#N/A"},{"$error":"#N/A"},{"$error":"#N/A"},{"$error":"#N/A"},{"$f":"IF(ISNUMBER(SUM(COUNTIF(INDIRECT(CR56):INDIRECT(CS56),2),COUNTIF(INDIRECT(CR56):INDIRECT(CS56),1),COUNTIF(INDIRECT(CR56):INDIRECT(CS56),0))),SUM(COUNTIF(INDIRECT(CR56):INDIRECT(CS56),2),COUNTIF(INDIRECT(CR56):INDIRECT(CS56),1),COUNTIF(INDIRECT(CR56):INDIRECT(CS56),0)),\"\")","v":""},{"$f":"IF(ISNUMBER(SUM(COUNTIF(INDIRECT(CR56):INDIRECT(CT56),2),COUNTIF(INDIRECT(CR56):INDIRECT(CT56),1),COUNTIF(INDIRECT(CR56):INDIRECT(CT56),0))),SUM(COUNTIF(INDIRECT(CR56):INDIRECT(CT56),2),COUNTIF(INDIRECT(CR56):INDIRECT(CT56),1),COUNTIF(INDIRECT(CR56):INDIRECT(CT56),0)),\"\")","v":""},{"$f":"IF(ISNUMBER(SUM(COUNTIF(INDIRECT(CR56):INDIRECT(CU56),1),COUNTIF(INDIRECT(CR56):INDIRECT(CU56),0))),SUM(COUNTIF(INDIRECT(CR56):INDIRECT(CU56),1),COUNTIF(INDIRECT(CR56):INDIRECT(CU56),0)),\"\")","v":""},{"$f":"SUM(INDIRECT(CR56):INDIRECT(CS56))","v":{"$error":"#N/A"}},{"$f":"SUM(INDIRECT(CR56):INDIRECT(CT56))","v":{"$error":"#N/A"}},{"$f":"SUM(INDIRECT(CR56):INDIRECT(CU56))","v":{"$error":"#N/A"}}]
[null,null,1,{"$f":"IF(Modifications!$C$32=2,\"N\",\"\")","v":""},"",{"$f":"IF(ISBLANK('Month 1'!$F$57),\"\",'Month 1'!$F$57)","v":""},null,null,null,null,null,null,null,null,null,null,null,null,null,null,null,null,null,null,null,null,null,null,null,null,null,null,null,null,null,null,null,null,null,null,null,null,null,null,null,null,null,null,null,null,null,null,null,null,null,null,null,null,null,0,"@","@","@","@","@","@","@","@","@","@","@","@","@","@","@","@","@","@","@","@","@","@","@","@","@","@","@","@","@","@","@",{"$f":"'Month 1'!BL57","v":"@"},{"$f":"'Month 1'!BK57","v":"@"},{"$f":"'Month 1'!BJ57","v":"@"},{"$f":"'Month 1'!BI57","v":"@"},{"$error":"#N/A"},{"$error":"#N/A"},{"$error":"#N/A"},{"$error":"#N/A"},{"$f":"IF(ISNUMBER(SUM(COUNTIF(INDIRECT(CR57):INDIRECT(CS57),2),COUNTIF(INDIRECT(CR57):INDIRECT(CS57),1),COUNTIF(INDIRECT(CR57):INDIRECT(CS57),0))),SUM(COUNTIF(INDIRECT(CR57):INDIRECT(CS57),2),COUNTIF(INDIRECT(CR57):INDIRECT(CS57),1),COUNTIF(INDIRECT(CR57):INDIRECT(CS57),0)),\"\")","v":""},{"$f":"IF(ISNUMBER(SUM(COUNTIF(INDIRECT(CR57):INDIRECT(CT57),2),COUNTIF(INDIRECT(CR57):INDIRECT(CT57),1),COUNTIF(INDIRECT(CR57):INDIRECT(CT57),0))),SUM(COUNTIF(INDIRECT(CR57):INDIRECT(CT57),2),COUNTIF(INDIRECT(CR57):INDIRECT(CT57),1),COUNTIF(INDIRECT(CR57):INDIRECT(CT57),0)),\"\")","v":""},{"$f":"IF(ISNUMBER(SUM(COUNTIF(INDIRECT(CR57):INDIRECT(CU57),1),COUNTIF(INDIRECT(CR57):INDIRECT(CU57),0))),SUM(COUNTIF(INDIRECT(CR57):INDIRECT(CU57),1),COUNTIF(INDIRECT(CR57):INDIRECT(CU57),0)),\"\")","v":""},{"$f":"SUM(INDIRECT(CR57):INDIRECT(CS57))","v":{"$error":"#N/A"}},{"$f":"SUM(INDIRECT(CR57):INDIRECT(CT57))","v":{"$error":"#N/A"}},{"$f":"SUM(INDIRECT(CR57):INDIRECT(CU57))","v":{"$error":"#N/A"}}]
[null,null,1,{"$f":"IF(Modifications!$C$33=2,\"N\",\"\")","v":""},"",{"$f":"IF(ISBLANK('Month 1'!$F$58),\"\",'Month 1'!$F$58)","v":""},null,null,null,null,null,null,null,null,null,null,null,null,null,null,null,null,null,null,null,null,null,null,null,null,null,null,null,null,null,null,null,null,null,null,null,null,null,null,null,null,null,null,null,null,null,null,null,null,null,null,null,null,null,0,"@","@","@","@","@","@","@","@","@","@","@","@","@","@","@","@","@","@","@","@","@","@","@","@","@","@","@","@","@","@","@",{"$f":"'Month 1'!BL58","v":"@"},{"$f":"'Month 1'!BK58","v":"@"},{"$f":"'Month 1'!BJ58","v":"@"},{"$f":"'Month 1'!BI58","v":"@"},{"$error":"#N/A"},{"$error":"#N/A"},{"$error":"#N/A"},{"$error":"#N/A"},{"$f":"IF(ISNUMBER(SUM(COUNTIF(INDIRECT(CR58):INDIRECT(CS58),2),COUNTIF(INDIRECT(CR58):INDIRECT(CS58),1),COUNTIF(INDIRECT(CR58):INDIRECT(CS58),0))),SUM(COUNTIF(INDIRECT(CR58):INDIRECT(CS58),2),COUNTIF(INDIRECT(CR58):INDIRECT(CS58),1),COUNTIF(INDIRECT(CR58):INDIRECT(CS58),0)),\"\")","v":""},{"$f":"IF(ISNUMBER(SUM(COUNTIF(INDIRECT(CR58):INDIRECT(CT58),2),COUNTIF(INDIRECT(CR58):INDIRECT(CT58),1),COUNTIF(INDIRECT(CR58):INDIRECT(CT58),0))),SUM(COUNTIF(INDIRECT(CR58):INDIRECT(CT58),2),COUNTIF(INDIRECT(CR58):INDIRECT(CT58),1),COUNTIF(INDIRECT(CR58):INDIRECT(CT58),0)),\"\")","v":""},{"$f":"IF(ISNUMBER(SUM(COUNTIF(INDIRECT(CR58):INDIRECT(CU58),1),COUNTIF(INDIRECT(CR58):INDIRECT(CU58),0))),SUM(COUNTIF(INDIRECT(CR58):INDIRECT(CU58),1),COUNTIF(INDIRECT(CR58):INDIRECT(CU58),0)),\"\")","v":""},{"$f":"SUM(INDIRECT(CR58):INDIRECT(CS58))","v":{"$error":"#N/A"}},{"$f":"SUM(INDIRECT(CR58):INDIRECT(CT58))","v":{"$error":"#N/A"}},{"$f":"SUM(INDIRECT(CR58):INDIRECT(CU58))","v":{"$error":"#N/A"}}]
[null,null,1,{"$f":"IF(Modifications!$C$34=2,\"N\",\"\")","v":""},{"$f":"IF(AND(BH87>0,$F$10=\"\"),\"Choose Skill Type\",IF(CX87=\"\",\"\",IF(AND(DA87=3,$F$10=\"Multi-Step (Task Analysis)\"),\"Add Next Step\",IF(AND(DA87=3,$F$10=\"Multi-Stimulus (Different Sd's)\"),\"Continue\",IF(OR(AND(CV87=5,CY87<=1),AND(CW87=4,CZ87=0)),\"Intervene\",IF(OR(AND(CV87=5,CY87<=2),AND(CW87=4,CZ87<=1),AND(CX87=3,DA87=0)),\"Check\",\"Continue\"))))))","v":""},{"$f":"IF(ISBLANK('Month 1'!$F$59),\"\",'Month 1'!$F$59)","v":""},null,null,null,null,null,null,null,null,null,null,null,null,null,null,null,null,null,null,null,null,null,null,null,null,null,null,null,null,null,null,null,null,null,null,null,null,null,null,null,null,null,null,null,null,null,null,null,null,null,null,null,null,null,0,"@","@","@","@","@","@","@","@","@","@","@","@","@","@","@","@","@","@","@","@","@","@","@","@","@","@","@","@","@","@","@",{"$f":"'Month 1'!BL59","v":"@"},{"$f":"'Month 1'!BK59","v":"@"},{"$f":"'Month 1'!BJ59","v":"@"},{"$f":"'Month 1'!BI59","v":"@"},{"$error":"#N/A"},{"$error":"#N/A"},{"$error":"#N/A"},{"$error":"#N/A"},{"$f":"IF(ISNUMBER(SUM(COUNTIF(INDIRECT(CR59):INDIRECT(CS59),2),COUNTIF(INDIRECT(CR59):INDIRECT(CS59),1),COUNTIF(INDIRECT(CR59):INDIRECT(CS59),0))),SUM(COUNTIF(INDIRECT(CR59):INDIRECT(CS59),2),COUNTIF(INDIRECT(CR59):INDIRECT(CS59),1),COUNTIF(INDIRECT(CR59):INDIRECT(CS59),0)),\"\")","v":""},{"$f":"IF(ISNUMBER(SUM(COUNTIF(INDIRECT(CR59):INDIRECT(CT59),2),COUNTIF(INDIRECT(CR59):INDIRECT(CT59),1),COUNTIF(INDIRECT(CR59):INDIRECT(CT59),0))),SUM(COUNTIF(INDIRECT(CR59):INDIRECT(CT59),2),COUNTIF(INDIRECT(CR59):INDIRECT(CT59),1),COUNTIF(INDIRECT(CR59):INDIRECT(CT59),0)),\"\")","v":""},{"$f":"IF(ISNUMBER(SUM(COUNTIF(INDIRECT(CR59):INDIRECT(CU59),1),COUNTIF(INDIRECT(CR59):INDIRECT(CU59),0))),SUM(COUNTIF(INDIRECT(CR59):INDIRECT(CU59),1),COUNTIF(INDIRECT(CR59):INDIRECT(CU59),0)),\"\")","v":""},{"$f":"SUM(INDIRECT(CR59):INDIRECT(CS59))","v":{"$error":"#N/A"}},{"$f":"SUM(INDIRECT(CR59):INDIRECT(CT59))","v":{"$error":"#N/A"}},{"$f":"SUM(INDIRECT(CR59):INDIRECT(CU59))","v":{"$error":"#N/A"}}]
[null,null,1,{"$f":"IF(Modifications!$C$35=2,\"N\",\"\")","v":""},"",{"$f":"IF(ISBLANK('Month 1'!$F$60),\"\",'Month 1'!$F$60)","v":""},null,null,null,null,null,null,null,null,null,null,null,null,null,null,null,null,null,null,null,null,null,null,null,null,null,null,null,null,null,null,null,null,null,null,null,null,null,null,null,null,null,null,null,null,null,null,null,null,null,null,null,null,null,0,"@","@","@","@","@","@","@","@","@","@","@","@","@","@","@","@","@","@","@","@","@","@","@","@","@","@","@","@","@","@","@",{"$f":"'Month 1'!BL60","v":"@"},{"$f":"'Month 1'!BK60","v":"@"},{"$f":"'Month 1'!BJ60","v":"@"},{"$f":"'Month 1'!BI60","v":"@"},{"$error":"#N/A"},{"$error":"#N/A"},{"$error":"#N/A"},{"$error":"#N/A"},{"$f":"IF(ISNUMBER(SUM(COUNTIF(INDIRECT(CR60):INDIRECT(CS60),2),COUNTIF(INDIRECT(CR60):INDIRECT(CS60),1),COUNTIF(INDIRECT(CR60):INDIRECT(CS60),0))),SUM(COUNTIF(INDIRECT(CR60):INDIRECT(CS60),2),COUNTIF(INDIRECT(CR60):INDIRECT(CS60),1),COUNTIF(INDIRECT(CR60):INDIRECT(CS60),0)),\"\")","v":""},{"$f":"IF(ISNUMBER(SUM(COUNTIF(INDIRECT(CR60):INDIRECT(CT60),2),COUNTIF(INDIRECT(CR60):INDIRECT(CT60),1),COUNTIF(INDIRECT(CR60):INDIRECT(CT60),0))),SUM(COUNTIF(INDIRECT(CR60):INDIRECT(CT60),2),COUNTIF(INDIRECT(CR60):INDIRECT(CT60),1),COUNTIF(INDIRECT(CR60):INDIRECT(CT60),0)),\"\")","v":""},{"$f":"IF(ISNUMBER(SUM(COUNTIF(INDIRECT(CR60):INDIRECT(CU60),1),COUNTIF(INDIRECT(CR60):INDIRECT(CU60),0))),SUM(COUNTIF(INDIRECT(CR60):INDIRECT(CU60),1),COUNTIF(INDIRECT(CR60):INDIRECT(CU60),0)),\"\")","v":""},{"$f":"SUM(INDIRECT(CR60):INDIRECT(CS60))","v":{"$error":"#N/A"}},{"$f":"SUM(INDIRECT(CR60):INDIRECT(CT60))","v":{"$error":"#N/A"}},{"$f":"SUM(INDIRECT(CR60):INDIRECT(CU60))","v":{"$error":"#N/A"}}]
[null,null,1,{"$f":"IF(Modifications!$C$36=2,\"N\",\"\")","v":""},"",{"$f":"IF(ISBLANK('Month 1'!$F$61),\"\",'Month 1'!$F$61)","v":""},null,null,null,null,null,null,null,null,null,null,null,null,null,null,null,null,null,null,null,null,null,null,null,null,null,null,null,null,null,null,null,null,null,null,null,null,null,null,null,null,null,null,null,null,null,null,null,null,null,null,null,null,null,0,"@","@","@","@","@","@","@","@","@","@","@","@","@","@","@","@","@","@","@","@","@","@","@","@","@","@","@","@","@","@","@",{"$f":"'Month 1'!BL61","v":"@"},{"$f":"'Month 1'!BK61","v":"@"},{"$f":"'Month 1'!BJ61","v":"@"},{"$f":"'Month 1'!BI61","v":"@"},{"$error":"#N/A"},{"$error":"#N/A"},{"$error":"#N/A"},{"$error":"#N/A"},{"$f":"IF(ISNUMBER(SUM(COUNTIF(INDIRECT(CR61):INDIRECT(CS61),2),COUNTIF(INDIRECT(CR61):INDIRECT(CS61),1),COUNTIF(INDIRECT(CR61):INDIRECT(CS61),0))),SUM(COUNTIF(INDIRECT(CR61):INDIRECT(CS61),2),COUNTIF(INDIRECT(CR61):INDIRECT(CS61),1),COUNTIF(INDIRECT(CR61):INDIRECT(CS61),0)),\"\")","v":""},{"$f":"IF(ISNUMBER(SUM(COUNTIF(INDIRECT(CR61):INDIRECT(CT61),2),COUNTIF(INDIRECT(CR61):INDIRECT(CT61),1),COUNTIF(INDIRECT(CR61):INDIRECT(CT61),0))),SUM(COUNTIF(INDIRECT(CR61):INDIRECT(CT61),2),COUNTIF(INDIRECT(CR61):INDIRECT(CT61),1),COUNTIF(INDIRECT(CR61):INDIRECT(CT61),0)),\"\")","v":""},{"$f":"IF(ISNUMBER(SUM(COUNTIF(INDIRECT(CR61):INDIRECT(CU61),1),COUNTIF(INDIRECT(CR61):INDIRECT(CU61),0))),SUM(COUNTIF(INDIRECT(CR61):INDIRECT(CU61),1),COUNTIF(INDIRECT(CR61):INDIRECT(CU61),0)),\"\")","v":""},{"$f":"SUM(INDIRECT(CR61):INDIRECT(CS61))","v":{"$error":"#N/A"}},{"$f":"SUM(INDIRECT(CR61):INDIRECT(CT61))","v":{"$error":"#N/A"}},{"$f":"SUM(INDIRECT(CR61):INDIRECT(CU61))","v":{"$error":"#N/A"}}]
[null,null,1,{"$f":"IF(Modifications!$C$37=2,\"N\",\"\")","v":""},"",{"$f":"IF(ISBLANK('Month 1'!$F$62),\"\",'Month 1'!$F$62)","v":""},null,null,null,null,null,null,null,null,null,null,null,null,null,null,null,null,null,null,null,null,null,null,null,null,null,null,null,null,null,null,null,null,null,null,null,null,null,null,null,null,null,null,null,null,null,null,null,null,null,null,null,null,null,0,"@","@","@","@","@","@","@","@","@","@","@","@","@","@","@","@","@","@","@","@","@","@","@","@","@","@","@","@","@","@","@",{"$f":"'Month 1'!BL62","v":"@"},{"$f":"'Month 1'!BK62","v":"@"},{"$f":"'Month 1'!BJ62","v":"@"},{"$f":"'Month 1'!BI62","v":"@"},{"$error":"#N/A"},{"$error":"#N/A"},{"$error":"#N/A"},{"$error":"#N/A"},{"$f":"IF(ISNUMBER(SUM(COUNTIF(INDIRECT(CR62):INDIRECT(CS62),2),COUNTIF(INDIRECT(CR62):INDIRECT(CS62),1),COUNTIF(INDIRECT(CR62):INDIRECT(CS62),0))),SUM(COUNTIF(INDIRECT(CR62):INDIRECT(CS62),2),COUNTIF(INDIRECT(CR62):INDIRECT(CS62),1),COUNTIF(INDIRECT(CR62):INDIRECT(CS62),0)),\"\")","v":""},{"$f":"IF(ISNUMBER(SUM(COUNTIF(INDIRECT(CR62):INDIRECT(CT62),2),COUNTIF(INDIRECT(CR62):INDIRECT(CT62),1),COUNTIF(INDIRECT(CR62):INDIRECT(CT62),0))),SUM(COUNTIF(INDIRECT(CR62):INDIRECT(CT62),2),COUNTIF(INDIRECT(CR62):INDIRECT(CT62),1),COUNTIF(INDIRECT(CR62):INDIRECT(CT62),0)),\"\")","v":""},{"$f":"IF(ISNUMBER(SUM(COUNTIF(INDIRECT(CR62):INDIRECT(CU62),1),COUNTIF(INDIRECT(CR62):INDIRECT(CU62),0))),SUM(COUNTIF(INDIRECT(CR62):INDIRECT(CU62),1),COUNTIF(INDIRECT(CR62):INDIRECT(CU62),0)),\"\")","v":""},{"$f":"SUM(INDIRECT(CR62):INDIRECT(CS62))","v":{"$error":"#N/A"}},{"$f":"SUM(INDIRECT(CR62):INDIRECT(CT62))","v":{"$error":"#N/A"}},{"$f":"SUM(INDIRECT(CR62):INDIRECT(CU62))","v":{"$error":"#N/A"}}]
[null,null,1,{"$f":"IF(Modifications!$C$38=2,\"N\",\"\")","v":""},"",{"$f":"IF(ISBLANK('Month 1'!$F$63),\"\",'Month 1'!$F$63)","v":""},null,null,null,null,null,null,null,null,null,null,null,null,null,null,null,null,null,null,null,null,null,null,null,null,null,null,null,null,null,null,null,null,null,null,null,null,null,null,null,null,null,null,null,null,null,null,null,null,null,null,null,null,null,0,"@","@","@","@","@","@","@","@","@","@","@","@","@","@","@","@","@","@","@","@","@","@","@","@","@","@","@","@","@","@","@",{"$f":"'Month 1'!BL63","v":"@"},{"$f":"'Month 1'!BK63","v":"@"},{"$f":"'Month 1'!BJ63","v":"@"},{"$f":"'Month 1'!BI63","v":"@"},{"$error":"#N/A"},{"$error":"#N/A"},{"$error":"#N/A"},{"$error":"#N/A"},{"$f":"IF(ISNUMBER(SUM(COUNTIF(INDIRECT(CR63):INDIRECT(CS63),2),COUNTIF(INDIRECT(CR63):INDIRECT(CS63),1),COUNTIF(INDIRECT(CR63):INDIRECT(CS63),0))),SUM(COUNTIF(INDIRECT(CR63):INDIRECT(CS63),2),COUNTIF(INDIRECT(CR63):INDIRECT(CS63),1),COUNTIF(INDIRECT(CR63):INDIRECT(CS63),0)),\"\")","v":""},{"$f":"IF(ISNUMBER(SUM(COUNTIF(INDIRECT(CR63):INDIRECT(CT63),2),COUNTIF(INDIRECT(CR63):INDIRECT(CT63),1),COUNTIF(INDIRECT(CR63):INDIRECT(CT63),0))),SUM(COUNTIF(INDIRECT(CR63):INDIRECT(CT63),2),COUNTIF(INDIRECT(CR63):INDIRECT(CT63),1),COUNTIF(INDIRECT(CR63):INDIRECT(CT63),0)),\"\")","v":""},{"$f":"IF(ISNUMBER(SUM(COUNTIF(INDIRECT(CR63):INDIRECT(CU63),1),COUNTIF(INDIRECT(CR63):INDIRECT(CU63),0))),SUM(COUNTIF(INDIRECT(CR63):INDIRECT(CU63),1),COUNTIF(INDIRECT(CR63):INDIRECT(CU63),0)),\"\")","v":""},{"$f":"SUM(INDIRECT(CR63):INDIRECT(CS63))","v":{"$error":"#N/A"}},{"$f":"SUM(INDIRECT(CR63):INDIRECT(CT63))","v":{"$error":"#N/A"}},{"$f":"SUM(INDIRECT(CR63):INDIRECT(CU63))","v":{"$error":"#N/A"}}]
[null,null,1,{"$f":"IF(Modifications!$C$39=2,\"N\",\"\")","v":""},"",{"$f":"IF(ISBLANK('Month 1'!$F$64),\"\",'Month 1'!$F$64)","v":""},null,null,null,null,null,null,null,null,null,null,null,null,null,null,null,null,null,null,null,null,null,null,null,null,null,null,null,null,null,null,null,null,null,null,null,null,null,null,null,null,null,null,null,null,null,null,null,null,null,null,null,null,null,0,"@","@","@","@","@","@","@","@","@","@","@","@","@","@","@","@","@","@","@","@","@","@","@","@","@","@","@","@","@","@","@",{"$f":"'Month 1'!BL64","v":"@"},{"$f":"'Month 1'!BK64","v":"@"},{"$f":"'Month 1'!BJ64","v":"@"},{"$f":"'Month 1'!BI64","v":"@"},{"$error":"#N/A"},{"$error":"#N/A"},{"$error":"#N/A"},{"$error":"#N/A"},{"$f":"IF(ISNUMBER(SUM(COUNTIF(INDIRECT(CR64):INDIRECT(CS64),2),COUNTIF(INDIRECT(CR64):INDIRECT(CS64),1),COUNTIF(INDIRECT(CR64):INDIRECT(CS64),0))),SUM(COUNTIF(INDIRECT(CR64):INDIRECT(CS64),2),COUNTIF(INDIRECT(CR64):INDIRECT(CS64),1),COUNTIF(INDIRECT(CR64):INDIRECT(CS64),0)),\"\")","v":""},{"$f":"IF(ISNUMBER(SUM(COUNTIF(INDIRECT(CR64):INDIRECT(CT64),2),COUNTIF(INDIRECT(CR64):INDIRECT(CT64),1),COUNTIF(INDIRECT(CR64):INDIRECT(CT64),0))),SUM(COUNTIF(INDIRECT(CR64):INDIRECT(CT64),2),COUNTIF(INDIRECT(CR64):INDIRECT(CT64),1),COUNTIF(INDIRECT(CR64):INDIRECT(CT64),0)),\"\")","v":""},{"$f":"IF(ISNUMBER(SUM(COUNTIF(INDIRECT(CR64):INDIRECT(CU64),1),COUNTIF(INDIRECT(CR64):INDIRECT(CU64),0))),SUM(COUNTIF(INDIRECT(CR64):INDIRECT(CU64),1),COUNTIF(INDIRECT(CR64):INDIRECT(CU64),0)),\"\")","v":""},{"$f":"SUM(INDIRECT(CR64):INDIRECT(CS64))","v":{"$error":"#N/A"}},{"$f":"SUM(INDIRECT(CR64):INDIRECT(CT64))","v":{"$error":"#N/A"}},{"$f":"SUM(INDIRECT(CR64):INDIRECT(CU64))","v":{"$error":"#N/A"}}]
[null,null,1,{"$f":"IF(Modifications!$C$40=2,\"N\",\"\")","v":""},"",{"$f":"IF(ISBLANK('Month 1'!$F$65),\"\",'Month 1'!$F$65)","v":""},null,null,null,null,null,null,null,null,null,null,null,null,null,null,null,null,null,null,null,null,null,null,null,null,null,null,null,null,null,null,null,null,null,null,null,null,null,null,null,null,null,null,null,null,null,null,null,null,null,null,null,null,null,0,"@","@","@","@","@","@","@","@","@","@","@","@","@","@","@","@","@","@","@","@","@","@","@","@","@","@","@","@","@","@","@",{"$f":"'Month 1'!BL65","v":"@"},{"$f":"'Month 1'!BK65","v":"@"},{"$f":"'Month 1'!BJ65","v":"@"},{"$f":"'Month 1'!BI65","v":"@"},{"$error":"#N/A"},{"$error":"#N/A"},{"$error":"#N/A"},{"$error":"#N/A"},{"$f":"IF(ISNUMBER(SUM(COUNTIF(INDIRECT(CR65):INDIRECT(CS65),2),COUNTIF(INDIRECT(CR65):INDIRECT(CS65),1),COUNTIF(INDIRECT(CR65):INDIRECT(CS65),0))),SUM(COUNTIF(INDIRECT(CR65):INDIRECT(CS65),2),COUNTIF(INDIRECT(CR65):INDIRECT(CS65),1),COUNTIF(INDIRECT(CR65):INDIRECT(CS65),0)),\"\")","v":""},{"$f":"IF(ISNUMBER(SUM(COUNTIF(INDIRECT(CR65):INDIRECT(CT65),2),COUNTIF(INDIRECT(CR65):INDIRECT(CT65),1),COUNTIF(INDIRECT(CR65):INDIRECT(CT65),0))),SUM(COUNTIF(INDIRECT(CR65):INDIRECT(CT65),2),COUNTIF(INDIRECT(CR65):INDIRECT(CT65),1),COUNTIF(INDIRECT(CR65):INDIRECT(CT65),0)),\"\")","v":""},{"$f":"IF(ISNUMBER(SUM(COUNTIF(INDIRECT(CR65):INDIRECT(CU65),1),COUNTIF(INDIRECT(CR65):INDIRECT(CU65),0))),SUM(COUNTIF(INDIRECT(CR65):INDIRECT(CU65),1),COUNTIF(INDIRECT(CR65):INDIRECT(CU65),0)),\"\")","v":""},{"$f":"SUM(INDIRECT(CR65):INDIRECT(CS65))","v":{"$error":"#N/A"}},{"$f":"SUM(INDIRECT(CR65):INDIRECT(CT65))","v":{"$error":"#N/A"}},{"$f":"SUM(INDIRECT(CR65):INDIRECT(CU65))","v":{"$error":"#N/A"}}]
[null,null,1,{"$f":"IF(Modifications!$C$41=2,\"N\",\"\")","v":""},"",{"$f":"IF(ISBLANK('Month 1'!$F$66),\"\",'Month 1'!$F$66)","v":""},null,null,null,null,null,null,null,null,null,null,null,null,null,null,null,null,null,null,null,null,null,null,null,null,null,null,null,null,null,null,null,null,null,null,null,null,null,null,null,null,null,null,null,null,null,null,null,null,null,null,null,null,null,0,"@","@","@","@","@","@","@","@","@","@","@","@","@","@","@","@","@","@","@","@","@","@","@","@","@","@","@","@","@","@","@",{"$f":"'Month 1'!BL66","v":"@"},{"$f":"'Month 1'!BK66","v":"@"},{"$f":"'Month 1'!BJ66","v":"@"},{"$f":"'Month 1'!BI66","v":"@"},{"$error":"#N/A"},{"$error":"#N/A"},{"$error":"#N/A"},{"$error":"#N/A"},{"$f":"IF(ISNUMBER(SUM(COUNTIF(INDIRECT(CR66):INDIRECT(CS66),2),COUNTIF(INDIRECT(CR66):INDIRECT(CS66),1),COUNTIF(INDIRECT(CR66):INDIRECT(CS66),0))),SUM(COUNTIF(INDIRECT(CR66):INDIRECT(CS66),2),COUNTIF(INDIRECT(CR66):INDIRECT(CS66),1),COUNTIF(INDIRECT(CR66):INDIRECT(CS66),0)),\"\")","v":""},{"$f":"IF(ISNUMBER(SUM(COUNTIF(INDIRECT(CR66):INDIRECT(CT66),2),COUNTIF(INDIRECT(CR66):INDIRECT(CT66),1),COUNTIF(INDIRECT(CR66):INDIRECT(CT66),0))),SUM(COUNTIF(INDIRECT(CR66):INDIRECT(CT66),2),COUNTIF(INDIRECT(CR66):INDIRECT(CT66),1),COUNTIF(INDIRECT(CR66):INDIRECT(CT66),0)),\"\")","v":""},{"$f":"IF(ISNUMBER(SUM(COUNTIF(INDIRECT(CR66):INDIRECT(CU66),1),COUNTIF(INDIRECT(CR66):INDIRECT(CU66),0))),SUM(COUNTIF(INDIRECT(CR66):INDIRECT(CU66),1),COUNTIF(INDIRECT(CR66):INDIRECT(CU66),0)),\"\")","v":""},{"$f":"SUM(INDIRECT(CR66):INDIRECT(CS66))","v":{"$error":"#N/A"}},{"$f":"SUM(INDIRECT(CR66):INDIRECT(CT66))","v":{"$error":"#N/A"}},{"$f":"SUM(INDIRECT(CR66):INDIRECT(CU66))","v":{"$error":"#N/A"}}]
[null,null,1,{"$f":"IF(Modifications!$C$42=2,\"N\",\"\")","v":""},"",{"$f":"IF(ISBLANK('Month 1'!$F$67),\"\",'Month 1'!$F$67)","v":""},null,null,null,null,null,null,null,null,null,null,null,null,null,null,null,null,null,null,null,null,null,null,null,null,null,null,null,null,null,null,null,null,null,null,null,null,null,null,null,null,null,null,null,null,null,null,null,null,null,null,null,null,null,0,"@","@","@","@","@","@","@","@","@","@","@","@","@","@","@","@","@","@","@","@","@","@","@","@","@","@","@","@","@","@","@",{"$f":"'Month 1'!BL67","v":"@"},{"$f":"'Month 1'!BK67","v":"@"},{"$f":"'Month 1'!BJ67","v":"@"},{"$f":"'Month 1'!BI67","v":"@"},{"$error":"#N/A"},{"$error":"#N/A"},{"$error":"#N/A"},{"$error":"#N/A"},{"$f":"IF(ISNUMBER(SUM(COUNTIF(INDIRECT(CR67):INDIRECT(CS67),2),COUNTIF(INDIRECT(CR67):INDIRECT(CS67),1),COUNTIF(INDIRECT(CR67):INDIRECT(CS67),0))),SUM(COUNTIF(INDIRECT(CR67):INDIRECT(CS67),2),COUNTIF(INDIRECT(CR67):INDIRECT(CS67),1),COUNTIF(INDIRECT(CR67):INDIRECT(CS67),0)),\"\")","v":""},{"$f":"IF(ISNUMBER(SUM(COUNTIF(INDIRECT(CR67):INDIRECT(CT67),2),COUNTIF(INDIRECT(CR67):INDIRECT(CT67),1),COUNTIF(INDIRECT(CR67):INDIRECT(CT67),0))),SUM(COUNTIF(INDIRECT(CR67):INDIRECT(CT67),2),COUNTIF(INDIRECT(CR67):INDIRECT(CT67),1),COUNTIF(INDIRECT(CR67):INDIRECT(CT67),0)),\"\")","v":""},{"$f":"IF(ISNUMBER(SUM(COUNTIF(INDIRECT(CR67):INDIRECT(CU67),1),COUNTIF(INDIRECT(CR67):INDIRECT(CU67),0))),SUM(COUNTIF(INDIRECT(CR67):INDIRECT(CU67),1),COUNTIF(INDIRECT(CR67):INDIRECT(CU67),0)),\"\")","v":""},{"$f":"SUM(INDIRECT(CR67):INDIRECT(CS67))","v":{"$error":"#N/A"}},{"$f":"SUM(INDIRECT(CR67):INDIRECT(CT67))","v":{"$error":"#N/A"}},{"$f":"SUM(INDIRECT(CR67):INDIRECT(CU67))","v":{"$error":"#N/A"}}]
[null,null,1,{"$f":"IF(Modifications!$C$43=2,\"N\",\"\")","v":""},"",{"$f":"IF(ISBLANK('Month 1'!$F$68),\"\",'Month 1'!$F$68)","v":""},null,null,null,null,null,null,null,null,null,null,null,null,null,null,null,null,null,null,null,null,null,null,null,null,null,null,null,null,null,null,null,null,null,null,null,null,null,null,null,null,null,null,null,null,null,null,null,null,null,null,null,null,null,0,"@","@","@","@","@","@","@","@","@","@","@","@","@","@","@","@","@","@","@","@","@","@","@","@","@","@","@","@","@","@","@",{"$f":"'Month 1'!BL68","v":"@"},{"$f":"'Month 1'!BK68","v":"@"},{"$f":"'Month 1'!BJ68","v":"@"},{"$f":"'Month 1'!BI68","v":"@"},{"$error":"#N/A"},{"$error":"#N/A"},{"$error":"#N/A"},{"$error":"#N/A"},{"$f":"IF(ISNUMBER(SUM(COUNTIF(INDIRECT(CR68):INDIRECT(CS68),2),COUNTIF(INDIRECT(CR68):INDIRECT(CS68),1),COUNTIF(INDIRECT(CR68):INDIRECT(CS68),0))),SUM(COUNTIF(INDIRECT(CR68):INDIRECT(CS68),2),COUNTIF(INDIRECT(CR68):INDIRECT(CS68),1),COUNTIF(INDIRECT(CR68):INDIRECT(CS68),0)),\"\")","v":""},{"$f":"IF(ISNUMBER(SUM(COUNTIF(INDIRECT(CR68):INDIRECT(CT68),2),COUNTIF(INDIRECT(CR68):INDIRECT(CT68),1),COUNTIF(INDIRECT(CR68):INDIRECT(CT68),0))),SUM(COUNTIF(INDIRECT(CR68):INDIRECT(CT68),2),COUNTIF(INDIRECT(CR68):INDIRECT(CT68),1),COUNTIF(INDIRECT(CR68):INDIRECT(CT68),0)),\"\")","v":""},{"$f":"IF(ISNUMBER(SUM(COUNTIF(INDIRECT(CR68):INDIRECT(CU68),1),COUNTIF(INDIRECT(CR68):INDIRECT(CU68),0))),SUM(COUNTIF(INDIRECT(CR68):INDIRECT(CU68),1),COUNTIF(INDIRECT(CR68):INDIRECT(CU68),0)),\"\")","v":""},{"$f":"SUM(INDIRECT(CR68):INDIRECT(CS68))","v":{"$error":"#N/A"}},{"$f":"SUM(INDIRECT(CR68):INDIRECT(CT68))","v":{"$error":"#N/A"}},{"$f":"SUM(INDIRECT(CR68):INDIRECT(CU68))","v":{"$error":"#N/A"}}]
[null,null,1,{"$f":"IF(Modifications!$C$44=2,\"N\",\"\")","v":""},"",{"$f":"IF(ISBLANK('Month 1'!$F$69),\"\",'Month 1'!$F$69)","v":""},null,null,null,null,null,null,null,null,null,null,null,null,null,null,null,null,null,null,null,null,null,null,null,null,null,null,null,null,null,null,null,null,null,null,null,null,null,null,null,null,null,null,null,null,null,null,null,null,null,null,null,null,null,0,"@","@","@","@","@","@","@","@","@","@","@","@","@","@","@","@","@","@","@","@","@","@","@","@","@","@","@","@","@","@","@",{"$f":"'Month 1'!BL69","v":"@"},{"$f":"'Month 1'!BK69","v":"@"},{"$f":"'Month 1'!BJ69","v":"@"},{"$f":"'Month 1'!BI69","v":"@"},{"$error":"#N/A"},{"$error":"#N/A"},{"$error":"#N/A"},{"$error":"#N/A"},{"$f":"IF(ISNUMBER(SUM(COUNTIF(INDIRECT(CR69):INDIRECT(CS69),2),COUNTIF(INDIRECT(CR69):INDIRECT(CS69),1),COUNTIF(INDIRECT(CR69):INDIRECT(CS69),0))),SUM(COUNTIF(INDIRECT(CR69):INDIRECT(CS69),2),COUNTIF(INDIRECT(CR69):INDIRECT(CS69),1),COUNTIF(INDIRECT(CR69):INDIRECT(CS69),0)),\"\")","v":""},{"$f":"IF(ISNUMBER(SUM(COUNTIF(INDIRECT(CR69):INDIRECT(CT69),2),COUNTIF(INDIRECT(CR69):INDIRECT(CT69),1),COUNTIF(INDIRECT(CR69):INDIRECT(CT69),0))),SUM(COUNTIF(INDIRECT(CR69):INDIRECT(CT69),2),COUNTIF(INDIRECT(CR69):INDIRECT(CT69),1),COUNTIF(INDIRECT(CR69):INDIRECT(CT69),0)),\"\")","v":""},{"$f":"IF(ISNUMBER(SUM(COUNTIF(INDIRECT(CR69):INDIRECT(CU69),1),COUNTIF(INDIRECT(CR69):INDIRECT(CU69),0))),SUM(COUNTIF(INDIRECT(CR69):INDIRECT(CU69),1),COUNTIF(INDIRECT(CR69):INDIRECT(CU69),0)),\"\")","v":""},{"$f":"SUM(INDIRECT(CR69):INDIRECT(CS69))","v":{"$error":"#N/A"}},{"$f":"SUM(INDIRECT(CR69):INDIRECT(CT69))","v":{"$error":"#N/A"}},{"$f":"SUM(INDIRECT(CR69):INDIRECT(CU69))","v":{"$error":"#N/A"}}]
[null,null,1,{"$f":"IF(Modifications!$C$45=2,\"N\",\"\")","v":""},"",{"$f":"IF(ISBLANK('Month 1'!$F$70),\"\",'Month 1'!$F$70)","v":""},null,null,null,null,null,null,null,null,null,null,null,null,null,null,null,null,null,null,null,null,null,null,null,null,null,null,null,null,null,null,null,null,null,null,null,null,null,null,null,null,null,null,null,null,null,null,null,null,null,null,null,null,null,0,"@","@","@","@","@","@","@","@","@","@","@","@","@","@","@","@","@","@","@","@","@","@","@","@","@","@","@","@","@","@","@",{"$f":"'Month 1'!BL70","v":"@"},{"$f":"'Month 1'!BK70","v":"@"},{"$f":"'Month 1'!BJ70","v":"@"},{"$f":"'Month 1'!BI70","v":"@"},{"$error":"#N/A"},{"$error":"#N/A"},{"$error":"#N/A"},{"$error":"#N/A"},{"$f":"IF(ISNUMBER(SUM(COUNTIF(INDIRECT(CR70):INDIRECT(CS70),2),COUNTIF(INDIRECT(CR70):INDIRECT(CS70),1),COUNTIF(INDIRECT(CR70):INDIRECT(CS70),0))),SUM(COUNTIF(INDIRECT(CR70):INDIRECT(CS70),2),COUNTIF(INDIRECT(CR70):INDIRECT(CS70),1),COUNTIF(INDIRECT(CR70):INDIRECT(CS70),0)),\"\")","v":""},{"$f":"IF(ISNUMBER(SUM(COUNTIF(INDIRECT(CR70):INDIRECT(CT70),2),COUNTIF(INDIRECT(CR70):INDIRECT(CT70),1),COUNTIF(INDIRECT(CR70):INDIRECT(CT70),0))),SUM(COUNTIF(INDIRECT(CR70):INDIRECT(CT70),2),COUNTIF(INDIRECT(CR70):INDIRECT(CT70),1),COUNTIF(INDIRECT(CR70):INDIRECT(CT70),0)),\"\")","v":""},{"$f":"IF(ISNUMBER(SUM(COUNTIF(INDIRECT(CR70):INDIRECT(CU70),1),COUNTIF(INDIRECT(CR70):INDIRECT(CU70),0))),SUM(COUNTIF(INDIRECT(CR70):INDIRECT(CU70),1),COUNTIF(INDIRECT(CR70):INDIRECT(CU70),0)),\"\")","v":""},{"$f":"SUM(INDIRECT(CR70):INDIRECT(CS70))","v":{"$error":"#N/A"}},{"$f":"SUM(INDIRECT(CR70):INDIRECT(CT70))","v":{"$error":"#N/A"}},{"$f":"SUM(INDIRECT(CR70):INDIRECT(CU70))","v":{"$error":"#N/A"}}]
[null,null,1,{"$f":"IF(Modifications!$C$46=2,\"N\",\"\")","v":""},"",{"$f":"IF(ISBLANK('Month 1'!$F$71),\"\",'Month 1'!$F$71)","v":""},null,null,null,null,null,null,null,null,null,null,null,null,null,null,null,null,null,null,null,null,null,null,null,null,null,null,null,null,null,null,null,null,null,null,null,null,null,null,null,null,null,null,null,null,null,null,null,null,null,null,null,null,null,0,"@","@","@","@","@","@","@","@","@","@","@","@","@","@","@","@","@","@","@","@","@","@","@","@","@","@","@","@","@","@","@",{"$f":"'Month 1'!BL71","v":"@"},{"$f":"'Month 1'!BK71","v":"@"},{"$f":"'Month 1'!BJ71","v":"@"},{"$f":"'Month 1'!BI71","v":"@"},{"$error":"#N/A"},{"$error":"#N/A"},{"$error":"#N/A"},{"$error":"#N/A"},{"$f":"IF(ISNUMBER(SUM(COUNTIF(INDIRECT(CR71):INDIRECT(CS71),2),COUNTIF(INDIRECT(CR71):INDIRECT(CS71),1),COUNTIF(INDIRECT(CR71):INDIRECT(CS71),0))),SUM(COUNTIF(INDIRECT(CR71):INDIRECT(CS71),2),COUNTIF(INDIRECT(CR71):INDIRECT(CS71),1),COUNTIF(INDIRECT(CR71):INDIRECT(CS71),0)),\"\")","v":""},{"$f":"IF(ISNUMBER(SUM(COUNTIF(INDIRECT(CR71):INDIRECT(CT71),2),COUNTIF(INDIRECT(CR71):INDIRECT(CT71),1),COUNTIF(INDIRECT(CR71):INDIRECT(CT71),0))),SUM(COUNTIF(INDIRECT(CR71):INDIRECT(CT71),2),COUNTIF(INDIRECT(CR71):INDIRECT(CT71),1),COUNTIF(INDIRECT(CR71):INDIRECT(CT71),0)),\"\")","v":""},{"$f":"IF(ISNUMBER(SUM(COUNTIF(INDIRECT(CR71):INDIRECT(CU71),1),COUNTIF(INDIRECT(CR71):INDIRECT(CU71),0))),SUM(COUNTIF(INDIRECT(CR71):INDIRECT(CU71),1),COUNTIF(INDIRECT(CR71):INDIRECT(CU71),0)),\"\")","v":""},{"$f":"SUM(INDIRECT(CR71):INDIRECT(CS71))","v":{"$error":"#N/A"}},{"$f":"SUM(INDIRECT(CR71):INDIRECT(CT71))","v":{"$error":"#N/A"}},{"$f":"SUM(INDIRECT(CR71):INDIRECT(CU71))","v":{"$error":"#N/A"}}]
[null,null,1,{"$f":"IF(Modifications!$C$47=2,\"N\",\"\")","v":""},"",{"$f":"IF(ISBLANK('Month 1'!$F$72),\"\",'Month 1'!$F$72)","v":""},null,null,null,null,null,null,null,null,null,null,null,null,null,null,null,null,null,null,null,null,null,null,null,null,null,null,null,null,null,null,null,null,null,null,null,null,null,null,null,null,null,null,null,null,null,null,null,null,null,null,null,null,null,0,"@","@","@","@","@","@","@","@","@","@","@","@","@","@","@","@","@","@","@","@","@","@","@","@","@","@","@","@","@","@","@",{"$f":"'Month 1'!BL72","v":"@"},{"$f":"'Month 1'!BK72","v":"@"},{"$f":"'Month 1'!BJ72","v":"@"},{"$f":"'Month 1'!BI72","v":"@"},{"$error":"#N/A"},{"$error":"#N/A"},{"$error":"#N/A"},{"$error":"#N/A"},{"$f":"IF(ISNUMBER(SUM(COUNTIF(INDIRECT(CR72):INDIRECT(CS72),2),COUNTIF(INDIRECT(CR72):INDIRECT(CS72),1),COUNTIF(INDIRECT(CR72):INDIRECT(CS72),0))),SUM(COUNTIF(INDIRECT(CR72):INDIRECT(CS72),2),COUNTIF(INDIRECT(CR72):INDIRECT(CS72),1),COUNTIF(INDIRECT(CR72):INDIRECT(CS72),0)),\"\")","v":""},{"$f":"IF(ISNUMBER(SUM(COUNTIF(INDIRECT(CR72):INDIRECT(CT72),2),COUNTIF(INDIRECT(CR72):INDIRECT(CT72),1),COUNTIF(INDIRECT(CR72):INDIRECT(CT72),0))),SUM(COUNTIF(INDIRECT(CR72):INDIRECT(CT72),2),COUNTIF(INDIRECT(CR72):INDIRECT(CT72),1),COUNTIF(INDIRECT(CR72):INDIRECT(CT72),0)),\"\")","v":""},{"$f":"IF(ISNUMBER(SUM(COUNTIF(INDIRECT(CR72):INDIRECT(CU72),1),COUNTIF(INDIRECT(CR72):INDIRECT(CU72),0))),SUM(COUNTIF(INDIRECT(CR72):INDIRECT(CU72),1),COUNTIF(INDIRECT(CR72):INDIRECT(CU72),0)),\"\")","v":""},{"$f":"SUM(INDIRECT(CR72):INDIRECT(CS72))","v":{"$error":"#N/A"}},{"$f":"SUM(INDIRECT(CR72):INDIRECT(CT72))","v":{"$error":"#N/A"}},{"$f":"SUM(INDIRECT(CR72):INDIRECT(CU72))","v":{"$error":"#N/A"}}]
[null,null,1,{"$f":"IF(Modifications!$C$48=2,\"N\",\"\")","v":""},"",{"$f":"IF(ISBLANK('Month 1'!$F$73),\"\",'Month 1'!$F$73)","v":""},null,null,null,null,null,null,null,null,null,null,null,null,null,null,null,null,null,null,null,null,null,null,null,null,null,null,null,null,null,null,null,null,null,null,null,null,null,null,null,null,null,null,null,null,null,null,null,null,null,null,null,null,null,0,"@","@","@","@","@","@","@","@","@","@","@","@","@","@","@","@","@","@","@","@","@","@","@","@","@","@","@","@","@","@","@",{"$f":"'Month 1'!BL73","v":"@"},{"$f":"'Month 1'!BK73","v":"@"},{"$f":"'Month 1'!BJ73","v":"@"},{"$f":"'Month 1'!BI73","v":"@"},{"$error":"#N/A"},{"$error":"#N/A"},{"$error":"#N/A"},{"$error":"#N/A"},{"$f":"IF(ISNUMBER(SUM(COUNTIF(INDIRECT(CR73):INDIRECT(CS73),2),COUNTIF(INDIRECT(CR73):INDIRECT(CS73),1),COUNTIF(INDIRECT(CR73):INDIRECT(CS73),0))),SUM(COUNTIF(INDIRECT(CR73):INDIRECT(CS73),2),COUNTIF(INDIRECT(CR73):INDIRECT(CS73),1),COUNTIF(INDIRECT(CR73):INDIRECT(CS73),0)),\"\")","v":""},{"$f":"IF(ISNUMBER(SUM(COUNTIF(INDIRECT(CR73):INDIRECT(CT73),2),COUNTIF(INDIRECT(CR73):INDIRECT(CT73),1),COUNTIF(INDIRECT(CR73):INDIRECT(CT73),0))),SUM(COUNTIF(INDIRECT(CR73):INDIRECT(CT73),2),COUNTIF(INDIRECT(CR73):INDIRECT(CT73),1),COUNTIF(INDIRECT(CR73):INDIRECT(CT73),0)),\"\")","v":""},{"$f":"IF(ISNUMBER(SUM(COUNTIF(INDIRECT(CR73):INDIRECT(CU73),1),COUNTIF(INDIRECT(CR73):INDIRECT(CU73),0))),SUM(COUNTIF(INDIRECT(CR73):INDIRECT(CU73),1),COUNTIF(INDIRECT(CR73):INDIRECT(CU73),0)),\"\")","v":""},{"$f":"SUM(INDIRECT(CR73):INDIRECT(CS73))","v":{"$error":"#N/A"}},{"$f":"SUM(INDIRECT(CR73):INDIRECT(CT73))","v":{"$error":"#N/A"}},{"$f":"SUM(INDIRECT(CR73):INDIRECT(CU73))","v":{"$error":"#N/A"}}]
[null,null,1,{"$f":"IF(Modifications!$C$49=2,\"N\",\"\")","v":""},"",{"$f":"IF(ISBLANK('Month 1'!$F$74),\"\",'Month 1'!$F$74)","v":""},null,null,null,null,null,null,null,null,null,null,null,null,null,null,null,null,null,null,null,null,null,null,null,null,null,null,null,null,null,null,null,null,null,null,null,null,null,null,null,null,null,null,null,null,null,null,null,null,null,null,null,null,null,0,"@","@","@","@","@","@","@","@","@","@","@","@","@","@","@","@","@","@","@","@","@","@","@","@","@","@","@","@","@","@","@",{"$f":"'Month 1'!BL74","v":"@"},{"$f":"'Month 1'!BK74","v":"@"},{"$f":"'Month 1'!BJ74","v":"@"},{"$f":"'Month 1'!BI74","v":"@"},{"$error":"#N/A"},{"$error":"#N/A"},{"$error":"#N/A"},{"$error":"#N/A"},{"$f":"IF(ISNUMBER(SUM(COUNTIF(INDIRECT(CR74):INDIRECT(CS74),2),COUNTIF(INDIRECT(CR74):INDIRECT(CS74),1),COUNTIF(INDIRECT(CR74):INDIRECT(CS74),0))),SUM(COUNTIF(INDIRECT(CR74):INDIRECT(CS74),2),COUNTIF(INDIRECT(CR74):INDIRECT(CS74),1),COUNTIF(INDIRECT(CR74):INDIRECT(CS74),0)),\"\")","v":""},{"$f":"IF(ISNUMBER(SUM(COUNTIF(INDIRECT(CR74):INDIRECT(CT74),2),COUNTIF(INDIRECT(CR74):INDIRECT(CT74),1),COUNTIF(INDIRECT(CR74):INDIRECT(CT74),0))),SUM(COUNTIF(INDIRECT(CR74):INDIRECT(CT74),2),COUNTIF(INDIRECT(CR74):INDIRECT(CT74),1),COUNTIF(INDIRECT(CR74):INDIRECT(CT74),0)),\"\")","v":""},{"$f":"IF(ISNUMBER(SUM(COUNTIF(INDIRECT(CR74):INDIRECT(CU74),1),COUNTIF(INDIRECT(CR74):INDIRECT(CU74),0))),SUM(COUNTIF(INDIRECT(CR74):INDIRECT(CU74),1),COUNTIF(INDIRECT(CR74):INDIRECT(CU74),0)),\"\")","v":""},{"$f":"SUM(INDIRECT(CR74):INDIRECT(CS74))","v":{"$error":"#N/A"}},{"$f":"SUM(INDIRECT(CR74):INDIRECT(CT74))","v":{"$error":"#N/A"}},{"$f":"SUM(INDIRECT(CR74):INDIRECT(CU74))","v":{"$error":"#N/A"}}]
[null,null,1,{"$f":"IF(Modifications!$C$50=2,\"N\",\"\")","v":""},"",{"$f":"IF(ISBLANK('Month 1'!$F$75),\"\",'Month 1'!$F$75)","v":""},null,null,null,null,null,null,null,null,null,null,null,null,null,null,null,null,null,null,null,null,null,null,null,null,null,null,null,null,null,null,null,null,null,null,null,null,null,null,null,null,null,null,null,null,null,null,null,null,null,null,null,null,null,0,"@","@","@","@","@","@","@","@","@","@","@","@","@","@","@","@","@","@","@","@","@","@","@","@","@","@","@","@","@","@","@",{"$f":"'Month 1'!BL75","v":"@"},{"$f":"'Month 1'!BK75","v":"@"},{"$f":"'Month 1'!BJ75","v":"@"},{"$f":"'Month 1'!BI75","v":"@"},{"$error":"#N/A"},{"$error":"#N/A"},{"$error":"#N/A"},{"$error":"#N/A"},{"$f":"IF(ISNUMBER(SUM(COUNTIF(INDIRECT(CR75):INDIRECT(CS75),2),COUNTIF(INDIRECT(CR75):INDIRECT(CS75),1),COUNTIF(INDIRECT(CR75):INDIRECT(CS75),0))),SUM(COUNTIF(INDIRECT(CR75):INDIRECT(CS75),2),COUNTIF(INDIRECT(CR75):INDIRECT(CS75),1),COUNTIF(INDIRECT(CR75):INDIRECT(CS75),0)),\"\")","v":""},{"$f":"IF(ISNUMBER(SUM(COUNTIF(INDIRECT(CR75):INDIRECT(CT75),2),COUNTIF(INDIRECT(CR75):INDIRECT(CT75),1),COUNTIF(INDIRECT(CR75):INDIRECT(CT75),0))),SUM(COUNTIF(INDIRECT(CR75):INDIRECT(CT75),2),COUNTIF(INDIRECT(CR75):INDIRECT(CT75),1),COUNTIF(INDIRECT(CR75):INDIRECT(CT75),0)),\"\")","v":""},{"$f":"IF(ISNUMBER(SUM(COUNTIF(INDIRECT(CR75):INDIRECT(CU75),1),COUNTIF(INDIRECT(CR75):INDIRECT(CU75),0))),SUM(COUNTIF(INDIRECT(CR75):INDIRECT(CU75),1),COUNTIF(INDIRECT(CR75):INDIRECT(CU75),0)),\"\")","v":""},{"$f":"SUM(INDIRECT(CR75):INDIRECT(CS75))","v":{"$error":"#N/A"}},{"$f":"SUM(INDIRECT(CR75):INDIRECT(CT75))","v":{"$error":"#N/A"}},{"$f":"SUM(INDIRECT(CR75):INDIRECT(CU75))","v":{"$error":"#N/A"}}]
[null,null,1,{"$f":"IF(Modifications!$C$51=2,\"N\",\"\")","v":""},"",{"$f":"IF(ISBLANK('Month 1'!$F$76),\"\",'Month 1'!$F$76)","v":""},null,null,null,null,null,null,null,null,null,null,null,null,null,null,null,null,null,null,null,null,null,null,null,null,null,null,null,null,null,null,null,null,null,null,null,null,null,null,null,null,null,null,null,null,null,null,null,null,null,null,null,null,null,0,"@","@","@","@","@","@","@","@","@","@","@","@","@","@","@","@","@","@","@","@","@","@","@","@","@","@","@","@","@","@","@",{"$f":"'Month 1'!BL76","v":"@"},{"$f":"'Month 1'!BK76","v":"@"},{"$f":"'Month 1'!BJ76","v":"@"},{"$f":"'Month 1'!BI76","v":"@"},{"$error":"#N/A"},{"$error":"#N/A"},{"$error":"#N/A"},{"$error":"#N/A"},{"$f":"IF(ISNUMBER(SUM(COUNTIF(INDIRECT(CR76):INDIRECT(CS76),2),COUNTIF(INDIRECT(CR76):INDIRECT(CS76),1),COUNTIF(INDIRECT(CR76):INDIRECT(CS76),0))),SUM(COUNTIF(INDIRECT(CR76):INDIRECT(CS76),2),COUNTIF(INDIRECT(CR76):INDIRECT(CS76),1),COUNTIF(INDIRECT(CR76):INDIRECT(CS76),0)),\"\")","v":""},{"$f":"IF(ISNUMBER(SUM(COUNTIF(INDIRECT(CR76):INDIRECT(CT76),2),COUNTIF(INDIRECT(CR76):INDIRECT(CT76),1),COUNTIF(INDIRECT(CR76):INDIRECT(CT76),0))),SUM(COUNTIF(INDIRECT(CR76):INDIRECT(CT76),2),COUNTIF(INDIRECT(CR76):INDIRECT(CT76),1),COUNTIF(INDIRECT(CR76):INDIRECT(CT76),0)),\"\")","v":""},{"$f":"IF(ISNUMBER(SUM(COUNTIF(INDIRECT(CR76):INDIRECT(CU76),1),COUNTIF(INDIRECT(CR76):INDIRECT(CU76),0))),SUM(COUNTIF(INDIRECT(CR76):INDIRECT(CU76),1),COUNTIF(INDIRECT(CR76):INDIRECT(CU76),0)),\"\")","v":""},{"$f":"SUM(INDIRECT(CR76):INDIRECT(CS76))","v":{"$error":"#N/A"}},{"$f":"SUM(INDIRECT(CR76):INDIRECT(CT76))","v":{"$error":"#N/A"}},{"$f":"SUM(INDIRECT(CR76):INDIRECT(CU76))","v":{"$error":"#N/A"}}]
[null,null,null,null,null,null,null,null,null,null,null,null,null,null,null,null,null,null,null,null,null,null,null,null,null,null,null,null,null,null,null,null,null,null,null,null,null,null,null,null,null,null,null,null,null,null,null,null,null,null,null,null,null,null,null,null,null,null,null,0,"@","@","@","@","@","@","@","@","@","@","@","@","@","@","@","@","@","@","@","@","@","@","@","@","@","@","@","@","@","@","@",{"$f":"'Month 1'!BL77","v":"@"},{"$f":"'Month 1'!BK77","v":"@"},{"$f":"'Month 1'!BJ77","v":"@"},{"$f":"'Month 1'!BI77","v":"@"},{"$error":"#N/A"},{"$error":"#N/A"},{"$error":"#N/A"},{"$error":"#N/A"},{"$f":"IF(ISNUMBER(SUM(COUNTIF(INDIRECT(CR77):INDIRECT(CS77),2),COUNTIF(INDIRECT(CR77):INDIRECT(CS77),1),COUNTIF(INDIRECT(CR77):INDIRECT(CS77),0))),SUM(COUNTIF(INDIRECT(CR77):INDIRECT(CS77),2),COUNTIF(INDIRECT(CR77):INDIRECT(CS77),1),COUNTIF(INDIRECT(CR77):INDIRECT(CS77),0)),\"\")","v":""},{"$f":"IF(ISNUMBER(SUM(COUNTIF(INDIRECT(CR77):INDIRECT(CT77),2),COUNTIF(INDIRECT(CR77):INDIRECT(CT77),1),COUNTIF(INDIRECT(CR77):INDIRECT(CT77),0))),SUM(COUNTIF(INDIRECT(CR77):INDIRECT(CT77),2),COUNTIF(INDIRECT(CR77):INDIRECT(CT77),1),COUNTIF(INDIRECT(CR77):INDIRECT(CT77),0)),\"\")","v":""},{"$f":"IF(ISNUMBER(SUM(COUNTIF(INDIRECT(CR77):INDIRECT(CU77),1),COUNTIF(INDIRECT(CR77):INDIRECT(CU77),0))),SUM(COUNTIF(INDIRECT(CR77):INDIRECT(CU77),1),COUNTIF(INDIRECT(CR77):INDIRECT(CU77),0)),\"\")","v":""},{"$f":"SUM(INDIRECT(CR77):INDIRECT(CS77))","v":{"$error":"#N/A"}},{"$f":"SUM(INDIRECT(CR77):INDIRECT(CT77))","v":{"$error":"#N/A"}},{"$f":"SUM(INDIRECT(CR77):INDIRECT(CU77))","v":{"$error":"#N/A"}}]
[null,null,null,null,null,null,null,null,null,null,null,null,null,null,null,null,null,null,null,null,null,null,null,null,null,null,null,null,null,null,null,null,null,null,null,null,null,null,null,null,null,null,null,null,null,null,null,null,null,null,null,null,null,null,null,null,null,null,null,0,"@","@","@","@","@","@","@","@","@","@","@","@","@","@","@","@","@","@","@","@","@","@","@","@","@","@","@","@","@","@","@",{"$f":"'Month 1'!BL78","v":"@"},{"$f":"'Month 1'!BK78","v":"@"},{"$f":"'Month 1'!BJ78","v":"@"},{"$f":"'Month 1'!BI78","v":"@"},{"$error":"#N/A"},{"$error":"#N/A"},{"$error":"#N/A"},{"$error":"#N/A"},{"$f":"IF(ISNUMBER(SUM(COUNTIF(INDIRECT(CR78):INDIRECT(CS78),2),COUNTIF(INDIRECT(CR78):INDIRECT(CS78),1),COUNTIF(INDIRECT(CR78):INDIRECT(CS78),0))),SUM(COUNTIF(INDIRECT(CR78):INDIRECT(CS78),2),COUNTIF(INDIRECT(CR78):INDIRECT(CS78),1),COUNTIF(INDIRECT(CR78):INDIRECT(CS78),0)),\"\")","v":""},{"$f":"IF(ISNUMBER(SUM(COUNTIF(INDIRECT(CR78):INDIRECT(CT78),2),COUNTIF(INDIRECT(CR78):INDIRECT(CT78),1),COUNTIF(INDIRECT(CR78):INDIRECT(CT78),0))),SUM(COUNTIF(INDIRECT(CR78):INDIRECT(CT78),2),COUNTIF(INDIRECT(CR78):INDIRECT(CT78),1),COUNTIF(INDIRECT(CR78):INDIRECT(CT78),0)),\"\")","v":""},{"$f":"IF(ISNUMBER(SUM(COUNTIF(INDIRECT(CR78):INDIRECT(CU78),1),COUNTIF(INDIRECT(CR78):INDIRECT(CU78),0))),SUM(COUNTIF(INDIRECT(CR78):INDIRECT(CU78),1),COUNTIF(INDIRECT(CR78):INDIRECT(CU78),0)),\"\")","v":""},{"$f":"SUM(INDIRECT(CR78):INDIRECT(CS78))","v":{"$error":"#N/A"}},{"$f":"SUM(INDIRECT(CR78):INDIRECT(CT78))","v":{"$error":"#N/A"}},{"$f":"SUM(INDIRECT(CR78):INDIRECT(CU78))","v":{"$error":"#N/A"}}]
[null,null,null,null,null,null,{"$f":"IF(ISBLANK(G26),\"\",G26)","v":""},"","","","","","","","","","","","","","","","","","","","","","","","","","","","","","",null,null,null,null,null,null,null,null,null,null,null,null,null,null,null,null,null,null,null,null,null,null,0,"@","@","@","@","@","@","@","@","@","@","@","@","@","@","@","@","@","@","@","@","@","@","@","@","@","@","@","@","@","@","@",{"$f":"'Month 1'!BL79","v":"@"},{"$f":"'Month 1'!BK79","v":"@"},{"$f":"'Month 1'!BJ79","v":"@"},{"$f":"'Month 1'!BI79","v":"@"},{"$error":"#N/A"},{"$error":"#N/A"},{"$error":"#N/A"},{"$error":"#N/A"},{"$f":"IF(ISNUMBER(SUM(COUNTIF(INDIRECT(CR79):INDIRECT(CS79),2),COUNTIF(INDIRECT(CR79):INDIRECT(CS79),1),COUNTIF(INDIRECT(CR79):INDIRECT(CS79),0))),SUM(COUNTIF(INDIRECT(CR79):INDIRECT(CS79),2),COUNTIF(INDIRECT(CR79):INDIRECT(CS79),1),COUNTIF(INDIRECT(CR79):INDIRECT(CS79),0)),\"\")","v":""},{"$f":"IF(ISNUMBER(SUM(COUNTIF(INDIRECT(CR79):INDIRECT(CT79),2),COUNTIF(INDIRECT(CR79):INDIRECT(CT79),1),COUNTIF(INDIRECT(CR79):INDIRECT(CT79),0))),SUM(COUNTIF(INDIRECT(CR79):INDIRECT(CT79),2),COUNTIF(INDIRECT(CR79):INDIRECT(CT79),1),COUNTIF(INDIRECT(CR79):INDIRECT(CT79),0)),\"\")","v":""},{"$f":"IF(ISNUMBER(SUM(COUNTIF(INDIRECT(CR79):INDIRECT(CU79),1),COUNTIF(INDIRECT(CR79):INDIRECT(CU79),0))),SUM(COUNTIF(INDIRECT(CR79):INDIRECT(CU79),1),COUNTIF(INDIRECT(CR79):INDIRECT(CU79),0)),\"\")","v":""},{"$f":"SUM(INDIRECT(CR79):INDIRECT(CS79))","v":{"$error":"#N/A"}},{"$f":"SUM(INDIRECT(CR79):INDIRECT(CT79))","v":{"$error":"#N/A"}},{"$f":"SUM(INDIRECT(CR79):INDIRECT(CU79))","v":{"$error":"#N/A"}}]
[null,null,null,null,null,null,{"$f":"IF(G24=\"\",NA(),G24)","v":{"$error":"#N/A"}},{"$error":"#N/A"},{"$error":"#N/A"},{"$error":"#N/A"},{"$error":"#N/A"},{"$error":"#N/A"},{"$error":"#N/A"},{"$error":"#N/A"},{"$error":"#N/A"},{"$error":"#N/A"},{"$error":"#N/A"},{"$error":"#N/A"},{"$error":"#N/A"},{"$error":"#N/A"},{"$error":"#N/A"},{"$error":"#N/A"},{"$error":"#N/A"},{"$error":"#N/A"},{"$error":"#N/A"},{"$error":"#N/A"},{"$error":"#N/A"},{"$error":"#N/A"},{"$error":"#N/A"},{"$error":"#N/A"},{"$error":"#N/A"},{"$error":"#N/A"},{"$error":"#N/A"},{"$error":"#N/A"},{"$error":"#N/A"},{"$error":"#N/A"},{"$error":"#N/A"},null,null,null,null,null,null,null,null,null,null,null,null,null,null,null,null,null,null,null,null,null,null,{"$f":"SUM(COUNTIF(BI80:CM80,1),COUNTIF(BI80:CM80,0))","v":0},"@","@","@","@","@","@","@","@","@","@","@","@","@","@","@","@","@","@","@","@","@","@","@","@","@","@","@","@","@","@","@",{"$f":"'Month 1'!BL80","v":"@"},{"$f":"'Month 1'!BK80","v":"@"},{"$f":"'Month 1'!BJ80","v":"@"},{"$f":"'Month 1'!BI80","v":"@"},{"$error":"#N/A"},{"$error":"#N/A"},{"$error":"#N/A"},{"$error":"#N/A"},{"$f":"IF(ISNUMBER(SUM(COUNTIF(INDIRECT(CR80):INDIRECT(CS80),2),COUNTIF(INDIRECT(CR80):INDIRECT(CS80),1),COUNTIF(INDIRECT(CR80):INDIRECT(CS80),0))),SUM(COUNTIF(INDIRECT(CR80):INDIRECT(CS80),2),COUNTIF(INDIRECT(CR80):INDIRECT(CS80),1),COUNTIF(INDIRECT(CR80):INDIRECT(CS80),0)),\"\")","v":""},{"$f":"IF(ISNUMBER(SUM(COUNTIF(INDIRECT(CR80):INDIRECT(CT80),2),COUNTIF(INDIRECT(CR80):INDIRECT(CT80),1),COUNTIF(INDIRECT(CR80):INDIRECT(CT80),0))),SUM(COUNTIF(INDIRECT(CR80):INDIRECT(CT80),2),COUNTIF(INDIRECT(CR80):INDIRECT(CT80),1),COUNTIF(INDIRECT(CR80):INDIRECT(CT80),0)),\"\")","v":""},{"$f":"IF(ISNUMBER(SUM(COUNTIF(INDIRECT(CR80):INDIRECT(CU80),1),COUNTIF(INDIRECT(CR80):INDIRECT(CU80),0))),SUM(COUNTIF(INDIRECT(CR80):INDIRECT(CU80),1),COUNTIF(INDIRECT(CR80):INDIRECT(CU80),0)),\"\")","v":""},{"$f":"SUM(INDIRECT(CR80):INDIRECT(CS80))","v":{"$error":"#N/A"}},{"$f":"SUM(INDIRECT(CR80):INDIRECT(CT80))","v":{"$error":"#N/A"}},{"$f":"SUM(INDIRECT(CR80):INDIRECT(CU80))","v":{"$error":"#N/A"}}]
[null,null,null,null,null,null,null,null,null,null,null,null,null,null,null,null,null,null,null,null,null,null,null,null,null,null,null,null,null,null,null,null,null,null,null,null,null,null,null,null,null,null,null,null,null,null,null,null,null,null,null,null,null,null,null,null,null,null,null,0,"@","@","@","@","@","@","@","@","@","@","@","@","@","@","@","@","@","@","@","@","@","@","@","@","@","@","@","@","@","@","@",{"$f":"'Month 1'!BL81","v":"@"},{"$f":"'Month 1'!BK81","v":"@"},{"$f":"'Month 1'!BJ81","v":"@"},{"$f":"'Month 1'!BI81","v":"@"},{"$error":"#N/A"},{"$error":"#N/A"},{"$error":"#N/A"},{"$error":"#N/A"},{"$f":"IF(ISNUMBER(SUM(COUNTIF(INDIRECT(CR81):INDIRECT(CS81),2),COUNTIF(INDIRECT(CR81):INDIRECT(CS81),1),COUNTIF(INDIRECT(CR81):INDIRECT(CS81),0))),SUM(COUNTIF(INDIRECT(CR81):INDIRECT(CS81),2),COUNTIF(INDIRECT(CR81):INDIRECT(CS81),1),COUNTIF(INDIRECT(CR81):INDIRECT(CS81),0)),\"\")","v":""},{"$f":"IF(ISNUMBER(SUM(COUNTIF(INDIRECT(CR81):INDIRECT(CT81),2),COUNTIF(INDIRECT(CR81):INDIRECT(CT81),1),COUNTIF(INDIRECT(CR81):INDIRECT(CT81),0))),SUM(COUNTIF(INDIRECT(CR81):INDIRECT(CT81),2),COUNTIF(INDIRECT(CR81):INDIRECT(CT81),1),COUNTIF(INDIRECT(CR81):INDIRECT(CT81),0)),\"\")","v":""},{"$f":"IF(ISNUMBER(SUM(COUNTIF(INDIRECT(CR81):INDIRECT(CU81),1),COUNTIF(INDIRECT(CR81):INDIRECT(CU81),0))),SUM(COUNTIF(INDIRECT(CR81):INDIRECT(CU81),1),COUNTIF(INDIRECT(CR81):INDIRECT(CU81),0)),\"\")","v":""},{"$f":"SUM(INDIRECT(CR81):INDIRECT(CS81))","v":{"$error":"#N/A"}},{"$f":"SUM(INDIRECT(CR81):INDIRECT(CT81))","v":{"$error":"#N/A"}},{"$f":"SUM(INDIRECT(CR81):INDIRECT(CU81))","v":{"$error":"#N/A"}}]
[null,null,null,null,null,null,null,null,null,null,null,null,null,null,null,null,null,null,null,null,null,null,null,null,null,null,null,null,null,null,null,null,null,null,null,null,null,null,null,null,null,null,null,null,null,null,null,null,null,null,null,null,null,null,null,null,null,null,null,0,"@","@","@","@","@","@","@","@","@","@","@","@","@","@","@","@","@","@","@","@","@","@","@","@","@","@","@","@","@","@","@",{"$f":"'Month 1'!BL82","v":"@"},{"$f":"'Month 1'!BK82","v":"@"},{"$f":"'Month 1'!BJ82","v":"@"},{"$f":"'Month 1'!BI82","v":"@"},{"$error":"#N/A"},{"$error":"#N/A"},{"$error":"#N/A"},{"$error":"#N/A"},{"$f":"IF(ISNUMBER(SUM(COUNTIF(INDIRECT(CR82):INDIRECT(CS82),2),COUNTIF(INDIRECT(CR82):INDIRECT(CS82),1),COUNTIF(INDIRECT(CR82):INDIRECT(CS82),0))),SUM(COUNTIF(INDIRECT(CR82):INDIRECT(CS82),2),COUNTIF(INDIRECT(CR82):INDIRECT(CS82),1),COUNTIF(INDIRECT(CR82):INDIRECT(CS82),0)),\"\")","v":""},{"$f":"IF(ISNUMBER(SUM(COUNTIF(INDIRECT(CR82):INDIRECT(CT82),2),COUNTIF(INDIRECT(CR82):INDIRECT(CT82),1),COUNTIF(INDIRECT(CR82):INDIRECT(CT82),0))),SUM(COUNTIF(INDIRECT(CR82):INDIRECT(CT82),2),COUNTIF(INDIRECT(CR82):INDIRECT(CT82),1),COUNTIF(INDIRECT(CR82):INDIRECT(CT82),0)),\"\")","v":""},{"$f":"IF(ISNUMBER(SUM(COUNTIF(INDIRECT(CR82):INDIRECT(CU82),1),COUNTIF(INDIRECT(CR82):INDIRECT(CU82),0))),SUM(COUNTIF(INDIRECT(CR82):INDIRECT(CU82),1),COUNTIF(INDIRECT(CR82):INDIRECT(CU82),0)),\"\")","v":""},{"$f":"SUM(INDIRECT(CR82):INDIRECT(CS82))","v":{"$error":"#N/A"}},{"$f":"SUM(INDIRECT(CR82):INDIRECT(CT82))","v":{"$error":"#N/A"}},{"$f":"SUM(INDIRECT(CR82):INDIRECT(CU82))","v":{"$error":"#N/A"}}]
[null,null,null,null,null,null,null,null,null,null,null,null,null,null,null,null,null,null,null,null,null,null,null,null,null,null,null,null,null,null,null,null,null,null,null,null,null,null,null,null,null,null,null,null,null,null,null,null,null,null,null,null,null,null,null,null,null,null,null,0,"@","@","@","@","@","@","@","@","@","@","@","@","@","@","@","@","@","@","@","@","@","@","@","@","@","@","@","@","@","@","@",{"$f":"'Month 1'!BL83","v":"@"},{"$f":"'Month 1'!BK83","v":"@"},{"$f":"'Month 1'!BJ83","v":"@"},{"$f":"'Month 1'!BI83","v":"@"},{"$error":"#N/A"},{"$error":"#N/A"},{"$error":"#N/A"},{"$error":"#N/A"},{"$f":"IF(ISNUMBER(SUM(COUNTIF(INDIRECT(CR83):INDIRECT(CS83),2),COUNTIF(INDIRECT(CR83):INDIRECT(CS83),1),COUNTIF(INDIRECT(CR83):INDIRECT(CS83),0))),SUM(COUNTIF(INDIRECT(CR83):INDIRECT(CS83),2),COUNTIF(INDIRECT(CR83):INDIRECT(CS83),1),COUNTIF(INDIRECT(CR83):INDIRECT(CS83),0)),\"\")","v":""},{"$f":"IF(ISNUMBER(SUM(COUNTIF(INDIRECT(CR83):INDIRECT(CT83),2),COUNTIF(INDIRECT(CR83):INDIRECT(CT83),1),COUNTIF(INDIRECT(CR83):INDIRECT(CT83),0))),SUM(COUNTIF(INDIRECT(CR83):INDIRECT(CT83),2),COUNTIF(INDIRECT(CR83):INDIRECT(CT83),1),COUNTIF(INDIRECT(CR83):INDIRECT(CT83),0)),\"\")","v":""},{"$f":"IF(ISNUMBER(SUM(COUNTIF(INDIRECT(CR83):INDIRECT(CU83),1),COUNTIF(INDIRECT(CR83):INDIRECT(CU83),0))),SUM(COUNTIF(INDIRECT(CR83):INDIRECT(CU83),1),COUNTIF(INDIRECT(CR83):INDIRECT(CU83),0)),\"\")","v":""},{"$f":"SUM(INDIRECT(CR83):INDIRECT(CS83))","v":{"$error":"#N/A"}},{"$f":"SUM(INDIRECT(CR83):INDIRECT(CT83))","v":{"$error":"#N/A"}},{"$f":"SUM(INDIRECT(CR83):INDIRECT(CU83))","v":{"$error":"#N/A"}}]
[null,null,null,null,null,null,null,null,null,null,null,null,null,null,null,null,null,null,null,null,null,null,null,null,null,null,null,null,null,null,null,null,null,null,null,null,null,null,null,null,null,null,null,null,null,null,null,null,null,null,null,null,null,null,null,null,null,null,null,0,"@","@","@","@","@","@","@","@","@","@","@","@","@","@","@","@","@","@","@","@","@","@","@","@","@","@","@","@","@","@","@",{"$f":"'Month 1'!BL84","v":"@"},{"$f":"'Month 1'!BK84","v":"@"},{"$f":"'Month 1'!BJ84","v":"@"},{"$f":"'Month 1'!BI84","v":"@"},{"$error":"#N/A"},{"$error":"#N/A"},{"$error":"#N/A"},{"$error":"#N/A"},{"$f":"IF(ISNUMBER(SUM(COUNTIF(INDIRECT(CR84):INDIRECT(CS84),2),COUNTIF(INDIRECT(CR84):INDIRECT(CS84),1),COUNTIF(INDIRECT(CR84):INDIRECT(CS84),0))),SUM(COUNTIF(INDIRECT(CR84):INDIRECT(CS84),2),COUNTIF(INDIRECT(CR84):INDIRECT(CS84),1),COUNTIF(INDIRECT(CR84):INDIRECT(CS84),0)),\"\")","v":""},{"$f":"IF(ISNUMBER(SUM(COUNTIF(INDIRECT(CR84):INDIRECT(CT84),2),COUNTIF(INDIRECT(CR84):INDIRECT(CT84),1),COUNTIF(INDIRECT(CR84):INDIRECT(CT84),0))),SUM(COUNTIF(INDIRECT(CR84):INDIRECT(CT84),2),COUNTIF(INDIRECT(CR84):INDIRECT(CT84),1),COUNTIF(INDIRECT(CR84):INDIRECT(CT84),0)),\"\")","v":""},{"$f":"IF(ISNUMBER(SUM(COUNTIF(INDIRECT(CR84):INDIRECT(CU84),1),COUNTIF(INDIRECT(CR84):INDIRECT(CU84),0))),SUM(COUNTIF(INDIRECT(CR84):INDIRECT(CU84),1),COUNTIF(INDIRECT(CR84):INDIRECT(CU84),0)),\"\")","v":""},{"$f":"SUM(INDIRECT(CR84):INDIRECT(CS84))","v":{"$error":"#N/A"}},{"$f":"SUM(INDIRECT(CR84):INDIRECT(CT84))","v":{"$error":"#N/A"}},{"$f":"SUM(INDIRECT(CR84):INDIRECT(CU84))","v":{"$error":"#N/A"}}]
[null,null,null,null,null,null,null,null,null,null,null,null,null,null,null,null,null,null,null,null,null,null,null,null,null,null,null,null,null,null,null,null,null,null,null,null,null,null,null,null,null,null,null,null,null,null,null,null,null,null,null,null,null,null,null,null,null,null,null,0,"@","@","@","@","@","@","@","@","@","@","@","@","@","@","@","@","@","@","@","@","@","@","@","@","@","@","@","@","@","@","@",{"$f":"'Month 1'!BL85","v":"@"},{"$f":"'Month 1'!BK85","v":"@"},{"$f":"'Month 1'!BJ85","v":"@"},{"$f":"'Month 1'!BI85","v":"@"},{"$error":"#N/A"},{"$error":"#N/A"},{"$error":"#N/A"},{"$error":"#N/A"},{"$f":"IF(ISNUMBER(SUM(COUNTIF(INDIRECT(CR85):INDIRECT(CS85),2),COUNTIF(INDIRECT(CR85):INDIRECT(CS85),1),COUNTIF(INDIRECT(CR85):INDIRECT(CS85),0))),SUM(COUNTIF(INDIRECT(CR85):INDIRECT(CS85),2),COUNTIF(INDIRECT(CR85):INDIRECT(CS85),1),COUNTIF(INDIRECT(CR85):INDIRECT(CS85),0)),\"\")","v":""},{"$f":"IF(ISNUMBER(SUM(COUNTIF(INDIRECT(CR85):INDIRECT(CT85),2),COUNTIF(INDIRECT(CR85):INDIRECT(CT85),1),COUNTIF(INDIRECT(CR85):INDIRECT(CT85),0))),SUM(COUNTIF(INDIRECT(CR85):INDIRECT(CT85),2),COUNTIF(INDIRECT(CR85):INDIRECT(CT85),1),COUNTIF(INDIRECT(CR85):INDIRECT(CT85),0)),\"\")","v":""},{"$f":"IF(ISNUMBER(SUM(COUNTIF(INDIRECT(CR85):INDIRECT(CU85),1),COUNTIF(INDIRECT(CR85):INDIRECT(CU85),0))),SUM(COUNTIF(INDIRECT(CR85):INDIRECT(CU85),1),COUNTIF(INDIRECT(CR85):INDIRECT(CU85),0)),\"\")","v":""},{"$f":"SUM(INDIRECT(CR85):INDIRECT(CS85))","v":{"$error":"#N/A"}},{"$f":"SUM(INDIRECT(CR85):INDIRECT(CT85))","v":{"$error":"#N/A"}},{"$f":"SUM(INDIRECT(CR85):INDIRECT(CU85))","v":{"$error":"#N/A"}}]
[null,null,null,null,null,null,null,null,null,null,null,null,null,null,null,null,null,null,null,null,null,null,null,null,null,null,null,null,null,null,null,null,null,null,null,null,null,null,null,null,null,null,null,null,null,null,null,null,null,null,null,null,null,null,null,null,null,null,null,0,"@","@","@","@","@","@","@","@","@","@","@","@","@","@","@","@","@","@","@","@","@","@","@","@","@","@","@","@","@","@","@",{"$f":"'Month 1'!BL86","v":"@"},{"$f":"'Month 1'!BK86","v":"@"},{"$f":"'Month 1'!BJ86","v":"@"},{"$f":"'Month 1'!BI86","v":"@"},{"$error":"#N/A"},{"$error":"#N/A"},{"$error":"#N/A"},{"$error":"#N/A"},{"$f":"IF(ISNUMBER(SUM(COUNTIF(INDIRECT(CR86):INDIRECT(CS86),2),COUNTIF(INDIRECT(CR86):INDIRECT(CS86),1),COUNTIF(INDIRECT(CR86):INDIRECT(CS86),0))),SUM(COUNTIF(INDIRECT(CR86):INDIRECT(CS86),2),COUNTIF(INDIRECT(CR86):INDIRECT(CS86),1),COUNTIF(INDIRECT(CR86):INDIRECT(CS86),0)),\"\")","v":""},{"$f":"IF(ISNUMBER(SUM(COUNTIF(INDIRECT(CR86):INDIRECT(CT86),2),COUNTIF(INDIRECT(CR86):INDIRECT(CT86),1),COUNTIF(INDIRECT(CR86):INDIRECT(CT86),0))),SUM(COUNTIF(INDIRECT(CR86):INDIRECT(CT86),2),COUNTIF(INDIRECT(CR86):INDIRECT(CT86),1),COUNTIF(INDIRECT(CR86):INDIRECT(CT86),0)),\"\")","v":""},{"$f":"IF(ISNUMBER(SUM(COUNTIF(INDIRECT(CR86):INDIRECT(CU86),1),COUNTIF(INDIRECT(CR86):INDIRECT(CU86),0))),SUM(COUNTIF(INDIRECT(CR86):INDIRECT(CU86),1),COUNTIF(INDIRECT(CR86):INDIRECT(CU86),0)),\"\")","v":""},{"$f":"SUM(INDIRECT(CR86):INDIRECT(CS86))","v":{"$error":"#N/A"}},{"$f":"SUM(INDIRECT(CR86):INDIRECT(CT86))","v":{"$error":"#N/A"}},{"$f":"SUM(INDIRECT(CR86):INDIRECT(CU86))","v":{"$error":"#N/A"}}]
[null,null,null,null,null,null,null,null,null,null,null,null,null,null,null,null,null,null,null,null,null,null,null,null,null,null,null,null,null,null,null,null,null,null,null,null,null,null,null,null,null,null,null,null,null,null,null,null,null,null,null,null,null,null,null,null,null,null,null,0,{"$f":"IF(OR(AK59=\"+\",AK59=\"Y\",AK59=2),1,IF(OR(AK59=\"-\",AK59=\"N\",AK59=1),0,IF(OR(BJ87=1,BJ87=0),\"#\",\"@\")))","v":"@"},{"$f":"IF(OR(AJ59=\"+\",AJ59=\"Y\",AJ59=2),1,IF(OR(AJ59=\"-\",AJ59=\"N\",AJ59=1),0,IF(OR(BK87=1,BK87=0),\"#\",\"@\")))","v":"@"},{"$f":"IF(OR(AI59=\"+\",AI59=\"Y\",AI59=2),1,IF(OR(AI59=\"-\",AI59=\"N\",AI59=1),0,IF(OR(BL87=1,BL87=0),\"#\",\"@\")))","v":"@"},{"$f":"IF(OR(AH59=\"+\",AH59=\"Y\",AH59=2),1,IF(OR(AH59=\"-\",AH59=\"N\",AH59=1),0,IF(OR(BM87=1,BM87=0),\"#\",\"@\")))","v":"@"},{"$f":"IF(OR(AG59=\"+\",AG59=\"Y\",AG59=2),1,IF(OR(AG59=\"-\",AG59=\"N\",AG59=1),0,IF(OR(BN87=1,BN87=0),\"#\",\"@\")))","v":"@"},{"$f":"IF(OR(AF59=\"+\",AF59=\"Y\",AF59=2),1,IF(OR(AF59=\"-\",AF59=\"N\",AF59=1),0,IF(OR(BO87=1,BO87=0),\"#\",\"@\")))","v":"@"},{"$f":"IF(OR(AE59=\"+\",AE59=\"Y\",AE59=2),1,IF(OR(AE59=\"-\",AE59=\"N\",AE59=1),0,IF(OR(BP87=1,BP87=0),\"#\",\"@\")))","v":"@"},{"$f":"IF(OR(AD59=\"+\",AD59=\"Y\",AD59=2),1,IF(OR(AD59=\"-\",AD59=\"N\",AD59=1),0,IF(OR(BQ87=1,BQ87=0),\"#\",\"@\")))","v":"@"},{"$f":"IF(OR(AC59=\"+\",AC59=\"Y\",AC59=2),1,IF(OR(AC59=\"-\",AC59=\"N\",AC59=1),0,IF(OR(BR87=1,BR87=0),\"#\",\"@\")))","v":"@"},{"$f":"IF(OR(AB59=\"+\",AB59=\"Y\",AB59=2),1,IF(OR(AB59=\"-\",AB59=\"N\",AB59=1),0,IF(OR(BS87=1,BS87=0),\"#\",\"@\")))","v":"@"},{"$f":"IF(OR(AA59=\"+\",AA59=\"Y\",AA59=2),1,IF(OR(AA59=\"-\",AA59=\"N\",AA59=1),0,IF(OR(BT87=1,BT87=0),\"#\",\"@\")))","v":"@"},{"$f":"IF(OR(Z59=\"+\",Z59=\"Y\",Z59=2),1,IF(OR(Z59=\"-\",Z59=\"N\",Z59=1),0,IF(OR(BU87=1,BU87=0),\"#\",\"@\")))","v":"@"},{"$f":"IF(OR(Y59=\"+\",Y59=\"Y\",Y59=2),1,IF(OR(Y59=\"-\",Y59=\"N\",Y59=1),0,IF(OR(BV87=1,BV87=0),\"#\",\"@\")))","v":"@"},{"$f":"IF(OR(X59=\"+\",X59=\"Y\",X59=2),1,IF(OR(X59=\"-\",X59=\"N\",X59=1),0,IF(OR(BW87=1,BW87=0),\"#\",\"@\")))","v":"@"},{"$f":"IF(OR(W59=\"+\",W59=\"Y\",W59=2),1,IF(OR(W59=\"-\",W59=\"N\",W59=1),0,IF(OR(BX87=1,BX87=0),\"#\",\"@\")))","v":"@"},{"$f":"IF(OR(V59=\"+\",V59=\"Y\",V59=2),1,IF(OR(V59=\"-\",V59=\"N\",V59=1),0,IF(OR(BY87=1,BY87=0),\"#\",\"@\")))","v":"@"},{"$f":"IF(OR(U59=\"+\",U59=\"Y\",U59=2),1,IF(OR(U59=\"-\",U59=\"N\",U59=1),0,IF(OR(BZ87=1,BZ87=0),\"#\",\"@\")))","v":"@"},{"$f":"IF(OR(T59=\"+\",T59=\"Y\",T59=2),1,IF(OR(T59=\"-\",T59=\"N\",T59=1),0,IF(OR(CA87=1,CA87=0),\"#\",\"@\")))","v":"@"},{"$f":"IF(OR(S59=\"+\",S59=\"Y\",S59=2),1,IF(OR(S59=\"-\",S59=\"N\",S59=1),0,IF(OR(CB87=1,CB87=0),\"#\",\"@\")))","v":"@"},{"$f":"IF(OR(R59=\"+\",R59=\"Y\",R59=2),1,IF(OR(R59=\"-\",R59=\"N\",R59=1),0,IF(OR(CC87=1,CC87=0),\"#\",\"@\")))","v":"@"},{"$f":"IF(OR(Q59=\"+\",Q59=\"Y\",Q59=2),1,IF(OR(Q59=\"-\",Q59=\"N\",Q59=1),0,IF(OR(CD87=1,CD87=0),\"#\",\"@\")))","v":"@"},{"$f":"IF(OR(P59=\"+\",P59=\"Y\",P59=2),1,IF(OR(P59=\"-\",P59=\"N\",P59=1),0,IF(OR(CE87=1,CE87=0),\"#\",\"@\")))","v":"@"},{"$f":"IF(OR(O59=\"+\",O59=\"Y\",O59=2),1,IF(OR(O59=\"-\",O59=\"N\",O59=1),0,IF(OR(CF87=1,CF87=0),\"#\",\"@\")))","v":"@"},{"$f":"IF(OR(N59=\"+\",N59=\"Y\",N59=2),1,IF(OR(N59=\"-\",N59=\"N\",N59=1),0,IF(OR(CG87=1,CG87=0),\"#\",\"@\")))","v":"@"},{"$f":"IF(OR(M59=\"+\",M59=\"Y\",M59=2),1,IF(OR(M59=\"-\",M59=\"N\",M59=1),0,IF(OR(CH87=1,CH87=0),\"#\",\"@\")))","v":"@"},{"$f":"IF(OR(L59=\"+\",L59=\"Y\",L59=2),1,IF(OR(L59=\"-\",L59=\"N\",L59=1),0,IF(OR(CI87=1,CI87=0),\"#\",\"@\")))","v":"@"},{"$f":"IF(OR(K59=\"+\",K59=\"Y\",K59=2),1,IF(OR(K59=\"-\",K59=\"N\",K59=1),0,IF(OR(CJ87=1,CJ87=0),\"#\",\"@\")))","v":"@"},{"$f":"IF(OR(J59=\"+\",J59=\"Y\",J59=2),1,IF(OR(J59=\"-\",J59=\"N\",J59=1),0,IF(OR(CK87=1,CK87=0),\"#\",\"@\")))","v":"@"},{"$f":"IF(OR(I59=\"+\",I59=\"Y\",I59=2),1,IF(OR(I59=\"-\",I59=\"N\",I59=1),0,IF(OR(CL87=1,CL87=0),\"#\",\"@\")))","v":"@"},{"$f":"IF(OR(H59=\"+\",H59=\"Y\",H59=2),1,IF(OR(H59=\"-\",H59=\"N\",H59=1),0,IF(OR(CM87=1,CM87=0),\"#\",\"@\")))","v":"@"},{"$f":"IF(OR(G59=\"+\",G59=\"Y\",G59=2),1,IF(OR(G59=\"-\",G59=\"N\",G59=1),0,\"@\"))","v":"@"},{"$f":"'Month 1'!BL87","v":"@"},{"$f":"'Month 1'!BK87","v":"@"},{"$f":"'Month 1'!BJ87","v":"@"},{"$f":"'Month 1'!BI87","v":"@"},{"$f":"ADDRESS(ROW(BH87),(MATCH(\"#\",BI87:CM87,0)+61))","v":{"$error":"#N/A"}},{"$f":"ADDRESS(ROW(BH87),(MATCH(\"#\",BI87:CM87,0)+65))","v":{"$error":"#N/A"}},{"$f":"ADDRESS(ROW(BH87),(MATCH(\"#\",BI87:CM87,0)+64))","v":{"$error":"#N/A"}},{"$f":"ADDRESS(ROW(BH87),(MATCH(\"#\",BI87:CM87,0)+63))","v":{"$error":"#N/A"}},{"$f":"IF(ISNUMBER(SUM(COUNTIF(INDIRECT(CR87):INDIRECT(CS87),2),COUNTIF(INDIRECT(CR87):INDIRECT(CS87),1),COUNTIF(INDIRECT(CR87):INDIRECT(CS87),0))),SUM(COUNTIF(INDIRECT(CR87):INDIRECT(CS87),2),COUNTIF(INDIRECT(CR87):INDIRECT(CS87),1),COUNTIF(INDIRECT(CR87):INDIRECT(CS87),0)),\"\")","v":""},{"$f":"IF(ISNUMBER(SUM(COUNTIF(INDIRECT(CR87):INDIRECT(CT87),2),COUNTIF(INDIRECT(CR87):INDIRECT(CT87),1),COUNTIF(INDIRECT(CR87):INDIRECT(CT87),0))),SUM(COUNTIF(INDIRECT(CR87):INDIRECT(CT87),2),COUNTIF(INDIRECT(CR87):INDIRECT(CT87),1),COUNTIF(INDIRECT(CR87):INDIRECT(CT87),0)),\"\")","v":""},{"$f":"IF(ISNUMBER(SUM(COUNTIF(INDIRECT(CR87):INDIRECT(CU87),1),COUNTIF(INDIRECT(CR87):INDIRECT(CU87),0))),SUM(COUNTIF(INDIRECT(CR87):INDIRECT(CU87),1),COUNTIF(INDIRECT(CR87):INDIRECT(CU87),0)),\"\")","v":""},{"$f":"SUM(INDIRECT(CR87):INDIRECT(CS87))","v":{"$error":"#N/A"}},{"$f":"SUM(INDIRECT(CR87):INDIRECT(CT87))","v":{"$error":"#N/A"}},{"$f":"SUM(INDIRECT(CR87):INDIRECT(CU87))","v":{"$error":"#N/A"}}]
[null,null,null,null,null,null,null,null,null,null,null,null,null,null,null,null,null,null,null,null,null,null,null,null,null,null,null,null,null,null,null,null,null,null,null,null,null,null,null,null,null,null,null,null,null,null,null,null,null,null,null,null,null,null,null,null,null,null,null,0,"@","@","@","@","@","@","@","@","@","@","@","@","@","@","@","@","@","@","@","@","@","@","@","@","@","@","@","@","@","@","@",{"$f":"'Month 1'!BL88","v":"@"},{"$f":"'Month 1'!BK88","v":"@"},{"$f":"'Month 1'!BJ88","v":"@"},{"$f":"'Month 1'!BI88","v":"@"},{"$error":"#N/A"},{"$error":"#N/A"},{"$error":"#N/A"},{"$error":"#N/A"},{"$f":"IF(ISNUMBER(SUM(COUNTIF(INDIRECT(CR88):INDIRECT(CS88),2),COUNTIF(INDIRECT(CR88):INDIRECT(CS88),1),COUNTIF(INDIRECT(CR88):INDIRECT(CS88),0))),SUM(COUNTIF(INDIRECT(CR88):INDIRECT(CS88),2),COUNTIF(INDIRECT(CR88):INDIRECT(CS88),1),COUNTIF(INDIRECT(CR88):INDIRECT(CS88),0)),\"\")","v":""},{"$f":"IF(ISNUMBER(SUM(COUNTIF(INDIRECT(CR88):INDIRECT(CT88),2),COUNTIF(INDIRECT(CR88):INDIRECT(CT88),1),COUNTIF(INDIRECT(CR88):INDIRECT(CT88),0))),SUM(COUNTIF(INDIRECT(CR88):INDIRECT(CT88),2),COUNTIF(INDIRECT(CR88):INDIRECT(CT88),1),COUNTIF(INDIRECT(CR88):INDIRECT(CT88),0)),\"\")","v":""},{"$f":"IF(ISNUMBER(SUM(COUNTIF(INDIRECT(CR88):INDIRECT(CU88),1),COUNTIF(INDIRECT(CR88):INDIRECT(CU88),0))),SUM(COUNTIF(INDIRECT(CR88):INDIRECT(CU88),1),COUNTIF(INDIRECT(CR88):INDIRECT(CU88),0)),\"\")","v":""},{"$f":"SUM(INDIRECT(CR88):INDIRECT(CS88))","v":{"$error":"#N/A"}},{"$f":"SUM(INDIRECT(CR88):INDIRECT(CT88))","v":{"$error":"#N/A"}},{"$f":"SUM(INDIRECT(CR88):INDIRECT(CU88))","v":{"$error":"#N/A"}}]
[null,null,null,null,null,null,null,null,null,null,null,null,null,null,null,null,null,null,null,null,null,null,null,null,null,null,null,null,null,null,null,null,null,null,null,null,null,null,null,null,null,null,null,null,null,null,null,null,null,null,null,null,null,null,null,null,null,null,null,0,"@","@","@","@","@","@","@","@","@","@","@","@","@","@","@","@","@","@","@","@","@","@","@","@","@","@","@","@","@","@","@",{"$f":"'Month 1'!BL89","v":"@"},{"$f":"'Month 1'!BK89","v":"@"},{"$f":"'Month 1'!BJ89","v":"@"},{"$f":"'Month 1'!BI89","v":"@"},{"$error":"#N/A"},{"$error":"#N/A"},{"$error":"#N/A"},{"$error":"#N/A"},{"$f":"IF(ISNUMBER(SUM(COUNTIF(INDIRECT(CR89):INDIRECT(CS89),2),COUNTIF(INDIRECT(CR89):INDIRECT(CS89),1),COUNTIF(INDIRECT(CR89):INDIRECT(CS89),0))),SUM(COUNTIF(INDIRECT(CR89):INDIRECT(CS89),2),COUNTIF(INDIRECT(CR89):INDIRECT(CS89),1),COUNTIF(INDIRECT(CR89):INDIRECT(CS89),0)),\"\")","v":""},{"$f":"IF(ISNUMBER(SUM(COUNTIF(INDIRECT(CR89):INDIRECT(CT89),2),COUNTIF(INDIRECT(CR89):INDIRECT(CT89),1),COUNTIF(INDIRECT(CR89):INDIRECT(CT89),0))),SUM(COUNTIF(INDIRECT(CR89):INDIRECT(CT89),2),COUNTIF(INDIRECT(CR89):INDIRECT(CT89),1),COUNTIF(INDIRECT(CR89):INDIRECT(CT89),0)),\"\")","v":""},{"$f":"IF(ISNUMBER(SUM(COUNTIF(INDIRECT(CR89):INDIRECT(CU89),1),COUNTIF(INDIRECT(CR89):INDIRECT(CU89),0))),SUM(COUNTIF(INDIRECT(CR89):INDIRECT(CU89),1),COUNTIF(INDIRECT(CR89):INDIRECT(CU89),0)),\"\")","v":""},{"$f":"SUM(INDIRECT(CR89):INDIRECT(CS89))","v":{"$error":"#N/A"}},{"$f":"SUM(INDIRECT(CR89):INDIRECT(CT89))","v":{"$error":"#N/A"}},{"$f":"SUM(INDIRECT(CR89):INDIRECT(CU89))","v":{"$error":"#N/A"}}]
[null,null,null,null,null,null,null,null,null,null,null,null,null,null,null,null,null,null,null,null,null,null,null,null,null,null,null,null,null,null,null,null,null,null,null,null,null,null,null,null,null,null,null,null,null,null,null,null,null,null,null,null,null,null,null,null,null,null,null,0,"@","@","@","@","@","@","@","@","@","@","@","@","@","@","@","@","@","@","@","@","@","@","@","@","@","@","@","@","@","@","@",{"$f":"'Month 1'!BL90","v":"@"},{"$f":"'Month 1'!BK90","v":"@"},{"$f":"'Month 1'!BJ90","v":"@"},{"$f":"'Month 1'!BI90","v":"@"},{"$error":"#N/A"},{"$error":"#N/A"},{"$error":"#N/A"},{"$error":"#N/A"},{"$f":"IF(ISNUMBER(SUM(COUNTIF(INDIRECT(CR90):INDIRECT(CS90),2),COUNTIF(INDIRECT(CR90):INDIRECT(CS90),1),COUNTIF(INDIRECT(CR90):INDIRECT(CS90),0))),SUM(COUNTIF(INDIRECT(CR90):INDIRECT(CS90),2),COUNTIF(INDIRECT(CR90):INDIRECT(CS90),1),COUNTIF(INDIRECT(CR90):INDIRECT(CS90),0)),\"\")","v":""},{"$f":"IF(ISNUMBER(SUM(COUNTIF(INDIRECT(CR90):INDIRECT(CT90),2),COUNTIF(INDIRECT(CR90):INDIRECT(CT90),1),COUNTIF(INDIRECT(CR90):INDIRECT(CT90),0))),SUM(COUNTIF(INDIRECT(CR90):INDIRECT(CT90),2),COUNTIF(INDIRECT(CR90):INDIRECT(CT90),1),COUNTIF(INDIRECT(CR90):INDIRECT(CT90),0)),\"\")","v":""},{"$f":"IF(ISNUMBER(SUM(COUNTIF(INDIRECT(CR90):INDIRECT(CU90),1),COUNTIF(INDIRECT(CR90):INDIRECT(CU90),0))),SUM(COUNTIF(INDIRECT(CR90):INDIRECT(CU90),1),COUNTIF(INDIRECT(CR90):INDIRECT(CU90),0)),\"\")","v":""},{"$f":"SUM(INDIRECT(CR90):INDIRECT(CS90))","v":{"$error":"#N/A"}},{"$f":"SUM(INDIRECT(CR90):INDIRECT(CT90))","v":{"$error":"#N/A"}},{"$f":"SUM(INDIRECT(CR90):INDIRECT(CU90))","v":{"$error":"#N/A"}}]
[null,null,null,null,null,null,null,null,null,null,null,null,null,null,null,null,null,null,null,null,null,null,null,null,null,null,null,null,null,null,null,null,null,null,null,null,null,null,null,null,null,null,null,null,null,null,null,null,null,null,null,null,null,null,null,null,null,null,null,0,"@","@","@","@","@","@","@","@","@","@","@","@","@","@","@","@","@","@","@","@","@","@","@","@","@","@","@","@","@","@","@",{"$f":"'Month 1'!BL91","v":"@"},{"$f":"'Month 1'!BK91","v":"@"},{"$f":"'Month 1'!BJ91","v":"@"},{"$f":"'Month 1'!BI91","v":"@"},{"$error":"#N/A"},{"$error":"#N/A"},{"$error":"#N/A"},{"$error":"#N/A"},{"$f":"IF(ISNUMBER(SUM(COUNTIF(INDIRECT(CR91):INDIRECT(CS91),2),COUNTIF(INDIRECT(CR91):INDIRECT(CS91),1),COUNTIF(INDIRECT(CR91):INDIRECT(CS91),0))),SUM(COUNTIF(INDIRECT(CR91):INDIRECT(CS91),2),COUNTIF(INDIRECT(CR91):INDIRECT(CS91),1),COUNTIF(INDIRECT(CR91):INDIRECT(CS91),0)),\"\")","v":""},{"$f":"IF(ISNUMBER(SUM(COUNTIF(INDIRECT(CR91):INDIRECT(CT91),2),COUNTIF(INDIRECT(CR91):INDIRECT(CT91),1),COUNTIF(INDIRECT(CR91):INDIRECT(CT91),0))),SUM(COUNTIF(INDIRECT(CR91):INDIRECT(CT91),2),COUNTIF(INDIRECT(CR91):INDIRECT(CT91),1),COUNTIF(INDIRECT(CR91):INDIRECT(CT91),0)),\"\")","v":""},{"$f":"IF(ISNUMBER(SUM(COUNTIF(INDIRECT(CR91):INDIRECT(CU91),1),COUNTIF(INDIRECT(CR91):INDIRECT(CU91),0))),SUM(COUNTIF(INDIRECT(CR91):INDIRECT(CU91),1),COUNTIF(INDIRECT(CR91):INDIRECT(CU91),0)),\"\")","v":""},{"$f":"SUM(INDIRECT(CR91):INDIRECT(CS91))","v":{"$error":"#N/A"}},{"$f":"SUM(INDIRECT(CR91):INDIRECT(CT91))","v":{"$error":"#N/A"}},{"$f":"SUM(INDIRECT(CR91):INDIRECT(CU91))","v":{"$error":"#N/A"}}]
[null,null,null,null,null,null,null,null,null,null,null,null,null,null,null,null,null,null,null,null,null,null,null,null,null,null,null,null,null,null,null,null,null,null,null,null,null,null,null,null,null,null,null,null,null,null,null,null,null,null,null,null,null,null,null,null,null,null,null,0,"@","@","@","@","@","@","@","@","@","@","@","@","@","@","@","@","@","@","@","@","@","@","@","@","@","@","@","@","@","@","@",{"$f":"'Month 1'!BL92","v":"@"},{"$f":"'Month 1'!BK92","v":"@"},{"$f":"'Month 1'!BJ92","v":"@"},{"$f":"'Month 1'!BI92","v":"@"},{"$error":"#N/A"},{"$error":"#N/A"},{"$error":"#N/A"},{"$error":"#N/A"},{"$f":"IF(ISNUMBER(SUM(COUNTIF(INDIRECT(CR92):INDIRECT(CS92),2),COUNTIF(INDIRECT(CR92):INDIRECT(CS92),1),COUNTIF(INDIRECT(CR92):INDIRECT(CS92),0))),SUM(COUNTIF(INDIRECT(CR92):INDIRECT(CS92),2),COUNTIF(INDIRECT(CR92):INDIRECT(CS92),1),COUNTIF(INDIRECT(CR92):INDIRECT(CS92),0)),\"\")","v":""},{"$f":"IF(ISNUMBER(SUM(COUNTIF(INDIRECT(CR92):INDIRECT(CT92),2),COUNTIF(INDIRECT(CR92):INDIRECT(CT92),1),COUNTIF(INDIRECT(CR92):INDIRECT(CT92),0))),SUM(COUNTIF(INDIRECT(CR92):INDIRECT(CT92),2),COUNTIF(INDIRECT(CR92):INDIRECT(CT92),1),COUNTIF(INDIRECT(CR92):INDIRECT(CT92),0)),\"\")","v":""},{"$f":"IF(ISNUMBER(SUM(COUNTIF(INDIRECT(CR92):INDIRECT(CU92),1),COUNTIF(INDIRECT(CR92):INDIRECT(CU92),0))),SUM(COUNTIF(INDIRECT(CR92):INDIRECT(CU92),1),COUNTIF(INDIRECT(CR92):INDIRECT(CU92),0)),\"\")","v":""},{"$f":"SUM(INDIRECT(CR92):INDIRECT(CS92))","v":{"$error":"#N/A"}},{"$f":"SUM(INDIRECT(CR92):INDIRECT(CT92))","v":{"$error":"#N/A"}},{"$f":"SUM(INDIRECT(CR92):INDIRECT(CU92))","v":{"$error":"#N/A"}}]
[null,null,null,null,null,null,null,null,null,null,null,null,null,null,null,null,null,null,null,null,null,null,null,null,null,null,null,null,null,null,null,null,null,null,null,null,null,null,null,null,null,null,null,null,null,null,null,null,null,null,null,null,null,null,null,null,null,null,null,0,"@","@","@","@","@","@","@","@","@","@","@","@","@","@","@","@","@","@","@","@","@","@","@","@","@","@","@","@","@","@","@",{"$f":"'Month 1'!BL93","v":"@"},{"$f":"'Month 1'!BK93","v":"@"},{"$f":"'Month 1'!BJ93","v":"@"},{"$f":"'Month 1'!BI93","v":"@"},{"$error":"#N/A"},{"$error":"#N/A"},{"$error":"#N/A"},{"$error":"#N/A"},{"$f":"IF(ISNUMBER(SUM(COUNTIF(INDIRECT(CR93):INDIRECT(CS93),2),COUNTIF(INDIRECT(CR93):INDIRECT(CS93),1),COUNTIF(INDIRECT(CR93):INDIRECT(CS93),0))),SUM(COUNTIF(INDIRECT(CR93):INDIRECT(CS93),2),COUNTIF(INDIRECT(CR93):INDIRECT(CS93),1),COUNTIF(INDIRECT(CR93):INDIRECT(CS93),0)),\"\")","v":""},{"$f":"IF(ISNUMBER(SUM(COUNTIF(INDIRECT(CR93):INDIRECT(CT93),2),COUNTIF(INDIRECT(CR93):INDIRECT(CT93),1),COUNTIF(INDIRECT(CR93):INDIRECT(CT93),0))),SUM(COUNTIF(INDIRECT(CR93):INDIRECT(CT93),2),COUNTIF(INDIRECT(CR93):INDIRECT(CT93),1),COUNTIF(INDIRECT(CR93):INDIRECT(CT93),0)),\"\")","v":""},{"$f":"IF(ISNUMBER(SUM(COUNTIF(INDIRECT(CR93):INDIRECT(CU93),1),COUNTIF(INDIRECT(CR93):INDIRECT(CU93),0))),SUM(COUNTIF(INDIRECT(CR93):INDIRECT(CU93),1),COUNTIF(INDIRECT(CR93):INDIRECT(CU93),0)),\"\")","v":""},{"$f":"SUM(INDIRECT(CR93):INDIRECT(CS93))","v":{"$error":"#N/A"}},{"$f":"SUM(INDIRECT(CR93):INDIRECT(CT93))","v":{"$error":"#N/A"}},{"$f":"SUM(INDIRECT(CR93):INDIRECT(CU93))","v":{"$error":"#N/A"}}]
[null,null,null,null,null,null,null,null,null,null,null,null,null,null,null,null,null,null,null,null,null,null,null,null,null,null,null,null,null,null,null,null,null,null,null,null,null,null,null,null,null,null,null,null,null,null,null,null,null,null,null,null,null,null,null,null,null,null,null,0,"@","@","@","@","@","@","@","@","@","@","@","@","@","@","@","@","@","@","@","@","@","@","@","@","@","@","@","@","@","@","@",{"$f":"'Month 1'!BL94","v":"@"},{"$f":"'Month 1'!BK94","v":"@"},{"$f":"'Month 1'!BJ94","v":"@"},{"$f":"'Month 1'!BI94","v":"@"},{"$error":"#N/A"},{"$error":"#N/A"},{"$error":"#N/A"},{"$error":"#N/A"},{"$f":"IF(ISNUMBER(SUM(COUNTIF(INDIRECT(CR94):INDIRECT(CS94),2),COUNTIF(INDIRECT(CR94):INDIRECT(CS94),1),COUNTIF(INDIRECT(CR94):INDIRECT(CS94),0))),SUM(COUNTIF(INDIRECT(CR94):INDIRECT(CS94),2),COUNTIF(INDIRECT(CR94):INDIRECT(CS94),1),COUNTIF(INDIRECT(CR94):INDIRECT(CS94),0)),\"\")","v":""},{"$f":"IF(ISNUMBER(SUM(COUNTIF(INDIRECT(CR94):INDIRECT(CT94),2),COUNTIF(INDIRECT(CR94):INDIRECT(CT94),1),COUNTIF(INDIRECT(CR94):INDIRECT(CT94),0))),SUM(COUNTIF(INDIRECT(CR94):INDIRECT(CT94),2),COUNTIF(INDIRECT(CR94):INDIRECT(CT94),1),COUNTIF(INDIRECT(CR94):INDIRECT(CT94),0)),\"\")","v":""},{"$f":"IF(ISNUMBER(SUM(COUNTIF(INDIRECT(CR94):INDIRECT(CU94),1),COUNTIF(INDIRECT(CR94):INDIRECT(CU94),0))),SUM(COUNTIF(INDIRECT(CR94):INDIRECT(CU94),1),COUNTIF(INDIRECT(CR94):INDIRECT(CU94),0)),\"\")","v":""},{"$f":"SUM(INDIRECT(CR94):INDIRECT(CS94))","v":{"$error":"#N/A"}},{"$f":"SUM(INDIRECT(CR94):INDIRECT(CT94))","v":{"$error":"#N/A"}},{"$f":"SUM(INDIRECT(CR94):INDIRECT(CU94))","v":{"$error":"#N/A"}}]
[null,null,null,null,null,null,null,null,null,null,null,null,null,null,null,null,null,null,null,null,null,null,null,null,null,null,null,null,null,null,null,null,null,null,null,null,null,null,null,null,null,null,null,null,null,null,null,null,null,null,null,null,null,null,null,null,null,null,null,0,"@","@","@","@","@","@","@","@","@","@","@","@","@","@","@","@","@","@","@","@","@","@","@","@","@","@","@","@","@","@","@",{"$f":"'Month 1'!BL95","v":"@"},{"$f":"'Month 1'!BK95","v":"@"},{"$f":"'Month 1'!BJ95","v":"@"},{"$f":"'Month 1'!BI95","v":"@"},{"$error":"#N/A"},{"$error":"#N/A"},{"$error":"#N/A"},{"$error":"#N/A"},{"$f":"IF(ISNUMBER(SUM(COUNTIF(INDIRECT(CR95):INDIRECT(CS95),2),COUNTIF(INDIRECT(CR95):INDIRECT(CS95),1),COUNTIF(INDIRECT(CR95):INDIRECT(CS95),0))),SUM(COUNTIF(INDIRECT(CR95):INDIRECT(CS95),2),COUNTIF(INDIRECT(CR95):INDIRECT(CS95),1),COUNTIF(INDIRECT(CR95):INDIRECT(CS95),0)),\"\")","v":""},{"$f":"IF(ISNUMBER(SUM(COUNTIF(INDIRECT(CR95):INDIRECT(CT95),2),COUNTIF(INDIRECT(CR95):INDIRECT(CT95),1),COUNTIF(INDIRECT(CR95):INDIRECT(CT95),0))),SUM(COUNTIF(INDIRECT(CR95):INDIRECT(CT95),2),COUNTIF(INDIRECT(CR95):INDIRECT(CT95),1),COUNTIF(INDIRECT(CR95):INDIRECT(CT95),0)),\"\")","v":""},{"$f":"IF(ISNUMBER(SUM(COUNTIF(INDIRECT(CR95):INDIRECT(CU95),1),COUNTIF(INDIRECT(CR95):INDIRECT(CU95),0))),SUM(COUNTIF(INDIRECT(CR95):INDIRECT(CU95),1),COUNTIF(INDIRECT(CR95):INDIRECT(CU95),0)),\"\")","v":""},{"$f":"SUM(INDIRECT(CR95):INDIRECT(CS95))","v":{"$error":"#N/A"}},{"$f":"SUM(INDIRECT(CR95):INDIRECT(CT95))","v":{"$error":"#N/A"}},{"$f":"SUM(INDIRECT(CR95):INDIRECT(CU95))","v":{"$error":"#N/A"}}]
[null,null,null,null,null,null,null,null,null,null,null,null,null,null,null,null,null,null,null,null,null,null,null,null,null,null,null,null,null,null,null,null,null,null,null,null,null,null,null,null,null,null,null,null,null,null,null,null,null,null,null,null,null,null,null,null,null,null,null,0,"@","@","@","@","@","@","@","@","@","@","@","@","@","@","@","@","@","@","@","@","@","@","@","@","@","@","@","@","@","@","@",{"$f":"'Month 1'!BL96","v":"@"},{"$f":"'Month 1'!BK96","v":"@"},{"$f":"'Month 1'!BJ96","v":"@"},{"$f":"'Month 1'!BI96","v":"@"},{"$error":"#N/A"},{"$error":"#N/A"},{"$error":"#N/A"},{"$error":"#N/A"},{"$f":"IF(ISNUMBER(SUM(COUNTIF(INDIRECT(CR96):INDIRECT(CS96),2),COUNTIF(INDIRECT(CR96):INDIRECT(CS96),1),COUNTIF(INDIRECT(CR96):INDIRECT(CS96),0))),SUM(COUNTIF(INDIRECT(CR96):INDIRECT(CS96),2),COUNTIF(INDIRECT(CR96):INDIRECT(CS96),1),COUNTIF(INDIRECT(CR96):INDIRECT(CS96),0)),\"\")","v":""},{"$f":"IF(ISNUMBER(SUM(COUNTIF(INDIRECT(CR96):INDIRECT(CT96),2),COUNTIF(INDIRECT(CR96):INDIRECT(CT96),1),COUNTIF(INDIRECT(CR96):INDIRECT(CT96),0))),SUM(COUNTIF(INDIRECT(CR96):INDIRECT(CT96),2),COUNTIF(INDIRECT(CR96):INDIRECT(CT96),1),COUNTIF(INDIRECT(CR96):INDIRECT(CT96),0)),\"\")","v":""},{"$f":"IF(ISNUMBER(SUM(COUNTIF(INDIRECT(CR96):INDIRECT(CU96),1),COUNTIF(INDIRECT(CR96):INDIRECT(CU96),0))),SUM(COUNTIF(INDIRECT(CR96):INDIRECT(CU96),1),COUNTIF(INDIRECT(CR96):INDIRECT(CU96),0)),\"\")","v":""},{"$f":"SUM(INDIRECT(CR96):INDIRECT(CS96))","v":{"$error":"#N/A"}},{"$f":"SUM(INDIRECT(CR96):INDIRECT(CT96))","v":{"$error":"#N/A"}},{"$f":"SUM(INDIRECT(CR96):INDIRECT(CU96))","v":{"$error":"#N/A"}}]
[null,null,null,null,null,null,null,null,null,null,null,null,null,null,null,null,null,null,null,null,null,null,null,null,null,null,null,null,null,null,null,null,null,null,null,null,null,null,null,null,null,null,null,null,null,null,null,null,null,null,null,null,null,null,null,null,null,null,null,0,"@","@","@","@","@","@","@","@","@","@","@","@","@","@","@","@","@","@","@","@","@","@","@","@","@","@","@","@","@","@","@",{"$f":"'Month 1'!BL97","v":"@"},{"$f":"'Month 1'!BK97","v":"@"},{"$f":"'Month 1'!BJ97","v":"@"},{"$f":"'Month 1'!BI97","v":"@"},{"$error":"#N/A"},{"$error":"#N/A"},{"$error":"#N/A"},{"$error":"#N/A"},{"$f":"IF(ISNUMBER(SUM(COUNTIF(INDIRECT(CR97):INDIRECT(CS97),2),COUNTIF(INDIRECT(CR97):INDIRECT(CS97),1),COUNTIF(INDIRECT(CR97):INDIRECT(CS97),0))),SUM(COUNTIF(INDIRECT(CR97):INDIRECT(CS97),2),COUNTIF(INDIRECT(CR97):INDIRECT(CS97),1),COUNTIF(INDIRECT(CR97):INDIRECT(CS97),0)),\"\")","v":""},{"$f":"IF(ISNUMBER(SUM(COUNTIF(INDIRECT(CR97):INDIRECT(CT97),2),COUNTIF(INDIRECT(CR97):INDIRECT(CT97),1),COUNTIF(INDIRECT(CR97):INDIRECT(CT97),0))),SUM(COUNTIF(INDIRECT(CR97):INDIRECT(CT97),2),COUNTIF(INDIRECT(CR97):INDIRECT(CT97),1),COUNTIF(INDIRECT(CR97):INDIRECT(CT97),0)),\"\")","v":""},{"$f":"IF(ISNUMBER(SUM(COUNTIF(INDIRECT(CR97):INDIRECT(CU97),1),COUNTIF(INDIRECT(CR97):INDIRECT(CU97),0))),SUM(COUNTIF(INDIRECT(CR97):INDIRECT(CU97),1),COUNTIF(INDIRECT(CR97):INDIRECT(CU97),0)),\"\")","v":""},{"$f":"SUM(INDIRECT(CR97):INDIRECT(CS97))","v":{"$error":"#N/A"}},{"$f":"SUM(INDIRECT(CR97):INDIRECT(CT97))","v":{"$error":"#N/A"}},{"$f":"SUM(INDIRECT(CR97):INDIRECT(CU97))","v":{"$error":"#N/A"}}]
[null,null,null,null,null,null,null,null,null,null,null,null,null,null,null,null,null,null,null,null,null,null,null,null,null,null,null,null,null,null,null,null,null,null,null,null,null,null,null,null,null,null,null,null,null,null,null,null,null,null,null,null,null,null,null,null,null,null,null,0,"@","@","@","@","@","@","@","@","@","@","@","@","@","@","@","@","@","@","@","@","@","@","@","@","@","@","@","@","@","@","@",{"$f":"'Month 1'!BL98","v":"@"},{"$f":"'Month 1'!BK98","v":"@"},{"$f":"'Month 1'!BJ98","v":"@"},{"$f":"'Month 1'!BI98","v":"@"},{"$error":"#N/A"},{"$error":"#N/A"},{"$error":"#N/A"},{"$error":"#N/A"},{"$f":"IF(ISNUMBER(SUM(COUNTIF(INDIRECT(CR98):INDIRECT(CS98),2),COUNTIF(INDIRECT(CR98):INDIRECT(CS98),1),COUNTIF(INDIRECT(CR98):INDIRECT(CS98),0))),SUM(COUNTIF(INDIRECT(CR98):INDIRECT(CS98),2),COUNTIF(INDIRECT(CR98):INDIRECT(CS98),1),COUNTIF(INDIRECT(CR98):INDIRECT(CS98),0)),\"\")","v":""},{"$f":"IF(ISNUMBER(SUM(COUNTIF(INDIRECT(CR98):INDIRECT(CT98),2),COUNTIF(INDIRECT(CR98):INDIRECT(CT98),1),COUNTIF(INDIRECT(CR98):INDIRECT(CT98),0))),SUM(COUNTIF(INDIRECT(CR98):INDIRECT(CT98),2),COUNTIF(INDIRECT(CR98):INDIRECT(CT98),1),COUNTIF(INDIRECT(CR98):INDIRECT(CT98),0)),\"\")","v":""},{"$f":"IF(ISNUMBER(SUM(COUNTIF(INDIRECT(CR98):INDIRECT(CU98),1),COUNTIF(INDIRECT(CR98):INDIRECT(CU98),0))),SUM(COUNTIF(INDIRECT(CR98):INDIRECT(CU98),1),COUNTIF(INDIRECT(CR98):INDIRECT(CU98),0)),\"\")","v":""},{"$f":"SUM(INDIRECT(CR98):INDIRECT(CS98))","v":{"$error":"#N/A"}},{"$f":"SUM(INDIRECT(CR98):INDIRECT(CT98))","v":{"$error":"#N/A"}},{"$f":"SUM(INDIRECT(CR98):INDIRECT(CU98))","v":{"$error":"#N/A"}}]
[null,null,null,null,null,null,null,null,null,null,null,null,null,null,null,null,null,null,null,null,null,null,null,null,null,null,null,null,null,null,null,null,null,null,null,null,null,null,null,null,null,null,null,null,null,null,null,null,null,null,null,null,null,null,null,null,null,null,null,0,"@","@","@","@","@","@","@","@","@","@","@","@","@","@","@","@","@","@","@","@","@","@","@","@","@","@","@","@","@","@","@",{"$f":"'Month 1'!BL99","v":"@"},{"$f":"'Month 1'!BK99","v":"@"},{"$f":"'Month 1'!BJ99","v":"@"},{"$f":"'Month 1'!BI99","v":"@"},{"$error":"#N/A"},{"$error":"#N/A"},{"$error":"#N/A"},{"$error":"#N/A"},{"$f":"IF(ISNUMBER(SUM(COUNTIF(INDIRECT(CR99):INDIRECT(CS99),2),COUNTIF(INDIRECT(CR99):INDIRECT(CS99),1),COUNTIF(INDIRECT(CR99):INDIRECT(CS99),0))),SUM(COUNTIF(INDIRECT(CR99):INDIRECT(CS99),2),COUNTIF(INDIRECT(CR99):INDIRECT(CS99),1),COUNTIF(INDIRECT(CR99):INDIRECT(CS99),0)),\"\")","v":""},{"$f":"IF(ISNUMBER(SUM(COUNTIF(INDIRECT(CR99):INDIRECT(CT99),2),COUNTIF(INDIRECT(CR99):INDIRECT(CT99),1),COUNTIF(INDIRECT(CR99):INDIRECT(CT99),0))),SUM(COUNTIF(INDIRECT(CR99):INDIRECT(CT99),2),COUNTIF(INDIRECT(CR99):INDIRECT(CT99),1),COUNTIF(INDIRECT(CR99):INDIRECT(CT99),0)),\"\")","v":""},{"$f":"IF(ISNUMBER(SUM(COUNTIF(INDIRECT(CR99):INDIRECT(CU99),1),COUNTIF(INDIRECT(CR99):INDIRECT(CU99),0))),SUM(COUNTIF(INDIRECT(CR99):INDIRECT(CU99),1),COUNTIF(INDIRECT(CR99):INDIRECT(CU99),0)),\"\")","v":""},{"$f":"SUM(INDIRECT(CR99):INDIRECT(CS99))","v":{"$error":"#N/A"}},{"$f":"SUM(INDIRECT(CR99):INDIRECT(CT99))","v":{"$error":"#N/A"}},{"$f":"SUM(INDIRECT(CR99):INDIRECT(CU99))","v":{"$error":"#N/A"}}]
[null,null,null,null,null,null,null,null,null,null,null,null,null,null,null,null,null,null,null,null,null,null,null,null,null,null,null,null,null,null,null,null,null,null,null,null,null,null,null,null,null,null,null,null,null,null,null,null,null,null,null,null,null,null,null,null,null,null,null,0,"@","@","@","@","@","@","@","@","@","@","@","@","@","@","@","@","@","@","@","@","@","@","@","@","@","@","@","@","@","@","@",{"$f":"'Month 1'!BL100","v":"@"},{"$f":"'Month 1'!BK100","v":"@"},{"$f":"'Month 1'!BJ100","v":"@"},{"$f":"'Month 1'!BI100","v":"@"},{"$error":"#N/A"},{"$error":"#N/A"},{"$error":"#N/A"},{"$error":"#N/A"},{"$f":"IF(ISNUMBER(SUM(COUNTIF(INDIRECT(CR100):INDIRECT(CS100),2),COUNTIF(INDIRECT(CR100):INDIRECT(CS100),1),COUNTIF(INDIRECT(CR100):INDIRECT(CS100),0))),SUM(COUNTIF(INDIRECT(CR100):INDIRECT(CS100),2),COUNTIF(INDIRECT(CR100):INDIRECT(CS100),1),COUNTIF(INDIRECT(CR100):INDIRECT(CS100),0)),\"\")","v":""},{"$f":"IF(ISNUMBER(SUM(COUNTIF(INDIRECT(CR100):INDIRECT(CT100),2),COUNTIF(INDIRECT(CR100):INDIRECT(CT100),1),COUNTIF(INDIRECT(CR100):INDIRECT(CT100),0))),SUM(COUNTIF(INDIRECT(CR100):INDIRECT(CT100),2),COUNTIF(INDIRECT(CR100):INDIRECT(CT100),1),COUNTIF(INDIRECT(CR100):INDIRECT(CT100),0)),\"\")","v":""},{"$f":"IF(ISNUMBER(SUM(COUNTIF(INDIRECT(CR100):INDIRECT(CU100),1),COUNTIF(INDIRECT(CR100):INDIRECT(CU100),0))),SUM(COUNTIF(INDIRECT(CR100):INDIRECT(CU100),1),COUNTIF(INDIRECT(CR100):INDIRECT(CU100),0)),\"\")","v":""},{"$f":"SUM(INDIRECT(CR100):INDIRECT(CS100))","v":{"$error":"#N/A"}},{"$f":"SUM(INDIRECT(CR100):INDIRECT(CT100))","v":{"$error":"#N/A"}},{"$f":"SUM(INDIRECT(CR100):INDIRECT(CU100))","v":{"$error":"#N/A"}}]
[null,null,null,null,null,null,null,null,null,null,null,null,null,null,null,null,null,null,null,null,null,null,null,null,null,null,null,null,null,null,null,null,null,null,null,null,null,null,null,null,null,null,null,null,null,null,null,null,null,null,null,null,null,null,null,null,null,null,null,0,"@","@","@","@","@","@","@","@","@","@","@","@","@","@","@","@","@","@","@","@","@","@","@","@","@","@","@","@","@","@","@",{"$f":"'Month 1'!BL101","v":"@"},{"$f":"'Month 1'!BK101","v":"@"},{"$f":"'Month 1'!BJ101","v":"@"},{"$f":"'Month 1'!BI101","v":"@"},{"$error":"#N/A"},{"$error":"#N/A"},{"$error":"#N/A"},{"$error":"#N/A"},{"$f":"IF(ISNUMBER(SUM(COUNTIF(INDIRECT(CR101):INDIRECT(CS101),2),COUNTIF(INDIRECT(CR101):INDIRECT(CS101),1),COUNTIF(INDIRECT(CR101):INDIRECT(CS101),0))),SUM(COUNTIF(INDIRECT(CR101):INDIRECT(CS101),2),COUNTIF(INDIRECT(CR101):INDIRECT(CS101),1),COUNTIF(INDIRECT(CR101):INDIRECT(CS101),0)),\"\")","v":""},{"$f":"IF(ISNUMBER(SUM(COUNTIF(INDIRECT(CR101):INDIRECT(CT101),2),COUNTIF(INDIRECT(CR101):INDIRECT(CT101),1),COUNTIF(INDIRECT(CR101):INDIRECT(CT101),0))),SUM(COUNTIF(INDIRECT(CR101):INDIRECT(CT101),2),COUNTIF(INDIRECT(CR101):INDIRECT(CT101),1),COUNTIF(INDIRECT(CR101):INDIRECT(CT101),0)),\"\")","v":""},{"$f":"IF(ISNUMBER(SUM(COUNTIF(INDIRECT(CR101):INDIRECT(CU101),1),COUNTIF(INDIRECT(CR101):INDIRECT(CU101),0))),SUM(COUNTIF(INDIRECT(CR101):INDIRECT(CU101),1),COUNTIF(INDIRECT(CR101):INDIRECT(CU101),0)),\"\")","v":""},{"$f":"SUM(INDIRECT(CR101):INDIRECT(CS101))","v":{"$error":"#N/A"}},{"$f":"SUM(INDIRECT(CR101):INDIRECT(CT101))","v":{"$error":"#N/A"}},{"$f":"SUM(INDIRECT(CR101):INDIRECT(CU101))","v":{"$error":"#N/A"}}]
[null,null,null,null,null,null,null,null,null,null,null,null,null,null,null,null,null,null,null,null,null,null,null,null,null,null,null,null,null,null,null,null,null,null,null,null,null,null,null,null,null,null,null,null,null,null,null,null,null,null,null,null,null,null,null,null,null,null,null,0,"@","@","@","@","@","@","@","@","@","@","@","@","@","@","@","@","@","@","@","@","@","@","@","@","@","@","@","@","@","@","@",{"$f":"'Month 1'!BL102","v":"@"},{"$f":"'Month 1'!BK102","v":"@"},{"$f":"'Month 1'!BJ102","v":"@"},{"$f":"'Month 1'!BI102","v":"@"},{"$error":"#N/A"},{"$error":"#N/A"},{"$error":"#N/A"},{"$error":"#N/A"},{"$f":"IF(ISNUMBER(SUM(COUNTIF(INDIRECT(CR102):INDIRECT(CS102),2),COUNTIF(INDIRECT(CR102):INDIRECT(CS102),1),COUNTIF(INDIRECT(CR102):INDIRECT(CS102),0))),SUM(COUNTIF(INDIRECT(CR102):INDIRECT(CS102),2),COUNTIF(INDIRECT(CR102):INDIRECT(CS102),1),COUNTIF(INDIRECT(CR102):INDIRECT(CS102),0)),\"\")","v":""},{"$f":"IF(ISNUMBER(SUM(COUNTIF(INDIRECT(CR102):INDIRECT(CT102),2),COUNTIF(INDIRECT(CR102):INDIRECT(CT102),1),COUNTIF(INDIRECT(CR102):INDIRECT(CT102),0))),SUM(COUNTIF(INDIRECT(CR102):INDIRECT(CT102),2),COUNTIF(INDIRECT(CR102):INDIRECT(CT102),1),COUNTIF(INDIRECT(CR102):INDIRECT(CT102),0)),\"\")","v":""},{"$f":"IF(ISNUMBER(SUM(COUNTIF(INDIRECT(CR102):INDIRECT(CU102),1),COUNTIF(INDIRECT(CR102):INDIRECT(CU102),0))),SUM(COUNTIF(INDIRECT(CR102):INDIRECT(CU102),1),COUNTIF(INDIRECT(CR102):INDIRECT(CU102),0)),\"\")","v":""},{"$f":"SUM(INDIRECT(CR102):INDIRECT(CS102))","v":{"$error":"#N/A"}},{"$f":"SUM(INDIRECT(CR102):INDIRECT(CT102))","v":{"$error":"#N/A"}},{"$f":"SUM(INDIRECT(CR102):INDIRECT(CU102))","v":{"$error":"#N/A"}}]
[null,null,null,null,null,null,null,null,null,null,null,null,null,null,null,null,null,null,null,null,null,null,null,null,null,null,null,null,null,null,null,null,null,null,null,null,null,null,null,null,null,null,null,null,null,null,null,null,null,null,null,null,null,null,null,null,null,null,null,0,"@","@","@","@","@","@","@","@","@","@","@","@","@","@","@","@","@","@","@","@","@","@","@","@","@","@","@","@","@","@","@",{"$f":"'Month 1'!BL103","v":"@"},{"$f":"'Month 1'!BK103","v":"@"},{"$f":"'Month 1'!BJ103","v":"@"},{"$f":"'Month 1'!BI103","v":"@"},{"$error":"#N/A"},{"$error":"#N/A"},{"$error":"#N/A"},{"$error":"#N/A"},{"$f":"IF(ISNUMBER(SUM(COUNTIF(INDIRECT(CR103):INDIRECT(CS103),2),COUNTIF(INDIRECT(CR103):INDIRECT(CS103),1),COUNTIF(INDIRECT(CR103):INDIRECT(CS103),0))),SUM(COUNTIF(INDIRECT(CR103):INDIRECT(CS103),2),COUNTIF(INDIRECT(CR103):INDIRECT(CS103),1),COUNTIF(INDIRECT(CR103):INDIRECT(CS103),0)),\"\")","v":""},{"$f":"IF(ISNUMBER(SUM(COUNTIF(INDIRECT(CR103):INDIRECT(CT103),2),COUNTIF(INDIRECT(CR103):INDIRECT(CT103),1),COUNTIF(INDIRECT(CR103):INDIRECT(CT103),0))),SUM(COUNTIF(INDIRECT(CR103):INDIRECT(CT103),2),COUNTIF(INDIRECT(CR103):INDIRECT(CT103),1),COUNTIF(INDIRECT(CR103):INDIRECT(CT103),0)),\"\")","v":""},{"$f":"IF(ISNUMBER(SUM(COUNTIF(INDIRECT(CR103):INDIRECT(CU103),1),COUNTIF(INDIRECT(CR103):INDIRECT(CU103),0))),SUM(COUNTIF(INDIRECT(CR103):INDIRECT(CU103),1),COUNTIF(INDIRECT(CR103):INDIRECT(CU103),0)),\"\")","v":""},{"$f":"SUM(INDIRECT(CR103):INDIRECT(CS103))","v":{"$error":"#N/A"}},{"$f":"SUM(INDIRECT(CR103):INDIRECT(CT103))","v":{"$error":"#N/A"}},{"$f":"SUM(INDIRECT(CR103):INDIRECT(CU103))","v":{"$error":"#N/A"}}]
[null,null,null,null,null,null,null,null,null,null,null,null,null,null,null,null,null,null,null,null,null,null,null,null,null,null,null,null,null,null,null,null,null,null,null,null,null,null,null,null,null,null,null,null,null,null,null,null,null,null,null,null,null,null,null,null,null,null,null,0,"@","@","@","@","@","@","@","@","@","@","@","@","@","@","@","@","@","@","@","@","@","@","@","@","@","@","@","@","@","@","@",{"$f":"'Month 1'!BL104","v":"@"},{"$f":"'Month 1'!BK104","v":"@"},{"$f":"'Month 1'!BJ104","v":"@"},{"$f":"'Month 1'!BI104","v":"@"},{"$error":"#N/A"},{"$error":"#N/A"},{"$error":"#N/A"},{"$error":"#N/A"},{"$f":"IF(ISNUMBER(SUM(COUNTIF(INDIRECT(CR104):INDIRECT(CS104),2),COUNTIF(INDIRECT(CR104):INDIRECT(CS104),1),COUNTIF(INDIRECT(CR104):INDIRECT(CS104),0))),SUM(COUNTIF(INDIRECT(CR104):INDIRECT(CS104),2),COUNTIF(INDIRECT(CR104):INDIRECT(CS104),1),COUNTIF(INDIRECT(CR104):INDIRECT(CS104),0)),\"\")","v":""},{"$f":"IF(ISNUMBER(SUM(COUNTIF(INDIRECT(CR104):INDIRECT(CT104),2),COUNTIF(INDIRECT(CR104):INDIRECT(CT104),1),COUNTIF(INDIRECT(CR104):INDIRECT(CT104),0))),SUM(COUNTIF(INDIRECT(CR104):INDIRECT(CT104),2),COUNTIF(INDIRECT(CR104):INDIRECT(CT104),1),COUNTIF(INDIRECT(CR104):INDIRECT(CT104),0)),\"\")","v":""},{"$f":"IF(ISNUMBER(SUM(COUNTIF(INDIRECT(CR104):INDIRECT(CU104),1),COUNTIF(INDIRECT(CR104):INDIRECT(CU104),0))),SUM(COUNTIF(INDIRECT(CR104):INDIRECT(CU104),1),COUNTIF(INDIRECT(CR104):INDIRECT(CU104),0)),\"\")","v":""},{"$f":"SUM(INDIRECT(CR104):INDIRECT(CS104))","v":{"$error":"#N/A"}},{"$f":"SUM(INDIRECT(CR104):INDIRECT(CT104))","v":{"$error":"#N/A"}},{"$f":"SUM(INDIRECT(CR104):INDIRECT(CU104))","v":{"$error":"#N/A"}}]

{"sheet":"Month 3","index":7,"n_rows":104,"n_cols":105,"rows_kept":104,"cut":false,"hidden":false,"merged":[[53,95,53,98],[53,99,53,101],[53,102,53,104],[6,23,20,35],[13,5,20,8]]}
[]
[]
[]
[]
[]
[null,null,null,null,"Student Name:",{"$f":"IF(ISTEXT('Month 1'!F6),'Month 1'!F6,\"\")","v":""},null,null,null,null,null,null,null,null,null,null,null,null,null,null,null,null,null,"General Notes:"]
["Go To:"]
[{"$f":"IF(ISBLANK('Month 1'!$F$12),\"Month 1\",'Month 1'!$F$12)","v":"--"},null,null,null,"Skill Title:",{"$f":"IF(ISTEXT('Month 1'!F8),'Month 1'!F8,\"\")","v":""}]
[{"$f":"IF(ISBLANK('Month 2'!$F$12),\"Month 2\",'Month 2'!$F$12)","v":"--"}]
[{"$f":"IF(ISBLANK('Month 3'!$F$12),\"Month 3\",'Month 3'!$F$12)","v":"--"},null,null,null,"Skill Type:",{"$f":"IF(ISBLANK('Month 1'!F10),\"\",'Month 1'!F10)","v":""}]
[{"$f":"IF(ISBLANK('Month 4'!$F$12),\"Month 4\",'Month 4'!$F$12)","v":"--"}]
[{"$f":"IF(ISBLANK('Month 5'!$F$12),\"Month 5\",'Month 5'!$F$12)","v":"--"},null,null,null,"Date Range:","--"]
[{"$f":"IF(ISBLANK('Month 6'!$F$12),\"Month 6\",'Month 6'!$F$12)","v":"--"}]
[{"$f":"IF(ISBLANK('Month 7'!$F$12),\"Month 7\",'Month 7'!$F$12)","v":"--"},null,null,null,"Objective:",{"$f":"IF(ISBLANK('Month 1'!$F$14),\"\",'Month 1'!$F$14)","v":""}]
[{"$f":"IF(ISBLANK('Month 8'!$F$12),\"Month 8\",'Month 8'!$F$12)","v":"--"}]
[{"$f":"IF(ISBLANK('Month 9'!$F$12),\"Month 9\",'Month 9'!$F$12)","v":"--"}]
[{"$f":"IF(ISBLANK('Month 10'!$F$12),\"Month 10\",'Month 10'!$F$12)","v":"--"}]
[{"$f":"IF(ISBLANK('Month 11'!$F$12),\"Month 11\",'Month 11'!$F$12)","v":"--"}]
[{"$f":"IF(ISBLANK('Month 12'!$F$12),\"Month 12\",'Month 12'!$F$12)","v":"--"}]
[]
[]
[]
[null,null,null,null,null,null,{"$f":"SUM(COUNTIF(G27:G76,\"+\"),COUNTIF(G27:G76,\"-\"),COUNTIF(G27:G76,\"y\"),COUNTIF(G27:G76,\"n\"),COUNTIF(G27:G76,1),COUNTIF(G27:G76,2))","v":0},0,0,0,0,0,0,0,0,0,0,0,0,0,0,0,0,0,0,0,0,0,0,0,0,0,0,0,0,0,0,{"$f":"SUM(G23:AK23)","v":0}]
[null,null,null,null,null,"Total Number Correct   à",{"$f":"IF(G23>0,SUM(CM55:CM104),\"\")","v":""},{"$f":"IF(H23>0,SUM(CL55:CL104),\"\")","v":""},{"$f":"IF(I23>0,SUM(CK55:CK104),\"\")","v":""},{"$f":"IF(J23>0,SUM(CJ55:CJ104),\"\")","v":""},{"$f":"IF(K23>0,SUM(CI55:CI104),\"\")","v":""},{"$f":"IF(L23>0,SUM(CH55:CH104),\"\")","v":""},{"$f":"IF(M23>0,SUM(CG55:CG104),\"\")","v":""},{"$f":"IF(N23>0,SUM(CF55:CF104),\"\")","v":""},{"$f":"IF(O23>0,SUM(CE55:CE104),\"\")","v":""},{"$f":"IF(P23>0,SUM(CD55:CD104),\"\")","v":""},{"$f":"IF(Q23>0,SUM(CC55:CC104),\"\")","v":""},{"$f":"IF(R23>0,SUM(CB55:CB104),\"\")","v":""},{"$f":"IF(S23>0,SUM(CA55:CA104),\"\")","v":""},{"$f":"IF(T23>0,SUM(BZ55:BZ104),\"\")","v":""},{"$f":"IF(U23>0,SUM(BY55:BY104),\"\")","v":""},{"$f":"IF(V23>0,SUM(BX55:BX104),\"\")","v":""},{"$f":"IF(W23>0,SUM(BW55:BW104),\"\")","v":""},{"$f":"IF(X23>0,SUM(BV55:BV104),\"\")","v":""},{"$f":"IF(Y23>0,SUM(BU55:BU104),\"\")","v":""},{"$f":"IF(Z23>0,SUM(BT55:BT104),\"\")","v":""},{"$f":"IF(AA23>0,SUM(BS55:BS104),\"\")","v":""},{"$f":"IF(AB23>0,SUM(BR55:BR104),\"\")","v":""},{"$f":"IF(AC23>0,SUM(BQ55:BQ104),\"\")","v":""},{"$f":"IF(AD23>0,SUM(BP55:BP104),\"\")","v":""},{"$f":"IF(AE23>0,SUM(BO55:BO104),\"\")","v":""},{"$f":"IF(AF23>0,SUM(BN55:BN104),\"\")","v":""},{"$f":"IF(AG23>0,SUM(BM55:BM104),\"\")","v":""},{"$f":"IF(AH23>0,SUM(BL55:BL104),\"\")","v":""},{"$f":"IF(AI23>0,SUM(BK55:BK104),\"\")","v":""},{"$f":"IF(AJ23>0,SUM(BJ55:BJ104),\"\")","v":""},{"$f":"IF(AK23>0,SUM(BI55:BI104),\"\")","v":""}]
[null,null,{"$f":"50-SUM(C27:C76)","v":0},"Note",null,"Initials   à"]
[null,null,0,"â",null,"Date   à"]
[null,null,{"$f":"IF(F27=\"\",1,0)","v":1},{"$f":"IF(Modifications!$C$2=2,\"N\",\"\")","v":""},{"$f":"IF(AND(BH55>0,$F$10=\"\"),\"Choose Skill Type\",IF(CX55=\"\",\"\",IF(AND(DA55=3,$F$10=\"Multi-Step (Task Analysis)\"),\"Add Next Step\",IF(AND(DA55=3,$F$10=\"Multi-Stimulus (Different Sd's)\"),\"Continue\",IF(OR(AND(CV55=5,CY55<=1),AND(CW55=4,CZ55=0)),\"Intervene\",IF(OR(AND(CV55=5,CY55<=2),AND(CW55=4,CZ55<=1),AND(CX55=3,DA55=0)),\"Check\",\"Continue\"))))))","v":""},{"$f":"IF(ISBLANK('Month 1'!$F$27),\"\",'Month 1'!$F$27)","v":""}]
[null,null,{"$f":"IF(F28=\"\",1,0)","v":1},{"$f":"IF(Modifications!$C$3=2,\"N\",\"\")","v":""},"",{"$f":"IF(ISBLANK('Month 1'!$F$28),\"\",'Month 1'!$F$28)","v":""}]
[null,null,1,{"$f":"IF(Modifications!$C$4=2,\"N\",\"\")","v":""},"",{"$f":"IF(ISBLANK('Month 1'!$F$29),\"\",'Month 1'!$F$29)","v":""}]
[null,null,1,{"$f":"IF(Modifications!$C$5=2,\"N\",\"\")","v":""},"",{"$f":"IF(ISBLANK('Month 1'!$F$30),\"\",'Month 1'!$F$30)","v":""}]
[null,null,1,{"$f":"IF(Modifications!$C$6=2,\"N\",\"\")","v":""},"",{"$f":"IF(ISBLANK('Month 1'!$F$31),\"\",'Month 1'!$F$31)","v":""}]
[null,null,1,{"$f":"IF(Modifications!$C$7=2,\"N\",\"\")","v":""},"",{"$f":"IF(ISBLANK('Month 1'!$F$32),\"\",'Month 1'!$F$32)","v":""}]
[null,null,1,{"$f":"IF(Modifications!$C$8=2,\"N\",\"\")","v":""},"",{"$f":"IF(ISBLANK('Month 1'!$F$33),\"\",'Month 1'!$F$33)","v":""}]
[null,null,1,{"$f":"IF(Modifications!$C$9=2,\"N\",\"\")","v":""},"",{"$f":"IF(ISBLANK('Month 1'!$F$34),\"\",'Month 1'!$F$34)","v":""}]
[null,null,1,{"$f":"IF(Modifications!$C$10=2,\"N\",\"\")","v":""},"",{"$f":"IF(ISBLANK('Month 1'!$F$35),\"\",'Month 1'!$F$35)","v":""}]
[null,null,1,{"$f":"IF(Modifications!$C$11=2,\"N\",\"\")","v":""},"",{"$f":"IF(ISBLANK('Month 1'!$F$36),\"\",'Month 1'!$F$36)","v":""}]
[null,null,1,{"$f":"IF(Modifications!$C$12=2,\"N\",\"\")","v":""},"",{"$f":"IF(ISBLANK('Month 1'!$F$37),\"\",'Month 1'!$F$37)","v":""}]
[null,null,1,{"$f":"IF(Modifications!$C$13=2,\"N\",\"\")","v":""},"",{"$f":"IF(ISBLANK('Month 1'!$F$38),\"\",'Month 1'!$F$38)","v":""}]
[null,null,1,{"$f":"IF(Modifications!$C$14=2,\"N\",\"\")","v":""},"",{"$f":"IF(ISBLANK('Month 1'!$F$39),\"\",'Month 1'!$F$39)","v":""}]
[null,null,1,{"$f":"IF(Modifications!$C$15=2,\"N\",\"\")","v":""},"",{"$f":"IF(ISBLANK('Month 1'!$F$40),\"\",'Month 1'!$F$40)","v":""}]
[null,null,1,{"$f":"IF(Modifications!$C$16=2,\"N\",\"\")","v":""},"",{"$f":"IF(ISBLANK('Month 1'!$F$41),\"\",'Month 1'!$F$41)","v":""}]
[null,null,1,{"$f":"IF(Modifications!$C$17=2,\"N\",\"\")","v":""},"",{"$f":"IF(ISBLANK('Month 1'!$F$42),\"\",'Month 1'!$F$42)","v":""}]
[null,null,1,{"$f":"IF(Modifications!$C$18=2,\"N\",\"\")","v":""},"",{"$f":"IF(ISBLANK('Month 1'!$F$43),\"\",'Month 1'!$F$43)","v":""}]
[null,null,1,{"$f":"IF(Modifications!$C$19=2,\"N\",\"\")","v":""},"",{"$f":"IF(ISBLANK('Month 1'!$F$44),\"\",'Month 1'!$F$44)","v":""}]
[null,null,1,{"$f":"IF(Modifications!$C$20=2,\"N\",\"\")","v":""},"",{"$f":"IF(ISBLANK('Month 1'!$F$45),\"\",'Month 1'!$F$45)","v":""}]
[null,null,1,{"$f":"IF(Modifications!$C$21=2,\"N\",\"\")","v":""},"",{"$f":"IF(ISBLANK('Month 1'!$F$46),\"\",'Month 1'!$F$46)","v":""}]
[null,null,1,{"$f":"IF(Modifications!$C$22=2,\"N\",\"\")","v":""},"",{"$f":"IF(ISBLANK('Month 1'!$F$47),\"\",'Month 1'!$F$47)","v":""}]
[null,null,1,{"$f":"IF(Modifications!$C$23=2,\"N\",\"\")","v":""},"",{"$f":"IF(ISBLANK('Month 1'!$F$48),\"\",'Month 1'!$F$48)","v":""}]
[null,null,1,{"$f":"IF(Modifications!$C$24=2,\"N\",\"\")","v":""},"",{"$f":"IF(ISBLANK('Month 1'!$F$49),\"\",'Month 1'!$F$49)","v":""}]
[null,null,1,{"$f":"IF(Modifications!$C$25=2,\"N\",\"\")","v":""},"",{"$f":"IF(ISBLANK('Month 1'!$F$50),\"\",'Month 1'!$F$50)","v":""}]
[null,null,1,{"$f":"IF(Modifications!$C$26=2,\"N\",\"\")","v":""},"",{"$f":"IF(ISBLANK('Month 1'!$F$51),\"\",'Month 1'!$F$51)","v":""}]
[null,null,1,{"$f":"IF(Modifications!$C$27=2,\"N\",\"\")","v":""},"",{"$f":"IF(ISBLANK('Month 1'!$F$52),\"\",'Month 1'!$F$52)","v":""}]
[null,null,1,{"$f":"IF(Modifications!$C$28=2,\"N\",\"\")","v":""},"",{"$f":"IF(ISBLANK('Month 1'!$F$53),\"\",'Month 1'!$F$53)","v":""}]
[null,null,1,{"$f":"IF(Modifications!$C$29=2,\"N\",\"\")","v":""},"",{"$f":"IF(ISBLANK('Month 1'!$F$54),\"\",'Month 1'!$F$54)","v":""},null,null,null,null,null,null,null,null,null,null,null,null,null,null,null,null,null,null,null,null,null,null,null,null,null,null,null,null,null,null,null,null,null,null,null,null,null,null,null,null,null,null,null,null,null,null,null,null,null,null,null,null,null,null,null,null,null,null,null,null,null,null,null,null,null,null,null,null,null,null,null,null,null,null,null,null,null,null,null,null,null,null,null,null,null,null,null,null,null,"Locations (start,5,4,3)",null,null,null,"Are they in a row? (5,4,3)",null,null,"Sum of items in row (5,4,3)"]
[null,null,1,{"$f":"IF(Modifications!$C$30=2,\"N\",\"\")","v":""},"",{"$f":"IF(ISBLANK('Month 1'!$F$55),\"\",'Month 1'!$F$55)","v":""},null,null,null,null,null,null,null,null,null,null,null,null,null,null,null,null,null,null,null,null,null,null,null,null,null,null,null,null,null,null,null,null,null,null,null,null,null,null,null,null,null,null,null,null,null,null,null,null,null,null,null,null,null,{"$f":"SUM(COUNTIF(BI55:CM55,1),COUNTIF(BI55:CM55,0))","v":0},{"$f":"IF(OR(AK27=\"+\",AK27=\"Y\",AK27=2),1,IF(OR(AK27=\"-\",AK27=\"N\",AK27=1),0,IF(OR(BJ55=1,BJ55=0),\"#\",\"@\")))","v":"@"},{"$f":"IF(OR(AJ27=\"+\",AJ27=\"Y\",AJ27=2),1,IF(OR(AJ27=\"-\",AJ27=\"N\",AJ27=1),0,IF(OR(BK55=1,BK55=0),\"#\",\"@\")))","v":"@"},{"$f":"IF(OR(AI27=\"+\",AI27=\"Y\",AI27=2),1,IF(OR(AI27=\"-\",AI27=\"N\",AI27=1),0,IF(OR(BL55=1,BL55=0),\"#\",\"@\")))","v":"@"},{"$f":"IF(OR(AH27=\"+\",AH27=\"Y\",AH27=2),1,IF(OR(AH27=\"-\",AH27=\"N\",AH27=1),0,IF(OR(BM55=1,BM55=0),\"#\",\"@\")))","v":"@"},{"$f":"IF(OR(AG27=\"+\",AG27=\"Y\",AG27=2),1,IF(OR(AG27=\"-\",AG27=\"N\",AG27=1),0,IF(OR(BN55=1,BN55=0),\"#\",\"@\")))","v":"@"},{"$f":"IF(OR(AF27=\"+\",AF27=\"Y\",AF27=2),1,IF(OR(AF27=\"-\",AF27=\"N\",AF27=1),0,IF(OR(BO55=1,BO55=0),\"#\",\"@\")))","v":"@"},{"$f":"IF(OR(AE27=\"+\",AE27=\"Y\",AE27=2),1,IF(OR(AE27=\"-\",AE27=\"N\",AE27=1),0,IF(OR(BP55=1,BP55=0),\"#\",\"@\")))","v":"@"},{"$f":"IF(OR(AD27=\"+\",AD27=\"Y\",AD27=2),1,IF(OR(AD27=\"-\",AD27=\"N\",AD27=1),0,IF(OR(BQ55=1,BQ55=0),\"#\",\"@\")))","v":"@"},{"$f":"IF(OR(AC27=\"+\",AC27=\"Y\",AC27=2),1,IF(OR(AC27=\"-\",AC27=\"N\",AC27=1),0,IF(OR(BR55=1,BR55=0),\"#\",\"@\")))","v":"@"},{"$f":"IF(OR(AB27=\"+\",AB27=\"Y\",AB27=2),1,IF(OR(AB27=\"-\",AB27=\"N\",AB27=1),0,IF(OR(BS55=1,BS55=0),\"#\",\"@\")))","v":"@"},{"$f":"IF(OR(AA27=\"+\",AA27=\"Y\",AA27=2),1,IF(OR(AA27=\"-\",AA27=\"N\",AA27=1),0,IF(OR(BT55=1,BT55=0),\"#\",\"@\")))","v":"@"},{"$f":"IF(OR(Z27=\"+\",Z27=\"Y\",Z27=2),1,IF(OR(Z27=\"-\",Z27=\"N\",Z27=1),0,IF(OR(BU55=1,BU55=0),\"#\",\"@\")))","v":"@"},{"$f":"IF(OR(Y27=\"+\",Y27=\"Y\",Y27=2),1,IF(OR(Y27=\"-\",Y27=\"N\",Y27=1),0,IF(OR(BV55=1,BV55=0),\"#\",\"@\")))","v":"@"},{"$f":"IF(OR(X27=\"+\",X27=\"Y\",X27=2),1,IF(OR(X27=\"-\",X27=\"N\",X27=1),0,IF(OR(BW55=1,BW55=0),\"#\",\"@\")))","v":"@"},{"$f":"IF(OR(W27=\"+\",W27=\"Y\",W27=2),1,IF(OR(W27=\"-\",W27=\"N\",W27=1),0,IF(OR(BX55=1,BX55=0),\"#\",\"@\")))","v":"@"},{"$f":"IF(OR(V27=\"+\",V27=\"Y\",V27=2),1,IF(OR(V27=\"-\",V27=\"N\",V27=1),0,IF(OR(BY55=1,BY55=0),\"#\",\"@\")))","v":"@"},{"$f":"IF(OR(U27=\"+\",U27=\"Y\",U27=2),1,IF(OR(U27=\"-\",U27=\"N\",U27=1),0,IF(OR(BZ55=1,BZ55=0),\"#\",\"@\")))","v":"@"},{"$f":"IF(OR(T27=\"+\",T27=\"Y\",T27=2),1,IF(OR(T27=\"-\",T27=\"N\",T27=1),0,IF(OR(CA55=1,CA55=0),\"#\",\"@\")))","v":"@"},{"$f":"IF(OR(S27=\"+\",S27=\"Y\",S27=2),1,IF(OR(S27=\"-\",S27=\"N\",S27=1),0,IF(OR(CB55=1,CB55=0),\"#\",\"@\")))","v":"@"},{"$f":"IF(OR(R27=\"+\",R27=\"Y\",R27=2),1,IF(OR(R27=\"-\",R27=\"N\",R27=1),0,IF(OR(CC55=1,CC55=0),\"#\",\"@\")))","v":"@"},{"$f":"IF(OR(Q27=\"+\",Q27=\"Y\",Q27=2),1,IF(OR(Q27=\"-\",Q27=\"N\",Q27=1),0,IF(OR(CD55=1,CD55=0),\"#\",\"@\")))","v":"@"},{"$f":"IF(OR(P27=\"+\",P27=\"Y\",P27=2),1,IF(OR(P27=\"-\",P27=\"N\",P27=1),0,IF(OR(CE55=1,CE55=0),\"#\",\"@\")))","v":"@"},{"$f":"IF(OR(O27=\"+\",O27=\"Y\",O27=2),1,IF(OR(O27=\"-\",O27=\"N\",O27=1),0,IF(OR(CF55=1,CF55=0),\"#\",\"@\")))","v":"@"},{"$f":"IF(OR(N27=\"+\",N27=\"Y\",N27=2),1,IF(OR(N27=\"-\",N27=\"N\",N27=1),0,IF(OR(CG55=1,CG55=0),\"#\",\"@\")))","v":"@"},{"$f":"IF(OR(M27=\"+\",M27=\"Y\",M27=2),1,IF(OR(M27=\"-\",M27=\"N\",M27=1),0,IF(OR(CH55=1,CH55=0),\"#\",\"@\")))","v":"@"},{"$f":"IF(OR(L27=\"+\",L27=\"Y\",L27=2),1,IF(OR(L27=\"-\",L27=\"N\",L27=1),0,IF(OR(CI55=1,CI55=0),\"#\",\"@\")))","v":"@"},{"$f":"IF(OR(K27=\"+\",K27=\"Y\",K27=2),1,IF(OR(K27=\"-\",K27=\"N\",K27=1),0,IF(OR(CJ55=1,CJ55=0),\"#\",\"@\")))","v":"@"},{"$f":"IF(OR(J27=\"+\",J27=\"Y\",J27=2),1,IF(OR(J27=\"-\",J27=\"N\",J27=1),0,IF(OR(CK55=1,CK55=0),\"#\",\"@\")))","v":"@"},{"$f":"IF(OR(I27=\"+\",I27=\"Y\",I27=2),1,IF(OR(I27=\"-\",I27=\"N\",I27=1),0,IF(OR(CL55=1,CL55=0),\"#\",\"@\")))","v":"@"},{"$f":"IF(OR(H27=\"+\",H27=\"Y\",H27=2),1,IF(OR(H27=\"-\",H27=\"N\",H27=1),0,IF(OR(CM55=1,CM55=0),\"#\",\"@\")))","v":"@"},{"$f":"IF(OR(G27=\"+\",G27=\"Y\",G27=2),1,IF(OR(G27=\"-\",G27=\"N\",G27=1),0,\"@\"))","v":"@"},{"$f":"'Month 2'!BL55","v":"@"},{"$f":"'Month 2'!BK55","v":"@"},{"$f":"'Month 2'!BJ55","v":"@"},{"$f":"'Month 2'!BI55","v":"@"},{"$f":"ADDRESS(ROW(BH55),(MATCH(\"#\",BI55:CM55,0)+61))","v":{"$error":"#N/A"}},{"$f":"ADDRESS(ROW(BH55),(MATCH(\"#\",BI55:CM55,0)+65))","v":{"$error":"#N/A"}},{"$f":"ADDRESS(ROW(BH55),(MATCH(\"#\",BI55:CM55,0)+64))","v":{"$error":"#N/A"}},{"$f":"ADDRESS(ROW(BH55),(MATCH(\"#\",BI55:CM55,0)+63))","v":{"$error":"#N/A"}},{"$f":"IF(ISNUMBER(SUM(COUNTIF(INDIRECT(CR55):INDIRECT(CS55),2),COUNTIF(INDIRECT(CR55):INDIRECT(CS55),1),COUNTIF(INDIRECT(CR55):INDIRECT(CS55),0))),SUM(COUNTIF(INDIRECT(CR55):INDIRECT(CS55),2),COUNTIF(INDIRECT(CR55):INDIRECT(CS55),1),COUNTIF(INDIRECT(CR55):INDIRECT(CS55),0)),\"\")","v":""},{"$f":"IF(ISNUMBER(SUM(COUNTIF(INDIRECT(CR55):INDIRECT(CT55),2),COUNTIF(INDIRECT(CR55):INDIRECT(CT55),1),COUNTIF(INDIRECT(CR55):INDIRECT(CT55),0))),SUM(COUNTIF(INDIRECT(CR55):INDIRECT(CT55),2),COUNTIF(INDIRECT(CR55):INDIRECT(CT55),1),COUNTIF(INDIRECT(CR55):INDIRECT(CT55),0)),\"\")","v":""},{"$f":"IF(ISNUMBER(SUM(COUNTIF(INDIRECT(CR55):INDIRECT(CU55),1),COUNTIF(INDIRECT(CR55):INDIRECT(CU55),0))),SUM(COUNTIF(INDIRECT(CR55):INDIRECT(CU55),1),COUNTIF(INDIRECT(CR55):INDIRECT(CU55),0)),\"\")","v":""},{"$f":"SUM(INDIRECT(CR55):INDIRECT(CS55))","v":{"$error":"#N/A"}},{"$f":"SUM(INDIRECT(CR55):INDIRECT(CT55))","v":{"$error":"#N/A"}},{"$f":"SUM(INDIRECT(CR55):INDIRECT(CU55))","v":{"$error":"#N/A"}}]
[null,null,1,{"$f":"IF(Modifications!$C$31=2,\"N\",\"\")","v":""},"",{"$f":"IF(ISBLANK('Month 1'!$F$56),\"\",'Month 1'!$F$56)","v":""},null,null,null,null,null,null,null,null,null,null,null,null,null,null,null,null,null,null,null,null,null,null,null,null,null,null,null,null,null,null,null,null,null,null,null,null,null,null,null,null,null,null,null,null,null,null,null,null,null,null,null,null,null,0,"@","@","@","@","@","@","@","@","@","@","@","@","@","@","@","@","@","@","@","@","@","@","@","@","@","@","@","@","@","@","@",{"$f":"'Month 2'!BL56","v":"@"},{"$f":"'Month 2'!BK56","v":"@"},{"$f":"'Month 2'!BJ56","v":"@"},{"$f":"'Month 2'!BI56","v":"@"},{"$error":"#N/A"},{"$error":"#N/A"},{"$error":"#N/A"},{"$error":"#N/A"},{"$f":"IF(ISNUMBER(SUM(COUNTIF(INDIRECT(CR56):INDIRECT(CS56),2),COUNTIF(INDIRECT(CR56):INDIRECT(CS56),1),COUNTIF(INDIRECT(CR56):INDIRECT(CS56),0))),SUM(COUNTIF(INDIRECT(CR56):INDIRECT(CS56),2),COUNTIF(INDIRECT(CR56):INDIRECT(CS56),1),COUNTIF(INDIRECT(CR56):INDIRECT(CS56),0)),\"\")","v":""},{"$f":"IF(ISNUMBER(SUM(COUNTIF(INDIRECT(CR56):INDIRECT(CT56),2),COUNTIF(INDIRECT(CR56):INDIRECT(CT56),1),COUNTIF(INDIRECT(CR56):INDIRECT(CT56),0))),SUM(COUNTIF(INDIRECT(CR56):INDIRECT(CT56),2),COUNTIF(INDIRECT(CR56):INDIRECT(CT56),1),COUNTIF(INDIRECT(CR56):INDIRECT(CT56),0)),\"\")","v":""},{"$f":"IF(ISNUMBER(SUM(COUNTIF(INDIRECT(CR56):INDIRECT(CU56),1),COUNTIF(INDIRECT(CR56):INDIRECT(CU56),0))),SUM(COUNTIF(INDIRECT(CR56):INDIRECT(CU56),1),COUNTIF(INDIRECT(CR56):INDIRECT(CU56),0)),\"\")","v":""},{"$f":"SUM(INDIRECT(CR56):INDIRECT(CS56))","v":{"$error":"#N/A"}},{"$f":"SUM(INDIRECT(CR56):INDIRECT(CT56))","v":{"$error":"#N/A"}},{"$f":"SUM(INDIRECT(CR56):INDIRECT(CU56))","v":{"$error":"#N/A"}}]
[null,null,1,{"$f":"IF(Modifications!$C$32=2,\"N\",\"\")","v":""},"",{"$f":"IF(ISBLANK('Month 1'!$F$57),\"\",'Month 1'!$F$57)","v":""},null,null,null,null,null,null,null,null,null,null,null,null,null,null,null,null,null,null,null,null,null,null,null,null,null,null,null,null,null,null,null,null,null,null,null,null,null,null,null,null,null,null,null,null,null,null,null,null,null,null,null,null,null,0,"@","@","@","@","@","@","@","@","@","@","@","@","@","@","@","@","@","@","@","@","@","@","@","@","@","@","@","@","@","@","@",{"$f":"'Month 2'!BL57","v":"@"},{"$f":"'Month 2'!BK57","v":"@"},{"$f":"'Month 2'!BJ57","v":"@"},{"$f":"'Month 2'!BI57","v":"@"},{"$error":"#N/A"},{"$error":"#N/A"},{"$error":"#N/A"},{"$error":"#N/A"},{"$f":"IF(ISNUMBER(SUM(COUNTIF(INDIRECT(CR57):INDIRECT(CS57),2),COUNTIF(INDIRECT(CR57):INDIRECT(CS57),1),COUNTIF(INDIRECT(CR57):INDIRECT(CS57),0))),SUM(COUNTIF(INDIRECT(CR57):INDIRECT(CS57),2),COUNTIF(INDIRECT(CR57):INDIRECT(CS57),1),COUNTIF(INDIRECT(CR57):INDIRECT(CS57),0)),\"\")","v":""},{"$f":"IF(ISNUMBER(SUM(COUNTIF(INDIRECT(CR57):INDIRECT(CT57),2),COUNTIF(INDIRECT(CR57):INDIRECT(CT57),1),COUNTIF(INDIRECT(CR57):INDIRECT(CT57),0))),SUM(COUNTIF(INDIRECT(CR57):INDIRECT(CT57),2),COUNTIF(INDIRECT(CR57):INDIRECT(CT57),1),COUNTIF(INDIRECT(CR57):INDIRECT(CT57),0)),\"\")","v":""},{"$f":"IF(ISNUMBER(SUM(COUNTIF(INDIRECT(CR57):INDIRECT(CU57),1),COUNTIF(INDIRECT(CR57):INDIRECT(CU57),0))),SUM(COUNTIF(INDIRECT(CR57):INDIRECT(CU57),1),COUNTIF(INDIRECT(CR57):INDIRECT(CU57),0)),\"\")","v":""},{"$f":"SUM(INDIRECT(CR57):INDIRECT(CS57))","v":{"$error":"#N/A"}},{"$f":"SUM(INDIRECT(CR57):INDIRECT(CT57))","v":{"$error":"#N/A"}},{"$f":"SUM(INDIRECT(CR57):INDIRECT(CU57))","v":{"$error":"#N/A"}}]
[null,null,1,{"$f":"IF(Modifications!$C$33=2,\"N\",\"\")","v":""},"",{"$f":"IF(ISBLANK('Month 1'!$F$58),\"\",'Month 1'!$F$58)","v":""},null,null,null,null,null,null,null,null,null,null,null,null,null,null,null,null,null,null,null,null,null,null,null,null,null,null,null,null,null,null,null,null,null,null,null,null,null,null,null,null,null,null,null,null,null,null,null,null,null,null,null,null,null,0,"@","@","@","@","@","@","@","@","@","@","@","@","@","@","@","@","@","@","@","@","@","@","@","@","@","@","@","@","@","@","@",{"$f":"'Month 2'!BL58","v":"@"},{"$f":"'Month 2'!BK58","v":"@"},{"$f":"'Month 2'!BJ58","v":"@"},{"$f":"'Month 2'!BI58","v":"@"},{"$error":"#N/A"},{"$error":"#N/A"},{"$error":"#N/A"},{"$error":"#N/A"},{"$f":"IF(ISNUMBER(SUM(COUNTIF(INDIRECT(CR58):INDIRECT(CS58),2),COUNTIF(INDIRECT(CR58):INDIRECT(CS58),1),COUNTIF(INDIRECT(CR58):INDIRECT(CS58),0))),SUM(COUNTIF(INDIRECT(CR58):INDIRECT(CS58),2),COUNTIF(INDIRECT(CR58):INDIRECT(CS58),1),COUNTIF(INDIRECT(CR58):INDIRECT(CS58),0)),\"\")","v":""},{"$f":"IF(ISNUMBER(SUM(COUNTIF(INDIRECT(CR58):INDIRECT(CT58),2),COUNTIF(INDIRECT(CR58):INDIRECT(CT58),1),COUNTIF(INDIRECT(CR58):INDIRECT(CT58),0))),SUM(COUNTIF(INDIRECT(CR58):INDIRECT(CT58),2),COUNTIF(INDIRECT(CR58):INDIRECT(CT58),1),COUNTIF(INDIRECT(CR58):INDIRECT(CT58),0)),\"\")","v":""},{"$f":"IF(ISNUMBER(SUM(COUNTIF(INDIRECT(CR58):INDIRECT(CU58),1),COUNTIF(INDIRECT(CR58):INDIRECT(CU58),0))),SUM(COUNTIF(INDIRECT(CR58):INDIRECT(CU58),1),COUNTIF(INDIRECT(CR58):INDIRECT(CU58),0)),\"\")","v":""},{"$f":"SUM(INDIRECT(CR58):INDIRECT(CS58))","v":{"$error":"#N/A"}},{"$f":"SUM(INDIRECT(CR58):INDIRECT(CT58))","v":{"$error":"#N/A"}},{"$f":"SUM(INDIRECT(CR58):INDIRECT(CU58))","v":{"$error":"#N/A"}}]
[null,null,1,{"$f":"IF(Modifications!$C$34=2,\"N\",\"\")","v":""},{"$f":"IF(AND(BH87>0,$F$10=\"\"),\"Choose Skill Type\",IF(CX87=\"\",\"\",IF(AND(DA87=3,$F$10=\"Multi-Step (Task Analysis)\"),\"Add Next Step\",IF(AND(DA87=3,$F$10=\"Multi-Stimulus (Different Sd's)\"),\"Continue\",IF(OR(AND(CV87=5,CY87<=1),AND(CW87=4,CZ87=0)),\"Intervene\",IF(OR(AND(CV87=5,CY87<=2),AND(CW87=4,CZ87<=1),AND(CX87=3,DA87=0)),\"Check\",\"Continue\"))))))","v":""},{"$f":"IF(ISBLANK('Month 1'!$F$59),\"\",'Month 1'!$F$59)","v":""},null,null,null,null,null,null,null,null,null,null,null,null,null,null,null,null,null,null,null,null,null,null,null,null,null,null,null,null,null,null,null,null,null,null,null,null,null,null,null,null,null,null,null,null,null,null,null,null,null,null,null,null,null,0,"@","@","@","@","@","@","@","@","@","@","@","@","@","@","@","@","@","@","@","@","@","@","@","@","@","@","@","@","@","@","@",{"$f":"'Month 2'!BL59","v":"@"},{"$f":"'Month 2'!BK59","v":"@"},{"$f":"'Month 2'!BJ59","v":"@"},{"$f":"'Month 2'!BI59","v":"@"},{"$error":"#N/A"},{"$error":"#N/A"},{"$error":"#N/A"},{"$error":"#N/A"},{"$f":"IF(ISNUMBER(SUM(COUNTIF(INDIRECT(CR59):INDIRECT(CS59),2),COUNTIF(INDIRECT(CR59):INDIRECT(CS59),1),COUNTIF(INDIRECT(CR59):INDIRECT(CS59),0))),SUM(COUNTIF(INDIRECT(CR59):INDIRECT(CS59),2),COUNTIF(INDIRECT(CR59):INDIRECT(CS59),1),COUNTIF(INDIRECT(CR59):INDIRECT(CS59),0)),\"\")","v":""},{"$f":"IF(ISNUMBER(SUM(COUNTIF(INDIRECT(CR59):INDIRECT(CT59),2),COUNTIF(INDIRECT(CR59):INDIRECT(CT59),1),COUNTIF(INDIRECT(CR59):INDIRECT(CT59),0))),SUM(COUNTIF(INDIRECT(CR59):INDIRECT(CT59),2),COUNTIF(INDIRECT(CR59):INDIRECT(CT59),1),COUNTIF(INDIRECT(CR59):INDIRECT(CT59),0)),\"\")","v":""},{"$f":"IF(ISNUMBER(SUM(COUNTIF(INDIRECT(CR59):INDIRECT(CU59),1),COUNTIF(INDIRECT(CR59):INDIRECT(CU59),0))),SUM(COUNTIF(INDIRECT(CR59):INDIRECT(CU59),1),COUNTIF(INDIRECT(CR59):INDIRECT(CU59),0)),\"\")","v":""},{"$f":"SUM(INDIRECT(CR59):INDIRECT(CS59))","v":{"$error":"#N/A"}},{"$f":"SUM(INDIRECT(CR59):INDIRECT(CT59))","v":{"$error":"#N/A"}},{"$f":"SUM(INDIRECT(CR59):INDIRECT(CU59))","v":{"$error":"#N/A"}}]
[null,null,1,{"$f":"IF(Modifications!$C$35=2,\"N\",\"\")","v":""},"",{"$f":"IF(ISBLANK('Month 1'!$F$60),\"\",'Month 1'!$F$60)","v":""},null,null,null,null,null,null,null,null,null,null,null,null,null,null,null,null,null,null,null,null,null,null,null,null,null,null,null,null,null,null,null,null,null,null,null,null,null,null,null,null,null,null,null,null,null,null,null,null,null,null,null,null,null,0,"@","@","@","@","@","@","@","@","@","@","@","@","@","@","@","@","@","@","@","@","@","@","@","@","@","@","@","@","@","@","@",{"$f":"'Month 2'!BL60","v":"@"},{"$f":"'Month 2'!BK60","v":"@"},{"$f":"'Month 2'!BJ60","v":"@"},{"$f":"'Month 2'!BI60","v":"@"},{"$error":"#N/A"},{"$error":"#N/A"},{"$error":"#N/A"},{"$error":"#N/A"},{"$f":"IF(ISNUMBER(SUM(COUNTIF(INDIRECT(CR60):INDIRECT(CS60),2),COUNTIF(INDIRECT(CR60):INDIRECT(CS60),1),COUNTIF(INDIRECT(CR60):INDIRECT(CS60),0))),SUM(COUNTIF(INDIRECT(CR60):INDIRECT(CS60),2),COUNTIF(INDIRECT(CR60):INDIRECT(CS60),1),COUNTIF(INDIRECT(CR60):INDIRECT(CS60),0)),\"\")","v":""},{"$f":"IF(ISNUMBER(SUM(COUNTIF(INDIRECT(CR60):INDIRECT(CT60),2),COUNTIF(INDIRECT(CR60):INDIRECT(CT60),1),COUNTIF(INDIRECT(CR60):INDIRECT(CT60),0))),SUM(COUNTIF(INDIRECT(CR60):INDIRECT(CT60),2),COUNTIF(INDIRECT(CR60):INDIRECT(CT60),1),COUNTIF(INDIRECT(CR60):INDIRECT(CT60),0)),\"\")","v":""},{"$f":"IF(ISNUMBER(SUM(COUNTIF(INDIRECT(CR60):INDIRECT(CU60),1),COUNTIF(INDIRECT(CR60):INDIRECT(CU60),0))),SUM(COUNTIF(INDIRECT(CR60):INDIRECT(CU60),1),COUNTIF(INDIRECT(CR60):INDIRECT(CU60),0)),\"\")","v":""},{"$f":"SUM(INDIRECT(CR60):INDIRECT(CS60))","v":{"$error":"#N/A"}},{"$f":"SUM(INDIRECT(CR60):INDIRECT(CT60))","v":{"$error":"#N/A"}},{"$f":"SUM(INDIRECT(CR60):INDIRECT(CU60))","v":{"$error":"#N/A"}}]
[null,null,1,{"$f":"IF(Modifications!$C$36=2,\"N\",\"\")","v":""},"",{"$f":"IF(ISBLANK('Month 1'!$F$61),\"\",'Month 1'!$F$61)","v":""},null,null,null,null,null,null,null,null,null,null,null,null,null,null,null,null,null,null,null,null,null,null,null,null,null,null,null,null,null,null,null,null,null,null,null,null,null,null,null,null,null,null,null,null,null,null,null,null,null,null,null,null,null,0,"@","@","@","@","@","@","@","@","@","@","@","@","@","@","@","@","@","@","@","@","@","@","@","@","@","@","@","@","@","@","@",{"$f":"'Month 2'!BL61","v":"@"},{"$f":"'Month 2'!BK61","v":"@"},{"$f":"'Month 2'!BJ61","v":"@"},{"$f":"'Month 2'!BI61","v":"@"},{"$error":"#N/A"},{"$error":"#N/A"},{"$error":"#N/A"},{"$error":"#N/A"},{"$f":"IF(ISNUMBER(SUM(COUNTIF(INDIRECT(CR61):INDIRECT(CS61),2),COUNTIF(INDIRECT(CR61):INDIRECT(CS61),1),COUNTIF(INDIRECT(CR61):INDIRECT(CS61),0))),SUM(COUNTIF(INDIRECT(CR61):INDIRECT(CS61),2),COUNTIF(INDIRECT(CR61):INDIRECT(CS61),1),COUNTIF(INDIRECT(CR61):INDIRECT(CS61),0)),\"\")","v":""},{"$f":"IF(ISNUMBER(SUM(COUNTIF(INDIRECT(CR61):INDIRECT(CT61),2),COUNTIF(INDIRECT(CR61):INDIRECT(CT61),1),COUNTIF(INDIRECT(CR61):INDIRECT(CT61),0))),SUM(COUNTIF(INDIRECT(CR61):INDIRECT(CT61),2),COUNTIF(INDIRECT(CR61):INDIRECT(CT61),1),COUNTIF(INDIRECT(CR61):INDIRECT(CT61),0)),\"\")","v":""},{"$f":"IF(ISNUMBER(SUM(COUNTIF(INDIRECT(CR61):INDIRECT(CU61),1),COUNTIF(INDIRECT(CR61):INDIRECT(CU61),0))),SUM(COUNTIF(INDIRECT(CR61):INDIRECT(CU61),1),COUNTIF(INDIRECT(CR61):INDIRECT(CU61),0)),\"\")","v":""},{"$f":"SUM(INDIRECT(CR61):INDIRECT(CS61))","v":{"$error":"#N/A"}},{"$f":"SUM(INDIRECT(CR61):INDIRECT(CT61))","v":{"$error":"#N/A"}},{"$f":"SUM(INDIRECT(CR61):INDIRECT(CU61))","v":{"$error":"#N/A"}}]
[null,null,1,{"$f":"IF(Modifications!$C$37=2,\"N\",\"\")","v":""},"",{"$f":"IF(ISBLANK('Month 1'!$F$62),\"\",'Month 1'!$F$62)","v":""},null,null,null,null,null,null,null,null,null,null,null,null,null,null,null,null,null,null,null,null,null,null,null,null,null,null,null,null,null,null,null,null,null,null,null,null,null,null,null,null,null,null,null,null,null,null,null,null,null,null,null,null,null,0,"@","@","@","@","@","@","@","@","@","@","@","@","@","@","@","@","@","@","@","@","@","@","@","@","@","@","@","@","@","@","@",{"$f":"'Month 2'!BL62","v":"@"},{"$f":"'Month 2'!BK62","v":"@"},{"$f":"'Month 2'!BJ62","v":"@"},{"$f":"'Month 2'!BI62","v":"@"},{"$error":"#N/A"},{"$error":"#N/A"},{"$error":"#N/A"},{"$error":"#N/A"},{"$f":"IF(ISNUMBER(SUM(COUNTIF(INDIRECT(CR62):INDIRECT(CS62),2),COUNTIF(INDIRECT(CR62):INDIRECT(CS62),1),COUNTIF(INDIRECT(CR62):INDIRECT(CS62),0))),SUM(COUNTIF(INDIRECT(CR62):INDIRECT(CS62),2),COUNTIF(INDIRECT(CR62):INDIRECT(CS62),1),COUNTIF(INDIRECT(CR62):INDIRECT(CS62),0)),\"\")","v":""},{"$f":"IF(ISNUMBER(SUM(COUNTIF(INDIRECT(CR62):INDIRECT(CT62),2),COUNTIF(INDIRECT(CR62):INDIRECT(CT62),1),COUNTIF(INDIRECT(CR62):INDIRECT(CT62),0))),SUM(COUNTIF(INDIRECT(CR62):INDIRECT(CT62),2),COUNTIF(INDIRECT(CR62):INDIRECT(CT62),1),COUNTIF(INDIRECT(CR62):INDIRECT(CT62),0)),\"\")","v":""},{"$f":"IF(ISNUMBER(SUM(COUNTIF(INDIRECT(CR62):INDIRECT(CU62),1),COUNTIF(INDIRECT(CR62):INDIRECT(CU62),0))),SUM(COUNTIF(INDIRECT(CR62):INDIRECT(CU62),1),COUNTIF(INDIRECT(CR62):INDIRECT(CU62),0)),\"\")","v":""},{"$f":"SUM(INDIRECT(CR62):INDIRECT(CS62))","v":{"$error":"#N/A"}},{"$f":"SUM(INDIRECT(CR62):INDIRECT(CT62))","v":{"$error":"#N/A"}},{"$f":"SUM(INDIRECT(CR62):INDIRECT(CU62))","v":{"$error":"#N/A"}}]
[null,null,1,{"$f":"IF(Modifications!$C$38=2,\"N\",\"\")","v":""},"",{"$f":"IF(ISBLANK('Month 1'!$F$63),\"\",'Month 1'!$F$63)","v":""},null,null,null,null,null,null,null,null,null,null,null,null,null,null,null,null,null,null,null,null,null,null,null,null,null,null,null,null,null,null,null,null,null,null,null,null,null,null,null,null,null,null,null,null,null,null,null,null,null,null,null,null,null,0,"@","@","@","@","@","@","@","@","@","@","@","@","@","@","@","@","@","@","@","@","@","@","@","@","@","@","@","@","@","@","@",{"$f":"'Month 2'!BL63","v":"@"},{"$f":"'Month 2'!BK63","v":"@"},{"$f":"'Month 2'!BJ63","v":"@"},{"$f":"'Month 2'!BI63","v":"@"},{"$error":"#N/A"},{"$error":"#N/A"},{"$error":"#N/A"},{"$error":"#N/A"},{"$f":"IF(ISNUMBER(SUM(COUNTIF(INDIRECT(CR63):INDIRECT(CS63),2),COUNTIF(INDIRECT(CR63):INDIRECT(CS63),1),COUNTIF(INDIRECT(CR63):INDIRECT(CS63),0))),SUM(COUNTIF(INDIRECT(CR63):INDIRECT(CS63),2),COUNTIF(INDIRECT(CR63):INDIRECT(CS63),1),COUNTIF(INDIRECT(CR63):INDIRECT(CS63),0)),\"\")","v":""},{"$f":"IF(ISNUMBER(SUM(COUNTIF(INDIRECT(CR63):INDIRECT(CT63),2),COUNTIF(INDIRECT(CR63):INDIRECT(CT63),1),COUNTIF(INDIRECT(CR63):INDIRECT(CT63),0))),SUM(COUNTIF(INDIRECT(CR63):INDIRECT(CT63),2),COUNTIF(INDIRECT(CR63):INDIRECT(CT63),1),COUNTIF(INDIRECT(CR63):INDIRECT(CT63),0)),\"\")","v":""},{"$f":"IF(ISNUMBER(SUM(COUNTIF(INDIRECT(CR63):INDIRECT(CU63),1),COUNTIF(INDIRECT(CR63):INDIRECT(CU63),0))),SUM(COUNTIF(INDIRECT(CR63):INDIRECT(CU63),1),COUNTIF(INDIRECT(CR63):INDIRECT(CU63),0)),\"\")","v":""},{"$f":"SUM(INDIRECT(CR63):INDIRECT(CS63))","v":{"$error":"#N/A"}},{"$f":"SUM(INDIRECT(CR63):INDIRECT(CT63))","v":{"$error":"#N/A"}},{"$f":"SUM(INDIRECT(CR63):INDIRECT(CU63))","v":{"$error":"#N/A"}}]
[null,null,1,{"$f":"IF(Modifications!$C$39=2,\"N\",\"\")","v":""},"",{"$f":"IF(ISBLANK('Month 1'!$F$64),\"\",'Month 1'!$F$64)","v":""},null,null,null,null,null,null,null,null,null,null,null,null,null,null,null,null,null,null,null,null,null,null,null,null,null,null,null,null,null,null,null,null,null,null,null,null,null,null,null,null,null,null,null,null,null,null,null,null,null,null,null,null,null,0,"@","@","@","@","@","@","@","@","@","@","@","@","@","@","@","@","@","@","@","@","@","@","@","@","@","@","@","@","@","@","@",{"$f":"'Month 2'!BL64","v":"@"},{"$f":"'Month 2'!BK64","v":"@"},{"$f":"'Month 2'!BJ64","v":"@"},{"$f":"'Month 2'!BI64","v":"@"},{"$error":"#N/A"},{"$error":"#N/A"},{"$error":"#N/A"},{"$error":"#N/A"},{"$f":"IF(ISNUMBER(SUM(COUNTIF(INDIRECT(CR64):INDIRECT(CS64),2),COUNTIF(INDIRECT(CR64):INDIRECT(CS64),1),COUNTIF(INDIRECT(CR64):INDIRECT(CS64),0))),SUM(COUNTIF(INDIRECT(CR64):INDIRECT(CS64),2),COUNTIF(INDIRECT(CR64):INDIRECT(CS64),1),COUNTIF(INDIRECT(CR64):INDIRECT(CS64),0)),\"\")","v":""},{"$f":"IF(ISNUMBER(SUM(COUNTIF(INDIRECT(CR64):INDIRECT(CT64),2),COUNTIF(INDIRECT(CR64):INDIRECT(CT64),1),COUNTIF(INDIRECT(CR64):INDIRECT(CT64),0))),SUM(COUNTIF(INDIRECT(CR64):INDIRECT(CT64),2),COUNTIF(INDIRECT(CR64):INDIRECT(CT64),1),COUNTIF(INDIRECT(CR64):INDIRECT(CT64),0)),\"\")","v":""},{"$f":"IF(ISNUMBER(SUM(COUNTIF(INDIRECT(CR64):INDIRECT(CU64),1),COUNTIF(INDIRECT(CR64):INDIRECT(CU64),0))),SUM(COUNTIF(INDIRECT(CR64):INDIRECT(CU64),1),COUNTIF(INDIRECT(CR64):INDIRECT(CU64),0)),\"\")","v":""},{"$f":"SUM(INDIRECT(CR64):INDIRECT(CS64))","v":{"$error":"#N/A"}},{"$f":"SUM(INDIRECT(CR64):INDIRECT(CT64))","v":{"$error":"#N/A"}},{"$f":"SUM(INDIRECT(CR64):INDIRECT(CU64))","v":{"$error":"#N/A"}}]
[null,null,1,{"$f":"IF(Modifications!$C$40=2,\"N\",\"\")","v":""},"",{"$f":"IF(ISBLANK('Month 1'!$F$65),\"\",'Month 1'!$F$65)","v":""},null,null,null,null,null,null,null,null,null,null,null,null,null,null,null,null,null,null,null,null,null,null,null,null,null,null,null,null,null,null,null,null,null,null,null,null,null,null,null,null,null,null,null,null,null,null,null,null,null,null,null,null,null,0,"@","@","@","@","@","@","@","@","@","@","@","@","@","@","@","@","@","@","@","@","@","@","@","@","@","@","@","@","@","@","@",{"$f":"'Month 2'!BL65","v":"@"},{"$f":"'Month 2'!BK65","v":"@"},{"$f":"'Month 2'!BJ65","v":"@"},{"$f":"'Month 2'!BI65","v":"@"},{"$error":"#N/A"},{"$error":"#N/A"},{"$error":"#N/A"},{"$error":"#N/A"},{"$f":"IF(ISNUMBER(SUM(COUNTIF(INDIRECT(CR65):INDIRECT(CS65),2),COUNTIF(INDIRECT(CR65):INDIRECT(CS65),1),COUNTIF(INDIRECT(CR65):INDIRECT(CS65),0))),SUM(COUNTIF(INDIRECT(CR65):INDIRECT(CS65),2),COUNTIF(INDIRECT(CR65):INDIRECT(CS65),1),COUNTIF(INDIRECT(CR65):INDIRECT(CS65),0)),\"\")","v":""},{"$f":"IF(ISNUMBER(SUM(COUNTIF(INDIRECT(CR65):INDIRECT(CT65),2),COUNTIF(INDIRECT(CR65):INDIRECT(CT65),1),COUNTIF(INDIRECT(CR65):INDIRECT(CT65),0))),SUM(COUNTIF(INDIRECT(CR65):INDIRECT(CT65),2),COUNTIF(INDIRECT(CR65):INDIRECT(CT65),1),COUNTIF(INDIRECT(CR65):INDIRECT(CT65),0)),\"\")","v":""},{"$f":"IF(ISNUMBER(SUM(COUNTIF(INDIRECT(CR65):INDIRECT(CU65),1),COUNTIF(INDIRECT(CR65):INDIRECT(CU65),0))),SUM(COUNTIF(INDIRECT(CR65):INDIRECT(CU65),1),COUNTIF(INDIRECT(CR65):INDIRECT(CU65),0)),\"\")","v":""},{"$f":"SUM(INDIRECT(CR65):INDIRECT(CS65))","v":{"$error":"#N/A"}},{"$f":"SUM(INDIRECT(CR65):INDIRECT(CT65))","v":{"$error":"#N/A"}},{"$f":"SUM(INDIRECT(CR65):INDIRECT(CU65))","v":{"$error":"#N/A"}}]
[null,null,1,{"$f":"IF(Modifications!$C$41=2,\"N\",\"\")","v":""},"",{"$f":"IF(ISBLANK('Month 1'!$F$66),\"\",'Month 1'!$F$66)","v":""},null,null,null,null,null,null,null,null,null,null,null,null,null,null,null,null,null,null,null,null,null,null,null,null,null,null,null,null,null,null,null,null,null,null,null,null,null,null,null,null,null,null,null,null,null,null,null,null,null,null,null,null,null,0,"@","@","@","@","@","@","@","@","@","@","@","@","@","@","@","@","@","@","@","@","@","@","@","@","@","@","@","@","@","@","@",{"$f":"'Month 2'!BL66","v":"@"},{"$f":"'Month 2'!BK66","v":"@"},{"$f":"'Month 2'!BJ66","v":"@"},{"$f":"'Month 2'!BI66","v":"@"},{"$error":"#N/A"},{"$error":"#N/A"},{"$error":"#N/A"},{"$error":"#N/A"},{"$f":"IF(ISNUMBER(SUM(COUNTIF(INDIRECT(CR66):INDIRECT(CS66),2),COUNTIF(INDIRECT(CR66):INDIRECT(CS66),1),COUNTIF(INDIRECT(CR66):INDIRECT(CS66),0))),SUM(COUNTIF(INDIRECT(CR66):INDIRECT(CS66),2),COUNTIF(INDIRECT(CR66):INDIRECT(CS66),1),COUNTIF(INDIRECT(CR66):INDIRECT(CS66),0)),\"\")","v":""},{"$f":"IF(ISNUMBER(SUM(COUNTIF(INDIRECT(CR66):INDIRECT(CT66),2),COUNTIF(INDIRECT(CR66):INDIRECT(CT66),1),COUNTIF(INDIRECT(CR66):INDIRECT(CT66),0))),SUM(COUNTIF(INDIRECT(CR66):INDIRECT(CT66),2),COUNTIF(INDIRECT(CR66):INDIRECT(CT66),1),COUNTIF(INDIRECT(CR66):INDIRECT(CT66),0)),\"\")","v":""},{"$f":"IF(ISNUMBER(SUM(COUNTIF(INDIRECT(CR66):INDIRECT(CU66),1),COUNTIF(INDIRECT(CR66):INDIRECT(CU66),0))),SUM(COUNTIF(INDIRECT(CR66):INDIRECT(CU66),1),COUNTIF(INDIRECT(CR66):INDIRECT(CU66),0)),\"\")","v":""},{"$f":"SUM(INDIRECT(CR66):INDIRECT(CS66))","v":{"$error":"#N/A"}},{"$f":"SUM(INDIRECT(CR66):INDIRECT(CT66))","v":{"$error":"#N/A"}},{"$f":"SUM(INDIRECT(CR66):INDIRECT(CU66))","v":{"$error":"#N/A"}}]
[null,null,1,{"$f":"IF(Modifications!$C$42=2,\"N\",\"\")","v":""},"",{"$f":"IF(ISBLANK('Month 1'!$F$67),\"\",'Month 1'!$F$67)","v":""},null,null,null,null,null,null,null,null,null,null,null,null,null,null,null,null,null,null,null,null,null,null,null,null,null,null,null,null,null,null,null,null,null,null,null,null,null,null,null,null,null,null,null,null,null,null,null,null,null,null,null,null,null,0,"@","@","@","@","@","@","@","@","@","@","@","@","@","@","@","@","@","@","@","@","@","@","@","@","@","@","@","@","@","@","@",{"$f":"'Month 2'!BL67","v":"@"},{"$f":"'Month 2'!BK67","v":"@"},{"$f":"'Month 2'!BJ67","v":"@"},{"$f":"'Month 2'!BI67","v":"@"},{"$error":"#N/A"},{"$error":"#N/A"},{"$error":"#N/A"},{"$error":"#N/A"},{"$f":"IF(ISNUMBER(SUM(COUNTIF(INDIRECT(CR67):INDIRECT(CS67),2),COUNTIF(INDIRECT(CR67):INDIRECT(CS67),1),COUNTIF(INDIRECT(CR67):INDIRECT(CS67),0))),SUM(COUNTIF(INDIRECT(CR67):INDIRECT(CS67),2),COUNTIF(INDIRECT(CR67):INDIRECT(CS67),1),COUNTIF(INDIRECT(CR67):INDIRECT(CS67),0)),\"\")","v":""},{"$f":"IF(ISNUMBER(SUM(COUNTIF(INDIRECT(CR67):INDIRECT(CT67),2),COUNTIF(INDIRECT(CR67):INDIRECT(CT67),1),COUNTIF(INDIRECT(CR67):INDIRECT(CT67),0))),SUM(COUNTIF(INDIRECT(CR67):INDIRECT(CT67),2),COUNTIF(INDIRECT(CR67):INDIRECT(CT67),1),COUNTIF(INDIRECT(CR67):INDIRECT(CT67),0)),\"\")","v":""},{"$f":"IF(ISNUMBER(SUM(COUNTIF(INDIRECT(CR67):INDIRECT(CU67),1),COUNTIF(INDIRECT(CR67):INDIRECT(CU67),0))),SUM(COUNTIF(INDIRECT(CR67):INDIRECT(CU67),1),COUNTIF(INDIRECT(CR67):INDIRECT(CU67),0)),\"\")","v":""},{"$f":"SUM(INDIRECT(CR67):INDIRECT(CS67))","v":{"$error":"#N/A"}},{"$f":"SUM(INDIRECT(CR67):INDIRECT(CT67))","v":{"$error":"#N/A"}},{"$f":"SUM(INDIRECT(CR67):INDIRECT(CU67))","v":{"$error":"#N/A"}}]
[null,null,1,{"$f":"IF(Modifications!$C$43=2,\"N\",\"\")","v":""},"",{"$f":"IF(ISBLANK('Month 1'!$F$68),\"\",'Month 1'!$F$68)","v":""},null,null,null,null,null,null,null,null,null,null,null,null,null,null,null,null,null,null,null,null,null,null,null,null,null,null,null,null,null,null,null,null,null,null,null,null,null,null,null,null,null,null,null,null,null,null,null,null,null,null,null,null,null,0,"@","@","@","@","@","@","@","@","@","@","@","@","@","@","@","@","@","@","@","@","@","@","@","@","@","@","@","@","@","@","@",{"$f":"'Month 2'!BL68","v":"@"},{"$f":"'Month 2'!BK68","v":"@"},{"$f":"'Month 2'!BJ68","v":"@"},{"$f":"'Month 2'!BI68","v":"@"},{"$error":"#N/A"},{"$error":"#N/A"},{"$error":"#N/A"},{"$error":"#N/A"},{"$f":"IF(ISNUMBER(SUM(COUNTIF(INDIRECT(CR68):INDIRECT(CS68),2),COUNTIF(INDIRECT(CR68):INDIRECT(CS68),1),COUNTIF(INDIRECT(CR68):INDIRECT(CS68),0))),SUM(COUNTIF(INDIRECT(CR68):INDIRECT(CS68),2),COUNTIF(INDIRECT(CR68):INDIRECT(CS68),1),COUNTIF(INDIRECT(CR68):INDIRECT(CS68),0)),\"\")","v":""},{"$f":"IF(ISNUMBER(SUM(COUNTIF(INDIRECT(CR68):INDIRECT(CT68),2),COUNTIF(INDIRECT(CR68):INDIRECT(CT68),1),COUNTIF(INDIRECT(CR68):INDIRECT(CT68),0))),SUM(COUNTIF(INDIRECT(CR68):INDIRECT(CT68),2),COUNTIF(INDIRECT(CR68):INDIRECT(CT68),1),COUNTIF(INDIRECT(CR68):INDIRECT(CT68),0)),\"\")","v":""},{"$f":"IF(ISNUMBER(SUM(COUNTIF(INDIRECT(CR68):INDIRECT(CU68),1),COUNTIF(INDIRECT(CR68):INDIRECT(CU68),0))),SUM(COUNTIF(INDIRECT(CR68):INDIRECT(CU68),1),COUNTIF(INDIRECT(CR68):INDIRECT(CU68),0)),\"\")","v":""},{"$f":"SUM(INDIRECT(CR68):INDIRECT(CS68))","v":{"$error":"#N/A"}},{"$f":"SUM(INDIRECT(CR68):INDIRECT(CT68))","v":{"$error":"#N/A"}},{"$f":"SUM(INDIRECT(CR68):INDIRECT(CU68))","v":{"$error":"#N/A"}}]
[null,null,1,{"$f":"IF(Modifications!$C$44=2,\"N\",\"\")","v":""},"",{"$f":"IF(ISBLANK('Month 1'!$F$69),\"\",'Month 1'!$F$69)","v":""},null,null,null,null,null,null,null,null,null,null,null,null,null,null,null,null,null,null,null,null,null,null,null,null,null,null,null,null,null,null,null,null,null,null,null,null,null,null,null,null,null,null,null,null,null,null,null,null,null,null,null,null,null,0,"@","@","@","@","@","@","@","@","@","@","@","@","@","@","@","@","@","@","@","@","@","@","@","@","@","@","@","@","@","@","@",{"$f":"'Month 2'!BL69","v":"@"},{"$f":"'Month 2'!BK69","v":"@"},{"$f":"'Month 2'!BJ69","v":"@"},{"$f":"'Month 2'!BI69","v":"@"},{"$error":"#N/A"},{"$error":"#N/A"},{"$error":"#N/A"},{"$error":"#N/A"},{"$f":"IF(ISNUMBER(SUM(COUNTIF(INDIRECT(CR69):INDIRECT(CS69),2),COUNTIF(INDIRECT(CR69):INDIRECT(CS69),1),COUNTIF(INDIRECT(CR69):INDIRECT(CS69),0))),SUM(COUNTIF(INDIRECT(CR69):INDIRECT(CS69),2),COUNTIF(INDIRECT(CR69):INDIRECT(CS69),1),COUNTIF(INDIRECT(CR69):INDIRECT(CS69),0)),\"\")","v":""},{"$f":"IF(ISNUMBER(SUM(COUNTIF(INDIRECT(CR69):INDIRECT(CT69),2),COUNTIF(INDIRECT(CR69):INDIRECT(CT69),1),COUNTIF(INDIRECT(CR69):INDIRECT(CT69),0))),SUM(COUNTIF(INDIRECT(CR69):INDIRECT(CT69),2),COUNTIF(INDIRECT(CR69):INDIRECT(CT69),1),COUNTIF(INDIRECT(CR69):INDIRECT(CT69),0)),\"\")","v":""},{"$f":"IF(ISNUMBER(SUM(COUNTIF(INDIRECT(CR69):INDIRECT(CU69),1),COUNTIF(INDIRECT(CR69):INDIRECT(CU69),0))),SUM(COUNTIF(INDIRECT(CR69):INDIRECT(CU69),1),COUNTIF(INDIRECT(CR69):INDIRECT(CU69),0)),\"\")","v":""},{"$f":"SUM(INDIRECT(CR69):INDIRECT(CS69))","v":{"$error":"#N/A"}},{"$f":"SUM(INDIRECT(CR69):INDIRECT(CT69))","v":{"$error":"#N/A"}},{"$f":"SUM(INDIRECT(CR69):INDIRECT(CU69))","v":{"$error":"#N/A"}}]
[null,null,1,{"$f":"IF(Modifications!$C$45=2,\"N\",\"\")","v":""},"",{"$f":"IF(ISBLANK('Month 1'!$F$70),\"\",'Month 1'!$F$70)","v":""},null,null,null,null,null,null,null,null,null,null,null,null,null,null,null,null,null,null,null,null,null,null,null,null,null,null,null,null,null,null,null,null,null,null,null,null,null,null,null,null,null,null,null,null,null,null,null,null,null,null,null,null,null,0,"@","@","@","@","@","@","@","@","@","@","@","@","@","@","@","@","@","@","@","@","@","@","@","@","@","@","@","@","@","@","@",{"$f":"'Month 2'!BL70","v":"@"},{"$f":"'Month 2'!BK70","v":"@"},{"$f":"'Month 2'!BJ70","v":"@"},{"$f":"'Month 2'!BI70","v":"@"},{"$error":"#N/A"},{"$error":"#N/A"},{"$error":"#N/A"},{"$error":"#N/A"},{"$f":"IF(ISNUMBER(SUM(COUNTIF(INDIRECT(CR70):INDIRECT(CS70),2),COUNTIF(INDIRECT(CR70):INDIRECT(CS70),1),COUNTIF(INDIRECT(CR70):INDIRECT(CS70),0))),SUM(COUNTIF(INDIRECT(CR70):INDIRECT(CS70),2),COUNTIF(INDIRECT(CR70):INDIRECT(CS70),1),COUNTIF(INDIRECT(CR70):INDIRECT(CS70),0)),\"\")","v":""},{"$f":"IF(ISNUMBER(SUM(COUNTIF(INDIRECT(CR70):INDIRECT(CT70),2),COUNTIF(INDIRECT(CR70):INDIRECT(CT70),1),COUNTIF(INDIRECT(CR70):INDIRECT(CT70),0))),SUM(COUNTIF(INDIRECT(CR70):INDIRECT(CT70),2),COUNTIF(INDIRECT(CR70):INDIRECT(CT70),1),COUNTIF(INDIRECT(CR70):INDIRECT(CT70),0)),\"\")","v":""},{"$f":"IF(ISNUMBER(SUM(COUNTIF(INDIRECT(CR70):INDIRECT(CU70),1),COUNTIF(INDIRECT(CR70):INDIRECT(CU70),0))),SUM(COUNTIF(INDIRECT(CR70):INDIRECT(CU70),1),COUNTIF(INDIRECT(CR70):INDIRECT(CU70),0)),\"\")","v":""},{"$f":"SUM(INDIRECT(CR70):INDIRECT(CS70))","v":{"$error":"#N/A"}},{"$f":"SUM(INDIRECT(CR70):INDIRECT(CT70))","v":{"$error":"#N/A"}},{"$f":"SUM(INDIRECT(CR70):INDIRECT(CU70))","v":{"$error":"#N/A"}}]
[null,null,1,{"$f":"IF(Modifications!$C$46=2,\"N\",\"\")","v":""},"",{"$f":"IF(ISBLANK('Month 1'!$F$71),\"\",'Month 1'!$F$71)","v":""},null,null,null,null,null,null,null,null,null,null,null,null,null,null,null,null,null,null,null,null,null,null,null,null,null,null,null,null,null,null,null,null,null,null,null,null,null,null,null,null,null,null,null,null,null,null,null,null,null,null,null,null,null,0,"@","@","@","@","@","@","@","@","@","@","@","@","@","@","@","@","@","@","@","@","@","@","@","@","@","@","@","@","@","@","@",{"$f":"'Month 2'!BL71","v":"@"},{"$f":"'Month 2'!BK71","v":"@"},{"$f":"'Month 2'!BJ71","v":"@"},{"$f":"'Month 2'!BI71","v":"@"},{"$error":"#N/A"},{"$error":"#N/A"},{"$error":"#N/A"},{"$error":"#N/A"},{"$f":"IF(ISNUMBER(SUM(COUNTIF(INDIRECT(CR71):INDIRECT(CS71),2),COUNTIF(INDIRECT(CR71):INDIRECT(CS71),1),COUNTIF(INDIRECT(CR71):INDIRECT(CS71),0))),SUM(COUNTIF(INDIRECT(CR71):INDIRECT(CS71),2),COUNTIF(INDIRECT(CR71):INDIRECT(CS71),1),COUNTIF(INDIRECT(CR71):INDIRECT(CS71),0)),\"\")","v":""},{"$f":"IF(ISNUMBER(SUM(COUNTIF(INDIRECT(CR71):INDIRECT(CT71),2),COUNTIF(INDIRECT(CR71):INDIRECT(CT71),1),COUNTIF(INDIRECT(CR71):INDIRECT(CT71),0))),SUM(COUNTIF(INDIRECT(CR71):INDIRECT(CT71),2),COUNTIF(INDIRECT(CR71):INDIRECT(CT71),1),COUNTIF(INDIRECT(CR71):INDIRECT(CT71),0)),\"\")","v":""},{"$f":"IF(ISNUMBER(SUM(COUNTIF(INDIRECT(CR71):INDIRECT(CU71),1),COUNTIF(INDIRECT(CR71):INDIRECT(CU71),0))),SUM(COUNTIF(INDIRECT(CR71):INDIRECT(CU71),1),COUNTIF(INDIRECT(CR71):INDIRECT(CU71),0)),\"\")","v":""},{"$f":"SUM(INDIRECT(CR71):INDIRECT(CS71))","v":{"$error":"#N/A"}},{"$f":"SUM(INDIRECT(CR71):INDIRECT(CT71))","v":{"$error":"#N/A"}},{"$f":"SUM(INDIRECT(CR71):INDIRECT(CU71))","v":{"$error":"#N/A"}}]
[null,null,1,{"$f":"IF(Modifications!$C$47=2,\"N\",\"\")","v":""},"",{"$f":"IF(ISBLANK('Month 1'!$F$72),\"\",'Month 1'!$F$72)","v":""},null,null,null,null,null,null,null,null,null,null,null,null,null,null,null,null,null,null,null,null,null,null,null,null,null,null,null,null,null,null,null,null,null,null,null,null,null,null,null,null,null,null,null,null,null,null,null,null,null,null,null,null,null,0,"@","@","@","@","@","@","@","@","@","@","@","@","@","@","@","@","@","@","@","@","@","@","@","@","@","@","@","@","@","@","@",{"$f":"'Month 2'!BL72","v":"@"},{"$f":"'Month 2'!BK72","v":"@"},{"$f":"'Month 2'!BJ72","v":"@"},{"$f":"'Month 2'!BI72","v":"@"},{"$error":"#N/A"},{"$error":"#N/A"},{"$error":"#N/A"},{"$error":"#N/A"},{"$f":"IF(ISNUMBER(SUM(COUNTIF(INDIRECT(CR72):INDIRECT(CS72),2),COUNTIF(INDIRECT(CR72):INDIRECT(CS72),1),COUNTIF(INDIRECT(CR72):INDIRECT(CS72),0))),SUM(COUNTIF(INDIRECT(CR72):INDIRECT(CS72),2),COUNTIF(INDIRECT(CR72):INDIRECT(CS72),1),COUNTIF(INDIRECT(CR72):INDIRECT(CS72),0)),\"\")","v":""},{"$f":"IF(ISNUMBER(SUM(COUNTIF(INDIRECT(CR72):INDIRECT(CT72),2),COUNTIF(INDIRECT(CR72):INDIRECT(CT72),1),COUNTIF(INDIRECT(CR72):INDIRECT(CT72),0))),SUM(COUNTIF(INDIRECT(CR72):INDIRECT(CT72),2),COUNTIF(INDIRECT(CR72):INDIRECT(CT72),1),COUNTIF(INDIRECT(CR72):INDIRECT(CT72),0)),\"\")","v":""},{"$f":"IF(ISNUMBER(SUM(COUNTIF(INDIRECT(CR72):INDIRECT(CU72),1),COUNTIF(INDIRECT(CR72):INDIRECT(CU72),0))),SUM(COUNTIF(INDIRECT(CR72):INDIRECT(CU72),1),COUNTIF(INDIRECT(CR72):INDIRECT(CU72),0)),\"\")","v":""},{"$f":"SUM(INDIRECT(CR72):INDIRECT(CS72))","v":{"$error":"#N/A"}},{"$f":"SUM(INDIRECT(CR72):INDIRECT(CT72))","v":{"$error":"#N/A"}},{"$f":"SUM(INDIRECT(CR72):INDIRECT(CU72))","v":{"$error":"#N/A"}}]
[null,null,1,{"$f":"IF(Modifications!$C$48=2,\"N\",\"\")","v":""},"",{"$f":"IF(ISBLANK('Month 1'!$F$73),\"\",'Month 1'!$F$73)","v":""},null,null,null,null,null,null,null,null,null,null,null,null,null,null,null,null,null,null,null,null,null,null,null,null,null,null,null,null,null,null,null,null,null,null,null,null,null,null,null,null,null,null,null,null,null,null,null,null,null,null,null,null,null,0,"@","@","@","@","@","@","@","@","@","@","@","@","@","@","@","@","@","@","@","@","@","@","@","@","@","@","@","@","@","@","@",{"$f":"'Month 2'!BL73","v":"@"},{"$f":"'Month 2'!BK73","v":"@"},{"$f":"'Month 2'!BJ73","v":"@"},{"$f":"'Month 2'!BI73","v":"@"},{"$error":"#N/A"},{"$error":"#N/A"},{"$error":"#N/A"},{"$error":"#N/A"},{"$f":"IF(ISNUMBER(SUM(COUNTIF(INDIRECT(CR73):INDIRECT(CS73),2),COUNTIF(INDIRECT(CR73):INDIRECT(CS73),1),COUNTIF(INDIRECT(CR73):INDIRECT(CS73),0))),SUM(COUNTIF(INDIRECT(CR73):INDIRECT(CS73),2),COUNTIF(INDIRECT(CR73):INDIRECT(CS73),1),COUNTIF(INDIRECT(CR73):INDIRECT(CS73),0)),\"\")","v":""},{"$f":"IF(ISNUMBER(SUM(COUNTIF(INDIRECT(CR73):INDIRECT(CT73),2),COUNTIF(INDIRECT(CR73):INDIRECT(CT73),1),COUNTIF(INDIRECT(CR73):INDIRECT(CT73),0))),SUM(COUNTIF(INDIRECT(CR73):INDIRECT(CT73),2),COUNTIF(INDIRECT(CR73):INDIRECT(CT73),1),COUNTIF(INDIRECT(CR73):INDIRECT(CT73),0)),\"\")","v":""},{"$f":"IF(ISNUMBER(SUM(COUNTIF(INDIRECT(CR73):INDIRECT(CU73),1),COUNTIF(INDIRECT(CR73):INDIRECT(CU73),0))),SUM(COUNTIF(INDIRECT(CR73):INDIRECT(CU73),1),COUNTIF(INDIRECT(CR73):INDIRECT(CU73),0)),\"\")","v":""},{"$f":"SUM(INDIRECT(CR73):INDIRECT(CS73))","v":{"$error":"#N/A"}},{"$f":"SUM(INDIRECT(CR73):INDIRECT(CT73))","v":{"$error":"#N/A"}},{"$f":"SUM(INDIRECT(CR73):INDIRECT(CU73))","v":{"$error":"#N/A"}}]
[null,null,1,{"$f":"IF(Modifications!$C$49=2,\"N\",\"\")","v":""},"",{"$f":"IF(ISBLANK('Month 1'!$F$74),\"\",'Month 1'!$F$74)","v":""},null,null,null,null,null,null,null,null,null,null,null,null,null,null,null,null,null,null,null,null,null,null,null,null,null,null,null,null,null,null,null,null,null,null,null,null,null,null,null,null,null,null,null,null,null,null,null,null,null,null,null,null,null,0,"@","@","@","@","@","@","@","@","@","@","@","@","@","@","@","@","@","@","@","@","@","@","@","@","@","@","@","@","@","@","@",{"$f":"'Month 2'!BL74","v":"@"},{"$f":"'Month 2'!BK74","v":"@"},{"$f":"'Month 2'!BJ74","v":"@"},{"$f":"'Month 2'!BI74","v":"@"},{"$error":"#N/A"},{"$error":"#N/A"},{"$error":"#N/A"},{"$error":"#N/A"},{"$f":"IF(ISNUMBER(SUM(COUNTIF(INDIRECT(CR74):INDIRECT(CS74),2),COUNTIF(INDIRECT(CR74):INDIRECT(CS74),1),COUNTIF(INDIRECT(CR74):INDIRECT(CS74),0))),SUM(COUNTIF(INDIRECT(CR74):INDIRECT(CS74),2),COUNTIF(INDIRECT(CR74):INDIRECT(CS74),1),COUNTIF(INDIRECT(CR74):INDIRECT(CS74),0)),\"\")","v":""},{"$f":"IF(ISNUMBER(SUM(COUNTIF(INDIRECT(CR74):INDIRECT(CT74),2),COUNTIF(INDIRECT(CR74):INDIRECT(CT74),1),COUNTIF(INDIRECT(CR74):INDIRECT(CT74),0))),SUM(COUNTIF(INDIRECT(CR74):INDIRECT(CT74),2),COUNTIF(INDIRECT(CR74):INDIRECT(CT74),1),COUNTIF(INDIRECT(CR74):INDIRECT(CT74),0)),\"\")","v":""},{"$f":"IF(ISNUMBER(SUM(COUNTIF(INDIRECT(CR74):INDIRECT(CU74),1),COUNTIF(INDIRECT(CR74):INDIRECT(CU74),0))),SUM(COUNTIF(INDIRECT(CR74):INDIRECT(CU74),1),COUNTIF(INDIRECT(CR74):INDIRECT(CU74),0)),\"\")","v":""},{"$f":"SUM(INDIRECT(CR74):INDIRECT(CS74))","v":{"$error":"#N/A"}},{"$f":"SUM(INDIRECT(CR74):INDIRECT(CT74))","v":{"$error":"#N/A"}},{"$f":"SUM(INDIRECT(CR74):INDIRECT(CU74))","v":{"$error":"#N/A"}}]
[null,null,1,{"$f":"IF(Modifications!$C$50=2,\"N\",\"\")","v":""},"",{"$f":"IF(ISBLANK('Month 1'!$F$75),\"\",'Month 1'!$F$75)","v":""},null,null,null,null,null,null,null,null,null,null,null,null,null,null,null,null,null,null,null,null,null,null,null,null,null,null,null,null,null,null,null,null,null,null,null,null,null,null,null,null,null,null,null,null,null,null,null,null,null,null,null,null,null,0,"@","@","@","@","@","@","@","@","@","@","@","@","@","@","@","@","@","@","@","@","@","@","@","@","@","@","@","@","@","@","@",{"$f":"'Month 2'!BL75","v":"@"},{"$f":"'Month 2'!BK75","v":"@"},{"$f":"'Month 2'!BJ75","v":"@"},{"$f":"'Month 2'!BI75","v":"@"},{"$error":"#N/A"},{"$error":"#N/A"},{"$error":"#N/A"},{"$error":"#N/A"},{"$f":"IF(ISNUMBER(SUM(COUNTIF(INDIRECT(CR75):INDIRECT(CS75),2),COUNTIF(INDIRECT(CR75):INDIRECT(CS75),1),COUNTIF(INDIRECT(CR75):INDIRECT(CS75),0))),SUM(COUNTIF(INDIRECT(CR75):INDIRECT(CS75),2),COUNTIF(INDIRECT(CR75):INDIRECT(CS75),1),COUNTIF(INDIRECT(CR75):INDIRECT(CS75),0)),\"\")","v":""},{"$f":"IF(ISNUMBER(SUM(COUNTIF(INDIRECT(CR75):INDIRECT(CT75),2),COUNTIF(INDIRECT(CR75):INDIRECT(CT75),1),COUNTIF(INDIRECT(CR75):INDIRECT(CT75),0))),SUM(COUNTIF(INDIRECT(CR75):INDIRECT(CT75),2),COUNTIF(INDIRECT(CR75):INDIRECT(CT75),1),COUNTIF(INDIRECT(CR75):INDIRECT(CT75),0)),\"\")","v":""},{"$f":"IF(ISNUMBER(SUM(COUNTIF(INDIRECT(CR75):INDIRECT(CU75),1),COUNTIF(INDIRECT(CR75):INDIRECT(CU75),0))),SUM(COUNTIF(INDIRECT(CR75):INDIRECT(CU75),1),COUNTIF(INDIRECT(CR75):INDIRECT(CU75),0)),\"\")","v":""},{"$f":"SUM(INDIRECT(CR75):INDIRECT(CS75))","v":{"$error":"#N/A"}},{"$f":"SUM(INDIRECT(CR75):INDIRECT(CT75))","v":{"$error":"#N/A"}},{"$f":"SUM(INDIRECT(CR75):INDIRECT(CU75))","v":{"$error":"#N/A"}}]
[null,null,1,{"$f":"IF(Modifications!$C$51=2,\"N\",\"\")","v":""},"",{"$f":"IF(ISBLANK('Month 1'!$F$76),\"\",'Month 1'!$F$76)","v":""},null,null,null,null,null,null,null,null,null,null,null,null,null,null,null,null,null,null,null,null,null,null,null,null,null,null,null,null,null,null,null,null,null,null,null,null,null,null,null,null,null,null,null,null,null,null,null,null,null,null,null,null,null,0,"@","@","@","@","@","@","@","@","@","@","@","@","@","@","@","@","@","@","@","@","@","@","@","@","@","@","@","@","@","@","@",{"$f":"'Month 2'!BL76","v":"@"},{"$f":"'Month 2'!BK76","v":"@"},{"$f":"'Month 2'!BJ76","v":"@"},{"$f":"'Month 2'!BI76","v":"@"},{"$error":"#N/A"},{"$error":"#N/A"},{"$error":"#N/A"},{"$error":"#N/A"},{"$f":"IF(ISNUMBER(SUM(COUNTIF(INDIRECT(CR76):INDIRECT(CS76),2),COUNTIF(INDIRECT(CR76):INDIRECT(CS76),1),COUNTIF(INDIRECT(CR76):INDIRECT(CS76),0))),SUM(COUNTIF(INDIRECT(CR76):INDIRECT(CS76),2),COUNTIF(INDIRECT(CR76):INDIRECT(CS76),1),COUNTIF(INDIRECT(CR76):INDIRECT(CS76),0)),\"\")","v":""},{"$f":"IF(ISNUMBER(SUM(COUNTIF(INDIRECT(CR76):INDIRECT(CT76),2),COUNTIF(INDIRECT(CR76):INDIRECT(CT76),1),COUNTIF(INDIRECT(CR76):INDIRECT(CT76),0))),SUM(COUNTIF(INDIRECT(CR76):INDIRECT(CT76),2),COUNTIF(INDIRECT(CR76):INDIRECT(CT76),1),COUNTIF(INDIRECT(CR76):INDIRECT(CT76),0)),\"\")","v":""},{"$f":"IF(ISNUMBER(SUM(COUNTIF(INDIRECT(CR76):INDIRECT(CU76),1),COUNTIF(INDIRECT(CR76):INDIRECT(CU76),0))),SUM(COUNTIF(INDIRECT(CR76):INDIRECT(CU76),1),COUNTIF(INDIRECT(CR76):INDIRECT(CU76),0)),\"\")","v":""},{"$f":"SUM(INDIRECT(CR76):INDIRECT(CS76))","v":{"$error":"#N/A"}},{"$f":"SUM(INDIRECT(CR76):INDIRECT(CT76))","v":{"$error":"#N/A"}},{"$f":"SUM(INDIRECT(CR76):INDIRECT(CU76))","v":{"$error":"#N/A"}}]
[null,null,null,null,null,null,null,null,null,null,null,null,null,null,null,null,null,null,null,null,null,null,null,null,null,null,null,null,null,null,null,null,null,null,null,null,null,null,null,null,null,null,null,null,null,null,null,null,null,null,null,null,null,null,null,null,null,null,null,0,"@","@","@","@","@","@","@","@","@","@","@","@","@","@","@","@","@","@","@","@","@","@","@","@","@","@","@","@","@","@","@",{"$f":"'Month 2'!BL77","v":"@"},{"$f":"'Month 2'!BK77","v":"@"},{"$f":"'Month 2'!BJ77","v":"@"},{"$f":"'Month 2'!BI77","v":"@"},{"$error":"#N/A"},{"$error":"#N/A"},{"$error":"#N/A"},{"$error":"#N/A"},{"$f":"IF(ISNUMBER(SUM(COUNTIF(INDIRECT(CR77):INDIRECT(CS77),2),COUNTIF(INDIRECT(CR77):INDIRECT(CS77),1),COUNTIF(INDIRECT(CR77):INDIRECT(CS77),0))),SUM(COUNTIF(INDIRECT(CR77):INDIRECT(CS77),2),COUNTIF(INDIRECT(CR77):INDIRECT(CS77),1),COUNTIF(INDIRECT(CR77):INDIRECT(CS77),0)),\"\")","v":""},{"$f":"IF(ISNUMBER(SUM(COUNTIF(INDIRECT(CR77):INDIRECT(CT77),2),COUNTIF(INDIRECT(CR77):INDIRECT(CT77),1),COUNTIF(INDIRECT(CR77):INDIRECT(CT77),0))),SUM(COUNTIF(INDIRECT(CR77):INDIRECT(CT77),2),COUNTIF(INDIRECT(CR77):INDIRECT(CT77),1),COUNTIF(INDIRECT(CR77):INDIRECT(CT77),0)),\"\")","v":""},{"$f":"IF(ISNUMBER(SUM(COUNTIF(INDIRECT(CR77):INDIRECT(CU77),1),COUNTIF(INDIRECT(CR77):INDIRECT(CU77),0))),SUM(COUNTIF(INDIRECT(CR77):INDIRECT(CU77),1),COUNTIF(INDIRECT(CR77):INDIRECT(CU77),0)),\"\")","v":""},{"$f":"SUM(INDIRECT(CR77):INDIRECT(CS77))","v":{"$error":"#N/A"}},{"$f":"SUM(INDIRECT(CR77):INDIRECT(CT77))","v":{"$error":"#N/A"}},{"$f":"SUM(INDIRECT(CR77):INDIRECT(CU77))","v":{"$error":"#N/A"}}]
[null,null,null,null,null,null,null,null,null,null,null,null,null,null,null,null,null,null,null,null,null,null,null,null,null,null,null,null,null,null,null,null,null,null,null,null,null,null,null,null,null,null,null,null,null,null,null,null,null,null,null,null,null,null,null,null,null,null,null,0,"@","@","@","@","@","@","@","@","@","@","@","@","@","@","@","@","@","@","@","@","@","@","@","@","@","@","@","@","@","@","@",{"$f":"'Month 2'!BL78","v":"@"},{"$f":"'Month 2'!BK78","v":"@"},{"$f":"'Month 2'!BJ78","v":"@"},{"$f":"'Month 2'!BI78","v":"@"},{"$error":"#N/A"},{"$error":"#N/A"},{"$error":"#N/A"},{"$error":"#N/A"},{"$f":"IF(ISNUMBER(SUM(COUNTIF(INDIRECT(CR78):INDIRECT(CS78),2),COUNTIF(INDIRECT(CR78):INDIRECT(CS78),1),COUNTIF(INDIRECT(CR78):INDIRECT(CS78),0))),SUM(COUNTIF(INDIRECT(CR78):INDIRECT(CS78),2),COUNTIF(INDIRECT(CR78):INDIRECT(CS78),1),COUNTIF(INDIRECT(CR78):INDIRECT(CS78),0)),\"\")","v":""},{"$f":"IF(ISNUMBER(SUM(COUNTIF(INDIRECT(CR78):INDIRECT(CT78),2),COUNTIF(INDIRECT(CR78):INDIRECT(CT78),1),COUNTIF(INDIRECT(CR78):INDIRECT(CT78),0))),SUM(COUNTIF(INDIRECT(CR78):INDIRECT(CT78),2),COUNTIF(INDIRECT(CR78):INDIRECT(CT78),1),COUNTIF(INDIRECT(CR78):INDIRECT(CT78),0)),\"\")","v":""},{"$f":"IF(ISNUMBER(SUM(COUNTIF(INDIRECT(CR78):INDIRECT(CU78),1),COUNTIF(INDIRECT(CR78):INDIRECT(CU78),0))),SUM(COUNTIF(INDIRECT(CR78):INDIRECT(CU78),1),COUNTIF(INDIRECT(CR78):INDIRECT(CU78),0)),\"\")","v":""},{"$f":"SUM(INDIRECT(CR78):INDIRECT(CS78))","v":{"$error":"#N/A"}},{"$f":"SUM(INDIRECT(CR78):INDIRECT(CT78))","v":{"$error":"#N/A"}},{"$f":"SUM(INDIRECT(CR78):INDIRECT(CU78))","v":{"$error":"#N/A"}}]
[null,null,null,null,null,null,{"$f":"IF(ISBLANK(G26),\"\",G26)","v":""},"","","","","","","","","","","","","","","","","","","","","","","","","","","","","","",null,null,null,null,null,null,null,null,null,null,null,null,null,null,null,null,null,null,null,null,null,null,0,"@","@","@","@","@","@","@","@","@","@","@","@","@","@","@","@","@","@","@","@","@","@","@","@","@","@","@","@","@","@","@",{"$f":"'Month 2'!BL79","v":"@"},{"$f":"'Month 2'!BK79","v":"@"},{"$f":"'Month 2'!BJ79","v":"@"},{"$f":"'Month 2'!BI79","v":"@"},{"$error":"#N/A"},{"$error":"#N/A"},{"$error":"#N/A"},{"$error":"#N/A"},{"$f":"IF(ISNUMBER(SUM(COUNTIF(INDIRECT(CR79):INDIRECT(CS79),2),COUNTIF(INDIRECT(CR79):INDIRECT(CS79),1),COUNTIF(INDIRECT(CR79):INDIRECT(CS79),0))),SUM(COUNTIF(INDIRECT(CR79):INDIRECT(CS79),2),COUNTIF(INDIRECT(CR79):INDIRECT(CS79),1),COUNTIF(INDIRECT(CR79):INDIRECT(CS79),0)),\"\")","v":""},{"$f":"IF(ISNUMBER(SUM(COUNTIF(INDIRECT(CR79):INDIRECT(CT79),2),COUNTIF(INDIRECT(CR79):INDIRECT(CT79),1),COUNTIF(INDIRECT(CR79):INDIRECT(CT79),0))),SUM(COUNTIF(INDIRECT(CR79):INDIRECT(CT79),2),COUNTIF(INDIRECT(CR79):INDIRECT(CT79),1),COUNTIF(INDIRECT(CR79):INDIRECT(CT79),0)),\"\")","v":""},{"$f":"IF(ISNUMBER(SUM(COUNTIF(INDIRECT(CR79):INDIRECT(CU79),1),COUNTIF(INDIRECT(CR79):INDIRECT(CU79),0))),SUM(COUNTIF(INDIRECT(CR79):INDIRECT(CU79),1),COUNTIF(INDIRECT(CR79):INDIRECT(CU79),0)),\"\")","v":""},{"$f":"SUM(INDIRECT(CR79):INDIRECT(CS79))","v":{"$error":"#N/A"}},{"$f":"SUM(INDIRECT(CR79):INDIRECT(CT79))","v":{"$error":"#N/A"}},{"$f":"SUM(INDIRECT(CR79):INDIRECT(CU79))","v":{"$error":"#N/A"}}]
[null,null,null,null,null,null,{"$f":"IF(G24=\"\",NA(),G24)","v":{"$error":"#N/A"}},{"$error":"#N/A"},{"$error":"#N/A"},{"$error":"#N/A"},{"$error":"#N/A"},{"$error":"#N/A"},{"$error":"#N/A"},{"$error":"#N/A"},{"$error":"#N/A"},{"$error":"#N/A"},{"$error":"#N/A"},{"$error":"#N/A"},{"$error":"#N/A"},{"$error":"#N/A"},{"$error":"#N/A"},{"$error":"#N/A"},{"$error":"#N/A"},{"$error":"#N/A"},{"$error":"#N/A"},{"$error":"#N/A"},{"$error":"#N/A"},{"$error":"#N/A"},{"$error":"#N/A"},{"$error":"#N/A"},{"$error":"#N/A"},{"$error":"#N/A"},{"$error":"#N/A"},{"$error":"#N/A"},{"$error":"#N/A"},{"$error":"#N/A"},{"$error":"#N/A"},null,null,null,null,null,null,null,null,null,null,null,null,null,null,null,null,null,null,null,null,null,null,{"$f":"SUM(COUNTIF(BI80:CM80,1),COUNTIF(BI80:CM80,0))","v":0},"@","@","@","@","@","@","@","@","@","@","@","@","@","@","@","@","@","@","@","@","@","@","@","@","@","@","@","@","@","@","@",{"$f":"'Month 2'!BL80","v":"@"},{"$f":"'Month 2'!BK80","v":"@"},{"$f":"'Month 2'!BJ80","v":"@"},{"$f":"'Month 2'!BI80","v":"@"},{"$error":"#N/A"},{"$error":"#N/A"},{"$error":"#N/A"},{"$error":"#N/A"},{"$f":"IF(ISNUMBER(SUM(COUNTIF(INDIRECT(CR80):INDIRECT(CS80),2),COUNTIF(INDIRECT(CR80):INDIRECT(CS80),1),COUNTIF(INDIRECT(CR80):INDIRECT(CS80),0))),SUM(COUNTIF(INDIRECT(CR80):INDIRECT(CS80),2),COUNTIF(INDIRECT(CR80):INDIRECT(CS80),1),COUNTIF(INDIRECT(CR80):INDIRECT(CS80),0)),\"\")","v":""},{"$f":"IF(ISNUMBER(SUM(COUNTIF(INDIRECT(CR80):INDIRECT(CT80),2),COUNTIF(INDIRECT(CR80):INDIRECT(CT80),1),COUNTIF(INDIRECT(CR80):INDIRECT(CT80),0))),SUM(COUNTIF(INDIRECT(CR80):INDIRECT(CT80),2),COUNTIF(INDIRECT(CR80):INDIRECT(CT80),1),COUNTIF(INDIRECT(CR80):INDIRECT(CT80),0)),\"\")","v":""},{"$f":"IF(ISNUMBER(SUM(COUNTIF(INDIRECT(CR80):INDIRECT(CU80),1),COUNTIF(INDIRECT(CR80):INDIRECT(CU80),0))),SUM(COUNTIF(INDIRECT(CR80):INDIRECT(CU80),1),COUNTIF(INDIRECT(CR80):INDIRECT(CU80),0)),\"\")","v":""},{"$f":"SUM(INDIRECT(CR80):INDIRECT(CS80))","v":{"$error":"#N/A"}},{"$f":"SUM(INDIRECT(CR80):INDIRECT(CT80))","v":{"$error":"#N/A"}},{"$f":"SUM(INDIRECT(CR80):INDIRECT(CU80))","v":{"$error":"#N/A"}}]
[null,null,null,null,null,null,null,null,null,null,null,null,null,null,null,null,null,null,null,null,null,null,null,null,null,null,null,null,null,null,null,null,null,null,null,null,null,null,null,null,null,null,null,null,null,null,null,null,null,null,null,null,null,null,null,null,null,null,null,0,"@","@","@","@","@","@","@","@","@","@","@","@","@","@","@","@","@","@","@","@","@","@","@","@","@","@","@","@","@","@","@",{"$f":"'Month 2'!BL81","v":"@"},{"$f":"'Month 2'!BK81","v":"@"},{"$f":"'Month 2'!BJ81","v":"@"},{"$f":"'Month 2'!BI81","v":"@"},{"$error":"#N/A"},{"$error":"#N/A"},{"$error":"#N/A"},{"$error":"#N/A"},{"$f":"IF(ISNUMBER(SUM(COUNTIF(INDIRECT(CR81):INDIRECT(CS81),2),COUNTIF(INDIRECT(CR81):INDIRECT(CS81),1),COUNTIF(INDIRECT(CR81):INDIRECT(CS81),0))),SUM(COUNTIF(INDIRECT(CR81):INDIRECT(CS81),2),COUNTIF(INDIRECT(CR81):INDIRECT(CS81),1),COUNTIF(INDIRECT(CR81):INDIRECT(CS81),0)),\"\")","v":""},{"$f":"IF(ISNUMBER(SUM(COUNTIF(INDIRECT(CR81):INDIRECT(CT81),2),COUNTIF(INDIRECT(CR81):INDIRECT(CT81),1),COUNTIF(INDIRECT(CR81):INDIRECT(CT81),0))),SUM(COUNTIF(INDIRECT(CR81):INDIRECT(CT81),2),COUNTIF(INDIRECT(CR81):INDIRECT(CT81),1),COUNTIF(INDIRECT(CR81):INDIRECT(CT81),0)),\"\")","v":""},{"$f":"IF(ISNUMBER(SUM(COUNTIF(INDIRECT(CR81):INDIRECT(CU81),1),COUNTIF(INDIRECT(CR81):INDIRECT(CU81),0))),SUM(COUNTIF(INDIRECT(CR81):INDIRECT(CU81),1),COUNTIF(INDIRECT(CR81):INDIRECT(CU81),0)),\"\")","v":""},{"$f":"SUM(INDIRECT(CR81):INDIRECT(CS81))","v":{"$error":"#N/A"}},{"$f":"SUM(INDIRECT(CR81):INDIRECT(CT81))","v":{"$error":"#N/A"}},{"$f":"SUM(INDIRECT(CR81):INDIRECT(CU81))","v":{"$error":"#N/A"}}]
[null,null,null,null,null,null,null,null,null,null,null,null,null,null,null,null,null,null,null,null,null,null,null,null,null,null,null,null,null,null,null,null,null,null,null,null,null,null,null,null,null,null,null,null,null,null,null,null,null,null,null,null,null,null,null,null,null,null,null,0,"@","@","@","@","@","@","@","@","@","@","@","@","@","@","@","@","@","@","@","@","@","@","@","@","@","@","@","@","@","@","@",{"$f":"'Month 2'!BL82","v":"@"},{"$f":"'Month 2'!BK82","v":"@"},{"$f":"'Month 2'!BJ82","v":"@"},{"$f":"'Month 2'!BI82","v":"@"},{"$error":"#N/A"},{"$error":"#N/A"},{"$error":"#N/A"},{"$error":"#N/A"},{"$f":"IF(ISNUMBER(SUM(COUNTIF(INDIRECT(CR82):INDIRECT(CS82),2),COUNTIF(INDIRECT(CR82):INDIRECT(CS82),1),COUNTIF(INDIRECT(CR82):INDIRECT(CS82),0))),SUM(COUNTIF(INDIRECT(CR82):INDIRECT(CS82),2),COUNTIF(INDIRECT(CR82):INDIRECT(CS82),1),COUNTIF(INDIRECT(CR82):INDIRECT(CS82),0)),\"\")","v":""},{"$f":"IF(ISNUMBER(SUM(COUNTIF(INDIRECT(CR82):INDIRECT(CT82),2),COUNTIF(INDIRECT(CR82):INDIRECT(CT82),1),COUNTIF(INDIRECT(CR82):INDIRECT(CT82),0))),SUM(COUNTIF(INDIRECT(CR82):INDIRECT(CT82),2),COUNTIF(INDIRECT(CR82):INDIRECT(CT82),1),COUNTIF(INDIRECT(CR82):INDIRECT(CT82),0)),\"\")","v":""},{"$f":"IF(ISNUMBER(SUM(COUNTIF(INDIRECT(CR82):INDIRECT(CU82),1),COUNTIF(INDIRECT(CR82):INDIRECT(CU82),0))),SUM(COUNTIF(INDIRECT(CR82):INDIRECT(CU82),1),COUNTIF(INDIRECT(CR82):INDIRECT(CU82),0)),\"\")","v":""},{"$f":"SUM(INDIRECT(CR82):INDIRECT(CS82))","v":{"$error":"#N/A"}},{"$f":"SUM(INDIRECT(CR82):INDIRECT(CT82))","v":{"$error":"#N/A"}},{"$f":"SUM(INDIRECT(CR82):INDIRECT(CU82))","v":{"$error":"#N/A"}}]
[null,null,null,null,null,null,null,null,null,null,null,null,null,null,null,null,null,null,null,null,null,null,null,null,null,null,null,null,null,null,null,null,null,null,null,null,null,null,null,null,null,null,null,null,null,null,null,null,null,null,null,null,null,null,null,null,null,null,null,0,"@","@","@","@","@","@","@","@","@","@","@","@","@","@","@","@","@","@","@","@","@","@","@","@","@","@","@","@","@","@","@",{"$f":"'Month 2'!BL83","v":"@"},{"$f":"'Month 2'!BK83","v":"@"},{"$f":"'Month 2'!BJ83","v":"@"},{"$f":"'Month 2'!BI83","v":"@"},{"$error":"#N/A"},{"$error":"#N/A"},{"$error":"#N/A"},{"$error":"#N/A"},{"$f":"IF(ISNUMBER(SUM(COUNTIF(INDIRECT(CR83):INDIRECT(CS83),2),COUNTIF(INDIRECT(CR83):INDIRECT(CS83),1),COUNTIF(INDIRECT(CR83):INDIRECT(CS83),0))),SUM(COUNTIF(INDIRECT(CR83):INDIRECT(CS83),2),COUNTIF(INDIRECT(CR83):INDIRECT(CS83),1),COUNTIF(INDIRECT(CR83):INDIRECT(CS83),0)),\"\")","v":""},{"$f":"IF(ISNUMBER(SUM(COUNTIF(INDIRECT(CR83):INDIRECT(CT83),2),COUNTIF(INDIRECT(CR83):INDIRECT(CT83),1),COUNTIF(INDIRECT(CR83):INDIRECT(CT83),0))),SUM(COUNTIF(INDIRECT(CR83):INDIRECT(CT83),2),COUNTIF(INDIRECT(CR83):INDIRECT(CT83),1),COUNTIF(INDIRECT(CR83):INDIRECT(CT83),0)),\"\")","v":""},{"$f":"IF(ISNUMBER(SUM(COUNTIF(INDIRECT(CR83):INDIRECT(CU83),1),COUNTIF(INDIRECT(CR83):INDIRECT(CU83),0))),SUM(COUNTIF(INDIRECT(CR83):INDIRECT(CU83),1),COUNTIF(INDIRECT(CR83):INDIRECT(CU83),0)),\"\")","v":""},{"$f":"SUM(INDIRECT(CR83):INDIRECT(CS83))","v":{"$error":"#N/A"}},{"$f":"SUM(INDIRECT(CR83):INDIRECT(CT83))","v":{"$error":"#N/A"}},{"$f":"SUM(INDIRECT(CR83):INDIRECT(CU83))","v":{"$error":"#N/A"}}]
[null,null,null,null,null,null,null,null,null,null,null,null,null,null,null,null,null,null,null,null,null,null,null,null,null,null,null,null,null,null,null,null,null,null,null,null,null,null,null,null,null,null,null,null,null,null,null,null,null,null,null,null,null,null,null,null,null,null,null,0,"@","@","@","@","@","@","@","@","@","@","@","@","@","@","@","@","@","@","@","@","@","@","@","@","@","@","@","@","@","@","@",{"$f":"'Month 2'!BL84","v":"@"},{"$f":"'Month 2'!BK84","v":"@"},{"$f":"'Month 2'!BJ84","v":"@"},{"$f":"'Month 2'!BI84","v":"@"},{"$error":"#N/A"},{"$error":"#N/A"},{"$error":"#N/A"},{"$error":"#N/A"},{"$f":"IF(ISNUMBER(SUM(COUNTIF(INDIRECT(CR84):INDIRECT(CS84),2),COUNTIF(INDIRECT(CR84):INDIRECT(CS84),1),COUNTIF(INDIRECT(CR84):INDIRECT(CS84),0))),SUM(COUNTIF(INDIRECT(CR84):INDIRECT(CS84),2),COUNTIF(INDIRECT(CR84):INDIRECT(CS84),1),COUNTIF(INDIRECT(CR84):INDIRECT(CS84),0)),\"\")","v":""},{"$f":"IF(ISNUMBER(SUM(COUNTIF(INDIRECT(CR84):INDIRECT(CT84),2),COUNTIF(INDIRECT(CR84):INDIRECT(CT84),1),COUNTIF(INDIRECT(CR84):INDIRECT(CT84),0))),SUM(COUNTIF(INDIRECT(CR84):INDIRECT(CT84),2),COUNTIF(INDIRECT(CR84):INDIRECT(CT84),1),COUNTIF(INDIRECT(CR84):INDIRECT(CT84),0)),\"\")","v":""},{"$f":"IF(ISNUMBER(SUM(COUNTIF(INDIRECT(CR84):INDIRECT(CU84),1),COUNTIF(INDIRECT(CR84):INDIRECT(CU84),0))),SUM(COUNTIF(INDIRECT(CR84):INDIRECT(CU84),1),COUNTIF(INDIRECT(CR84):INDIRECT(CU84),0)),\"\")","v":""},{"$f":"SUM(INDIRECT(CR84):INDIRECT(CS84))","v":{"$error":"#N/A"}},{"$f":"SUM(INDIRECT(CR84):INDIRECT(CT84))","v":{"$error":"#N/A"}},{"$f":"SUM(INDIRECT(CR84):INDIRECT(CU84))","v":{"$error":"#N/A"}}]
[null,null,null,null,null,null,null,null,null,null,null,null,null,null,null,null,null,null,null,null,null,null,null,null,null,null,null,null,null,null,null,null,null,null,null,null,null,null,null,null,null,null,null,null,null,null,null,null,null,null,null,null,null,null,null,null,null,null,null,0,"@","@","@","@","@","@","@","@","@","@","@","@","@","@","@","@","@","@","@","@","@","@","@","@","@","@","@","@","@","@","@",{"$f":"'Month 2'!BL85","v":"@"},{"$f":"'Month 2'!BK85","v":"@"},{"$f":"'Month 2'!BJ85","v":"@"},{"$f":"'Month 2'!BI85","v":"@"},{"$error":"#N/A"},{"$error":"#N/A"},{"$error":"#N/A"},{"$error":"#N/A"},{"$f":"IF(ISNUMBER(SUM(COUNTIF(INDIRECT(CR85):INDIRECT(CS85),2),COUNTIF(INDIRECT(CR85):INDIRECT(CS85),1),COUNTIF(INDIRECT(CR85):INDIRECT(CS85),0))),SUM(COUNTIF(INDIRECT(CR85):INDIRECT(CS85),2),COUNTIF(INDIRECT(CR85):INDIRECT(CS85),1),COUNTIF(INDIRECT(CR85):INDIRECT(CS85),0)),\"\")","v":""},{"$f":"IF(ISNUMBER(SUM(COUNTIF(INDIRECT(CR85):INDIRECT(CT85),2),COUNTIF(INDIRECT(CR85):INDIRECT(CT85),1),COUNTIF(INDIRECT(CR85):INDIRECT(CT85),0))),SUM(COUNTIF(INDIRECT(CR85):INDIRECT(CT85),2),COUNTIF(INDIRECT(CR85):INDIRECT(CT85),1),COUNTIF(INDIRECT(CR85):INDIRECT(CT85),0)),\"\")","v":""},{"$f":"IF(ISNUMBER(SUM(COUNTIF(INDIRECT(CR85):INDIRECT(CU85),1),COUNTIF(INDIRECT(CR85):INDIRECT(CU85),0))),SUM(COUNTIF(INDIRECT(CR85):INDIRECT(CU85),1),COUNTIF(INDIRECT(CR85):INDIRECT(CU85),0)),\"\")","v":""},{"$f":"SUM(INDIRECT(CR85):INDIRECT(CS85))","v":{"$error":"#N/A"}},{"$f":"SUM(INDIRECT(CR85):INDIRECT(CT85))","v":{"$error":"#N/A"}},{"$f":"SUM(INDIRECT(CR85):INDIRECT(CU85))","v":{"$error":"#N/A"}}]
[null,null,null,null,null,null,null,null,null,null,null,null,null,null,null,null,null,null,null,null,null,null,null,null,null,null,null,null,null,null,null,null,null,null,null,null,null,null,null,null,null,null,null,null,null,null,null,null,null,null,null,null,null,null,null,null,null,null,null,0,"@","@","@","@","@","@","@","@","@","@","@","@","@","@","@","@","@","@","@","@","@","@","@","@","@","@","@","@","@","@","@",{"$f":"'Month 2'!BL86","v":"@"},{"$f":"'Month 2'!BK86","v":"@"},{"$f":"'Month 2'!BJ86","v":"@"},{"$f":"'Month 2'!BI86","v":"@"},{"$error":"#N/A"},{"$error":"#N/A"},{"$error":"#N/A"},{"$error":"#N/A"},{"$f":"IF(ISNUMBER(SUM(COUNTIF(INDIRECT(CR86):INDIRECT(CS86),2),COUNTIF(INDIRECT(CR86):INDIRECT(CS86),1),COUNTIF(INDIRECT(CR86):INDIRECT(CS86),0))),SUM(COUNTIF(INDIRECT(CR86):INDIRECT(CS86),2),COUNTIF(INDIRECT(CR86):INDIRECT(CS86),1),COUNTIF(INDIRECT(CR86):INDIRECT(CS86),0)),\"\")","v":""},{"$f":"IF(ISNUMBER(SUM(COUNTIF(INDIRECT(CR86):INDIRECT(CT86),2),COUNTIF(INDIRECT(CR86):INDIRECT(CT86),1),COUNTIF(INDIRECT(CR86):INDIRECT(CT86),0))),SUM(COUNTIF(INDIRECT(CR86):INDIRECT(CT86),2),COUNTIF(INDIRECT(CR86):INDIRECT(CT86),1),COUNTIF(INDIRECT(CR86):INDIRECT(CT86),0)),\"\")","v":""},{"$f":"IF(ISNUMBER(SUM(COUNTIF(INDIRECT(CR86):INDIRECT(CU86),1),COUNTIF(INDIRECT(CR86):INDIRECT(CU86),0))),SUM(COUNTIF(INDIRECT(CR86):INDIRECT(CU86),1),COUNTIF(INDIRECT(CR86):INDIRECT(CU86),0)),\"\")","v":""},{"$f":"SUM(INDIRECT(CR86):INDIRECT(CS86))","v":{"$error":"#N/A"}},{"$f":"SUM(INDIRECT(CR86):INDIRECT(CT86))","v":{"$error":"#N/A"}},{"$f":"SUM(INDIRECT(CR86):INDIRECT(CU86))","v":{"$error":"#N/A"}}]
[null,null,null,null,null,null,null,null,null,null,null,null,null,null,null,null,null,null,null,null,null,null,null,null,null,null,null,null,null,null,null,null,null,null,null,null,null,null,null,null,null,null,null,null,null,null,null,null,null,null,null,null,null,null,null,null,null,null,null,0,{"$f":"IF(OR(AK59=\"+\",AK59=\"Y\",AK59=2),1,IF(OR(AK59=\"-\",AK59=\"N\",AK59=1),0,IF(OR(BJ87=1,BJ87=0),\"#\",\"@\")))","v":"@"},{"$f":"IF(OR(AJ59=\"+\",AJ59=\"Y\",AJ59=2),1,IF(OR(AJ59=\"-\",AJ59=\"N\",AJ59=1),0,IF(OR(BK87=1,BK87=0),\"#\",\"@\")))","v":"@"},{"$f":"IF(OR(AI59=\"+\",AI59=\"Y\",AI59=2),1,IF(OR(AI59=\"-\",AI59=\"N\",AI59=1),0,IF(OR(BL87=1,BL87=0),\"#\",\"@\")))","v":"@"},{"$f":"IF(OR(AH59=\"+\",AH59=\"Y\",AH59=2),1,IF(OR(AH59=\"-\",AH59=\"N\",AH59=1),0,IF(OR(BM87=1,BM87=0),\"#\",\"@\")))","v":"@"},{"$f":"IF(OR(AG59=\"+\",AG59=\"Y\",AG59=2),1,IF(OR(AG59=\"-\",AG59=\"N\",AG59=1),0,IF(OR(BN87=1,BN87=0),\"#\",\"@\")))","v":"@"},{"$f":"IF(OR(AF59=\"+\",AF59=\"Y\",AF59=2),1,IF(OR(AF59=\"-\",AF59=\"N\",AF59=1),0,IF(OR(BO87=1,BO87=0),\"#\",\"@\")))","v":"@"},{"$f":"IF(OR(AE59=\"+\",AE59=\"Y\",AE59=2),1,IF(OR(AE59=\"-\",AE59=\"N\",AE59=1),0,IF(OR(BP87=1,BP87=0),\"#\",\"@\")))","v":"@"},{"$f":"IF(OR(AD59=\"+\",AD59=\"Y\",AD59=2),1,IF(OR(AD59=\"-\",AD59=\"N\",AD59=1),0,IF(OR(BQ87=1,BQ87=0),\"#\",\"@\")))","v":"@"},{"$f":"IF(OR(AC59=\"+\",AC59=\"Y\",AC59=2),1,IF(OR(AC59=\"-\",AC59=\"N\",AC59=1),0,IF(OR(BR87=1,BR87=0),\"#\",\"@\")))","v":"@"},{"$f":"IF(OR(AB59=\"+\",AB59=\"Y\",AB59=2),1,IF(OR(AB59=\"-\",AB59=\"N\",AB59=1),0,IF(OR(BS87=1,BS87=0),\"#\",\"@\")))","v":"@"},{"$f":"IF(OR(AA59=\"+\",AA59=\"Y\",AA59=2),1,IF(OR(AA59=\"-\",AA59=\"N\",AA59=1),0,IF(OR(BT87=1,BT87=0),\"#\",\"@\")))","v":"@"},{"$f":"IF(OR(Z59=\"+\",Z59=\"Y\",Z59=2),1,IF(OR(Z59=\"-\",Z59=\"N\",Z59=1),0,IF(OR(BU87=1,BU87=0),\"#\",\"@\")))","v":"@"},{"$f":"IF(OR(Y59=\"+\",Y59=\"Y\",Y59=2),1,IF(OR(Y59=\"-\",Y59=\"N\",Y59=1),0,IF(OR(BV87=1,BV87=0),\"#\",\"@\")))","v":"@"},{"$f":"IF(OR(X59=\"+\",X59=\"Y\",X59=2),1,IF(OR(X59=\"-\",X59=\"N\",X59=1),0,IF(OR(BW87=1,BW87=0),\"#\",\"@\")))","v":"@"},{"$f":"IF(OR(W59=\"+\",W59=\"Y\",W59=2),1,IF(OR(W59=\"-\",W59=\"N\",W59=1),0,IF(OR(BX87=1,BX87=0),\"#\",\"@\")))","v":"@"},{"$f":"IF(OR(V59=\"+\",V59=\"Y\",V59=2),1,IF(OR(V59=\"-\",V59=\"N\",V59=1),0,IF(OR(BY87=1,BY87=0),\"#\",\"@\")))","v":"@"},{"$f":"IF(OR(U59=\"+\",U59=\"Y\",U59=2),1,IF(OR(U59=\"-\",U59=\"N\",U59=1),0,IF(OR(BZ87=1,BZ87=0),\"#\",\"@\")))","v":"@"},{"$f":"IF(OR(T59=\"+\",T59=\"Y\",T59=2),1,IF(OR(T59=\"-\",T59=\"N\",T59=1),0,IF(OR(CA87=1,CA87=0),\"#\",\"@\")))","v":"@"},{"$f":"IF(OR(S59=\"+\",S59=\"Y\",S59=2),1,IF(OR(S59=\"-\",S59=\"N\",S59=1),0,IF(OR(CB87=1,CB87=0),\"#\",\"@\")))","v":"@"},{"$f":"IF(OR(R59=\"+\",R59=\"Y\",R59=2),1,IF(OR(R59=\"-\",R59=\"N\",R59=1),0,IF(OR(CC87=1,CC87=0),\"#\",\"@\")))","v":"@"},{"$f":"IF(OR(Q59=\"+\",Q59=\"Y\",Q59=2),1,IF(OR(Q59=\"-\",Q59=\"N\",Q59=1),0,IF(OR(CD87=1,CD87=0),\"#\",\"@\")))","v":"@"},{"$f":"IF(OR(P59=\"+\",P59=\"Y\",P59=2),1,IF(OR(P59=\"-\",P59=\"N\",P59=1),0,IF(OR(CE87=1,CE87=0),\"#\",\"@\")))","v":"@"},{"$f":"IF(OR(O59=\"+\",O59=\"Y\",O59=2),1,IF(OR(O59=\"-\",O59=\"N\",O59=1),0,IF(OR(CF87=1,CF87=0),\"#\",\"@\")))","v":"@"},{"$f":"IF(OR(N59=\"+\",N59=\"Y\",N59=2),1,IF(OR(N59=\"-\",N59=\"N\",N59=1),0,IF(OR(CG87=1,CG87=0),\"#\",\"@\")))","v":"@"},{"$f":"IF(OR(M59=\"+\",M59=\"Y\",M59=2),1,IF(OR(M59=\"-\",M59=\"N\",M59=1),0,IF(OR(CH87=1,CH87=0),\"#\",\"@\")))","v":"@"},{"$f":"IF(OR(L59=\"+\",L59=\"Y\",L59=2),1,IF(OR(L59=\"-\",L59=\"N\",L59=1),0,IF(OR(CI87=1,CI87=0),\"#\",\"@\")))","v":"@"},{"$f":"IF(OR(K59=\"+\",K59=\"Y\",K59=2),1,IF(OR(K59=\"-\",K59=\"N\",K59=1),0,IF(OR(CJ87=1,CJ87=0),\"#\",\"@\")))","v":"@"},{"$f":"IF(OR(J59=\"+\",J59=\"Y\",J59=2),1,IF(OR(J59=\"-\",J59=\"N\",J59=1),0,IF(OR(CK87=1,CK87=0),\"#\",\"@\")))","v":"@"},{"$f":"IF(OR(I59=\"+\",I59=\"Y\",I59=2),1,IF(OR(I59=\"-\",I59=\"N\",I59=1),0,IF(OR(CL87=1,CL87=0),\"#\",\"@\")))","v":"@"},{"$f":"IF(OR(H59=\"+\",H59=\"Y\",H59=2),1,IF(OR(H59=\"-\",H59=\"N\",H59=1),0,IF(OR(CM87=1,CM87=0),\"#\",\"@\")))","v":"@"},{"$f":"IF(OR(G59=\"+\",G59=\"Y\",G59=2),1,IF(OR(G59=\"-\",G59=\"N\",G59=1),0,\"@\"))","v":"@"},{"$f":"'Month 2'!BL87","v":"@"},{"$f":"'Month 2'!BK87","v":"@"},{"$f":"'Month 2'!BJ87","v":"@"},{"$f":"'Month 2'!BI87","v":"@"},{"$f":"ADDRESS(ROW(BH87),(MATCH(\"#\",BI87:CM87,0)+61))","v":{"$error":"#N/A"}},{"$f":"ADDRESS(ROW(BH87),(MATCH(\"#\",BI87:CM87,0)+65))","v":{"$error":"#N/A"}},{"$f":"ADDRESS(ROW(BH87),(MATCH(\"#\",BI87:CM87,0)+64))","v":{"$error":"#N/A"}},{"$f":"ADDRESS(ROW(BH87),(MATCH(\"#\",BI87:CM87,0)+63))","v":{"$error":"#N/A"}},{"$f":"IF(ISNUMBER(SUM(COUNTIF(INDIRECT(CR87):INDIRECT(CS87),2),COUNTIF(INDIRECT(CR87):INDIRECT(CS87),1),COUNTIF(INDIRECT(CR87):INDIRECT(CS87),0))),SUM(COUNTIF(INDIRECT(CR87):INDIRECT(CS87),2),COUNTIF(INDIRECT(CR87):INDIRECT(CS87),1),COUNTIF(INDIRECT(CR87):INDIRECT(CS87),0)),\"\")","v":""},{"$f":"IF(ISNUMBER(SUM(COUNTIF(INDIRECT(CR87):INDIRECT(CT87),2),COUNTIF(INDIRECT(CR87):INDIRECT(CT87),1),COUNTIF(INDIRECT(CR87):INDIRECT(CT87),0))),SUM(COUNTIF(INDIRECT(CR87):INDIRECT(CT87),2),COUNTIF(INDIRECT(CR87):INDIRECT(CT87),1),COUNTIF(INDIRECT(CR87):INDIRECT(CT87),0)),\"\")","v":""},{"$f":"IF(ISNUMBER(SUM(COUNTIF(INDIRECT(CR87):INDIRECT(CU87),1),COUNTIF(INDIRECT(CR87):INDIRECT(CU87),0))),SUM(COUNTIF(INDIRECT(CR87):INDIRECT(CU87),1),COUNTIF(INDIRECT(CR87):INDIRECT(CU87),0)),\"\")","v":""},{"$f":"SUM(INDIRECT(CR87):INDIRECT(CS87))","v":{"$error":"#N/A"}},{"$f":"SUM(INDIRECT(CR87):INDIRECT(CT87))","v":{"$error":"#N/A"}},{"$f":"SUM(INDIRECT(CR87):INDIRECT(CU87))","v":{"$error":"#N/A"}}]
[null,null,null,null,null,null,null,null,null,null,null,null,null,null,null,null,null,null,null,null,null,null,null,null,null,null,null,null,null,null,null,null,null,null,null,null,null,null,null,null,null,null,null,null,null,null,null,null,null,null,null,null,null,null,null,null,null,null,null,0,"@","@","@","@","@","@","@","@","@","@","@","@","@","@","@","@","@","@","@","@","@","@","@","@","@","@","@","@","@","@","@",{"$f":"'Month 2'!BL88","v":"@"},{"$f":"'Month 2'!BK88","v":"@"},{"$f":"'Month 2'!BJ88","v":"@"},{"$f":"'Month 2'!BI88","v":"@"},{"$error":"#N/A"},{"$error":"#N/A"},{"$error":"#N/A"},{"$error":"#N/A"},{"$f":"IF(ISNUMBER(SUM(COUNTIF(INDIRECT(CR88):INDIRECT(CS88),2),COUNTIF(INDIRECT(CR88):INDIRECT(CS88),1),COUNTIF(INDIRECT(CR88):INDIRECT(CS88),0))),SUM(COUNTIF(INDIRECT(CR88):INDIRECT(CS88),2),COUNTIF(INDIRECT(CR88):INDIRECT(CS88),1),COUNTIF(INDIRECT(CR88):INDIRECT(CS88),0)),\"\")","v":""},{"$f":"IF(ISNUMBER(SUM(COUNTIF(INDIRECT(CR88):INDIRECT(CT88),2),COUNTIF(INDIRECT(CR88):INDIRECT(CT88),1),COUNTIF(INDIRECT(CR88):INDIRECT(CT88),0))),SUM(COUNTIF(INDIRECT(CR88):INDIRECT(CT88),2),COUNTIF(INDIRECT(CR88):INDIRECT(CT88),1),COUNTIF(INDIRECT(CR88):INDIRECT(CT88),0)),\"\")","v":""},{"$f":"IF(ISNUMBER(SUM(COUNTIF(INDIRECT(CR88):INDIRECT(CU88),1),COUNTIF(INDIRECT(CR88):INDIRECT(CU88),0))),SUM(COUNTIF(INDIRECT(CR88):INDIRECT(CU88),1),COUNTIF(INDIRECT(CR88):INDIRECT(CU88),0)),\"\")","v":""},{"$f":"SUM(INDIRECT(CR88):INDIRECT(CS88))","v":{"$error":"#N/A"}},{"$f":"SUM(INDIRECT(CR88):INDIRECT(CT88))","v":{"$error":"#N/A"}},{"$f":"SUM(INDIRECT(CR88):INDIRECT(CU88))","v":{"$error":"#N/A"}}]
[null,null,null,null,null,null,null,null,null,null,null,null,null,null,null,null,null,null,null,null,null,null,null,null,null,null,null,null,null,null,null,null,null,null,null,null,null,null,null,null,null,null,null,null,null,null,null,null,null,null,null,null,null,null,null,null,null,null,null,0,"@","@","@","@","@","@","@","@","@","@","@","@","@","@","@","@","@","@","@","@","@","@","@","@","@","@","@","@","@","@","@",{"$f":"'Month 2'!BL89","v":"@"},{"$f":"'Month 2'!BK89","v":"@"},{"$f":"'Month 2'!BJ89","v":"@"},{"$f":"'Month 2'!BI89","v":"@"},{"$error":"#N/A"},{"$error":"#N/A"},{"$error":"#N/A"},{"$error":"#N/A"},{"$f":"IF(ISNUMBER(SUM(COUNTIF(INDIRECT(CR89):INDIRECT(CS89),2),COUNTIF(INDIRECT(CR89):INDIRECT(CS89),1),COUNTIF(INDIRECT(CR89):INDIRECT(CS89),0))),SUM(COUNTIF(INDIRECT(CR89):INDIRECT(CS89),2),COUNTIF(INDIRECT(CR89):INDIRECT(CS89),1),COUNTIF(INDIRECT(CR89):INDIRECT(CS89),0)),\"\")","v":""},{"$f":"IF(ISNUMBER(SUM(COUNTIF(INDIRECT(CR89):INDIRECT(CT89),2),COUNTIF(INDIRECT(CR89):INDIRECT(CT89),1),COUNTIF(INDIRECT(CR89):INDIRECT(CT89),0))),SUM(COUNTIF(INDIRECT(CR89):INDIRECT(CT89),2),COUNTIF(INDIRECT(CR89):INDIRECT(CT89),1),COUNTIF(INDIRECT(CR89):INDIRECT(CT89),0)),\"\")","v":""},{"$f":"IF(ISNUMBER(SUM(COUNTIF(INDIRECT(CR89):INDIRECT(CU89),1),COUNTIF(INDIRECT(CR89):INDIRECT(CU89),0))),SUM(COUNTIF(INDIRECT(CR89):INDIRECT(CU89),1),COUNTIF(INDIRECT(CR89):INDIRECT(CU89),0)),\"\")","v":""},{"$f":"SUM(INDIRECT(CR89):INDIRECT(CS89))","v":{"$error":"#N/A"}},{"$f":"SUM(INDIRECT(CR89):INDIRECT(CT89))","v":{"$error":"#N/A"}},{"$f":"SUM(INDIRECT(CR89):INDIRECT(CU89))","v":{"$error":"#N/A"}}]
[null,null,null,null,null,null,null,null,null,null,null,null,null,null,null,null,null,null,null,null,null,null,null,null,null,null,null,null,null,null,null,null,null,null,null,null,null,null,null,null,null,null,null,null,null,null,null,null,null,null,null,null,null,null,null,null,null,null,null,0,"@","@","@","@","@","@","@","@","@","@","@","@","@","@","@","@","@","@","@","@","@","@","@","@","@","@","@","@","@","@","@",{"$f":"'Month 2'!BL90","v":"@"},{"$f":"'Month 2'!BK90","v":"@"},{"$f":"'Month 2'!BJ90","v":"@"},{"$f":"'Month 2'!BI90","v":"@"},{"$error":"#N/A"},{"$error":"#N/A"},{"$error":"#N/A"},{"$error":"#N/A"},{"$f":"IF(ISNUMBER(SUM(COUNTIF(INDIRECT(CR90):INDIRECT(CS90),2),COUNTIF(INDIRECT(CR90):INDIRECT(CS90),1),COUNTIF(INDIRECT(CR90):INDIRECT(CS90),0))),SUM(COUNTIF(INDIRECT(CR90):INDIRECT(CS90),2),COUNTIF(INDIRECT(CR90):INDIRECT(CS90),1),COUNTIF(INDIRECT(CR90):INDIRECT(CS90),0)),\"\")","v":""},{"$f":"IF(ISNUMBER(SUM(COUNTIF(INDIRECT(CR90):INDIRECT(CT90),2),COUNTIF(INDIRECT(CR90):INDIRECT(CT90),1),COUNTIF(INDIRECT(CR90):INDIRECT(CT90),0))),SUM(COUNTIF(INDIRECT(CR90):INDIRECT(CT90),2),COUNTIF(INDIRECT(CR90):INDIRECT(CT90),1),COUNTIF(INDIRECT(CR90):INDIRECT(CT90),0)),\"\")","v":""},{"$f":"IF(ISNUMBER(SUM(COUNTIF(INDIRECT(CR90):INDIRECT(CU90),1),COUNTIF(INDIRECT(CR90):INDIRECT(CU90),0))),SUM(COUNTIF(INDIRECT(CR90):INDIRECT(CU90),1),COUNTIF(INDIRECT(CR90):INDIRECT(CU90),0)),\"\")","v":""},{"$f":"SUM(INDIRECT(CR90):INDIRECT(CS90))","v":{"$error":"#N/A"}},{"$f":"SUM(INDIRECT(CR90):INDIRECT(CT90))","v":{"$error":"#N/A"}},{"$f":"SUM(INDIRECT(CR90):INDIRECT(CU90))","v":{"$error":"#N/A"}}]
[null,null,null,null,null,null,null,null,null,null,null,null,null,null,null,null,null,null,null,null,null,null,null,null,null,null,null,null,null,null,null,null,null,null,null,null,null,null,null,null,null,null,null,null,null,null,null,null,null,null,null,null,null,null,null,null,null,null,null,0,"@","@","@","@","@","@","@","@","@","@","@","@","@","@","@","@","@","@","@","@","@","@","@","@","@","@","@","@","@","@","@",{"$f":"'Month 2'!BL91","v":"@"},{"$f":"'Month 2'!BK91","v":"@"},{"$f":"'Month 2'!BJ91","v":"@"},{"$f":"'Month 2'!BI91","v":"@"},{"$error":"#N/A"},{"$error":"#N/A"},{"$error":"#N/A"},{"$error":"#N/A"},{"$f":"IF(ISNUMBER(SUM(COUNTIF(INDIRECT(CR91):INDIRECT(CS91),2),COUNTIF(INDIRECT(CR91):INDIRECT(CS91),1),COUNTIF(INDIRECT(CR91):INDIRECT(CS91),0))),SUM(COUNTIF(INDIRECT(CR91):INDIRECT(CS91),2),COUNTIF(INDIRECT(CR91):INDIRECT(CS91),1),COUNTIF(INDIRECT(CR91):INDIRECT(CS91),0)),\"\")","v":""},{"$f":"IF(ISNUMBER(SUM(COUNTIF(INDIRECT(CR91):INDIRECT(CT91),2),COUNTIF(INDIRECT(CR91):INDIRECT(CT91),1),COUNTIF(INDIRECT(CR91):INDIRECT(CT91),0))),SUM(COUNTIF(INDIRECT(CR91):INDIRECT(CT91),2),COUNTIF(INDIRECT(CR91):INDIRECT(CT91),1),COUNTIF(INDIRECT(CR91):INDIRECT(CT91),0)),\"\")","v":""},{"$f":"IF(ISNUMBER(SUM(COUNTIF(INDIRECT(CR91):INDIRECT(CU91),1),COUNTIF(INDIRECT(CR91):INDIRECT(CU91),0))),SUM(COUNTIF(INDIRECT(CR91):INDIRECT(CU91),1),COUNTIF(INDIRECT(CR91):INDIRECT(CU91),0)),\"\")","v":""},{"$f":"SUM(INDIRECT(CR91):INDIRECT(CS91))","v":{"$error":"#N/A"}},{"$f":"SUM(INDIRECT(CR91):INDIRECT(CT91))","v":{"$error":"#N/A"}},{"$f":"SUM(INDIRECT(CR91):INDIRECT(CU91))","v":{"$error":"#N/A"}}]
[null,null,null,null,null,null,null,null,null,null,null,null,null,null,null,null,null,null,null,null,null,null,null,null,null,null,null,null,null,null,null,null,null,null,null,null,null,null,null,null,null,null,null,null,null,null,null,null,null,null,null,null,null,null,null,null,null,null,null,0,"@","@","@","@","@","@","@","@","@","@","@","@","@","@","@","@","@","@","@","@","@","@","@","@","@","@","@","@","@","@","@",{"$f":"'Month 2'!BL92","v":"@"},{"$f":"'Month 2'!BK92","v":"@"},{"$f":"'Month 2'!BJ92","v":"@"},{"$f":"'Month 2'!BI92","v":"@"},{"$error":"#N/A"},{"$error":"#N/A"},{"$error":"#N/A"},{"$error":"#N/A"},{"$f":"IF(ISNUMBER(SUM(COUNTIF(INDIRECT(CR92):INDIRECT(CS92),2),COUNTIF(INDIRECT(CR92):INDIRECT(CS92),1),COUNTIF(INDIRECT(CR92):INDIRECT(CS92),0))),SUM(COUNTIF(INDIRECT(CR92):INDIRECT(CS92),2),COUNTIF(INDIRECT(CR92):INDIRECT(CS92),1),COUNTIF(INDIRECT(CR92):INDIRECT(CS92),0)),\"\")","v":""},{"$f":"IF(ISNUMBER(SUM(COUNTIF(INDIRECT(CR92):INDIRECT(CT92),2),COUNTIF(INDIRECT(CR92):INDIRECT(CT92),1),COUNTIF(INDIRECT(CR92):INDIRECT(CT92),0))),SUM(COUNTIF(INDIRECT(CR92):INDIRECT(CT92),2),COUNTIF(INDIRECT(CR92):INDIRECT(CT92),1),COUNTIF(INDIRECT(CR92):INDIRECT(CT92),0)),\"\")","v":""},{"$f":"IF(ISNUMBER(SUM(COUNTIF(INDIRECT(CR92):INDIRECT(CU92),1),COUNTIF(INDIRECT(CR92):INDIRECT(CU92),0))),SUM(COUNTIF(INDIRECT(CR92):INDIRECT(CU92),1),COUNTIF(INDIRECT(CR92):INDIRECT(CU92),0)),\"\")","v":""},{"$f":"SUM(INDIRECT(CR92):INDIRECT(CS92))","v":{"$error":"#N/A"}},{"$f":"SUM(INDIRECT(CR92):INDIRECT(CT92))","v":{"$error":"#N/A"}},{"$f":"SUM(INDIRECT(CR92):INDIRECT(CU92))","v":{"$error":"#N/A"}}]
[null,null,null,null,null,null,null,null,null,null,null,null,null,null,null,null,null,null,null,null,null,null,null,null,null,null,null,null,null,null,null,null,null,null,null,null,null,null,null,null,null,null,null,null,null,null,null,null,null,null,null,null,null,null,null,null,null,null,null,0,"@","@","@","@","@","@","@","@","@","@","@","@","@","@","@","@","@","@","@","@","@","@","@","@","@","@","@","@","@","@","@",{"$f":"'Month 2'!BL93","v":"@"},{"$f":"'Month 2'!BK93","v":"@"},{"$f":"'Month 2'!BJ93","v":"@"},{"$f":"'Month 2'!BI93","v":"@"},{"$error":"#N/A"},{"$error":"#N/A"},{"$error":"#N/A"},{"$error":"#N/A"},{"$f":"IF(ISNUMBER(SUM(COUNTIF(INDIRECT(CR93):INDIRECT(CS93),2),COUNTIF(INDIRECT(CR93):INDIRECT(CS93),1),COUNTIF(INDIRECT(CR93):INDIRECT(CS93),0))),SUM(COUNTIF(INDIRECT(CR93):INDIRECT(CS93),2),COUNTIF(INDIRECT(CR93):INDIRECT(CS93),1),COUNTIF(INDIRECT(CR93):INDIRECT(CS93),0)),\"\")","v":""},{"$f":"IF(ISNUMBER(SUM(COUNTIF(INDIRECT(CR93):INDIRECT(CT93),2),COUNTIF(INDIRECT(CR93):INDIRECT(CT93),1),COUNTIF(INDIRECT(CR93):INDIRECT(CT93),0))),SUM(COUNTIF(INDIRECT(CR93):INDIRECT(CT93),2),COUNTIF(INDIRECT(CR93):INDIRECT(CT93),1),COUNTIF(INDIRECT(CR93):INDIRECT(CT93),0)),\"\")","v":""},{"$f":"IF(ISNUMBER(SUM(COUNTIF(INDIRECT(CR93):INDIRECT(CU93),1),COUNTIF(INDIRECT(CR93):INDIRECT(CU93),0))),SUM(COUNTIF(INDIRECT(CR93):INDIRECT(CU93),1),COUNTIF(INDIRECT(CR93):INDIRECT(CU93),0)),\"\")","v":""},{"$f":"SUM(INDIRECT(CR93):INDIRECT(CS93))","v":{"$error":"#N/A"}},{"$f":"SUM(INDIRECT(CR93):INDIRECT(CT93))","v":{"$error":"#N/A"}},{"$f":"SUM(INDIRECT(CR93):INDIRECT(CU93))","v":{"$error":"#N/A"}}]
[null,null,null,null,null,null,null,null,null,null,null,null,null,null,null,null,null,null,null,null,null,null,null,null,null,null,null,null,null,null,null,null,null,null,null,null,null,null,null,null,null,null,null,null,null,null,null,null,null,null,null,null,null,null,null,null,null,null,null,0,"@","@","@","@","@","@","@","@","@","@","@","@","@","@","@","@","@","@","@","@","@","@","@","@","@","@","@","@","@","@","@",{"$f":"'Month 2'!BL94","v":"@"},{"$f":"'Month 2'!BK94","v":"@"},{"$f":"'Month 2'!BJ94","v":"@"},{"$f":"'Month 2'!BI94","v":"@"},{"$error":"#N/A"},{"$error":"#N/A"},{"$error":"#N/A"},{"$error":"#N/A"},{"$f":"IF(ISNUMBER(SUM(COUNTIF(INDIRECT(CR94):INDIRECT(CS94),2),COUNTIF(INDIRECT(CR94):INDIRECT(CS94),1),COUNTIF(INDIRECT(CR94):INDIRECT(CS94),0))),SUM(COUNTIF(INDIRECT(CR94):INDIRECT(CS94),2),COUNTIF(INDIRECT(CR94):INDIRECT(CS94),1),COUNTIF(INDIRECT(CR94):INDIRECT(CS94),0)),\"\")","v":""},{"$f":"IF(ISNUMBER(SUM(COUNTIF(INDIRECT(CR94):INDIRECT(CT94),2),COUNTIF(INDIRECT(CR94):INDIRECT(CT94),1),COUNTIF(INDIRECT(CR94):INDIRECT(CT94),0))),SUM(COUNTIF(INDIRECT(CR94):INDIRECT(CT94),2),COUNTIF(INDIRECT(CR94):INDIRECT(CT94),1),COUNTIF(INDIRECT(CR94):INDIRECT(CT94),0)),\"\")","v":""},{"$f":"IF(ISNUMBER(SUM(COUNTIF(INDIRECT(CR94):INDIRECT(CU94),1),COUNTIF(INDIRECT(CR94):INDIRECT(CU94),0))),SUM(COUNTIF(INDIRECT(CR94):INDIRECT(CU94),1),COUNTIF(INDIRECT(CR94):INDIRECT(CU94),0)),\"\")","v":""},{"$f":"SUM(INDIRECT(CR94):INDIRECT(CS94))","v":{"$error":"#N/A"}},{"$f":"SUM(INDIRECT(CR94):INDIRECT(CT94))","v":{"$error":"#N/A"}},{"$f":"SUM(INDIRECT(CR94):INDIRECT(CU94))","v":{"$error":"#N/A"}}]
[null,null,null,null,null,null,null,null,null,null,null,null,null,null,null,null,null,null,null,null,null,null,null,null,null,null,null,null,null,null,null,null,null,null,null,null,null,null,null,null,null,null,null,null,null,null,null,null,null,null,null,null,null,null,null,null,null,null,null,0,"@","@","@","@","@","@","@","@","@","@","@","@","@","@","@","@","@","@","@","@","@","@","@","@","@","@","@","@","@","@","@",{"$f":"'Month 2'!BL95","v":"@"},{"$f":"'Month 2'!BK95","v":"@"},{"$f":"'Month 2'!BJ95","v":"@"},{"$f":"'Month 2'!BI95","v":"@"},{"$error":"#N/A"},{"$error":"#N/A"},{"$error":"#N/A"},{"$error":"#N/A"},{"$f":"IF(ISNUMBER(SUM(COUNTIF(INDIRECT(CR95):INDIRECT(CS95),2),COUNTIF(INDIRECT(CR95):INDIRECT(CS95),1),COUNTIF(INDIRECT(CR95):INDIRECT(CS95),0))),SUM(COUNTIF(INDIRECT(CR95):INDIRECT(CS95),2),COUNTIF(INDIRECT(CR95):INDIRECT(CS95),1),COUNTIF(INDIRECT(CR95):INDIRECT(CS95),0)),\"\")","v":""},{"$f":"IF(ISNUMBER(SUM(COUNTIF(INDIRECT(CR95):INDIRECT(CT95),2),COUNTIF(INDIRECT(CR95):INDIRECT(CT95),1),COUNTIF(INDIRECT(CR95):INDIRECT(CT95),0))),SUM(COUNTIF(INDIRECT(CR95):INDIRECT(CT95),2),COUNTIF(INDIRECT(CR95):INDIRECT(CT95),1),COUNTIF(INDIRECT(CR95):INDIRECT(CT95),0)),\"\")","v":""},{"$f":"IF(ISNUMBER(SUM(COUNTIF(INDIRECT(CR95):INDIRECT(CU95),1),COUNTIF(INDIRECT(CR95):INDIRECT(CU95),0))),SUM(COUNTIF(INDIRECT(CR95):INDIRECT(CU95),1),COUNTIF(INDIRECT(CR95):INDIRECT(CU95),0)),\"\")","v":""},{"$f":"SUM(INDIRECT(CR95):INDIRECT(CS95))","v":{"$error":"#N/A"}},{"$f":"SUM(INDIRECT(CR95):INDIRECT(CT95))","v":{"$error":"#N/A"}},{"$f":"SUM(INDIRECT(CR95):INDIRECT(CU95))","v":{"$error":"#N/A"}}]
[null,null,null,null,null,null,null,null,null,null,null,null,null,null,null,null,null,null,null,null,null,null,null,null,null,null,null,null,null,null,null,null,null,null,null,null,null,null,null,null,null,null,null,null,null,null,null,null,null,null,null,null,null,null,null,null,null,null,null,0,"@","@","@","@","@","@","@","@","@","@","@","@","@","@","@","@","@","@","@","@","@","@","@","@","@","@","@","@","@","@","@",{"$f":"'Month 2'!BL96","v":"@"},{"$f":"'Month 2'!BK96","v":"@"},{"$f":"'Month 2'!BJ96","v":"@"},{"$f":"'Month 2'!BI96","v":"@"},{"$error":"#N/A"},{"$error":"#N/A"},{"$error":"#N/A"},{"$error":"#N/A"},{"$f":"IF(ISNUMBER(SUM(COUNTIF(INDIRECT(CR96):INDIRECT(CS96),2),COUNTIF(INDIRECT(CR96):INDIRECT(CS96),1),COUNTIF(INDIRECT(CR96):INDIRECT(CS96),0))),SUM(COUNTIF(INDIRECT(CR96):INDIRECT(CS96),2),COUNTIF(INDIRECT(CR96):INDIRECT(CS96),1),COUNTIF(INDIRECT(CR96):INDIRECT(CS96),0)),\"\")","v":""},{"$f":"IF(ISNUMBER(SUM(COUNTIF(INDIRECT(CR96):INDIRECT(CT96),2),COUNTIF(INDIRECT(CR96):INDIRECT(CT96),1),COUNTIF(INDIRECT(CR96):INDIRECT(CT96),0))),SUM(COUNTIF(INDIRECT(CR96):INDIRECT(CT96),2),COUNTIF(INDIRECT(CR96):INDIRECT(CT96),1),COUNTIF(INDIRECT(CR96):INDIRECT(CT96),0)),\"\")","v":""},{"$f":"IF(ISNUMBER(SUM(COUNTIF(INDIRECT(CR96):INDIRECT(CU96),1),COUNTIF(INDIRECT(CR96):INDIRECT(CU96),0))),SUM(COUNTIF(INDIRECT(CR96):INDIRECT(CU96),1),COUNTIF(INDIRECT(CR96):INDIRECT(CU96),0)),\"\")","v":""},{"$f":"SUM(INDIRECT(CR96):INDIRECT(CS96))","v":{"$error":"#N/A"}},{"$f":"SUM(INDIRECT(CR96):INDIRECT(CT96))","v":{"$error":"#N/A"}},{"$f":"SUM(INDIRECT(CR96):INDIRECT(CU96))","v":{"$error":"#N/A"}}]
[null,null,null,null,null,null,null,null,null,null,null,null,null,null,null,null,null,null,null,null,null,null,null,null,null,null,null,null,null,null,null,null,null,null,null,null,null,null,null,null,null,null,null,null,null,null,null,null,null,null,null,null,null,null,null,null,null,null,null,0,"@","@","@","@","@","@","@","@","@","@","@","@","@","@","@","@","@","@","@","@","@","@","@","@","@","@","@","@","@","@","@",{"$f":"'Month 2'!BL97","v":"@"},{"$f":"'Month 2'!BK97","v":"@"},{"$f":"'Month 2'!BJ97","v":"@"},{"$f":"'Month 2'!BI97","v":"@"},{"$error":"#N/A"},{"$error":"#N/A"},{"$error":"#N/A"},{"$error":"#N/A"},{"$f":"IF(ISNUMBER(SUM(COUNTIF(INDIRECT(CR97):INDIRECT(CS97),2),COUNTIF(INDIRECT(CR97):INDIRECT(CS97),1),COUNTIF(INDIRECT(CR97):INDIRECT(CS97),0))),SUM(COUNTIF(INDIRECT(CR97):INDIRECT(CS97),2),COUNTIF(INDIRECT(CR97):INDIRECT(CS97),1),COUNTIF(INDIRECT(CR97):INDIRECT(CS97),0)),\"\")","v":""},{"$f":"IF(ISNUMBER(SUM(COUNTIF(INDIRECT(CR97):INDIRECT(CT97),2),COUNTIF(INDIRECT(CR97):INDIRECT(CT97),1),COUNTIF(INDIRECT(CR97):INDIRECT(CT97),0))),SUM(COUNTIF(INDIRECT(CR97):INDIRECT(CT97),2),COUNTIF(INDIRECT(CR97):INDIRECT(CT97),1),COUNTIF(INDIRECT(CR97):INDIRECT(CT97),0)),\"\")","v":""},{"$f":"IF(ISNUMBER(SUM(COUNTIF(INDIRECT(CR97):INDIRECT(CU97),1),COUNTIF(INDIRECT(CR97):INDIRECT(CU97),0))),SUM(COUNTIF(INDIRECT(CR97):INDIRECT(CU97),1),COUNTIF(INDIRECT(CR97):INDIRECT(CU97),0)),\"\")","v":""},{"$f":"SUM(INDIRECT(CR97):INDIRECT(CS97))","v":{"$error":"#N/A"}},{"$f":"SUM(INDIRECT(CR97):INDIRECT(CT97))","v":{"$error":"#N/A"}},{"$f":"SUM(INDIRECT(CR97):INDIRECT(CU97))","v":{"$error":"#N/A"}}]
[null,null,null,null,null,null,null,null,null,null,null,null,null,null,null,null,null,null,null,null,null,null,null,null,null,null,null,null,null,null,null,null,null,null,null,null,null,null,null,null,null,null,null,null,null,null,null,null,null,null,null,null,null,null,null,null,null,null,null,0,"@","@","@","@","@","@","@","@","@","@","@","@","@","@","@","@","@","@","@","@","@","@","@","@","@","@","@","@","@","@","@",{"$f":"'Month 2'!BL98","v":"@"},{"$f":"'Month 2'!BK98","v":"@"},{"$f":"'Month 2'!BJ98","v":"@"},{"$f":"'Month 2'!BI98","v":"@"},{"$error":"#N/A"},{"$error":"#N/A"},{"$error":"#N/A"},{"$error":"#N/A"},{"$f":"IF(ISNUMBER(SUM(COUNTIF(INDIRECT(CR98):INDIRECT(CS98),2),COUNTIF(INDIRECT(CR98):INDIRECT(CS98),1),COUNTIF(INDIRECT(CR98):INDIRECT(CS98),0))),SUM(COUNTIF(INDIRECT(CR98):INDIRECT(CS98),2),COUNTIF(INDIRECT(CR98):INDIRECT(CS98),1),COUNTIF(INDIRECT(CR98):INDIRECT(CS98),0)),\"\")","v":""},{"$f":"IF(ISNUMBER(SUM(COUNTIF(INDIRECT(CR98):INDIRECT(CT98),2),COUNTIF(INDIRECT(CR98):INDIRECT(CT98),1),COUNTIF(INDIRECT(CR98):INDIRECT(CT98),0))),SUM(COUNTIF(INDIRECT(CR98):INDIRECT(CT98),2),COUNTIF(INDIRECT(CR98):INDIRECT(CT98),1),COUNTIF(INDIRECT(CR98):INDIRECT(CT98),0)),\"\")","v":""},{"$f":"IF(ISNUMBER(SUM(COUNTIF(INDIRECT(CR98):INDIRECT(CU98),1),COUNTIF(INDIRECT(CR98):INDIRECT(CU98),0))),SUM(COUNTIF(INDIRECT(CR98):INDIRECT(CU98),1),COUNTIF(INDIRECT(CR98):INDIRECT(CU98),0)),\"\")","v":""},{"$f":"SUM(INDIRECT(CR98):INDIRECT(CS98))","v":{"$error":"#N/A"}},{"$f":"SUM(INDIRECT(CR98):INDIRECT(CT98))","v":{"$error":"#N/A"}},{"$f":"SUM(INDIRECT(CR98):INDIRECT(CU98))","v":{"$error":"#N/A"}}]
[null,null,null,null,null,null,null,null,null,null,null,null,null,null,null,null,null,null,null,null,null,null,null,null,null,null,null,null,null,null,null,null,null,null,null,null,null,null,null,null,null,null,null,null,null,null,null,null,null,null,null,null,null,null,null,null,null,null,null,0,"@","@","@","@","@","@","@","@","@","@","@","@","@","@","@","@","@","@","@","@","@","@","@","@","@","@","@","@","@","@","@",{"$f":"'Month 2'!BL99","v":"@"},{"$f":"'Month 2'!BK99","v":"@"},{"$f":"'Month 2'!BJ99","v":"@"},{"$f":"'Month 2'!BI99","v":"@"},{"$error":"#N/A"},{"$error":"#N/A"},{"$error":"#N/A"},{"$error":"#N/A"},{"$f":"IF(ISNUMBER(SUM(COUNTIF(INDIRECT(CR99):INDIRECT(CS99),2),COUNTIF(INDIRECT(CR99):INDIRECT(CS99),1),COUNTIF(INDIRECT(CR99):INDIRECT(CS99),0))),SUM(COUNTIF(INDIRECT(CR99):INDIRECT(CS99),2),COUNTIF(INDIRECT(CR99):INDIRECT(CS99),1),COUNTIF(INDIRECT(CR99):INDIRECT(CS99),0)),\"\")","v":""},{"$f":"IF(ISNUMBER(SUM(COUNTIF(INDIRECT(CR99):INDIRECT(CT99),2),COUNTIF(INDIRECT(CR99):INDIRECT(CT99),1),COUNTIF(INDIRECT(CR99):INDIRECT(CT99),0))),SUM(COUNTIF(INDIRECT(CR99):INDIRECT(CT99),2),COUNTIF(INDIRECT(CR99):INDIRECT(CT99),1),COUNTIF(INDIRECT(CR99):INDIRECT(CT99),0)),\"\")","v":""},{"$f":"IF(ISNUMBER(SUM(COUNTIF(INDIRECT(CR99):INDIRECT(CU99),1),COUNTIF(INDIRECT(CR99):INDIRECT(CU99),0))),SUM(COUNTIF(INDIRECT(CR99):INDIRECT(CU99),1),COUNTIF(INDIRECT(CR99):INDIRECT(CU99),0)),\"\")","v":""},{"$f":"SUM(INDIRECT(CR99):INDIRECT(CS99))","v":{"$error":"#N/A"}},{"$f":"SUM(INDIRECT(CR99):INDIRECT(CT99))","v":{"$error":"#N/A"}},{"$f":"SUM(INDIRECT(CR99):INDIRECT(CU99))","v":{"$error":"#N/A"}}]
[null,null,null,null,null,null,null,null,null,null,null,null,null,null,null,null,null,null,null,null,null,null,null,null,null,null,null,null,null,null,null,null,null,null,null,null,null,null,null,null,null,null,null,null,null,null,null,null,null,null,null,null,null,null,null,null,null,null,null,0,"@","@","@","@","@","@","@","@","@","@","@","@","@","@","@","@","@","@","@","@","@","@","@","@","@","@","@","@","@","@","@",{"$f":"'Month 2'!BL100","v":"@"},{"$f":"'Month 2'!BK100","v":"@"},{"$f":"'Month 2'!BJ100","v":"@"},{"$f":"'Month 2'!BI100","v":"@"},{"$error":"#N/A"},{"$error":"#N/A"},{"$error":"#N/A"},{"$error":"#N/A"},{"$f":"IF(ISNUMBER(SUM(COUNTIF(INDIRECT(CR100):INDIRECT(CS100),2),COUNTIF(INDIRECT(CR100):INDIRECT(CS100),1),COUNTIF(INDIRECT(CR100):INDIRECT(CS100),0))),SUM(COUNTIF(INDIRECT(CR100):INDIRECT(CS100),2),COUNTIF(INDIRECT(CR100):INDIRECT(CS100),1),COUNTIF(INDIRECT(CR100):INDIRECT(CS100),0)),\"\")","v":""},{"$f":"IF(ISNUMBER(SUM(COUNTIF(INDIRECT(CR100):INDIRECT(CT100),2),COUNTIF(INDIRECT(CR100):INDIRECT(CT100),1),COUNTIF(INDIRECT(CR100):INDIRECT(CT100),0))),SUM(COUNTIF(INDIRECT(CR100):INDIRECT(CT100),2),COUNTIF(INDIRECT(CR100):INDIRECT(CT100),1),COUNTIF(INDIRECT(CR100):INDIRECT(CT100),0)),\"\")","v":""},{"$f":"IF(ISNUMBER(SUM(COUNTIF(INDIRECT(CR100):INDIRECT(CU100),1),COUNTIF(INDIRECT(CR100):INDIRECT(CU100),0))),SUM(COUNTIF(INDIRECT(CR100):INDIRECT(CU100),1),COUNTIF(INDIRECT(CR100):INDIRECT(CU100),0)),\"\")","v":""},{"$f":"SUM(INDIRECT(CR100):INDIRECT(CS100))","v":{"$error":"#N/A"}},{"$f":"SUM(INDIRECT(CR100):INDIRECT(CT100))","v":{"$error":"#N/A"}},{"$f":"SUM(INDIRECT(CR100):INDIRECT(CU100))","v":{"$error":"#N/A"}}]
[null,null,null,null,null,null,null,null,null,null,null,null,null,null,null,null,null,null,null,null,null,null,null,null,null,null,null,null,null,null,null,null,null,null,null,null,null,null,null,null,null,null,null,null,null,null,null,null,null,null,null,null,null,null,null,null,null,null,null,0,"@","@","@","@","@","@","@","@","@","@","@","@","@","@","@","@","@","@","@","@","@","@","@","@","@","@","@","@","@","@","@",{"$f":"'Month 2'!BL101","v":"@"},{"$f":"'Month 2'!BK101","v":"@"},{"$f":"'Month 2'!BJ101","v":"@"},{"$f":"'Month 2'!BI101","v":"@"},{"$error":"#N/A"},{"$error":"#N/A"},{"$error":"#N/A"},{"$error":"#N/A"},{"$f":"IF(ISNUMBER(SUM(COUNTIF(INDIRECT(CR101):INDIRECT(CS101),2),COUNTIF(INDIRECT(CR101):INDIRECT(CS101),1),COUNTIF(INDIRECT(CR101):INDIRECT(CS101),0))),SUM(COUNTIF(INDIRECT(CR101):INDIRECT(CS101),2),COUNTIF(INDIRECT(CR101):INDIRECT(CS101),1),COUNTIF(INDIRECT(CR101):INDIRECT(CS101),0)),\"\")","v":""},{"$f":"IF(ISNUMBER(SUM(COUNTIF(INDIRECT(CR101):INDIRECT(CT101),2),COUNTIF(INDIRECT(CR101):INDIRECT(CT101),1),COUNTIF(INDIRECT(CR101):INDIRECT(CT101),0))),SUM(COUNTIF(INDIRECT(CR101):INDIRECT(CT101),2),COUNTIF(INDIRECT(CR101):INDIRECT(CT101),1),COUNTIF(INDIRECT(CR101):INDIRECT(CT101),0)),\"\")","v":""},{"$f":"IF(ISNUMBER(SUM(COUNTIF(INDIRECT(CR101):INDIRECT(CU101),1),COUNTIF(INDIRECT(CR101):INDIRECT(CU101),0))),SUM(COUNTIF(INDIRECT(CR101):INDIRECT(CU101),1),COUNTIF(INDIRECT(CR101):INDIRECT(CU101),0)),\"\")","v":""},{"$f":"SUM(INDIRECT(CR101):INDIRECT(CS101))","v":{"$error":"#N/A"}},{"$f":"SUM(INDIRECT(CR101):INDIRECT(CT101))","v":{"$error":"#N/A"}},{"$f":"SUM(INDIRECT(CR101):INDIRECT(CU101))","v":{"$error":"#N/A"}}]
[null,null,null,null,null,null,null,null,null,null,null,null,null,null,null,null,null,null,null,null,null,null,null,null,null,null,null,null,null,null,null,null,null,null,null,null,null,null,null,null,null,null,null,null,null,null,null,null,null,null,null,null,null,null,null,null,null,null,null,0,"@","@","@","@","@","@","@","@","@","@","@","@","@","@","@","@","@","@","@","@","@","@","@","@","@","@","@","@","@","@","@",{"$f":"'Month 2'!BL102","v":"@"},{"$f":"'Month 2'!BK102","v":"@"},{"$f":"'Month 2'!BJ102","v":"@"},{"$f":"'Month 2'!BI102","v":"@"},{"$error":"#N/A"},{"$error":"#N/A"},{"$error":"#N/A"},{"$error":"#N/A"},{"$f":"IF(ISNUMBER(SUM(COUNTIF(INDIRECT(CR102):INDIRECT(CS102),2),COUNTIF(INDIRECT(CR102):INDIRECT(CS102),1),COUNTIF(INDIRECT(CR102):INDIRECT(CS102),0))),SUM(COUNTIF(INDIRECT(CR102):INDIRECT(CS102),2),COUNTIF(INDIRECT(CR102):INDIRECT(CS102),1),COUNTIF(INDIRECT(CR102):INDIRECT(CS102),0)),\"\")","v":""},{"$f":"IF(ISNUMBER(SUM(COUNTIF(INDIRECT(CR102):INDIRECT(CT102),2),COUNTIF(INDIRECT(CR102):INDIRECT(CT102),1),COUNTIF(INDIRECT(CR102):INDIRECT(CT102),0))),SUM(COUNTIF(INDIRECT(CR102):INDIRECT(CT102),2),COUNTIF(INDIRECT(CR102):INDIRECT(CT102),1),COUNTIF(INDIRECT(CR102):INDIRECT(CT102),0)),\"\")","v":""},{"$f":"IF(ISNUMBER(SUM(COUNTIF(INDIRECT(CR102):INDIRECT(CU102),1),COUNTIF(INDIRECT(CR102):INDIRECT(CU102),0))),SUM(COUNTIF(INDIRECT(CR102):INDIRECT(CU102),1),COUNTIF(INDIRECT(CR102):INDIRECT(CU102),0)),\"\")","v":""},{"$f":"SUM(INDIRECT(CR102):INDIRECT(CS102))","v":{"$error":"#N/A"}},{"$f":"SUM(INDIRECT(CR102):INDIRECT(CT102))","v":{"$error":"#N/A"}},{"$f":"SUM(INDIRECT(CR102):INDIRECT(CU102))","v":{"$error":"#N/A"}}]
[null,null,null,null,null,null,null,null,null,null,null,null,null,null,null,null,null,null,null,null,null,null,null,null,null,null,null,null,null,null,null,null,null,null,null,null,null,null,null,null,null,null,null,null,null,null,null,null,null,null,null,null,null,null,null,null,null,null,null,0,"@","@","@","@","@","@","@","@","@","@","@","@","@","@","@","@","@","@","@","@","@","@","@","@","@","@","@","@","@","@","@",{"$f":"'Month 2'!BL103","v":"@"},{"$f":"'Month 2'!BK103","v":"@"},{"$f":"'Month 2'!BJ103","v":"@"},{"$f":"'Month 2'!BI103","v":"@"},{"$error":"#N/A"},{"$error":"#N/A"},{"$error":"#N/A"},{"$error":"#N/A"},{"$f":"IF(ISNUMBER(SUM(COUNTIF(INDIRECT(CR103):INDIRECT(CS103),2),COUNTIF(INDIRECT(CR103):INDIRECT(CS103),1),COUNTIF(INDIRECT(CR103):INDIRECT(CS103),0))),SUM(COUNTIF(INDIRECT(CR103):INDIRECT(CS103),2),COUNTIF(INDIRECT(CR103):INDIRECT(CS103),1),COUNTIF(INDIRECT(CR103):INDIRECT(CS103),0)),\"\")","v":""},{"$f":"IF(ISNUMBER(SUM(COUNTIF(INDIRECT(CR103):INDIRECT(CT103),2),COUNTIF(INDIRECT(CR103):INDIRECT(CT103),1),COUNTIF(INDIRECT(CR103):INDIRECT(CT103),0))),SUM(COUNTIF(INDIRECT(CR103):INDIRECT(CT103),2),COUNTIF(INDIRECT(CR103):INDIRECT(CT103),1),COUNTIF(INDIRECT(CR103):INDIRECT(CT103),0)),\"\")","v":""},{"$f":"IF(ISNUMBER(SUM(COUNTIF(INDIRECT(CR103):INDIRECT(CU103),1),COUNTIF(INDIRECT(CR103):INDIRECT(CU103),0))),SUM(COUNTIF(INDIRECT(CR103):INDIRECT(CU103),1),COUNTIF(INDIRECT(CR103):INDIRECT(CU103),0)),\"\")","v":""},{"$f":"SUM(INDIRECT(CR103):INDIRECT(CS103))","v":{"$error":"#N/A"}},{"$f":"SUM(INDIRECT(CR103):INDIRECT(CT103))","v":{"$error":"#N/A"}},{"$f":"SUM(INDIRECT(CR103):INDIRECT(CU103))","v":{"$error":"#N/A"}}]
[null,null,null,null,null,null,null,null,null,null,null,null,null,null,null,null,null,null,null,null,null,null,null,null,null,null,null,null,null,null,null,null,null,null,null,null,null,null,null,null,null,null,null,null,null,null,null,null,null,null,null,null,null,null,null,null,null,null,null,0,"@","@","@","@","@","@","@","@","@","@","@","@","@","@","@","@","@","@","@","@","@","@","@","@","@","@","@","@","@","@","@",{"$f":"'Month 2'!BL104","v":"@"},{"$f":"'Month 2'!BK104","v":"@"},{"$f":"'Month 2'!BJ104","v":"@"},{"$f":"'Month 2'!BI104","v":"@"},{"$error":"#N/A"},{"$error":"#N/A"},{"$error":"#N/A"},{"$error":"#N/A"},{"$f":"IF(ISNUMBER(SUM(COUNTIF(INDIRECT(CR104):INDIRECT(CS104),2),COUNTIF(INDIRECT(CR104):INDIRECT(CS104),1),COUNTIF(INDIRECT(CR104):INDIRECT(CS104),0))),SUM(COUNTIF(INDIRECT(CR104):INDIRECT(CS104),2),COUNTIF(INDIRECT(CR104):INDIRECT(CS104),1),COUNTIF(INDIRECT(CR104):INDIRECT(CS104),0)),\"\")","v":""},{"$f":"IF(ISNUMBER(SUM(COUNTIF(INDIRECT(CR104):INDIRECT(CT104),2),COUNTIF(INDIRECT(CR104):INDIRECT(CT104),1),COUNTIF(INDIRECT(CR104):INDIRECT(CT104),0))),SUM(COUNTIF(INDIRECT(CR104):INDIRECT(CT104),2),COUNTIF(INDIRECT(CR104):INDIRECT(CT104),1),COUNTIF(INDIRECT(CR104):INDIRECT(CT104),0)),\"\")","v":""},{"$f":"IF(ISNUMBER(SUM(COUNTIF(INDIRECT(CR104):INDIRECT(CU104),1),COUNTIF(INDIRECT(CR104):INDIRECT(CU104),0))),SUM(COUNTIF(INDIRECT(CR104):INDIRECT(CU104),1),COUNTIF(INDIRECT(CR104):INDIRECT(CU104),0)),\"\")","v":""},{"$f":"SUM(INDIRECT(CR104):INDIRECT(CS104))","v":{"$error":"#N/A"}},{"$f":"SUM(INDIRECT(CR104):INDIRECT(CT104))","v":{"$error":"#N/A"}},{"$f":"SUM(INDIRECT(CR104):INDIRECT(CU104))","v":{"$error":"#N/A"}}]

{"sheet":"Month 4","index":8,"n_rows":104,"n_cols":105,"rows_kept":104,"cut":false,"hidden":false,"merged":[[53,95,53,98],[53,99,53,101],[53,102,53,104],[6,23,20,35],[13,5,20,8]]}
[]
[]
[]
[]
[]
[null,null,null,null,"Student Name:",{"$f":"IF(ISTEXT('Month 1'!F6),'Month 1'!F6,\"\")","v":""},null,null,null,null,null,null,null,null,null,null,null,null,null,null,null,null,null,"General Notes:"]
["Go To:"]
[{"$f":"IF(ISBLANK('Month 1'!$F$12),\"Month 1\",'Month 1'!$F$12)","v":"--"},null,null,null,"Skill Title:",{"$f":"IF(ISTEXT('Month 1'!F8),'Month 1'!F8,\"\")","v":""}]
[{"$f":"IF(ISBLANK('Month 2'!$F$12),\"Month 2\",'Month 2'!$F$12)","v":"--"}]
[{"$f":"IF(ISBLANK('Month 3'!$F$12),\"Month 3\",'Month 3'!$F$12)","v":"--"},null,null,null,"Skill Type:",{"$f":"IF(ISBLANK('Month 1'!F10),\"\",'Month 1'!F10)","v":""}]
[{"$f":"IF(ISBLANK('Month 4'!$F$12),\"Month 4\",'Month 4'!$F$12)","v":"--"}]
[{"$f":"IF(ISBLANK('Month 5'!$F$12),\"Month 5\",'Month 5'!$F$12)","v":"--"},null,null,null,"Date Range:","--"]
[{"$f":"IF(ISBLANK('Month 6'!$F$12),\"Month 6\",'Month 6'!$F$12)","v":"--"}]
[{"$f":"IF(ISBLANK('Month 7'!$F$12),\"Month 7\",'Month 7'!$F$12)","v":"--"},null,null,null,"Objective:",{"$f":"IF(ISBLANK('Month 1'!$F$14),\"\",'Month 1'!$F$14)","v":""}]
[{"$f":"IF(ISBLANK('Month 8'!$F$12),\"Month 8\",'Month 8'!$F$12)","v":"--"}]
[{"$f":"IF(ISBLANK('Month 9'!$F$12),\"Month 9\",'Month 9'!$F$12)","v":"--"}]
[{"$f":"IF(ISBLANK('Month 10'!$F$12),\"Month 10\",'Month 10'!$F$12)","v":"--"}]
[{"$f":"IF(ISBLANK('Month 11'!$F$12),\"Month 11\",'Month 11'!$F$12)","v":"--"}]
[{"$f":"IF(ISBLANK('Month 12'!$F$12),\"Month 12\",'Month 12'!$F$12)","v":"--"}]
[]
[]
[]
[null,null,null,null,null,null,{"$f":"SUM(COUNTIF(G27:G76,\"+\"),COUNTIF(G27:G76,\"-\"),COUNTIF(G27:G76,\"y\"),COUNTIF(G27:G76,\"n\"),COUNTIF(G27:G76,1),COUNTIF(G27:G76,2))","v":0},0,0,0,0,0,0,0,0,0,0,0,0,0,0,0,0,0,0,0,0,0,0,0,0,0,0,0,0,0,0,{"$f":"SUM(G23:AK23)","v":0}]
[null,null,null,null,null,"Total Number Correct   à",{"$f":"IF(G23>0,SUM(CM55:CM104),\"\")","v":""},{"$f":"IF(H23>0,SUM(CL55:CL104),\"\")","v":""},{"$f":"IF(I23>0,SUM(CK55:CK104),\"\")","v":""},{"$f":"IF(J23>0,SUM(CJ55:CJ104),\"\")","v":""},{"$f":"IF(K23>0,SUM(CI55:CI104),\"\")","v":""},{"$f":"IF(L23>0,SUM(CH55:CH104),\"\")","v":""},{"$f":"IF(M23>0,SUM(CG55:CG104),\"\")","v":""},{"$f":"IF(N23>0,SUM(CF55:CF104),\"\")","v":""},{"$f":"IF(O23>0,SUM(CE55:CE104),\"\")","v":""},{"$f":"IF(P23>0,SUM(CD55:CD104),\"\")","v":""},{"$f":"IF(Q23>0,SUM(CC55:CC104),\"\")","v":""},{"$f":"IF(R23>0,SUM(CB55:CB104),\"\")","v":""},{"$f":"IF(S23>0,SUM(CA55:CA104),\"\")","v":""},{"$f":"IF(T23>0,SUM(BZ55:BZ104),\"\")","v":""},{"$f":"IF(U23>0,SUM(BY55:BY104),\"\")","v":""},{"$f":"IF(V23>0,SUM(BX55:BX104),\"\")","v":""},{"$f":"IF(W23>0,SUM(BW55:BW104),\"\")","v":""},{"$f":"IF(X23>0,SUM(BV55:BV104),\"\")","v":""},{"$f":"IF(Y23>0,SUM(BU55:BU104),\"\")","v":""},{"$f":"IF(Z23>0,SUM(BT55:BT104),\"\")","v":""},{"$f":"IF(AA23>0,SUM(BS55:BS104),\"\")","v":""},{"$f":"IF(AB23>0,SUM(BR55:BR104),\"\")","v":""},{"$f":"IF(AC23>0,SUM(BQ55:BQ104),\"\")","v":""},{"$f":"IF(AD23>0,SUM(BP55:BP104),\"\")","v":""},{"$f":"IF(AE23>0,SUM(BO55:BO104),\"\")","v":""},{"$f":"IF(AF23>0,SUM(BN55:BN104),\"\")","v":""},{"$f":"IF(AG23>0,SUM(BM55:BM104),\"\")","v":""},{"$f":"IF(AH23>0,SUM(BL55:BL104),\"\")","v":""},{"$f":"IF(AI23>0,SUM(BK55:BK104),\"\")","v":""},{"$f":"IF(AJ23>0,SUM(BJ55:BJ104),\"\")","v":""},{"$f":"IF(AK23>0,SUM(BI55:BI104),\"\")","v":""}]
[null,null,{"$f":"50-SUM(C27:C76)","v":0},"Note",null,"Initials   à"]
[null,null,0,"â",null,"Date   à"]
[null,null,{"$f":"IF(F27=\"\",1,0)","v":1},{"$f":"IF(Modifications!$C$2=2,\"N\",\"\")","v":""},{"$f":"IF(AND(BH55>0,$F$10=\"\"),\"Choose Skill Type\",IF(CX55=\"\",\"\",IF(AND(DA55=3,$F$10=\"Multi-Step (Task Analysis)\"),\"Add Next Step\",IF(AND(DA55=3,$F$10=\"Multi-Stimulus (Different Sd's)\"),\"Continue\",IF(OR(AND(CV55=5,CY55<=1),AND(CW55=4,CZ55=0)),\"Intervene\",IF(OR(AND(CV55=5,CY55<=2),AND(CW55=4,CZ55<=1),AND(CX55=3,DA55=0)),\"Check\",\"Continue\"))))))","v":""},{"$f":"IF(ISBLANK('Month 1'!$F$27),\"\",'Month 1'!$F$27)","v":""}]
[null,null,{"$f":"IF(F28=\"\",1,0)","v":1},{"$f":"IF(Modifications!$C$3=2,\"N\",\"\")","v":""},"",{"$f":"IF(ISBLANK('Month 1'!$F$28),\"\",'Month 1'!$F$28)","v":""}]
[null,null,1,{"$f":"IF(Modifications!$C$4=2,\"N\",\"\")","v":""},"",{"$f":"IF(ISBLANK('Month 1'!$F$29),\"\",'Month 1'!$F$29)","v":""}]
[null,null,1,{"$f":"IF(Modifications!$C$5=2,\"N\",\"\")","v":""},"",{"$f":"IF(ISBLANK('Month 1'!$F$30),\"\",'Month 1'!$F$30)","v":""}]
[null,null,1,{"$f":"IF(Modifications!$C$6=2,\"N\",\"\")","v":""},"",{"$f":"IF(ISBLANK('Month 1'!$F$31),\"\",'Month 1'!$F$31)","v":""}]
[null,null,1,{"$f":"IF(Modifications!$C$7=2,\"N\",\"\")","v":""},"",{"$f":"IF(ISBLANK('Month 1'!$F$32),\"\",'Month 1'!$F$32)","v":""}]
[null,null,1,{"$f":"IF(Modifications!$C$8=2,\"N\",\"\")","v":""},"",{"$f":"IF(ISBLANK('Month 1'!$F$33),\"\",'Month 1'!$F$33)","v":""}]
[null,null,1,{"$f":"IF(Modifications!$C$9=2,\"N\",\"\")","v":""},"",{"$f":"IF(ISBLANK('Month 1'!$F$34),\"\",'Month 1'!$F$34)","v":""}]
[null,null,1,{"$f":"IF(Modifications!$C$10=2,\"N\",\"\")","v":""},"",{"$f":"IF(ISBLANK('Month 1'!$F$35),\"\",'Month 1'!$F$35)","v":""}]
[null,null,1,{"$f":"IF(Modifications!$C$11=2,\"N\",\"\")","v":""},"",{"$f":"IF(ISBLANK('Month 1'!$F$36),\"\",'Month 1'!$F$36)","v":""}]
[null,null,1,{"$f":"IF(Modifications!$C$12=2,\"N\",\"\")","v":""},"",{"$f":"IF(ISBLANK('Month 1'!$F$37),\"\",'Month 1'!$F$37)","v":""}]
[null,null,1,{"$f":"IF(Modifications!$C$13=2,\"N\",\"\")","v":""},"",{"$f":"IF(ISBLANK('Month 1'!$F$38),\"\",'Month 1'!$F$38)","v":""}]
[null,null,1,{"$f":"IF(Modifications!$C$14=2,\"N\",\"\")","v":""},"",{"$f":"IF(ISBLANK('Month 1'!$F$39),\"\",'Month 1'!$F$39)","v":""}]
[null,null,1,{"$f":"IF(Modifications!$C$15=2,\"N\",\"\")","v":""},"",{"$f":"IF(ISBLANK('Month 1'!$F$40),\"\",'Month 1'!$F$40)","v":""}]
[null,null,1,{"$f":"IF(Modifications!$C$16=2,\"N\",\"\")","v":""},"",{"$f":"IF(ISBLANK('Month 1'!$F$41),\"\",'Month 1'!$F$41)","v":""}]
[null,null,1,{"$f":"IF(Modifications!$C$17=2,\"N\",\"\")","v":""},"",{"$f":"IF(ISBLANK('Month 1'!$F$42),\"\",'Month 1'!$F$42)","v":""}]
[null,null,1,{"$f":"IF(Modifications!$C$18=2,\"N\",\"\")","v":""},"",{"$f":"IF(ISBLANK('Month 1'!$F$43),\"\",'Month 1'!$F$43)","v":""}]
[null,null,1,{"$f":"IF(Modifications!$C$19=2,\"N\",\"\")","v":""},"",{"$f":"IF(ISBLANK('Month 1'!$F$44),\"\",'Month 1'!$F$44)","v":""}]
[null,null,1,{"$f":"IF(Modifications!$C$20=2,\"N\",\"\")","v":""},"",{"$f":"IF(ISBLANK('Month 1'!$F$45),\"\",'Month 1'!$F$45)","v":""}]
[null,null,1,{"$f":"IF(Modifications!$C$21=2,\"N\",\"\")","v":""},"",{"$f":"IF(ISBLANK('Month 1'!$F$46),\"\",'Month 1'!$F$46)","v":""}]
[null,null,1,{"$f":"IF(Modifications!$C$22=2,\"N\",\"\")","v":""},"",{"$f":"IF(ISBLANK('Month 1'!$F$47),\"\",'Month 1'!$F$47)","v":""}]
[null,null,1,{"$f":"IF(Modifications!$C$23=2,\"N\",\"\")","v":""},"",{"$f":"IF(ISBLANK('Month 1'!$F$48),\"\",'Month 1'!$F$48)","v":""}]
[null,null,1,{"$f":"IF(Modifications!$C$24=2,\"N\",\"\")","v":""},"",{"$f":"IF(ISBLANK('Month 1'!$F$49),\"\",'Month 1'!$F$49)","v":""}]
[null,null,1,{"$f":"IF(Modifications!$C$25=2,\"N\",\"\")","v":""},"",{"$f":"IF(ISBLANK('Month 1'!$F$50),\"\",'Month 1'!$F$50)","v":""}]
[null,null,1,{"$f":"IF(Modifications!$C$26=2,\"N\",\"\")","v":""},"",{"$f":"IF(ISBLANK('Month 1'!$F$51),\"\",'Month 1'!$F$51)","v":""}]
[null,null,1,{"$f":"IF(Modifications!$C$27=2,\"N\",\"\")","v":""},"",{"$f":"IF(ISBLANK('Month 1'!$F$52),\"\",'Month 1'!$F$52)","v":""}]
[null,null,1,{"$f":"IF(Modifications!$C$28=2,\"N\",\"\")","v":""},"",{"$f":"IF(ISBLANK('Month 1'!$F$53),\"\",'Month 1'!$F$53)","v":""}]
[null,null,1,{"$f":"IF(Modifications!$C$29=2,\"N\",\"\")","v":""},"",{"$f":"IF(ISBLANK('Month 1'!$F$54),\"\",'Month 1'!$F$54)","v":""},null,null,null,null,null,null,null,null,null,null,null,null,null,null,null,null,null,null,null,null,null,null,null,null,null,null,null,null,null,null,null,null,null,null,null,null,null,null,null,null,null,null,null,null,null,null,null,null,null,null,null,null,null,null,null,null,null,null,null,null,null,null,null,null,null,null,null,null,null,null,null,null,null,null,null,null,null,null,null,null,null,null,null,null,null,null,null,null,null,"Locations (start,5,4,3)",null,null,null,"Are they in a row? (5,4,3)",null,null,"Sum of items in row (5,4,3)"]
[null,null,1,{"$f":"IF(Modifications!$C$30=2,\"N\",\"\")","v":""},"",{"$f":"IF(ISBLANK('Month 1'!$F$55),\"\",'Month 1'!$F$55)","v":""},null,null,null,null,null,null,null,null,null,null,null,null,null,null,null,null,null,null,null,null,null,null,null,null,null,null,null,null,null,null,null,null,null,null,null,null,null,null,null,null,null,null,null,null,null,null,null,null,null,null,null,null,null,{"$f":"SUM(COUNTIF(BI55:CM55,1),COUNTIF(BI55:CM55,0))","v":0},{"$f":"IF(OR(AK27=\"+\",AK27=\"Y\",AK27=2),1,IF(OR(AK27=\"-\",AK27=\"N\",AK27=1),0,IF(OR(BJ55=1,BJ55=0),\"#\",\"@\")))","v":"@"},{"$f":"IF(OR(AJ27=\"+\",AJ27=\"Y\",AJ27=2),1,IF(OR(AJ27=\"-\",AJ27=\"N\",AJ27=1),0,IF(OR(BK55=1,BK55=0),\"#\",\"@\")))","v":"@"},{"$f":"IF(OR(AI27=\"+\",AI27=\"Y\",AI27=2),1,IF(OR(AI27=\"-\",AI27=\"N\",AI27=1),0,IF(OR(BL55=1,BL55=0),\"#\",\"@\")))","v":"@"},{"$f":"IF(OR(AH27=\"+\",AH27=\"Y\",AH27=2),1,IF(OR(AH27=\"-\",AH27=\"N\",AH27=1),0,IF(OR(BM55=1,BM55=0),\"#\",\"@\")))","v":"@"},{"$f":"IF(OR(AG27=\"+\",AG27=\"Y\",AG27=2),1,IF(OR(AG27=\"-\",AG27=\"N\",AG27=1),0,IF(OR(BN55=1,BN55=0),\"#\",\"@\")))","v":"@"},{"$f":"IF(OR(AF27=\"+\",AF27=\"Y\",AF27=2),1,IF(OR(AF27=\"-\",AF27=\"N\",AF27=1),0,IF(OR(BO55=1,BO55=0),\"#\",\"@\")))","v":"@"},{"$f":"IF(OR(AE27=\"+\",AE27=\"Y\",AE27=2),1,IF(OR(AE27=\"-\",AE27=\"N\",AE27=1),0,IF(OR(BP55=1,BP55=0),\"#\",\"@\")))","v":"@"},{"$f":"IF(OR(AD27=\"+\",AD27=\"Y\",AD27=2),1,IF(OR(AD27=\"-\",AD27=\"N\",AD27=1),0,IF(OR(BQ55=1,BQ55=0),\"#\",\"@\")))","v":"@"},{"$f":"IF(OR(AC27=\"+\",AC27=\"Y\",AC27=2),1,IF(OR(AC27=\"-\",AC27=\"N\",AC27=1),0,IF(OR(BR55=1,BR55=0),\"#\",\"@\")))","v":"@"},{"$f":"IF(OR(AB27=\"+\",AB27=\"Y\",AB27=2),1,IF(OR(AB27=\"-\",AB27=\"N\",AB27=1),0,IF(OR(BS55=1,BS55=0),\"#\",\"@\")))","v":"@"},{"$f":"IF(OR(AA27=\"+\",AA27=\"Y\",AA27=2),1,IF(OR(AA27=\"-\",AA27=\"N\",AA27=1),0,IF(OR(BT55=1,BT55=0),\"#\",\"@\")))","v":"@"},{"$f":"IF(OR(Z27=\"+\",Z27=\"Y\",Z27=2),1,IF(OR(Z27=\"-\",Z27=\"N\",Z27=1),0,IF(OR(BU55=1,BU55=0),\"#\",\"@\")))","v":"@"},{"$f":"IF(OR(Y27=\"+\",Y27=\"Y\",Y27=2),1,IF(OR(Y27=\"-\",Y27=\"N\",Y27=1),0,IF(OR(BV55=1,BV55=0),\"#\",\"@\")))","v":"@"},{"$f":"IF(OR(X27=\"+\",X27=\"Y\",X27=2),1,IF(OR(X27=\"-\",X27=\"N\",X27=1),0,IF(OR(BW55=1,BW55=0),\"#\",\"@\")))","v":"@"},{"$f":"IF(OR(W27=\"+\",W27=\"Y\",W27=2),1,IF(OR(W27=\"-\",W27=\"N\",W27=1),0,IF(OR(BX55=1,BX55=0),\"#\",\"@\")))","v":"@"},{"$f":"IF(OR(V27=\"+\",V27=\"Y\",V27=2),1,IF(OR(V27=\"-\",V27=\"N\",V27=1),0,IF(OR(BY55=1,BY55=0),\"#\",\"@\")))","v":"@"},{"$f":"IF(OR(U27=\"+\",U27=\"Y\",U27=2),1,IF(OR(U27=\"-\",U27=\"N\",U27=1),0,IF(OR(BZ55=1,BZ55=0),\"#\",\"@\")))","v":"@"},{"$f":"IF(OR(T27=\"+\",T27=\"Y\",T27=2),1,IF(OR(T27=\"-\",T27=\"N\",T27=1),0,IF(OR(CA55=1,CA55=0),\"#\",\"@\")))","v":"@"},{"$f":"IF(OR(S27=\"+\",S27=\"Y\",S27=2),1,IF(OR(S27=\"-\",S27=\"N\",S27=1),0,IF(OR(CB55=1,CB55=0),\"#\",\"@\")))","v":"@"},{"$f":"IF(OR(R27=\"+\",R27=\"Y\",R27=2),1,IF(OR(R27=\"-\",R27=\"N\",R27=1),0,IF(OR(CC55=1,CC55=0),\"#\",\"@\")))","v":"@"},{"$f":"IF(OR(Q27=\"+\",Q27=\"Y\",Q27=2),1,IF(OR(Q27=\"-\",Q27=\"N\",Q27=1),0,IF(OR(CD55=1,CD55=0),\"#\",\"@\")))","v":"@"},{"$f":"IF(OR(P27=\"+\",P27=\"Y\",P27=2),1,IF(OR(P27=\"-\",P27=\"N\",P27=1),0,IF(OR(CE55=1,CE55=0),\"#\",\"@\")))","v":"@"},{"$f":"IF(OR(O27=\"+\",O27=\"Y\",O27=2),1,IF(OR(O27=\"-\",O27=\"N\",O27=1),0,IF(OR(CF55=1,CF55=0),\"#\",\"@\")))","v":"@"},{"$f":"IF(OR(N27=\"+\",N27=\"Y\",N27=2),1,IF(OR(N27=\"-\",N27=\"N\",N27=1),0,IF(OR(CG55=1,CG55=0),\"#\",\"@\")))","v":"@"},{"$f":"IF(OR(M27=\"+\",M27=\"Y\",M27=2),1,IF(OR(M27=\"-\",M27=\"N\",M27=1),0,IF(OR(CH55=1,CH55=0),\"#\",\"@\")))","v":"@"},{"$f":"IF(OR(L27=\"+\",L27=\"Y\",L27=2),1,IF(OR(L27=\"-\",L27=\"N\",L27=1),0,IF(OR(CI55=1,CI55=0),\"#\",\"@\")))","v":"@"},{"$f":"IF(OR(K27=\"+\",K27=\"Y\",K27=2),1,IF(OR(K27=\"-\",K27=\"N\",K27=1),0,IF(OR(CJ55=1,CJ55=0),\"#\",\"@\")))","v":"@"},{"$f":"IF(OR(J27=\"+\",J27=\"Y\",J27=2),1,IF(OR(J27=\"-\",J27=\"N\",J27=1),0,IF(OR(CK55=1,CK55=0),\"#\",\"@\")))","v":"@"},{"$f":"IF(OR(I27=\"+\",I27=\"Y\",I27=2),1,IF(OR(I27=\"-\",I27=\"N\",I27=1),0,IF(OR(CL55=1,CL55=0),\"#\",\"@\")))","v":"@"},{"$f":"IF(OR(H27=\"+\",H27=\"Y\",H27=2),1,IF(OR(H27=\"-\",H27=\"N\",H27=1),0,IF(OR(CM55=1,CM55=0),\"#\",\"@\")))","v":"@"},{"$f":"IF(OR(G27=\"+\",G27=\"Y\",G27=2),1,IF(OR(G27=\"-\",G27=\"N\",G27=1),0,\"@\"))","v":"@"},{"$f":"'Month 3'!BL55","v":"@"},{"$f":"'Month 3'!BK55","v":"@"},{"$f":"'Month 3'!BJ55","v":"@"},{"$f":"'Month 3'!BI55","v":"@"},{"$f":"ADDRESS(ROW(BH55),(MATCH(\"#\",BI55:CM55,0)+61))","v":{"$error":"#N/A"}},{"$f":"ADDRESS(ROW(BH55),(MATCH(\"#\",BI55:CM55,0)+65))","v":{"$error":"#N/A"}},{"$f":"ADDRESS(ROW(BH55),(MATCH(\"#\",BI55:CM55,0)+64))","v":{"$error":"#N/A"}},{"$f":"ADDRESS(ROW(BH55),(MATCH(\"#\",BI55:CM55,0)+63))","v":{"$error":"#N/A"}},{"$f":"IF(ISNUMBER(SUM(COUNTIF(INDIRECT(CR55):INDIRECT(CS55),2),COUNTIF(INDIRECT(CR55):INDIRECT(CS55),1),COUNTIF(INDIRECT(CR55):INDIRECT(CS55),0))),SUM(COUNTIF(INDIRECT(CR55):INDIRECT(CS55),2),COUNTIF(INDIRECT(CR55):INDIRECT(CS55),1),COUNTIF(INDIRECT(CR55):INDIRECT(CS55),0)),\"\")","v":""},{"$f":"IF(ISNUMBER(SUM(COUNTIF(INDIRECT(CR55):INDIRECT(CT55),2),COUNTIF(INDIRECT(CR55):INDIRECT(CT55),1),COUNTIF(INDIRECT(CR55):INDIRECT(CT55),0))),SUM(COUNTIF(INDIRECT(CR55):INDIRECT(CT55),2),COUNTIF(INDIRECT(CR55):INDIRECT(CT55),1),COUNTIF(INDIRECT(CR55):INDIRECT(CT55),0)),\"\")","v":""},{"$f":"IF(ISNUMBER(SUM(COUNTIF(INDIRECT(CR55):INDIRECT(CU55),1),COUNTIF(INDIRECT(CR55):INDIRECT(CU55),0))),SUM(COUNTIF(INDIRECT(CR55):INDIRECT(CU55),1),COUNTIF(INDIRECT(CR55):INDIRECT(CU55),0)),\"\")","v":""},{"$f":"SUM(INDIRECT(CR55):INDIRECT(CS55))","v":{"$error":"#N/A"}},{"$f":"SUM(INDIRECT(CR55):INDIRECT(CT55))","v":{"$error":"#N/A"}},{"$f":"SUM(INDIRECT(CR55):INDIRECT(CU55))","v":{"$error":"#N/A"}}]
[null,null,1,{"$f":"IF(Modifications!$C$31=2,\"N\",\"\")","v":""},"",{"$f":"IF(ISBLANK('Month 1'!$F$56),\"\",'Month 1'!$F$56)","v":""},null,null,null,null,null,null,null,null,null,null,null,null,null,null,null,null,null,null,null,null,null,null,null,null,null,null,null,null,null,null,null,null,null,null,null,null,null,null,null,null,null,null,null,null,null,null,null,null,null,null,null,null,null,0,"@","@","@","@","@","@","@","@","@","@","@","@","@","@","@","@","@","@","@","@","@","@","@","@","@","@","@","@","@","@","@",{"$f":"'Month 3'!BL56","v":"@"},{"$f":"'Month 3'!BK56","v":"@"},{"$f":"'Month 3'!BJ56","v":"@"},{"$f":"'Month 3'!BI56","v":"@"},{"$error":"#N/A"},{"$error":"#N/A"},{"$error":"#N/A"},{"$error":"#N/A"},{"$f":"IF(ISNUMBER(SUM(COUNTIF(INDIRECT(CR56):INDIRECT(CS56),2),COUNTIF(INDIRECT(CR56):INDIRECT(CS56),1),COUNTIF(INDIRECT(CR56):INDIRECT(CS56),0))),SUM(COUNTIF(INDIRECT(CR56):INDIRECT(CS56),2),COUNTIF(INDIRECT(CR56):INDIRECT(CS56),1),COUNTIF(INDIRECT(CR56):INDIRECT(CS56),0)),\"\")","v":""},{"$f":"IF(ISNUMBER(SUM(COUNTIF(INDIRECT(CR56):INDIRECT(CT56),2),COUNTIF(INDIRECT(CR56):INDIRECT(CT56),1),COUNTIF(INDIRECT(CR56):INDIRECT(CT56),0))),SUM(COUNTIF(INDIRECT(CR56):INDIRECT(CT56),2),COUNTIF(INDIRECT(CR56):INDIRECT(CT56),1),COUNTIF(INDIRECT(CR56):INDIRECT(CT56),0)),\"\")","v":""},{"$f":"IF(ISNUMBER(SUM(COUNTIF(INDIRECT(CR56):INDIRECT(CU56),1),COUNTIF(INDIRECT(CR56):INDIRECT(CU56),0))),SUM(COUNTIF(INDIRECT(CR56):INDIRECT(CU56),1),COUNTIF(INDIRECT(CR56):INDIRECT(CU56),0)),\"\")","v":""},{"$f":"SUM(INDIRECT(CR56):INDIRECT(CS56))","v":{"$error":"#N/A"}},{"$f":"SUM(INDIRECT(CR56):INDIRECT(CT56))","v":{"$error":"#N/A"}},{"$f":"SUM(INDIRECT(CR56):INDIRECT(CU56))","v":{"$error":"#N/A"}}]
[null,null,1,{"$f":"IF(Modifications!$C$32=2,\"N\",\"\")","v":""},"",{"$f":"IF(ISBLANK('Month 1'!$F$57),\"\",'Month 1'!$F$57)","v":""},null,null,null,null,null,null,null,null,null,null,null,null,null,null,null,null,null,null,null,null,null,null,null,null,null,null,null,null,null,null,null,null,null,null,null,null,null,null,null,null,null,null,null,null,null,null,null,null,null,null,null,null,null,0,"@","@","@","@","@","@","@","@","@","@","@","@","@","@","@","@","@","@","@","@","@","@","@","@","@","@","@","@","@","@","@",{"$f":"'Month 3'!BL57","v":"@"},{"$f":"'Month 3'!BK57","v":"@"},{"$f":"'Month 3'!BJ57","v":"@"},{"$f":"'Month 3'!BI57","v":"@"},{"$error":"#N/A"},{"$error":"#N/A"},{"$error":"#N/A"},{"$error":"#N/A"},{"$f":"IF(ISNUMBER(SUM(COUNTIF(INDIRECT(CR57):INDIRECT(CS57),2),COUNTIF(INDIRECT(CR57):INDIRECT(CS57),1),COUNTIF(INDIRECT(CR57):INDIRECT(CS57),0))),SUM(COUNTIF(INDIRECT(CR57):INDIRECT(CS57),2),COUNTIF(INDIRECT(CR57):INDIRECT(CS57),1),COUNTIF(INDIRECT(CR57):INDIRECT(CS57),0)),\"\")","v":""},{"$f":"IF(ISNUMBER(SUM(COUNTIF(INDIRECT(CR57):INDIRECT(CT57),2),COUNTIF(INDIRECT(CR57):INDIRECT(CT57),1),COUNTIF(INDIRECT(CR57):INDIRECT(CT57),0))),SUM(COUNTIF(INDIRECT(CR57):INDIRECT(CT57),2),COUNTIF(INDIRECT(CR57):INDIRECT(CT57),1),COUNTIF(INDIRECT(CR57):INDIRECT(CT57),0)),\"\")","v":""},{"$f":"IF(ISNUMBER(SUM(COUNTIF(INDIRECT(CR57):INDIRECT(CU57),1),COUNTIF(INDIRECT(CR57):INDIRECT(CU57),0))),SUM(COUNTIF(INDIRECT(CR57):INDIRECT(CU57),1),COUNTIF(INDIRECT(CR57):INDIRECT(CU57),0)),\"\")","v":""},{"$f":"SUM(INDIRECT(CR57):INDIRECT(CS57))","v":{"$error":"#N/A"}},{"$f":"SUM(INDIRECT(CR57):INDIRECT(CT57))","v":{"$error":"#N/A"}},{"$f":"SUM(INDIRECT(CR57):INDIRECT(CU57))","v":{"$error":"#N/A"}}]
[null,null,1,{"$f":"IF(Modifications!$C$33=2,\"N\",\"\")","v":""},"",{"$f":"IF(ISBLANK('Month 1'!$F$58),\"\",'Month 1'!$F$58)","v":""},null,null,null,null,null,null,null,null,null,null,null,null,null,null,null,null,null,null,null,null,null,null,null,null,null,null,null,null,null,null,null,null,null,null,null,null,null,null,null,null,null,null,null,null,null,null,null,null,null,null,null,null,null,0,"@","@","@","@","@","@","@","@","@","@","@","@","@","@","@","@","@","@","@","@","@","@","@","@","@","@","@","@","@","@","@",{"$f":"'Month 3'!BL58","v":"@"},{"$f":"'Month 3'!BK58","v":"@"},{"$f":"'Month 3'!BJ58","v":"@"},{"$f":"'Month 3'!BI58","v":"@"},{"$error":"#N/A"},{"$error":"#N/A"},{"$error":"#N/A"},{"$error":"#N/A"},{"$f":"IF(ISNUMBER(SUM(COUNTIF(INDIRECT(CR58):INDIRECT(CS58),2),COUNTIF(INDIRECT(CR58):INDIRECT(CS58),1),COUNTIF(INDIRECT(CR58):INDIRECT(CS58),0))),SUM(COUNTIF(INDIRECT(CR58):INDIRECT(CS58),2),COUNTIF(INDIRECT(CR58):INDIRECT(CS58),1),COUNTIF(INDIRECT(CR58):INDIRECT(CS58),0)),\"\")","v":""},{"$f":"IF(ISNUMBER(SUM(COUNTIF(INDIRECT(CR58):INDIRECT(CT58),2),COUNTIF(INDIRECT(CR58):INDIRECT(CT58),1),COUNTIF(INDIRECT(CR58):INDIRECT(CT58),0))),SUM(COUNTIF(INDIRECT(CR58):INDIRECT(CT58),2),COUNTIF(INDIRECT(CR58):INDIRECT(CT58),1),COUNTIF(INDIRECT(CR58):INDIRECT(CT58),0)),\"\")","v":""},{"$f":"IF(ISNUMBER(SUM(COUNTIF(INDIRECT(CR58):INDIRECT(CU58),1),COUNTIF(INDIRECT(CR58):INDIRECT(CU58),0))),SUM(COUNTIF(INDIRECT(CR58):INDIRECT(CU58),1),COUNTIF(INDIRECT(CR58):INDIRECT(CU58),0)),\"\")","v":""},{"$f":"SUM(INDIRECT(CR58):INDIRECT(CS58))","v":{"$error":"#N/A"}},{"$f":"SUM(INDIRECT(CR58):INDIRECT(CT58))","v":{"$error":"#N/A"}},{"$f":"SUM(INDIRECT(CR58):INDIRECT(CU58))","v":{"$error":"#N/A"}}]
[null,null,1,{"$f":"IF(Modifications!$C$34=2,\"N\",\"\")","v":""},{"$f":"IF(AND(BH87>0,$F$10=\"\"),\"Choose Skill Type\",IF(CX87=\"\",\"\",IF(AND(DA87=3,$F$10=\"Multi-Step (Task Analysis)\"),\"Add Next Step\",IF(AND(DA87=3,$F$10=\"Multi-Stimulus (Different Sd's)\"),\"Continue\",IF(OR(AND(CV87=5,CY87<=1),AND(CW87=4,CZ87=0)),\"Intervene\",IF(OR(AND(CV87=5,CY87<=2),AND(CW87=4,CZ87<=1),AND(CX87=3,DA87=0)),\"Check\",\"Continue\"))))))","v":""},{"$f":"IF(ISBLANK('Month 1'!$F$59),\"\",'Month 1'!$F$59)","v":""},null,null,null,null,null,null,null,null,null,null,null,null,null,null,null,null,null,null,null,null,null,null,null,null,null,null,null,null,null,null,null,null,null,null,null,null,null,null,null,null,null,null,null,null,null,null,null,null,null,null,null,null,null,0,"@","@","@","@","@","@","@","@","@","@","@","@","@","@","@","@","@","@","@","@","@","@","@","@","@","@","@","@","@","@","@",{"$f":"'Month 3'!BL59","v":"@"},{"$f":"'Month 3'!BK59","v":"@"},{"$f":"'Month 3'!BJ59","v":"@"},{"$f":"'Month 3'!BI59","v":"@"},{"$error":"#N/A"},{"$error":"#N/A"},{"$error":"#N/A"},{"$error":"#N/A"},{"$f":"IF(ISNUMBER(SUM(COUNTIF(INDIRECT(CR59):INDIRECT(CS59),2),COUNTIF(INDIRECT(CR59):INDIRECT(CS59),1),COUNTIF(INDIRECT(CR59):INDIRECT(CS59),0))),SUM(COUNTIF(INDIRECT(CR59):INDIRECT(CS59),2),COUNTIF(INDIRECT(CR59):INDIRECT(CS59),1),COUNTIF(INDIRECT(CR59):INDIRECT(CS59),0)),\"\")","v":""},{"$f":"IF(ISNUMBER(SUM(COUNTIF(INDIRECT(CR59):INDIRECT(CT59),2),COUNTIF(INDIRECT(CR59):INDIRECT(CT59),1),COUNTIF(INDIRECT(CR59):INDIRECT(CT59),0))),SUM(COUNTIF(INDIRECT(CR59):INDIRECT(CT59),2),COUNTIF(INDIRECT(CR59):INDIRECT(CT59),1),COUNTIF(INDIRECT(CR59):INDIRECT(CT59),0)),\"\")","v":""},{"$f":"IF(ISNUMBER(SUM(COUNTIF(INDIRECT(CR59):INDIRECT(CU59),1),COUNTIF(INDIRECT(CR59):INDIRECT(CU59),0))),SUM(COUNTIF(INDIRECT(CR59):INDIRECT(CU59),1),COUNTIF(INDIRECT(CR59):INDIRECT(CU59),0)),\"\")","v":""},{"$f":"SUM(INDIRECT(CR59):INDIRECT(CS59))","v":{"$error":"#N/A"}},{"$f":"SUM(INDIRECT(CR59):INDIRECT(CT59))","v":{"$error":"#N/A"}},{"$f":"SUM(INDIRECT(CR59):INDIRECT(CU59))","v":{"$error":"#N/A"}}]
[null,null,1,{"$f":"IF(Modifications!$C$35=2,\"N\",\"\")","v":""},"",{"$f":"IF(ISBLANK('Month 1'!$F$60),\"\",'Month 1'!$F$60)","v":""},null,null,null,null,null,null,null,null,null,null,null,null,null,null,null,null,null,null,null,null,null,null,null,null,null,null,null,null,null,null,null,null,null,null,null,null,null,null,null,null,null,null,null,null,null,null,null,null,null,null,null,null,null,0,"@","@","@","@","@","@","@","@","@","@","@","@","@","@","@","@","@","@","@","@","@","@","@","@","@","@","@","@","@","@","@",{"$f":"'Month 3'!BL60","v":"@"},{"$f":"'Month 3'!BK60","v":"@"},{"$f":"'Month 3'!BJ60","v":"@"},{"$f":"'Month 3'!BI60","v":"@"},{"$error":"#N/A"},{"$error":"#N/A"},{"$error":"#N/A"},{"$error":"#N/A"},{"$f":"IF(ISNUMBER(SUM(COUNTIF(INDIRECT(CR60):INDIRECT(CS60),2),COUNTIF(INDIRECT(CR60):INDIRECT(CS60),1),COUNTIF(INDIRECT(CR60):INDIRECT(CS60),0))),SUM(COUNTIF(INDIRECT(CR60):INDIRECT(CS60),2),COUNTIF(INDIRECT(CR60):INDIRECT(CS60),1),COUNTIF(INDIRECT(CR60):INDIRECT(CS60),0)),\"\")","v":""},{"$f":"IF(ISNUMBER(SUM(COUNTIF(INDIRECT(CR60):INDIRECT(CT60),2),COUNTIF(INDIRECT(CR60):INDIRECT(CT60),1),COUNTIF(INDIRECT(CR60):INDIRECT(CT60),0))),SUM(COUNTIF(INDIRECT(CR60):INDIRECT(CT60),2),COUNTIF(INDIRECT(CR60):INDIRECT(CT60),1),COUNTIF(INDIRECT(CR60):INDIRECT(CT60),0)),\"\")","v":""},{"$f":"IF(ISNUMBER(SUM(COUNTIF(INDIRECT(CR60):INDIRECT(CU60),1),COUNTIF(INDIRECT(CR60):INDIRECT(CU60),0))),SUM(COUNTIF(INDIRECT(CR60):INDIRECT(CU60),1),COUNTIF(INDIRECT(CR60):INDIRECT(CU60),0)),\"\")","v":""},{"$f":"SUM(INDIRECT(CR60):INDIRECT(CS60))","v":{"$error":"#N/A"}},{"$f":"SUM(INDIRECT(CR60):INDIRECT(CT60))","v":{"$error":"#N/A"}},{"$f":"SUM(INDIRECT(CR60):INDIRECT(CU60))","v":{"$error":"#N/A"}}]
[null,null,1,{"$f":"IF(Modifications!$C$36=2,\"N\",\"\")","v":""},"",{"$f":"IF(ISBLANK('Month 1'!$F$61),\"\",'Month 1'!$F$61)","v":""},null,null,null,null,null,null,null,null,null,null,null,null,null,null,null,null,null,null,null,null,null,null,null,null,null,null,null,null,null,null,null,null,null,null,null,null,null,null,null,null,null,null,null,null,null,null,null,null,null,null,null,null,null,0,"@","@","@","@","@","@","@","@","@","@","@","@","@","@","@","@","@","@","@","@","@","@","@","@","@","@","@","@","@","@","@",{"$f":"'Month 3'!BL61","v":"@"},{"$f":"'Month 3'!BK61","v":"@"},{"$f":"'Month 3'!BJ61","v":"@"},{"$f":"'Month 3'!BI61","v":"@"},{"$error":"#N/A"},{"$error":"#N/A"},{"$error":"#N/A"},{"$error":"#N/A"},{"$f":"IF(ISNUMBER(SUM(COUNTIF(INDIRECT(CR61):INDIRECT(CS61),2),COUNTIF(INDIRECT(CR61):INDIRECT(CS61),1),COUNTIF(INDIRECT(CR61):INDIRECT(CS61),0))),SUM(COUNTIF(INDIRECT(CR61):INDIRECT(CS61),2),COUNTIF(INDIRECT(CR61):INDIRECT(CS61),1),COUNTIF(INDIRECT(CR61):INDIRECT(CS61),0)),\"\")","v":""},{"$f":"IF(ISNUMBER(SUM(COUNTIF(INDIRECT(CR61):INDIRECT(CT61),2),COUNTIF(INDIRECT(CR61):INDIRECT(CT61),1),COUNTIF(INDIRECT(CR61):INDIRECT(CT61),0))),SUM(COUNTIF(INDIRECT(CR61):INDIRECT(CT61),2),COUNTIF(INDIRECT(CR61):INDIRECT(CT61),1),COUNTIF(INDIRECT(CR61):INDIRECT(CT61),0)),\"\")","v":""},{"$f":"IF(ISNUMBER(SUM(COUNTIF(INDIRECT(CR61):INDIRECT(CU61),1),COUNTIF(INDIRECT(CR61):INDIRECT(CU61),0))),SUM(COUNTIF(INDIRECT(CR61):INDIRECT(CU61),1),COUNTIF(INDIRECT(CR61):INDIRECT(CU61),0)),\"\")","v":""},{"$f":"SUM(INDIRECT(CR61):INDIRECT(CS61))","v":{"$error":"#N/A"}},{"$f":"SUM(INDIRECT(CR61):INDIRECT(CT61))","v":{"$error":"#N/A"}},{"$f":"SUM(INDIRECT(CR61):INDIRECT(CU61))","v":{"$error":"#N/A"}}]
[null,null,1,{"$f":"IF(Modifications!$C$37=2,\"N\",\"\")","v":""},"",{"$f":"IF(ISBLANK('Month 1'!$F$62),\"\",'Month 1'!$F$62)","v":""},null,null,null,null,null,null,null,null,null,null,null,null,null,null,null,null,null,null,null,null,null,null,null,null,null,null,null,null,null,null,null,null,null,null,null,null,null,null,null,null,null,null,null,null,null,null,null,null,null,null,null,null,null,0,"@","@","@","@","@","@","@","@","@","@","@","@","@","@","@","@","@","@","@","@","@","@","@","@","@","@","@","@","@","@","@",{"$f":"'Month 3'!BL62","v":"@"},{"$f":"'Month 3'!BK62","v":"@"},{"$f":"'Month 3'!BJ62","v":"@"},{"$f":"'Month 3'!BI62","v":"@"},{"$error":"#N/A"},{"$error":"#N/A"},{"$error":"#N/A"},{"$error":"#N/A"},{"$f":"IF(ISNUMBER(SUM(COUNTIF(INDIRECT(CR62):INDIRECT(CS62),2),COUNTIF(INDIRECT(CR62):INDIRECT(CS62),1),COUNTIF(INDIRECT(CR62):INDIRECT(CS62),0))),SUM(COUNTIF(INDIRECT(CR62):INDIRECT(CS62),2),COUNTIF(INDIRECT(CR62):INDIRECT(CS62),1),COUNTIF(INDIRECT(CR62):INDIRECT(CS62),0)),\"\")","v":""},{"$f":"IF(ISNUMBER(SUM(COUNTIF(INDIRECT(CR62):INDIRECT(CT62),2),COUNTIF(INDIRECT(CR62):INDIRECT(CT62),1),COUNTIF(INDIRECT(CR62):INDIRECT(CT62),0))),SUM(COUNTIF(INDIRECT(CR62):INDIRECT(CT62),2),COUNTIF(INDIRECT(CR62):INDIRECT(CT62),1),COUNTIF(INDIRECT(CR62):INDIRECT(CT62),0)),\"\")","v":""},{"$f":"IF(ISNUMBER(SUM(COUNTIF(INDIRECT(CR62):INDIRECT(CU62),1),COUNTIF(INDIRECT(CR62):INDIRECT(CU62),0))),SUM(COUNTIF(INDIRECT(CR62):INDIRECT(CU62),1),COUNTIF(INDIRECT(CR62):INDIRECT(CU62),0)),\"\")","v":""},{"$f":"SUM(INDIRECT(CR62):INDIRECT(CS62))","v":{"$error":"#N/A"}},{"$f":"SUM(INDIRECT(CR62):INDIRECT(CT62))","v":{"$error":"#N/A"}},{"$f":"SUM(INDIRECT(CR62):INDIRECT(CU62))","v":{"$error":"#N/A"}}]
[null,null,1,{"$f":"IF(Modifications!$C$38=2,\"N\",\"\")","v":""},"",{"$f":"IF(ISBLANK('Month 1'!$F$63),\"\",'Month 1'!$F$63)","v":""},null,null,null,null,null,null,null,null,null,null,null,null,null,null,null,null,null,null,null,null,null,null,null,null,null,null,null,null,null,null,null,null,null,null,null,null,null,null,null,null,null,null,null,null,null,null,null,null,null,null,null,null,null,0,"@","@","@","@","@","@","@","@","@","@","@","@","@","@","@","@","@","@","@","@","@","@","@","@","@","@","@","@","@","@","@",{"$f":"'Month 3'!BL63","v":"@"},{"$f":"'Month 3'!BK63","v":"@"},{"$f":"'Month 3'!BJ63","v":"@"},{"$f":"'Month 3'!BI63","v":"@"},{"$error":"#N/A"},{"$error":"#N/A"},{"$error":"#N/A"},{"$error":"#N/A"},{"$f":"IF(ISNUMBER(SUM(COUNTIF(INDIRECT(CR63):INDIRECT(CS63),2),COUNTIF(INDIRECT(CR63):INDIRECT(CS63),1),COUNTIF(INDIRECT(CR63):INDIRECT(CS63),0))),SUM(COUNTIF(INDIRECT(CR63):INDIRECT(CS63),2),COUNTIF(INDIRECT(CR63):INDIRECT(CS63),1),COUNTIF(INDIRECT(CR63):INDIRECT(CS63),0)),\"\")","v":""},{"$f":"IF(ISNUMBER(SUM(COUNTIF(INDIRECT(CR63):INDIRECT(CT63),2),COUNTIF(INDIRECT(CR63):INDIRECT(CT63),1),COUNTIF(INDIRECT(CR63):INDIRECT(CT63),0))),SUM(COUNTIF(INDIRECT(CR63):INDIRECT(CT63),2),COUNTIF(INDIRECT(CR63):INDIRECT(CT63),1),COUNTIF(INDIRECT(CR63):INDIRECT(CT63),0)),\"\")","v":""},{"$f":"IF(ISNUMBER(SUM(COUNTIF(INDIRECT(CR63):INDIRECT(CU63),1),COUNTIF(INDIRECT(CR63):INDIRECT(CU63),0))),SUM(COUNTIF(INDIRECT(CR63):INDIRECT(CU63),1),COUNTIF(INDIRECT(CR63):INDIRECT(CU63),0)),\"\")","v":""},{"$f":"SUM(INDIRECT(CR63):INDIRECT(CS63))","v":{"$error":"#N/A"}},{"$f":"SUM(INDIRECT(CR63):INDIRECT(CT63))","v":{"$error":"#N/A"}},{"$f":"SUM(INDIRECT(CR63):INDIRECT(CU63))","v":{"$error":"#N/A"}}]
[null,null,1,{"$f":"IF(Modifications!$C$39=2,\"N\",\"\")","v":""},"",{"$f":"IF(ISBLANK('Month 1'!$F$64),\"\",'Month 1'!$F$64)","v":""},null,null,null,null,null,null,null,null,null,null,null,null,null,null,null,null,null,null,null,null,null,null,null,null,null,null,null,null,null,null,null,null,null,null,null,null,null,null,null,null,null,null,null,null,null,null,null,null,null,null,null,null,null,0,"@","@","@","@","@","@","@","@","@","@","@","@","@","@","@","@","@","@","@","@","@","@","@","@","@","@","@","@","@","@","@",{"$f":"'Month 3'!BL64","v":"@"},{"$f":"'Month 3'!BK64","v":"@"},{"$f":"'Month 3'!BJ64","v":"@"},{"$f":"'Month 3'!BI64","v":"@"},{"$error":"#N/A"},{"$error":"#N/A"},{"$error":"#N/A"},{"$error":"#N/A"},{"$f":"IF(ISNUMBER(SUM(COUNTIF(INDIRECT(CR64):INDIRECT(CS64),2),COUNTIF(INDIRECT(CR64):INDIRECT(CS64),1),COUNTIF(INDIRECT(CR64):INDIRECT(CS64),0))),SUM(COUNTIF(INDIRECT(CR64):INDIRECT(CS64),2),COUNTIF(INDIRECT(CR64):INDIRECT(CS64),1),COUNTIF(INDIRECT(CR64):INDIRECT(CS64),0)),\"\")","v":""},{"$f":"IF(ISNUMBER(SUM(COUNTIF(INDIRECT(CR64):INDIRECT(CT64),2),COUNTIF(INDIRECT(CR64):INDIRECT(CT64),1),COUNTIF(INDIRECT(CR64):INDIRECT(CT64),0))),SUM(COUNTIF(INDIRECT(CR64):INDIRECT(CT64),2),COUNTIF(INDIRECT(CR64):INDIRECT(CT64),1),COUNTIF(INDIRECT(CR64):INDIRECT(CT64),0)),\"\")","v":""},{"$f":"IF(ISNUMBER(SUM(COUNTIF(INDIRECT(CR64):INDIRECT(CU64),1),COUNTIF(INDIRECT(CR64):INDIRECT(CU64),0))),SUM(COUNTIF(INDIRECT(CR64):INDIRECT(CU64),1),COUNTIF(INDIRECT(CR64):INDIRECT(CU64),0)),\"\")","v":""},{"$f":"SUM(INDIRECT(CR64):INDIRECT(CS64))","v":{"$error":"#N/A"}},{"$f":"SUM(INDIRECT(CR64):INDIRECT(CT64))","v":{"$error":"#N/A"}},{"$f":"SUM(INDIRECT(CR64):INDIRECT(CU64))","v":{"$error":"#N/A"}}]
[null,null,1,{"$f":"IF(Modifications!$C$40=2,\"N\",\"\")","v":""},"",{"$f":"IF(ISBLANK('Month 1'!$F$65),\"\",'Month 1'!$F$65)","v":""},null,null,null,null,null,null,null,null,null,null,null,null,null,null,null,null,null,null,null,null,null,null,null,null,null,null,null,null,null,null,null,null,null,null,null,null,null,null,null,null,null,null,null,null,null,null,null,null,null,null,null,null,null,0,"@","@","@","@","@","@","@","@","@","@","@","@","@","@","@","@","@","@","@","@","@","@","@","@","@","@","@","@","@","@","@",{"$f":"'Month 3'!BL65","v":"@"},{"$f":"'Month 3'!BK65","v":"@"},{"$f":"'Month 3'!BJ65","v":"@"},{"$f":"'Month 3'!BI65","v":"@"},{"$error":"#N/A"},{"$error":"#N/A"},{"$error":"#N/A"},{"$error":"#N/A"},{"$f":"IF(ISNUMBER(SUM(COUNTIF(INDIRECT(CR65):INDIRECT(CS65),2),COUNTIF(INDIRECT(CR65):INDIRECT(CS65),1),COUNTIF(INDIRECT(CR65):INDIRECT(CS65),0))),SUM(COUNTIF(INDIRECT(CR65):INDIRECT(CS65),2),COUNTIF(INDIRECT(CR65):INDIRECT(CS65),1),COUNTIF(INDIRECT(CR65):INDIRECT(CS65),0)),\"\")","v":""},{"$f":"IF(ISNUMBER(SUM(COUNTIF(INDIRECT(CR65):INDIRECT(CT65),2),COUNTIF(INDIRECT(CR65):INDIRECT(CT65),1),COUNTIF(INDIRECT(CR65):INDIRECT(CT65),0))),SUM(COUNTIF(INDIRECT(CR65):INDIRECT(CT65),2),COUNTIF(INDIRECT(CR65):INDIRECT(CT65),1),COUNTIF(INDIRECT(CR65):INDIRECT(CT65),0)),\"\")","v":""},{"$f":"IF(ISNUMBER(SUM(COUNTIF(INDIRECT(CR65):INDIRECT(CU65),1),COUNTIF(INDIRECT(CR65):INDIRECT(CU65),0))),SUM(COUNTIF(INDIRECT(CR65):INDIRECT(CU65),1),COUNTIF(INDIRECT(CR65):INDIRECT(CU65),0)),\"\")","v":""},{"$f":"SUM(INDIRECT(CR65):INDIRECT(CS65))","v":{"$error":"#N/A"}},{"$f":"SUM(INDIRECT(CR65):INDIRECT(CT65))","v":{"$error":"#N/A"}},{"$f":"SUM(INDIRECT(CR65):INDIRECT(CU65))","v":{"$error":"#N/A"}}]
[null,null,1,{"$f":"IF(Modifications!$C$41=2,\"N\",\"\")","v":""},"",{"$f":"IF(ISBLANK('Month 1'!$F$66),\"\",'Month 1'!$F$66)","v":""},null,null,null,null,null,null,null,null,null,null,null,null,null,null,null,null,null,null,null,null,null,null,null,null,null,null,null,null,null,null,null,null,null,null,null,null,null,null,null,null,null,null,null,null,null,null,null,null,null,null,null,null,null,0,"@","@","@","@","@","@","@","@","@","@","@","@","@","@","@","@","@","@","@","@","@","@","@","@","@","@","@","@","@","@","@",{"$f":"'Month 3'!BL66","v":"@"},{"$f":"'Month 3'!BK66","v":"@"},{"$f":"'Month 3'!BJ66","v":"@"},{"$f":"'Month 3'!BI66","v":"@"},{"$error":"#N/A"},{"$error":"#N/A"},{"$error":"#N/A"},{"$error":"#N/A"},{"$f":"IF(ISNUMBER(SUM(COUNTIF(INDIRECT(CR66):INDIRECT(CS66),2),COUNTIF(INDIRECT(CR66):INDIRECT(CS66),1),COUNTIF(INDIRECT(CR66):INDIRECT(CS66),0))),SUM(COUNTIF(INDIRECT(CR66):INDIRECT(CS66),2),COUNTIF(INDIRECT(CR66):INDIRECT(CS66),1),COUNTIF(INDIRECT(CR66):INDIRECT(CS66),0)),\"\")","v":""},{"$f":"IF(ISNUMBER(SUM(COUNTIF(INDIRECT(CR66):INDIRECT(CT66),2),COUNTIF(INDIRECT(CR66):INDIRECT(CT66),1),COUNTIF(INDIRECT(CR66):INDIRECT(CT66),0))),SUM(COUNTIF(INDIRECT(CR66):INDIRECT(CT66),2),COUNTIF(INDIRECT(CR66):INDIRECT(CT66),1),COUNTIF(INDIRECT(CR66):INDIRECT(CT66),0)),\"\")","v":""},{"$f":"IF(ISNUMBER(SUM(COUNTIF(INDIRECT(CR66):INDIRECT(CU66),1),COUNTIF(INDIRECT(CR66):INDIRECT(CU66),0))),SUM(COUNTIF(INDIRECT(CR66):INDIRECT(CU66),1),COUNTIF(INDIRECT(CR66):INDIRECT(CU66),0)),\"\")","v":""},{"$f":"SUM(INDIRECT(CR66):INDIRECT(CS66))","v":{"$error":"#N/A"}},{"$f":"SUM(INDIRECT(CR66):INDIRECT(CT66))","v":{"$error":"#N/A"}},{"$f":"SUM(INDIRECT(CR66):INDIRECT(CU66))","v":{"$error":"#N/A"}}]
[null,null,1,{"$f":"IF(Modifications!$C$42=2,\"N\",\"\")","v":""},"",{"$f":"IF(ISBLANK('Month 1'!$F$67),\"\",'Month 1'!$F$67)","v":""},null,null,null,null,null,null,null,null,null,null,null,null,null,null,null,null,null,null,null,null,null,null,null,null,null,null,null,null,null,null,null,null,null,null,null,null,null,null,null,null,null,null,null,null,null,null,null,null,null,null,null,null,null,0,"@","@","@","@","@","@","@","@","@","@","@","@","@","@","@","@","@","@","@","@","@","@","@","@","@","@","@","@","@","@","@",{"$f":"'Month 3'!BL67","v":"@"},{"$f":"'Month 3'!BK67","v":"@"},{"$f":"'Month 3'!BJ67","v":"@"},{"$f":"'Month 3'!BI67","v":"@"},{"$error":"#N/A"},{"$error":"#N/A"},{"$error":"#N/A"},{"$error":"#N/A"},{"$f":"IF(ISNUMBER(SUM(COUNTIF(INDIRECT(CR67):INDIRECT(CS67),2),COUNTIF(INDIRECT(CR67):INDIRECT(CS67),1),COUNTIF(INDIRECT(CR67):INDIRECT(CS67),0))),SUM(COUNTIF(INDIRECT(CR67):INDIRECT(CS67),2),COUNTIF(INDIRECT(CR67):INDIRECT(CS67),1),COUNTIF(INDIRECT(CR67):INDIRECT(CS67),0)),\"\")","v":""},{"$f":"IF(ISNUMBER(SUM(COUNTIF(INDIRECT(CR67):INDIRECT(CT67),2),COUNTIF(INDIRECT(CR67):INDIRECT(CT67),1),COUNTIF(INDIRECT(CR67):INDIRECT(CT67),0))),SUM(COUNTIF(INDIRECT(CR67):INDIRECT(CT67),2),COUNTIF(INDIRECT(CR67):INDIRECT(CT67),1),COUNTIF(INDIRECT(CR67):INDIRECT(CT67),0)),\"\")","v":""},{"$f":"IF(ISNUMBER(SUM(COUNTIF(INDIRECT(CR67):INDIRECT(CU67),1),COUNTIF(INDIRECT(CR67):INDIRECT(CU67),0))),SUM(COUNTIF(INDIRECT(CR67):INDIRECT(CU67),1),COUNTIF(INDIRECT(CR67):INDIRECT(CU67),0)),\"\")","v":""},{"$f":"SUM(INDIRECT(CR67):INDIRECT(CS67))","v":{"$error":"#N/A"}},{"$f":"SUM(INDIRECT(CR67):INDIRECT(CT67))","v":{"$error":"#N/A"}},{"$f":"SUM(INDIRECT(CR67):INDIRECT(CU67))","v":{"$error":"#N/A"}}]
[null,null,1,{"$f":"IF(Modifications!$C$43=2,\"N\",\"\")","v":""},"",{"$f":"IF(ISBLANK('Month 1'!$F$68),\"\",'Month 1'!$F$68)","v":""},null,null,null,null,null,null,null,null,null,null,null,null,null,null,null,null,null,null,null,null,null,null,null,null,null,null,null,null,null,null,null,null,null,null,null,null,null,null,null,null,null,null,null,null,null,null,null,null,null,null,null,null,null,0,"@","@","@","@","@","@","@","@","@","@","@","@","@","@","@","@","@","@","@","@","@","@","@","@","@","@","@","@","@","@","@",{"$f":"'Month 3'!BL68","v":"@"},{"$f":"'Month 3'!BK68","v":"@"},{"$f":"'Month 3'!BJ68","v":"@"},{"$f":"'Month 3'!BI68","v":"@"},{"$error":"#N/A"},{"$error":"#N/A"},{"$error":"#N/A"},{"$error":"#N/A"},{"$f":"IF(ISNUMBER(SUM(COUNTIF(INDIRECT(CR68):INDIRECT(CS68),2),COUNTIF(INDIRECT(CR68):INDIRECT(CS68),1),COUNTIF(INDIRECT(CR68):INDIRECT(CS68),0))),SUM(COUNTIF(INDIRECT(CR68):INDIRECT(CS68),2),COUNTIF(INDIRECT(CR68):INDIRECT(CS68),1),COUNTIF(INDIRECT(CR68):INDIRECT(CS68),0)),\"\")","v":""},{"$f":"IF(ISNUMBER(SUM(COUNTIF(INDIRECT(CR68):INDIRECT(CT68),2),COUNTIF(INDIRECT(CR68):INDIRECT(CT68),1),COUNTIF(INDIRECT(CR68):INDIRECT(CT68),0))),SUM(COUNTIF(INDIRECT(CR68):INDIRECT(CT68),2),COUNTIF(INDIRECT(CR68):INDIRECT(CT68),1),COUNTIF(INDIRECT(CR68):INDIRECT(CT68),0)),\"\")","v":""},{"$f":"IF(ISNUMBER(SUM(COUNTIF(INDIRECT(CR68):INDIRECT(CU68),1),COUNTIF(INDIRECT(CR68):INDIRECT(CU68),0))),SUM(COUNTIF(INDIRECT(CR68):INDIRECT(CU68),1),COUNTIF(INDIRECT(CR68):INDIRECT(CU68),0)),\"\")","v":""},{"$f":"SUM(INDIRECT(CR68):INDIRECT(CS68))","v":{"$error":"#N/A"}},{"$f":"SUM(INDIRECT(CR68):INDIRECT(CT68))","v":{"$error":"#N/A"}},{"$f":"SUM(INDIRECT(CR68):INDIRECT(CU68))","v":{"$error":"#N/A"}}]
[null,null,1,{"$f":"IF(Modifications!$C$44=2,\"N\",\"\")","v":""},"",{"$f":"IF(ISBLANK('Month 1'!$F$69),\"\",'Month 1'!$F$69)","v":""},null,null,null,null,null,null,null,null,null,null,null,null,null,null,null,null,null,null,null,null,null,null,null,null,null,null,null,null,null,null,null,null,null,null,null,null,null,null,null,null,null,null,null,null,null,null,null,null,null,null,null,null,null,0,"@","@","@","@","@","@","@","@","@","@","@","@","@","@","@","@","@","@","@","@","@","@","@","@","@","@","@","@","@","@","@",{"$f":"'Month 3'!BL69","v":"@"},{"$f":"'Month 3'!BK69","v":"@"},{"$f":"'Month 3'!BJ69","v":"@"},{"$f":"'Month 3'!BI69","v":"@"},{"$error":"#N/A"},{"$error":"#N/A"},{"$error":"#N/A"},{"$error":"#N/A"},{"$f":"IF(ISNUMBER(SUM(COUNTIF(INDIRECT(CR69):INDIRECT(CS69),2),COUNTIF(INDIRECT(CR69):INDIRECT(CS69),1),COUNTIF(INDIRECT(CR69):INDIRECT(CS69),0))),SUM(COUNTIF(INDIRECT(CR69):INDIRECT(CS69),2),COUNTIF(INDIRECT(CR69):INDIRECT(CS69),1),COUNTIF(INDIRECT(CR69):INDIRECT(CS69),0)),\"\")","v":""},{"$f":"IF(ISNUMBER(SUM(COUNTIF(INDIRECT(CR69):INDIRECT(CT69),2),COUNTIF(INDIRECT(CR69):INDIRECT(CT69),1),COUNTIF(INDIRECT(CR69):INDIRECT(CT69),0))),SUM(COUNTIF(INDIRECT(CR69):INDIRECT(CT69),2),COUNTIF(INDIRECT(CR69):INDIRECT(CT69),1),COUNTIF(INDIRECT(CR69):INDIRECT(CT69),0)),\"\")","v":""},{"$f":"IF(ISNUMBER(SUM(COUNTIF(INDIRECT(CR69):INDIRECT(CU69),1),COUNTIF(INDIRECT(CR69):INDIRECT(CU69),0))),SUM(COUNTIF(INDIRECT(CR69):INDIRECT(CU69),1),COUNTIF(INDIRECT(CR69):INDIRECT(CU69),0)),\"\")","v":""},{"$f":"SUM(INDIRECT(CR69):INDIRECT(CS69))","v":{"$error":"#N/A"}},{"$f":"SUM(INDIRECT(CR69):INDIRECT(CT69))","v":{"$error":"#N/A"}},{"$f":"SUM(INDIRECT(CR69):INDIRECT(CU69))","v":{"$error":"#N/A"}}]
[null,null,1,{"$f":"IF(Modifications!$C$45=2,\"N\",\"\")","v":""},"",{"$f":"IF(ISBLANK('Month 1'!$F$70),\"\",'Month 1'!$F$70)","v":""},null,null,null,null,null,null,null,null,null,null,null,null,null,null,null,null,null,null,null,null,null,null,null,null,null,null,null,null,null,null,null,null,null,null,null,null,null,null,null,null,null,null,null,null,null,null,null,null,null,null,null,null,null,0,"@","@","@","@","@","@","@","@","@","@","@","@","@","@","@","@","@","@","@","@","@","@","@","@","@","@","@","@","@","@","@",{"$f":"'Month 3'!BL70","v":"@"},{"$f":"'Month 3'!BK70","v":"@"},{"$f":"'Month 3'!BJ70","v":"@"},{"$f":"'Month 3'!BI70","v":"@"},{"$error":"#N/A"},{"$error":"#N/A"},{"$error":"#N/A"},{"$error":"#N/A"},{"$f":"IF(ISNUMBER(SUM(COUNTIF(INDIRECT(CR70):INDIRECT(CS70),2),COUNTIF(INDIRECT(CR70):INDIRECT(CS70),1),COUNTIF(INDIRECT(CR70):INDIRECT(CS70),0))),SUM(COUNTIF(INDIRECT(CR70):INDIRECT(CS70),2),COUNTIF(INDIRECT(CR70):INDIRECT(CS70),1),COUNTIF(INDIRECT(CR70):INDIRECT(CS70),0)),\"\")","v":""},{"$f":"IF(ISNUMBER(SUM(COUNTIF(INDIRECT(CR70):INDIRECT(CT70),2),COUNTIF(INDIRECT(CR70):INDIRECT(CT70),1),COUNTIF(INDIRECT(CR70):INDIRECT(CT70),0))),SUM(COUNTIF(INDIRECT(CR70):INDIRECT(CT70),2),COUNTIF(INDIRECT(CR70):INDIRECT(CT70),1),COUNTIF(INDIRECT(CR70):INDIRECT(CT70),0)),\"\")","v":""},{"$f":"IF(ISNUMBER(SUM(COUNTIF(INDIRECT(CR70):INDIRECT(CU70),1),COUNTIF(INDIRECT(CR70):INDIRECT(CU70),0))),SUM(COUNTIF(INDIRECT(CR70):INDIRECT(CU70),1),COUNTIF(INDIRECT(CR70):INDIRECT(CU70),0)),\"\")","v":""},{"$f":"SUM(INDIRECT(CR70):INDIRECT(CS70))","v":{"$error":"#N/A"}},{"$f":"SUM(INDIRECT(CR70):INDIRECT(CT70))","v":{"$error":"#N/A"}},{"$f":"SUM(INDIRECT(CR70):INDIRECT(CU70))","v":{"$error":"#N/A"}}]
[null,null,1,{"$f":"IF(Modifications!$C$46=2,\"N\",\"\")","v":""},"",{"$f":"IF(ISBLANK('Month 1'!$F$71),\"\",'Month 1'!$F$71)","v":""},null,null,null,null,null,null,null,null,null,null,null,null,null,null,null,null,null,null,null,null,null,null,null,null,null,null,null,null,null,null,null,null,null,null,null,null,null,null,null,null,null,null,null,null,null,null,null,null,null,null,null,null,null,0,"@","@","@","@","@","@","@","@","@","@","@","@","@","@","@","@","@","@","@","@","@","@","@","@","@","@","@","@","@","@","@",{"$f":"'Month 3'!BL71","v":"@"},{"$f":"'Month 3'!BK71","v":"@"},{"$f":"'Month 3'!BJ71","v":"@"},{"$f":"'Month 3'!BI71","v":"@"},{"$error":"#N/A"},{"$error":"#N/A"},{"$error":"#N/A"},{"$error":"#N/A"},{"$f":"IF(ISNUMBER(SUM(COUNTIF(INDIRECT(CR71):INDIRECT(CS71),2),COUNTIF(INDIRECT(CR71):INDIRECT(CS71),1),COUNTIF(INDIRECT(CR71):INDIRECT(CS71),0))),SUM(COUNTIF(INDIRECT(CR71):INDIRECT(CS71),2),COUNTIF(INDIRECT(CR71):INDIRECT(CS71),1),COUNTIF(INDIRECT(CR71):INDIRECT(CS71),0)),\"\")","v":""},{"$f":"IF(ISNUMBER(SUM(COUNTIF(INDIRECT(CR71):INDIRECT(CT71),2),COUNTIF(INDIRECT(CR71):INDIRECT(CT71),1),COUNTIF(INDIRECT(CR71):INDIRECT(CT71),0))),SUM(COUNTIF(INDIRECT(CR71):INDIRECT(CT71),2),COUNTIF(INDIRECT(CR71):INDIRECT(CT71),1),COUNTIF(INDIRECT(CR71):INDIRECT(CT71),0)),\"\")","v":""},{"$f":"IF(ISNUMBER(SUM(COUNTIF(INDIRECT(CR71):INDIRECT(CU71),1),COUNTIF(INDIRECT(CR71):INDIRECT(CU71),0))),SUM(COUNTIF(INDIRECT(CR71):INDIRECT(CU71),1),COUNTIF(INDIRECT(CR71):INDIRECT(CU71),0)),\"\")","v":""},{"$f":"SUM(INDIRECT(CR71):INDIRECT(CS71))","v":{"$error":"#N/A"}},{"$f":"SUM(INDIRECT(CR71):INDIRECT(CT71))","v":{"$error":"#N/A"}},{"$f":"SUM(INDIRECT(CR71):INDIRECT(CU71))","v":{"$error":"#N/A"}}]
[null,null,1,{"$f":"IF(Modifications!$C$47=2,\"N\",\"\")","v":""},"",{"$f":"IF(ISBLANK('Month 1'!$F$72),\"\",'Month 1'!$F$72)","v":""},null,null,null,null,null,null,null,null,null,null,null,null,null,null,null,null,null,null,null,null,null,null,null,null,null,null,null,null,null,null,null,null,null,null,null,null,null,null,null,null,null,null,null,null,null,null,null,null,null,null,null,null,null,0,"@","@","@","@","@","@","@","@","@","@","@","@","@","@","@","@","@","@","@","@","@","@","@","@","@","@","@","@","@","@","@",{"$f":"'Month 3'!BL72","v":"@"},{"$f":"'Month 3'!BK72","v":"@"},{"$f":"'Month 3'!BJ72","v":"@"},{"$f":"'Month 3'!BI72","v":"@"},{"$error":"#N/A"},{"$error":"#N/A"},{"$error":"#N/A"},{"$error":"#N/A"},{"$f":"IF(ISNUMBER(SUM(COUNTIF(INDIRECT(CR72):INDIRECT(CS72),2),COUNTIF(INDIRECT(CR72):INDIRECT(CS72),1),COUNTIF(INDIRECT(CR72):INDIRECT(CS72),0))),SUM(COUNTIF(INDIRECT(CR72):INDIRECT(CS72),2),COUNTIF(INDIRECT(CR72):INDIRECT(CS72),1),COUNTIF(INDIRECT(CR72):INDIRECT(CS72),0)),\"\")","v":""},{"$f":"IF(ISNUMBER(SUM(COUNTIF(INDIRECT(CR72):INDIRECT(CT72),2),COUNTIF(INDIRECT(CR72):INDIRECT(CT72),1),COUNTIF(INDIRECT(CR72):INDIRECT(CT72),0))),SUM(COUNTIF(INDIRECT(CR72):INDIRECT(CT72),2),COUNTIF(INDIRECT(CR72):INDIRECT(CT72),1),COUNTIF(INDIRECT(CR72):INDIRECT(CT72),0)),\"\")","v":""},{"$f":"IF(ISNUMBER(SUM(COUNTIF(INDIRECT(CR72):INDIRECT(CU72),1),COUNTIF(INDIRECT(CR72):INDIRECT(CU72),0))),SUM(COUNTIF(INDIRECT(CR72):INDIRECT(CU72),1),COUNTIF(INDIRECT(CR72):INDIRECT(CU72),0)),\"\")","v":""},{"$f":"SUM(INDIRECT(CR72):INDIRECT(CS72))","v":{"$error":"#N/A"}},{"$f":"SUM(INDIRECT(CR72):INDIRECT(CT72))","v":{"$error":"#N/A"}},{"$f":"SUM(INDIRECT(CR72):INDIRECT(CU72))","v":{"$error":"#N/A"}}]
[null,null,1,{"$f":"IF(Modifications!$C$48=2,\"N\",\"\")","v":""},"",{"$f":"IF(ISBLANK('Month 1'!$F$73),\"\",'Month 1'!$F$73)","v":""},null,null,null,null,null,null,null,null,null,null,null,null,null,null,null,null,null,null,null,null,null,null,null,null,null,null,null,null,null,null,null,null,null,null,null,null,null,null,null,null,null,null,null,null,null,null,null,null,null,null,null,null,null,0,"@","@","@","@","@","@","@","@","@","@","@","@","@","@","@","@","@","@","@","@","@","@","@","@","@","@","@","@","@","@","@",{"$f":"'Month 3'!BL73","v":"@"},{"$f":"'Month 3'!BK73","v":"@"},{"$f":"'Month 3'!BJ73","v":"@"},{"$f":"'Month 3'!BI73","v":"@"},{"$error":"#N/A"},{"$error":"#N/A"},{"$error":"#N/A"},{"$error":"#N/A"},{"$f":"IF(ISNUMBER(SUM(COUNTIF(INDIRECT(CR73):INDIRECT(CS73),2),COUNTIF(INDIRECT(CR73):INDIRECT(CS73),1),COUNTIF(INDIRECT(CR73):INDIRECT(CS73),0))),SUM(COUNTIF(INDIRECT(CR73):INDIRECT(CS73),2),COUNTIF(INDIRECT(CR73):INDIRECT(CS73),1),COUNTIF(INDIRECT(CR73):INDIRECT(CS73),0)),\"\")","v":""},{"$f":"IF(ISNUMBER(SUM(COUNTIF(INDIRECT(CR73):INDIRECT(CT73),2),COUNTIF(INDIRECT(CR73):INDIRECT(CT73),1),COUNTIF(INDIRECT(CR73):INDIRECT(CT73),0))),SUM(COUNTIF(INDIRECT(CR73):INDIRECT(CT73),2),COUNTIF(INDIRECT(CR73):INDIRECT(CT73),1),COUNTIF(INDIRECT(CR73):INDIRECT(CT73),0)),\"\")","v":""},{"$f":"IF(ISNUMBER(SUM(COUNTIF(INDIRECT(CR73):INDIRECT(CU73),1),COUNTIF(INDIRECT(CR73):INDIRECT(CU73),0))),SUM(COUNTIF(INDIRECT(CR73):INDIRECT(CU73),1),COUNTIF(INDIRECT(CR73):INDIRECT(CU73),0)),\"\")","v":""},{"$f":"SUM(INDIRECT(CR73):INDIRECT(CS73))","v":{"$error":"#N/A"}},{"$f":"SUM(INDIRECT(CR73):INDIRECT(CT73))","v":{"$error":"#N/A"}},{"$f":"SUM(INDIRECT(CR73):INDIRECT(CU73))","v":{"$error":"#N/A"}}]
[null,null,1,{"$f":"IF(Modifications!$C$49=2,\"N\",\"\")","v":""},"",{"$f":"IF(ISBLANK('Month 1'!$F$74),\"\",'Month 1'!$F$74)","v":""},null,null,null,null,null,null,null,null,null,null,null,null,null,null,null,null,null,null,null,null,null,null,null,null,null,null,null,null,null,null,null,null,null,null,null,null,null,null,null,null,null,null,null,null,null,null,null,null,null,null,null,null,null,0,"@","@","@","@","@","@","@","@","@","@","@","@","@","@","@","@","@","@","@","@","@","@","@","@","@","@","@","@","@","@","@",{"$f":"'Month 3'!BL74","v":"@"},{"$f":"'Month 3'!BK74","v":"@"},{"$f":"'Month 3'!BJ74","v":"@"},{"$f":"'Month 3'!BI74","v":"@"},{"$error":"#N/A"},{"$error":"#N/A"},{"$error":"#N/A"},{"$error":"#N/A"},{"$f":"IF(ISNUMBER(SUM(COUNTIF(INDIRECT(CR74):INDIRECT(CS74),2),COUNTIF(INDIRECT(CR74):INDIRECT(CS74),1),COUNTIF(INDIRECT(CR74):INDIRECT(CS74),0))),SUM(COUNTIF(INDIRECT(CR74):INDIRECT(CS74),2),COUNTIF(INDIRECT(CR74):INDIRECT(CS74),1),COUNTIF(INDIRECT(CR74):INDIRECT(CS74),0)),\"\")","v":""},{"$f":"IF(ISNUMBER(SUM(COUNTIF(INDIRECT(CR74):INDIRECT(CT74),2),COUNTIF(INDIRECT(CR74):INDIRECT(CT74),1),COUNTIF(INDIRECT(CR74):INDIRECT(CT74),0))),SUM(COUNTIF(INDIRECT(CR74):INDIRECT(CT74),2),COUNTIF(INDIRECT(CR74):INDIRECT(CT74),1),COUNTIF(INDIRECT(CR74):INDIRECT(CT74),0)),\"\")","v":""},{"$f":"IF(ISNUMBER(SUM(COUNTIF(INDIRECT(CR74):INDIRECT(CU74),1),COUNTIF(INDIRECT(CR74):INDIRECT(CU74),0))),SUM(COUNTIF(INDIRECT(CR74):INDIRECT(CU74),1),COUNTIF(INDIRECT(CR74):INDIRECT(CU74),0)),\"\")","v":""},{"$f":"SUM(INDIRECT(CR74):INDIRECT(CS74))","v":{"$error":"#N/A"}},{"$f":"SUM(INDIRECT(CR74):INDIRECT(CT74))","v":{"$error":"#N/A"}},{"$f":"SUM(INDIRECT(CR74):INDIRECT(CU74))","v":{"$error":"#N/A"}}]
[null,null,1,{"$f":"IF(Modifications!$C$50=2,\"N\",\"\")","v":""},"",{"$f":"IF(ISBLANK('Month 1'!$F$75),\"\",'Month 1'!$F$75)","v":""},null,null,null,null,null,null,null,null,null,null,null,null,null,null,null,null,null,null,null,null,null,null,null,null,null,null,null,null,null,null,null,null,null,null,null,null,null,null,null,null,null,null,null,null,null,null,null,null,null,null,null,null,null,0,"@","@","@","@","@","@","@","@","@","@","@","@","@","@","@","@","@","@","@","@","@","@","@","@","@","@","@","@","@","@","@",{"$f":"'Month 3'!BL75","v":"@"},{"$f":"'Month 3'!BK75","v":"@"},{"$f":"'Month 3'!BJ75","v":"@"},{"$f":"'Month 3'!BI75","v":"@"},{"$error":"#N/A"},{"$error":"#N/A"},{"$error":"#N/A"},{"$error":"#N/A"},{"$f":"IF(ISNUMBER(SUM(COUNTIF(INDIRECT(CR75):INDIRECT(CS75),2),COUNTIF(INDIRECT(CR75):INDIRECT(CS75),1),COUNTIF(INDIRECT(CR75):INDIRECT(CS75),0))),SUM(COUNTIF(INDIRECT(CR75):INDIRECT(CS75),2),COUNTIF(INDIRECT(CR75):INDIRECT(CS75),1),COUNTIF(INDIRECT(CR75):INDIRECT(CS75),0)),\"\")","v":""},{"$f":"IF(ISNUMBER(SUM(COUNTIF(INDIRECT(CR75):INDIRECT(CT75),2),COUNTIF(INDIRECT(CR75):INDIRECT(CT75),1),COUNTIF(INDIRECT(CR75):INDIRECT(CT75),0))),SUM(COUNTIF(INDIRECT(CR75):INDIRECT(CT75),2),COUNTIF(INDIRECT(CR75):INDIRECT(CT75),1),COUNTIF(INDIRECT(CR75):INDIRECT(CT75),0)),\"\")","v":""},{"$f":"IF(ISNUMBER(SUM(COUNTIF(INDIRECT(CR75):INDIRECT(CU75),1),COUNTIF(INDIRECT(CR75):INDIRECT(CU75),0))),SUM(COUNTIF(INDIRECT(CR75):INDIRECT(CU75),1),COUNTIF(INDIRECT(CR75):INDIRECT(CU75),0)),\"\")","v":""},{"$f":"SUM(INDIRECT(CR75):INDIRECT(CS75))","v":{"$error":"#N/A"}},{"$f":"SUM(INDIRECT(CR75):INDIRECT(CT75))","v":{"$error":"#N/A"}},{"$f":"SUM(INDIRECT(CR75):INDIRECT(CU75))","v":{"$error":"#N/A"}}]
[null,null,1,{"$f":"IF(Modifications!$C$51=2,\"N\",\"\")","v":""},"",{"$f":"IF(ISBLANK('Month 1'!$F$76),\"\",'Month 1'!$F$76)","v":""},null,null,null,null,null,null,null,null,null,null,null,null,null,null,null,null,null,null,null,null,null,null,null,null,null,null,null,null,null,null,null,null,null,null,null,null,null,null,null,null,null,null,null,null,null,null,null,null,null,null,null,null,null,0,"@","@","@","@","@","@","@","@","@","@","@","@","@","@","@","@","@","@","@","@","@","@","@","@","@","@","@","@","@","@","@",{"$f":"'Month 3'!BL76","v":"@"},{"$f":"'Month 3'!BK76","v":"@"},{"$f":"'Month 3'!BJ76","v":"@"},{"$f":"'Month 3'!BI76","v":"@"},{"$error":"#N/A"},{"$error":"#N/A"},{"$error":"#N/A"},{"$error":"#N/A"},{"$f":"IF(ISNUMBER(SUM(COUNTIF(INDIRECT(CR76):INDIRECT(CS76),2),COUNTIF(INDIRECT(CR76):INDIRECT(CS76),1),COUNTIF(INDIRECT(CR76):INDIRECT(CS76),0))),SUM(COUNTIF(INDIRECT(CR76):INDIRECT(CS76),2),COUNTIF(INDIRECT(CR76):INDIRECT(CS76),1),COUNTIF(INDIRECT(CR76):INDIRECT(CS76),0)),\"\")","v":""},{"$f":"IF(ISNUMBER(SUM(COUNTIF(INDIRECT(CR76):INDIRECT(CT76),2),COUNTIF(INDIRECT(CR76):INDIRECT(CT76),1),COUNTIF(INDIRECT(CR76):INDIRECT(CT76),0))),SUM(COUNTIF(INDIRECT(CR76):INDIRECT(CT76),2),COUNTIF(INDIRECT(CR76):INDIRECT(CT76),1),COUNTIF(INDIRECT(CR76):INDIRECT(CT76),0)),\"\")","v":""},{"$f":"IF(ISNUMBER(SUM(COUNTIF(INDIRECT(CR76):INDIRECT(CU76),1),COUNTIF(INDIRECT(CR76):INDIRECT(CU76),0))),SUM(COUNTIF(INDIRECT(CR76):INDIRECT(CU76),1),COUNTIF(INDIRECT(CR76):INDIRECT(CU76),0)),\"\")","v":""},{"$f":"SUM(INDIRECT(CR76):INDIRECT(CS76))","v":{"$error":"#N/A"}},{"$f":"SUM(INDIRECT(CR76):INDIRECT(CT76))","v":{"$error":"#N/A"}},{"$f":"SUM(INDIRECT(CR76):INDIRECT(CU76))","v":{"$error":"#N/A"}}]
[null,null,null,null,null,null,null,null,null,null,null,null,null,null,null,null,null,null,null,null,null,null,null,null,null,null,null,null,null,null,null,null,null,null,null,null,null,null,null,null,null,null,null,null,null,null,null,null,null,null,null,null,null,null,null,null,null,null,null,0,"@","@","@","@","@","@","@","@","@","@","@","@","@","@","@","@","@","@","@","@","@","@","@","@","@","@","@","@","@","@","@",{"$f":"'Month 3'!BL77","v":"@"},{"$f":"'Month 3'!BK77","v":"@"},{"$f":"'Month 3'!BJ77","v":"@"},{"$f":"'Month 3'!BI77","v":"@"},{"$error":"#N/A"},{"$error":"#N/A"},{"$error":"#N/A"},{"$error":"#N/A"},{"$f":"IF(ISNUMBER(SUM(COUNTIF(INDIRECT(CR77):INDIRECT(CS77),2),COUNTIF(INDIRECT(CR77):INDIRECT(CS77),1),COUNTIF(INDIRECT(CR77):INDIRECT(CS77),0))),SUM(COUNTIF(INDIRECT(CR77):INDIRECT(CS77),2),COUNTIF(INDIRECT(CR77):INDIRECT(CS77),1),COUNTIF(INDIRECT(CR77):INDIRECT(CS77),0)),\"\")","v":""},{"$f":"IF(ISNUMBER(SUM(COUNTIF(INDIRECT(CR77):INDIRECT(CT77),2),COUNTIF(INDIRECT(CR77):INDIRECT(CT77),1),COUNTIF(INDIRECT(CR77):INDIRECT(CT77),0))),SUM(COUNTIF(INDIRECT(CR77):INDIRECT(CT77),2),COUNTIF(INDIRECT(CR77):INDIRECT(CT77),1),COUNTIF(INDIRECT(CR77):INDIRECT(CT77),0)),\"\")","v":""},{"$f":"IF(ISNUMBER(SUM(COUNTIF(INDIRECT(CR77):INDIRECT(CU77),1),COUNTIF(INDIRECT(CR77):INDIRECT(CU77),0))),SUM(COUNTIF(INDIRECT(CR77):INDIRECT(CU77),1),COUNTIF(INDIRECT(CR77):INDIRECT(CU77),0)),\"\")","v":""},{"$f":"SUM(INDIRECT(CR77):INDIRECT(CS77))","v":{"$error":"#N/A"}},{"$f":"SUM(INDIRECT(CR77):INDIRECT(CT77))","v":{"$error":"#N/A"}},{"$f":"SUM(INDIRECT(CR77):INDIRECT(CU77))","v":{"$error":"#N/A"}}]
[null,null,null,null,null,null,null,null,null,null,null,null,null,null,null,null,null,null,null,null,null,null,null,null,null,null,null,null,null,null,null,null,null,null,null,null,null,null,null,null,null,null,null,null,null,null,null,null,null,null,null,null,null,null,null,null,null,null,null,0,"@","@","@","@","@","@","@","@","@","@","@","@","@","@","@","@","@","@","@","@","@","@","@","@","@","@","@","@","@","@","@",{"$f":"'Month 3'!BL78","v":"@"},{"$f":"'Month 3'!BK78","v":"@"},{"$f":"'Month 3'!BJ78","v":"@"},{"$f":"'Month 3'!BI78","v":"@"},{"$error":"#N/A"},{"$error":"#N/A"},{"$error":"#N/A"},{"$error":"#N/A"},{"$f":"IF(ISNUMBER(SUM(COUNTIF(INDIRECT(CR78):INDIRECT(CS78),2),COUNTIF(INDIRECT(CR78):INDIRECT(CS78),1),COUNTIF(INDIRECT(CR78):INDIRECT(CS78),0))),SUM(COUNTIF(INDIRECT(CR78):INDIRECT(CS78),2),COUNTIF(INDIRECT(CR78):INDIRECT(CS78),1),COUNTIF(INDIRECT(CR78):INDIRECT(CS78),0)),\"\")","v":""},{"$f":"IF(ISNUMBER(SUM(COUNTIF(INDIRECT(CR78):INDIRECT(CT78),2),COUNTIF(INDIRECT(CR78):INDIRECT(CT78),1),COUNTIF(INDIRECT(CR78):INDIRECT(CT78),0))),SUM(COUNTIF(INDIRECT(CR78):INDIRECT(CT78),2),COUNTIF(INDIRECT(CR78):INDIRECT(CT78),1),COUNTIF(INDIRECT(CR78):INDIRECT(CT78),0)),\"\")","v":""},{"$f":"IF(ISNUMBER(SUM(COUNTIF(INDIRECT(CR78):INDIRECT(CU78),1),COUNTIF(INDIRECT(CR78):INDIRECT(CU78),0))),SUM(COUNTIF(INDIRECT(CR78):INDIRECT(CU78),1),COUNTIF(INDIRECT(CR78):INDIRECT(CU78),0)),\"\")","v":""},{"$f":"SUM(INDIRECT(CR78):INDIRECT(CS78))","v":{"$error":"#N/A"}},{"$f":"SUM(INDIRECT(CR78):INDIRECT(CT78))","v":{"$error":"#N/A"}},{"$f":"SUM(INDIRECT(CR78):INDIRECT(CU78))","v":{"$error":"#N/A"}}]
[null,null,null,null,null,null,{"$f":"IF(ISBLANK(G26),\"\",G26)","v":""},"","","","","","","","","","","","","","","","","","","","","","","","","","","","","","",null,null,null,null,null,null,null,null,null,null,null,null,null,null,null,null,null,null,null,null,null,null,0,"@","@","@","@","@","@","@","@","@","@","@","@","@","@","@","@","@","@","@","@","@","@","@","@","@","@","@","@","@","@","@",{"$f":"'Month 3'!BL79","v":"@"},{"$f":"'Month 3'!BK79","v":"@"},{"$f":"'Month 3'!BJ79","v":"@"},{"$f":"'Month 3'!BI79","v":"@"},{"$error":"#N/A"},{"$error":"#N/A"},{"$error":"#N/A"},{"$error":"#N/A"},{"$f":"IF(ISNUMBER(SUM(COUNTIF(INDIRECT(CR79):INDIRECT(CS79),2),COUNTIF(INDIRECT(CR79):INDIRECT(CS79),1),COUNTIF(INDIRECT(CR79):INDIRECT(CS79),0))),SUM(COUNTIF(INDIRECT(CR79):INDIRECT(CS79),2),COUNTIF(INDIRECT(CR79):INDIRECT(CS79),1),COUNTIF(INDIRECT(CR79):INDIRECT(CS79),0)),\"\")","v":""},{"$f":"IF(ISNUMBER(SUM(COUNTIF(INDIRECT(CR79):INDIRECT(CT79),2),COUNTIF(INDIRECT(CR79):INDIRECT(CT79),1),COUNTIF(INDIRECT(CR79):INDIRECT(CT79),0))),SUM(COUNTIF(INDIRECT(CR79):INDIRECT(CT79),2),COUNTIF(INDIRECT(CR79):INDIRECT(CT79),1),COUNTIF(INDIRECT(CR79):INDIRECT(CT79),0)),\"\")","v":""},{"$f":"IF(ISNUMBER(SUM(COUNTIF(INDIRECT(CR79):INDIRECT(CU79),1),COUNTIF(INDIRECT(CR79):INDIRECT(CU79),0))),SUM(COUNTIF(INDIRECT(CR79):INDIRECT(CU79),1),COUNTIF(INDIRECT(CR79):INDIRECT(CU79),0)),\"\")","v":""},{"$f":"SUM(INDIRECT(CR79):INDIRECT(CS79))","v":{"$error":"#N/A"}},{"$f":"SUM(INDIRECT(CR79):INDIRECT(CT79))","v":{"$error":"#N/A"}},{"$f":"SUM(INDIRECT(CR79):INDIRECT(CU79))","v":{"$error":"#N/A"}}]
[null,null,null,null,null,null,{"$f":"IF(G24=\"\",NA(),G24)","v":{"$error":"#N/A"}},{"$error":"#N/A"},{"$error":"#N/A"},{"$error":"#N/A"},{"$error":"#N/A"},{"$error":"#N/A"},{"$error":"#N/A"},{"$error":"#N/A"},{"$error":"#N/A"},{"$error":"#N/A"},{"$error":"#N/A"},{"$error":"#N/A"},{"$error":"#N/A"},{"$error":"#N/A"},{"$error":"#N/A"},{"$error":"#N/A"},{"$error":"#N/A"},{"$error":"#N/A"},{"$error":"#N/A"},{"$error":"#N/A"},{"$error":"#N/A"},{"$error":"#N/A"},{"$error":"#N/A"},{"$error":"#N/A"},{"$error":"#N/A"},{"$error":"#N/A"},{"$error":"#N/A"},{"$error":"#N/A"},{"$error":"#N/A"},{"$error":"#N/A"},{"$error":"#N/A"},null,null,null,null,null,null,null,null,null,null,null,null,null,null,null,null,null,null,null,null,null,null,{"$f":"SUM(COUNTIF(BI80:CM80,1),COUNTIF(BI80:CM80,0))","v":0},"@","@","@","@","@","@","@","@","@","@","@","@","@","@","@","@","@","@","@","@","@","@","@","@","@","@","@","@","@","@","@",{"$f":"'Month 3'!BL80","v":"@"},{"$f":"'Month 3'!BK80","v":"@"},{"$f":"'Month 3'!BJ80","v":"@"},{"$f":"'Month 3'!BI80","v":"@"},{"$error":"#N/A"},{"$error":"#N/A"},{"$error":"#N/A"},{"$error":"#N/A"},{"$f":"IF(ISNUMBER(SUM(COUNTIF(INDIRECT(CR80):INDIRECT(CS80),2),COUNTIF(INDIRECT(CR80):INDIRECT(CS80),1),COUNTIF(INDIRECT(CR80):INDIRECT(CS80),0))),SUM(COUNTIF(INDIRECT(CR80):INDIRECT(CS80),2),COUNTIF(INDIRECT(CR80):INDIRECT(CS80),1),COUNTIF(INDIRECT(CR80):INDIRECT(CS80),0)),\"\")","v":""},{"$f":"IF(ISNUMBER(SUM(COUNTIF(INDIRECT(CR80):INDIRECT(CT80),2),COUNTIF(INDIRECT(CR80):INDIRECT(CT80),1),COUNTIF(INDIRECT(CR80):INDIRECT(CT80),0))),SUM(COUNTIF(INDIRECT(CR80):INDIRECT(CT80),2),COUNTIF(INDIRECT(CR80):INDIRECT(CT80),1),COUNTIF(INDIRECT(CR80):INDIRECT(CT80),0)),\"\")","v":""},{"$f":"IF(ISNUMBER(SUM(COUNTIF(INDIRECT(CR80):INDIRECT(CU80),1),COUNTIF(INDIRECT(CR80):INDIRECT(CU80),0))),SUM(COUNTIF(INDIRECT(CR80):INDIRECT(CU80),1),COUNTIF(INDIRECT(CR80):INDIRECT(CU80),0)),\"\")","v":""},{"$f":"SUM(INDIRECT(CR80):INDIRECT(CS80))","v":{"$error":"#N/A"}},{"$f":"SUM(INDIRECT(CR80):INDIRECT(CT80))","v":{"$error":"#N/A"}},{"$f":"SUM(INDIRECT(CR80):INDIRECT(CU80))","v":{"$error":"#N/A"}}]
[null,null,null,null,null,null,null,null,null,null,null,null,null,null,null,null,null,null,null,null,null,null,null,null,null,null,null,null,null,null,null,null,null,null,null,null,null,null,null,null,null,null,null,null,null,null,null,null,null,null,null,null,null,null,null,null,null,null,null,0,"@","@","@","@","@","@","@","@","@","@","@","@","@","@","@","@","@","@","@","@","@","@","@","@","@","@","@","@","@","@","@",{"$f":"'Month 3'!BL81","v":"@"},{"$f":"'Month 3'!BK81","v":"@"},{"$f":"'Month 3'!BJ81","v":"@"},{"$f":"'Month 3'!BI81","v":"@"},{"$error":"#N/A"},{"$error":"#N/A"},{"$error":"#N/A"},{"$error":"#N/A"},{"$f":"IF(ISNUMBER(SUM(COUNTIF(INDIRECT(CR81):INDIRECT(CS81),2),COUNTIF(INDIRECT(CR81):INDIRECT(CS81),1),COUNTIF(INDIRECT(CR81):INDIRECT(CS81),0))),SUM(COUNTIF(INDIRECT(CR81):INDIRECT(CS81),2),COUNTIF(INDIRECT(CR81):INDIRECT(CS81),1),COUNTIF(INDIRECT(CR81):INDIRECT(CS81),0)),\"\")","v":""},{"$f":"IF(ISNUMBER(SUM(COUNTIF(INDIRECT(CR81):INDIRECT(CT81),2),COUNTIF(INDIRECT(CR81):INDIRECT(CT81),1),COUNTIF(INDIRECT(CR81):INDIRECT(CT81),0))),SUM(COUNTIF(INDIRECT(CR81):INDIRECT(CT81),2),COUNTIF(INDIRECT(CR81):INDIRECT(CT81),1),COUNTIF(INDIRECT(CR81):INDIRECT(CT81),0)),\"\")","v":""},{"$f":"IF(ISNUMBER(SUM(COUNTIF(INDIRECT(CR81):INDIRECT(CU81),1),COUNTIF(INDIRECT(CR81):INDIRECT(CU81),0))),SUM(COUNTIF(INDIRECT(CR81):INDIRECT(CU81),1),COUNTIF(INDIRECT(CR81):INDIRECT(CU81),0)),\"\")","v":""},{"$f":"SUM(INDIRECT(CR81):INDIRECT(CS81))","v":{"$error":"#N/A"}},{"$f":"SUM(INDIRECT(CR81):INDIRECT(CT81))","v":{"$error":"#N/A"}},{"$f":"SUM(INDIRECT(CR81):INDIRECT(CU81))","v":{"$error":"#N/A"}}]
[null,null,null,null,null,null,null,null,null,null,null,null,null,null,null,null,null,null,null,null,null,null,null,null,null,null,null,null,null,null,null,null,null,null,null,null,null,null,null,null,null,null,null,null,null,null,null,null,null,null,null,null,null,null,null,null,null,null,null,0,"@","@","@","@","@","@","@","@","@","@","@","@","@","@","@","@","@","@","@","@","@","@","@","@","@","@","@","@","@","@","@",{"$f":"'Month 3'!BL82","v":"@"},{"$f":"'Month 3'!BK82","v":"@"},{"$f":"'Month 3'!BJ82","v":"@"},{"$f":"'Month 3'!BI82","v":"@"},{"$error":"#N/A"},{"$error":"#N/A"},{"$error":"#N/A"},{"$error":"#N/A"},{"$f":"IF(ISNUMBER(SUM(COUNTIF(INDIRECT(CR82):INDIRECT(CS82),2),COUNTIF(INDIRECT(CR82):INDIRECT(CS82),1),COUNTIF(INDIRECT(CR82):INDIRECT(CS82),0))),SUM(COUNTIF(INDIRECT(CR82):INDIRECT(CS82),2),COUNTIF(INDIRECT(CR82):INDIRECT(CS82),1),COUNTIF(INDIRECT(CR82):INDIRECT(CS82),0)),\"\")","v":""},{"$f":"IF(ISNUMBER(SUM(COUNTIF(INDIRECT(CR82):INDIRECT(CT82),2),COUNTIF(INDIRECT(CR82):INDIRECT(CT82),1),COUNTIF(INDIRECT(CR82):INDIRECT(CT82),0))),SUM(COUNTIF(INDIRECT(CR82):INDIRECT(CT82),2),COUNTIF(INDIRECT(CR82):INDIRECT(CT82),1),COUNTIF(INDIRECT(CR82):INDIRECT(CT82),0)),\"\")","v":""},{"$f":"IF(ISNUMBER(SUM(COUNTIF(INDIRECT(CR82):INDIRECT(CU82),1),COUNTIF(INDIRECT(CR82):INDIRECT(CU82),0))),SUM(COUNTIF(INDIRECT(CR82):INDIRECT(CU82),1),COUNTIF(INDIRECT(CR82):INDIRECT(CU82),0)),\"\")","v":""},{"$f":"SUM(INDIRECT(CR82):INDIRECT(CS82))","v":{"$error":"#N/A"}},{"$f":"SUM(INDIRECT(CR82):INDIRECT(CT82))","v":{"$error":"#N/A"}},{"$f":"SUM(INDIRECT(CR82):INDIRECT(CU82))","v":{"$error":"#N/A"}}]
[null,null,null,null,null,null,null,null,null,null,null,null,null,null,null,null,null,null,null,null,null,null,null,null,null,null,null,null,null,null,null,null,null,null,null,null,null,null,null,null,null,null,null,null,null,null,null,null,null,null,null,null,null,null,null,null,null,null,null,0,"@","@","@","@","@","@","@","@","@","@","@","@","@","@","@","@","@","@","@","@","@","@","@","@","@","@","@","@","@","@","@",{"$f":"'Month 3'!BL83","v":"@"},{"$f":"'Month 3'!BK83","v":"@"},{"$f":"'Month 3'!BJ83","v":"@"},{"$f":"'Month 3'!BI83","v":"@"},{"$error":"#N/A"},{"$error":"#N/A"},{"$error":"#N/A"},{"$error":"#N/A"},{"$f":"IF(ISNUMBER(SUM(COUNTIF(INDIRECT(CR83):INDIRECT(CS83),2),COUNTIF(INDIRECT(CR83):INDIRECT(CS83),1),COUNTIF(INDIRECT(CR83):INDIRECT(CS83),0))),SUM(COUNTIF(INDIRECT(CR83):INDIRECT(CS83),2),COUNTIF(INDIRECT(CR83):INDIRECT(CS83),1),COUNTIF(INDIRECT(CR83):INDIRECT(CS83),0)),\"\")","v":""},{"$f":"IF(ISNUMBER(SUM(COUNTIF(INDIRECT(CR83):INDIRECT(CT83),2),COUNTIF(INDIRECT(CR83):INDIRECT(CT83),1),COUNTIF(INDIRECT(CR83):INDIRECT(CT83),0))),SUM(COUNTIF(INDIRECT(CR83):INDIRECT(CT83),2),COUNTIF(INDIRECT(CR83):INDIRECT(CT83),1),COUNTIF(INDIRECT(CR83):INDIRECT(CT83),0)),\"\")","v":""},{"$f":"IF(ISNUMBER(SUM(COUNTIF(INDIRECT(CR83):INDIRECT(CU83),1),COUNTIF(INDIRECT(CR83):INDIRECT(CU83),0))),SUM(COUNTIF(INDIRECT(CR83):INDIRECT(CU83),1),COUNTIF(INDIRECT(CR83):INDIRECT(CU83),0)),\"\")","v":""},{"$f":"SUM(INDIRECT(CR83):INDIRECT(CS83))","v":{"$error":"#N/A"}},{"$f":"SUM(INDIRECT(CR83):INDIRECT(CT83))","v":{"$error":"#N/A"}},{"$f":"SUM(INDIRECT(CR83):INDIRECT(CU83))","v":{"$error":"#N/A"}}]
[null,null,null,null,null,null,null,null,null,null,null,null,null,null,null,null,null,null,null,null,null,null,null,null,null,null,null,null,null,null,null,null,null,null,null,null,null,null,null,null,null,null,null,null,null,null,null,null,null,null,null,null,null,null,null,null,null,null,null,0,"@","@","@","@","@","@","@","@","@","@","@","@","@","@","@","@","@","@","@","@","@","@","@","@","@","@","@","@","@","@","@",{"$f":"'Month 3'!BL84","v":"@"},{"$f":"'Month 3'!BK84","v":"@"},{"$f":"'Month 3'!BJ84","v":"@"},{"$f":"'Month 3'!BI84","v":"@"},{"$error":"#N/A"},{"$error":"#N/A"},{"$error":"#N/A"},{"$error":"#N/A"},{"$f":"IF(ISNUMBER(SUM(COUNTIF(INDIRECT(CR84):INDIRECT(CS84),2),COUNTIF(INDIRECT(CR84):INDIRECT(CS84),1),COUNTIF(INDIRECT(CR84):INDIRECT(CS84),0))),SUM(COUNTIF(INDIRECT(CR84):INDIRECT(CS84),2),COUNTIF(INDIRECT(CR84):INDIRECT(CS84),1),COUNTIF(INDIRECT(CR84):INDIRECT(CS84),0)),\"\")","v":""},{"$f":"IF(ISNUMBER(SUM(COUNTIF(INDIRECT(CR84):INDIRECT(CT84),2),COUNTIF(INDIRECT(CR84):INDIRECT(CT84),1),COUNTIF(INDIRECT(CR84):INDIRECT(CT84),0))),SUM(COUNTIF(INDIRECT(CR84):INDIRECT(CT84),2),COUNTIF(INDIRECT(CR84):INDIRECT(CT84),1),COUNTIF(INDIRECT(CR84):INDIRECT(CT84),0)),\"\")","v":""},{"$f":"IF(ISNUMBER(SUM(COUNTIF(INDIRECT(CR84):INDIRECT(CU84),1),COUNTIF(INDIRECT(CR84):INDIRECT(CU84),0))),SUM(COUNTIF(INDIRECT(CR84):INDIRECT(CU84),1),COUNTIF(INDIRECT(CR84):INDIRECT(CU84),0)),\"\")","v":""},{"$f":"SUM(INDIRECT(CR84):INDIRECT(CS84))","v":{"$error":"#N/A"}},{"$f":"SUM(INDIRECT(CR84):INDIRECT(CT84))","v":{"$error":"#N/A"}},{"$f":"SUM(INDIRECT(CR84):INDIRECT(CU84))","v":{"$error":"#N/A"}}]
[null,null,null,null,null,null,null,null,null,null,null,null,null,null,null,null,null,null,null,null,null,null,null,null,null,null,null,null,null,null,null,null,null,null,null,null,null,null,null,null,null,null,null,null,null,null,null,null,null,null,null,null,null,null,null,null,null,null,null,0,"@","@","@","@","@","@","@","@","@","@","@","@","@","@","@","@","@","@","@","@","@","@","@","@","@","@","@","@","@","@","@",{"$f":"'Month 3'!BL85","v":"@"},{"$f":"'Month 3'!BK85","v":"@"},{"$f":"'Month 3'!BJ85","v":"@"},{"$f":"'Month 3'!BI85","v":"@"},{"$error":"#N/A"},{"$error":"#N/A"},{"$error":"#N/A"},{"$error":"#N/A"},{"$f":"IF(ISNUMBER(SUM(COUNTIF(INDIRECT(CR85):INDIRECT(CS85),2),COUNTIF(INDIRECT(CR85):INDIRECT(CS85),1),COUNTIF(INDIRECT(CR85):INDIRECT(CS85),0))),SUM(COUNTIF(INDIRECT(CR85):INDIRECT(CS85),2),COUNTIF(INDIRECT(CR85):INDIRECT(CS85),1),COUNTIF(INDIRECT(CR85):INDIRECT(CS85),0)),\"\")","v":""},{"$f":"IF(ISNUMBER(SUM(COUNTIF(INDIRECT(CR85):INDIRECT(CT85),2),COUNTIF(INDIRECT(CR85):INDIRECT(CT85),1),COUNTIF(INDIRECT(CR85):INDIRECT(CT85),0))),SUM(COUNTIF(INDIRECT(CR85):INDIRECT(CT85),2),COUNTIF(INDIRECT(CR85):INDIRECT(CT85),1),COUNTIF(INDIRECT(CR85):INDIRECT(CT85),0)),\"\")","v":""},{"$f":"IF(ISNUMBER(SUM(COUNTIF(INDIRECT(CR85):INDIRECT(CU85),1),COUNTIF(INDIRECT(CR85):INDIRECT(CU85),0))),SUM(COUNTIF(INDIRECT(CR85):INDIRECT(CU85),1),COUNTIF(INDIRECT(CR85):INDIRECT(CU85),0)),\"\")","v":""},{"$f":"SUM(INDIRECT(CR85):INDIRECT(CS85))","v":{"$error":"#N/A"}},{"$f":"SUM(INDIRECT(CR85):INDIRECT(CT85))","v":{"$error":"#N/A"}},{"$f":"SUM(INDIRECT(CR85):INDIRECT(CU85))","v":{"$error":"#N/A"}}]
[null,null,null,null,null,null,null,null,null,null,null,null,null,null,null,null,null,null,null,null,null,null,null,null,null,null,null,null,null,null,null,null,null,null,null,null,null,null,null,null,null,null,null,null,null,null,null,null,null,null,null,null,null,null,null,null,null,null,null,0,"@","@","@","@","@","@","@","@","@","@","@","@","@","@","@","@","@","@","@","@","@","@","@","@","@","@","@","@","@","@","@",{"$f":"'Month 3'!BL86","v":"@"},{"$f":"'Month 3'!BK86","v":"@"},{"$f":"'Month 3'!BJ86","v":"@"},{"$f":"'Month 3'!BI86","v":"@"},{"$error":"#N/A"},{"$error":"#N/A"},{"$error":"#N/A"},{"$error":"#N/A"},{"$f":"IF(ISNUMBER(SUM(COUNTIF(INDIRECT(CR86):INDIRECT(CS86),2),COUNTIF(INDIRECT(CR86):INDIRECT(CS86),1),COUNTIF(INDIRECT(CR86):INDIRECT(CS86),0))),SUM(COUNTIF(INDIRECT(CR86):INDIRECT(CS86),2),COUNTIF(INDIRECT(CR86):INDIRECT(CS86),1),COUNTIF(INDIRECT(CR86):INDIRECT(CS86),0)),\"\")","v":""},{"$f":"IF(ISNUMBER(SUM(COUNTIF(INDIRECT(CR86):INDIRECT(CT86),2),COUNTIF(INDIRECT(CR86):INDIRECT(CT86),1),COUNTIF(INDIRECT(CR86):INDIRECT(CT86),0))),SUM(COUNTIF(INDIRECT(CR86):INDIRECT(CT86),2),COUNTIF(INDIRECT(CR86):INDIRECT(CT86),1),COUNTIF(INDIRECT(CR86):INDIRECT(CT86),0)),\"\")","v":""},{"$f":"IF(ISNUMBER(SUM(COUNTIF(INDIRECT(CR86):INDIRECT(CU86),1),COUNTIF(INDIRECT(CR86):INDIRECT(CU86),0))),SUM(COUNTIF(INDIRECT(CR86):INDIRECT(CU86),1),COUNTIF(INDIRECT(CR86):INDIRECT(CU86),0)),\"\")","v":""},{"$f":"SUM(INDIRECT(CR86):INDIRECT(CS86))","v":{"$error":"#N/A"}},{"$f":"SUM(INDIRECT(CR86):INDIRECT(CT86))","v":{"$error":"#N/A"}},{"$f":"SUM(INDIRECT(CR86):INDIRECT(CU86))","v":{"$error":"#N/A"}}]
[null,null,null,null,null,null,null,null,null,null,null,null,null,null,null,null,null,null,null,null,null,null,null,null,null,null,null,null,null,null,null,null,null,null,null,null,null,null,null,null,null,null,null,null,null,null,null,null,null,null,null,null,null,null,null,null,null,null,null,0,{"$f":"IF(OR(AK59=\"+\",AK59=\"Y\",AK59=2),1,IF(OR(AK59=\"-\",AK59=\"N\",AK59=1),0,IF(OR(BJ87=1,BJ87=0),\"#\",\"@\")))","v":"@"},{"$f":"IF(OR(AJ59=\"+\",AJ59=\"Y\",AJ59=2),1,IF(OR(AJ59=\"-\",AJ59=\"N\",AJ59=1),0,IF(OR(BK87=1,BK87=0),\"#\",\"@\")))","v":"@"},{"$f":"IF(OR(AI59=\"+\",AI59=\"Y\",AI59=2),1,IF(OR(AI59=\"-\",AI59=\"N\",AI59=1),0,IF(OR(BL87=1,BL87=0),\"#\",\"@\")))","v":"@"},{"$f":"IF(OR(AH59=\"+\",AH59=\"Y\",AH59=2),1,IF(OR(AH59=\"-\",AH59=\"N\",AH59=1),0,IF(OR(BM87=1,BM87=0),\"#\",\"@\")))","v":"@"},{"$f":"IF(OR(AG59=\"+\",AG59=\"Y\",AG59=2),1,IF(OR(AG59=\"-\",AG59=\"N\",AG59=1),0,IF(OR(BN87=1,BN87=0),\"#\",\"@\")))","v":"@"},{"$f":"IF(OR(AF59=\"+\",AF59=\"Y\",AF59=2),1,IF(OR(AF59=\"-\",AF59=\"N\",AF59=1),0,IF(OR(BO87=1,BO87=0),\"#\",\"@\")))","v":"@"},{"$f":"IF(OR(AE59=\"+\",AE59=\"Y\",AE59=2),1,IF(OR(AE59=\"-\",AE59=\"N\",AE59=1),0,IF(OR(BP87=1,BP87=0),\"#\",\"@\")))","v":"@"},{"$f":"IF(OR(AD59=\"+\",AD59=\"Y\",AD59=2),1,IF(OR(AD59=\"-\",AD59=\"N\",AD59=1),0,IF(OR(BQ87=1,BQ87=0),\"#\",\"@\")))","v":"@"},{"$f":"IF(OR(AC59=\"+\",AC59=\"Y\",AC59=2),1,IF(OR(AC59=\"-\",AC59=\"N\",AC59=1),0,IF(OR(BR87=1,BR87=0),\"#\",\"@\")))","v":"@"},{"$f":"IF(OR(AB59=\"+\",AB59=\"Y\",AB59=2),1,IF(OR(AB59=\"-\",AB59=\"N\",AB59=1),0,IF(OR(BS87=1,BS87=0),\"#\",\"@\")))","v":"@"},{"$f":"IF(OR(AA59=\"+\",AA59=\"Y\",AA59=2),1,IF(OR(AA59=\"-\",AA59=\"N\",AA59=1),0,IF(OR(BT87=1,BT87=0),\"#\",\"@\")))","v":"@"},{"$f":"IF(OR(Z59=\"+\",Z59=\"Y\",Z59=2),1,IF(OR(Z59=\"-\",Z59=\"N\",Z59=1),0,IF(OR(BU87=1,BU87=0),\"#\",\"@\")))","v":"@"},{"$f":"IF(OR(Y59=\"+\",Y59=\"Y\",Y59=2),1,IF(OR(Y59=\"-\",Y59=\"N\",Y59=1),0,IF(OR(BV87=1,BV87=0),\"#\",\"@\")))","v":"@"},{"$f":"IF(OR(X59=\"+\",X59=\"Y\",X59=2),1,IF(OR(X59=\"-\",X59=\"N\",X59=1),0,IF(OR(BW87=1,BW87=0),\"#\",\"@\")))","v":"@"},{"$f":"IF(OR(W59=\"+\",W59=\"Y\",W59=2),1,IF(OR(W59=\"-\",W59=\"N\",W59=1),0,IF(OR(BX87=1,BX87=0),\"#\",\"@\")))","v":"@"},{"$f":"IF(OR(V59=\"+\",V59=\"Y\",V59=2),1,IF(OR(V59=\"-\",V59=\"N\",V59=1),0,IF(OR(BY87=1,BY87=0),\"#\",\"@\")))","v":"@"},{"$f":"IF(OR(U59=\"+\",U59=\"Y\",U59=2),1,IF(OR(U59=\"-\",U59=\"N\",U59=1),0,IF(OR(BZ87=1,BZ87=0),\"#\",\"@\")))","v":"@"},{"$f":"IF(OR(T59=\"+\",T59=\"Y\",T59=2),1,IF(OR(T59=\"-\",T59=\"N\",T59=1),0,IF(OR(CA87=1,CA87=0),\"#\",\"@\")))","v":"@"},{"$f":"IF(OR(S59=\"+\",S59=\"Y\",S59=2),1,IF(OR(S59=\"-\",S59=\"N\",S59=1),0,IF(OR(CB87=1,CB87=0),\"#\",\"@\")))","v":"@"},{"$f":"IF(OR(R59=\"+\",R59=\"Y\",R59=2),1,IF(OR(R59=\"-\",R59=\"N\",R59=1),0,IF(OR(CC87=1,CC87=0),\"#\",\"@\")))","v":"@"},{"$f":"IF(OR(Q59=\"+\",Q59=\"Y\",Q59=2),1,IF(OR(Q59=\"-\",Q59=\"N\",Q59=1),0,IF(OR(CD87=1,CD87=0),\"#\",\"@\")))","v":"@"},{"$f":"IF(OR(P59=\"+\",P59=\"Y\",P59=2),1,IF(OR(P59=\"-\",P59=\"N\",P59=1),0,IF(OR(CE87=1,CE87=0),\"#\",\"@\")))","v":"@"},{"$f":"IF(OR(O59=\"+\",O59=\"Y\",O59=2),1,IF(OR(O59=\"-\",O59=\"N\",O59=1),0,IF(OR(CF87=1,CF87=0),\"#\",\"@\")))","v":"@"},{"$f":"IF(OR(N59=\"+\",N59=\"Y\",N59=2),1,IF(OR(N59=\"-\",N59=\"N\",N59=1),0,IF(OR(CG87=1,CG87=0),\"#\",\"@\")))","v":"@"},{"$f":"IF(OR(M59=\"+\",M59=\"Y\",M59=2),1,IF(OR(M59=\"-\",M59=\"N\",M59=1),0,IF(OR(CH87=1,CH87=0),\"#\",\"@\")))","v":"@"},{"$f":"IF(OR(L59=\"+\",L59=\"Y\",L59=2),1,IF(OR(L59=\"-\",L59=\"N\",L59=1),0,IF(OR(CI87=1,CI87=0),\"#\",\"@\")))","v":"@"},{"$f":"IF(OR(K59=\"+\",K59=\"Y\",K59=2),1,IF(OR(K59=\"-\",K59=\"N\",K59=1),0,IF(OR(CJ87=1,CJ87=0),\"#\",\"@\")))","v":"@"},{"$f":"IF(OR(J59=\"+\",J59=\"Y\",J59=2),1,IF(OR(J59=\"-\",J59=\"N\",J59=1),0,IF(OR(CK87=1,CK87=0),\"#\",\"@\")))","v":"@"},{"$f":"IF(OR(I59=\"+\",I59=\"Y\",I59=2),1,IF(OR(I59=\"-\",I59=\"N\",I59=1),0,IF(OR(CL87=1,CL87=0),\"#\",\"@\")))","v":"@"},{"$f":"IF(OR(H59=\"+\",H59=\"Y\",H59=2),1,IF(OR(H59=\"-\",H59=\"N\",H59=1),0,IF(OR(CM87=1,CM87=0),\"#\",\"@\")))","v":"@"},{"$f":"IF(OR(G59=\"+\",G59=\"Y\",G59=2),1,IF(OR(G59=\"-\",G59=\"N\",G59=1),0,\"@\"))","v":"@"},{"$f":"'Month 3'!BL87","v":"@"},{"$f":"'Month 3'!BK87","v":"@"},{"$f":"'Month 3'!BJ87","v":"@"},{"$f":"'Month 3'!BI87","v":"@"},{"$f":"ADDRESS(ROW(BH87),(MATCH(\"#\",BI87:CM87,0)+61))","v":{"$error":"#N/A"}},{"$f":"ADDRESS(ROW(BH87),(MATCH(\"#\",BI87:CM87,0)+65))","v":{"$error":"#N/A"}},{"$f":"ADDRESS(ROW(BH87),(MATCH(\"#\",BI87:CM87,0)+64))","v":{"$error":"#N/A"}},{"$f":"ADDRESS(ROW(BH87),(MATCH(\"#\",BI87:CM87,0)+63))","v":{"$error":"#N/A"}},{"$f":"IF(ISNUMBER(SUM(COUNTIF(INDIRECT(CR87):INDIRECT(CS87),2),COUNTIF(INDIRECT(CR87):INDIRECT(CS87),1),COUNTIF(INDIRECT(CR87):INDIRECT(CS87),0))),SUM(COUNTIF(INDIRECT(CR87):INDIRECT(CS87),2),COUNTIF(INDIRECT(CR87):INDIRECT(CS87),1),COUNTIF(INDIRECT(CR87):INDIRECT(CS87),0)),\"\")","v":""},{"$f":"IF(ISNUMBER(SUM(COUNTIF(INDIRECT(CR87):INDIRECT(CT87),2),COUNTIF(INDIRECT(CR87):INDIRECT(CT87),1),COUNTIF(INDIRECT(CR87):INDIRECT(CT87),0))),SUM(COUNTIF(INDIRECT(CR87):INDIRECT(CT87),2),COUNTIF(INDIRECT(CR87):INDIRECT(CT87),1),COUNTIF(INDIRECT(CR87):INDIRECT(CT87),0)),\"\")","v":""},{"$f":"IF(ISNUMBER(SUM(COUNTIF(INDIRECT(CR87):INDIRECT(CU87),1),COUNTIF(INDIRECT(CR87):INDIRECT(CU87),0))),SUM(COUNTIF(INDIRECT(CR87):INDIRECT(CU87),1),COUNTIF(INDIRECT(CR87):INDIRECT(CU87),0)),\"\")","v":""},{"$f":"SUM(INDIRECT(CR87):INDIRECT(CS87))","v":{"$error":"#N/A"}},{"$f":"SUM(INDIRECT(CR87):INDIRECT(CT87))","v":{"$error":"#N/A"}},{"$f":"SUM(INDIRECT(CR87):INDIRECT(CU87))","v":{"$error":"#N/A"}}]
[null,null,null,null,null,null,null,null,null,null,null,null,null,null,null,null,null,null,null,null,null,null,null,null,null,null,null,null,null,null,null,null,null,null,null,null,null,null,null,null,null,null,null,null,null,null,null,null,null,null,null,null,null,null,null,null,null,null,null,0,"@","@","@","@","@","@","@","@","@","@","@","@","@","@","@","@","@","@","@","@","@","@","@","@","@","@","@","@","@","@","@",{"$f":"'Month 3'!BL88","v":"@"},{"$f":"'Month 3'!BK88","v":"@"},{"$f":"'Month 3'!BJ88","v":"@"},{"$f":"'Month 3'!BI88","v":"@"},{"$error":"#N/A"},{"$error":"#N/A"},{"$error":"#N/A"},{"$error":"#N/A"},{"$f":"IF(ISNUMBER(SUM(COUNTIF(INDIRECT(CR88):INDIRECT(CS88),2),COUNTIF(INDIRECT(CR88):INDIRECT(CS88),1),COUNTIF(INDIRECT(CR88):INDIRECT(CS88),0))),SUM(COUNTIF(INDIRECT(CR88):INDIRECT(CS88),2),COUNTIF(INDIRECT(CR88):INDIRECT(CS88),1),COUNTIF(INDIRECT(CR88):INDIRECT(CS88),0)),\"\")","v":""},{"$f":"IF(ISNUMBER(SUM(COUNTIF(INDIRECT(CR88):INDIRECT(CT88),2),COUNTIF(INDIRECT(CR88):INDIRECT(CT88),1),COUNTIF(INDIRECT(CR88):INDIRECT(CT88),0))),SUM(COUNTIF(INDIRECT(CR88):INDIRECT(CT88),2),COUNTIF(INDIRECT(CR88):INDIRECT(CT88),1),COUNTIF(INDIRECT(CR88):INDIRECT(CT88),0)),\"\")","v":""},{"$f":"IF(ISNUMBER(SUM(COUNTIF(INDIRECT(CR88):INDIRECT(CU88),1),COUNTIF(INDIRECT(CR88):INDIRECT(CU88),0))),SUM(COUNTIF(INDIRECT(CR88):INDIRECT(CU88),1),COUNTIF(INDIRECT(CR88):INDIRECT(CU88),0)),\"\")","v":""},{"$f":"SUM(INDIRECT(CR88):INDIRECT(CS88))","v":{"$error":"#N/A"}},{"$f":"SUM(INDIRECT(CR88):INDIRECT(CT88))","v":{"$error":"#N/A"}},{"$f":"SUM(INDIRECT(CR88):INDIRECT(CU88))","v":{"$error":"#N/A"}}]
[null,null,null,null,null,null,null,null,null,null,null,null,null,null,null,null,null,null,null,null,null,null,null,null,null,null,null,null,null,null,null,null,null,null,null,null,null,null,null,null,null,null,null,null,null,null,null,null,null,null,null,null,null,null,null,null,null,null,null,0,"@","@","@","@","@","@","@","@","@","@","@","@","@","@","@","@","@","@","@","@","@","@","@","@","@","@","@","@","@","@","@",{"$f":"'Month 3'!BL89","v":"@"},{"$f":"'Month 3'!BK89","v":"@"},{"$f":"'Month 3'!BJ89","v":"@"},{"$f":"'Month 3'!BI89","v":"@"},{"$error":"#N/A"},{"$error":"#N/A"},{"$error":"#N/A"},{"$error":"#N/A"},{"$f":"IF(ISNUMBER(SUM(COUNTIF(INDIRECT(CR89):INDIRECT(CS89),2),COUNTIF(INDIRECT(CR89):INDIRECT(CS89),1),COUNTIF(INDIRECT(CR89):INDIRECT(CS89),0))),SUM(COUNTIF(INDIRECT(CR89):INDIRECT(CS89),2),COUNTIF(INDIRECT(CR89):INDIRECT(CS89),1),COUNTIF(INDIRECT(CR89):INDIRECT(CS89),0)),\"\")","v":""},{"$f":"IF(ISNUMBER(SUM(COUNTIF(INDIRECT(CR89):INDIRECT(CT89),2),COUNTIF(INDIRECT(CR89):INDIRECT(CT89),1),COUNTIF(INDIRECT(CR89):INDIRECT(CT89),0))),SUM(COUNTIF(INDIRECT(CR89):INDIRECT(CT89),2),COUNTIF(INDIRECT(CR89):INDIRECT(CT89),1),COUNTIF(INDIRECT(CR89):INDIRECT(CT89),0)),\"\")","v":""},{"$f":"IF(ISNUMBER(SUM(COUNTIF(INDIRECT(CR89):INDIRECT(CU89),1),COUNTIF(INDIRECT(CR89):INDIRECT(CU89),0))),SUM(COUNTIF(INDIRECT(CR89):INDIRECT(CU89),1),COUNTIF(INDIRECT(CR89):INDIRECT(CU89),0)),\"\")","v":""},{"$f":"SUM(INDIRECT(CR89):INDIRECT(CS89))","v":{"$error":"#N/A"}},{"$f":"SUM(INDIRECT(CR89):INDIRECT(CT89))","v":{"$error":"#N/A"}},{"$f":"SUM(INDIRECT(CR89):INDIRECT(CU89))","v":{"$error":"#N/A"}}]
[null,null,null,null,null,null,null,null,null,null,null,null,null,null,null,null,null,null,null,null,null,null,null,null,null,null,null,null,null,null,null,null,null,null,null,null,null,null,null,null,null,null,null,null,null,null,null,null,null,null,null,null,null,null,null,null,null,null,null,0,"@","@","@","@","@","@","@","@","@","@","@","@","@","@","@","@","@","@","@","@","@","@","@","@","@","@","@","@","@","@","@",{"$f":"'Month 3'!BL90","v":"@"},{"$f":"'Month 3'!BK90","v":"@"},{"$f":"'Month 3'!BJ90","v":"@"},{"$f":"'Month 3'!BI90","v":"@"},{"$error":"#N/A"},{"$error":"#N/A"},{"$error":"#N/A"},{"$error":"#N/A"},{"$f":"IF(ISNUMBER(SUM(COUNTIF(INDIRECT(CR90):INDIRECT(CS90),2),COUNTIF(INDIRECT(CR90):INDIRECT(CS90),1),COUNTIF(INDIRECT(CR90):INDIRECT(CS90),0))),SUM(COUNTIF(INDIRECT(CR90):INDIRECT(CS90),2),COUNTIF(INDIRECT(CR90):INDIRECT(CS90),1),COUNTIF(INDIRECT(CR90):INDIRECT(CS90),0)),\"\")","v":""},{"$f":"IF(ISNUMBER(SUM(COUNTIF(INDIRECT(CR90):INDIRECT(CT90),2),COUNTIF(INDIRECT(CR90):INDIRECT(CT90),1),COUNTIF(INDIRECT(CR90):INDIRECT(CT90),0))),SUM(COUNTIF(INDIRECT(CR90):INDIRECT(CT90),2),COUNTIF(INDIRECT(CR90):INDIRECT(CT90),1),COUNTIF(INDIRECT(CR90):INDIRECT(CT90),0)),\"\")","v":""},{"$f":"IF(ISNUMBER(SUM(COUNTIF(INDIRECT(CR90):INDIRECT(CU90),1),COUNTIF(INDIRECT(CR90):INDIRECT(CU90),0))),SUM(COUNTIF(INDIRECT(CR90):INDIRECT(CU90),1),COUNTIF(INDIRECT(CR90):INDIRECT(CU90),0)),\"\")","v":""},{"$f":"SUM(INDIRECT(CR90):INDIRECT(CS90))","v":{"$error":"#N/A"}},{"$f":"SUM(INDIRECT(CR90):INDIRECT(CT90))","v":{"$error":"#N/A"}},{"$f":"SUM(INDIRECT(CR90):INDIRECT(CU90))","v":{"$error":"#N/A"}}]
[null,null,null,null,null,null,null,null,null,null,null,null,null,null,null,null,null,null,null,null,null,null,null,null,null,null,null,null,null,null,null,null,null,null,null,null,null,null,null,null,null,null,null,null,null,null,null,null,null,null,null,null,null,null,null,null,null,null,null,0,"@","@","@","@","@","@","@","@","@","@","@","@","@","@","@","@","@","@","@","@","@","@","@","@","@","@","@","@","@","@","@",{"$f":"'Month 3'!BL91","v":"@"},{"$f":"'Month 3'!BK91","v":"@"},{"$f":"'Month 3'!BJ91","v":"@"},{"$f":"'Month 3'!BI91","v":"@"},{"$error":"#N/A"},{"$error":"#N/A"},{"$error":"#N/A"},{"$error":"#N/A"},{"$f":"IF(ISNUMBER(SUM(COUNTIF(INDIRECT(CR91):INDIRECT(CS91),2),COUNTIF(INDIRECT(CR91):INDIRECT(CS91),1),COUNTIF(INDIRECT(CR91):INDIRECT(CS91),0))),SUM(COUNTIF(INDIRECT(CR91):INDIRECT(CS91),2),COUNTIF(INDIRECT(CR91):INDIRECT(CS91),1),COUNTIF(INDIRECT(CR91):INDIRECT(CS91),0)),\"\")","v":""},{"$f":"IF(ISNUMBER(SUM(COUNTIF(INDIRECT(CR91):INDIRECT(CT91),2),COUNTIF(INDIRECT(CR91):INDIRECT(CT91),1),COUNTIF(INDIRECT(CR91):INDIRECT(CT91),0))),SUM(COUNTIF(INDIRECT(CR91):INDIRECT(CT91),2),COUNTIF(INDIRECT(CR91):INDIRECT(CT91),1),COUNTIF(INDIRECT(CR91):INDIRECT(CT91),0)),\"\")","v":""},{"$f":"IF(ISNUMBER(SUM(COUNTIF(INDIRECT(CR91):INDIRECT(CU91),1),COUNTIF(INDIRECT(CR91):INDIRECT(CU91),0))),SUM(COUNTIF(INDIRECT(CR91):INDIRECT(CU91),1),COUNTIF(INDIRECT(CR91):INDIRECT(CU91),0)),\"\")","v":""},{"$f":"SUM(INDIRECT(CR91):INDIRECT(CS91))","v":{"$error":"#N/A"}},{"$f":"SUM(INDIRECT(CR91):INDIRECT(CT91))","v":{"$error":"#N/A"}},{"$f":"SUM(INDIRECT(CR91):INDIRECT(CU91))","v":{"$error":"#N/A"}}]
[null,null,null,null,null,null,null,null,null,null,null,null,null,null,null,null,null,null,null,null,null,null,null,null,null,null,null,null,null,null,null,null,null,null,null,null,null,null,null,null,null,null,null,null,null,null,null,null,null,null,null,null,null,null,null,null,null,null,null,0,"@","@","@","@","@","@","@","@","@","@","@","@","@","@","@","@","@","@","@","@","@","@","@","@","@","@","@","@","@","@","@",{"$f":"'Month 3'!BL92","v":"@"},{"$f":"'Month 3'!BK92","v":"@"},{"$f":"'Month 3'!BJ92","v":"@"},{"$f":"'Month 3'!BI92","v":"@"},{"$error":"#N/A"},{"$error":"#N/A"},{"$error":"#N/A"},{"$error":"#N/A"},{"$f":"IF(ISNUMBER(SUM(COUNTIF(INDIRECT(CR92):INDIRECT(CS92),2),COUNTIF(INDIRECT(CR92):INDIRECT(CS92),1),COUNTIF(INDIRECT(CR92):INDIRECT(CS92),0))),SUM(COUNTIF(INDIRECT(CR92):INDIRECT(CS92),2),COUNTIF(INDIRECT(CR92):INDIRECT(CS92),1),COUNTIF(INDIRECT(CR92):INDIRECT(CS92),0)),\"\")","v":""},{"$f":"IF(ISNUMBER(SUM(COUNTIF(INDIRECT(CR92):INDIRECT(CT92),2),COUNTIF(INDIRECT(CR92):INDIRECT(CT92),1),COUNTIF(INDIRECT(CR92):INDIRECT(CT92),0))),SUM(COUNTIF(INDIRECT(CR92):INDIRECT(CT92),2),COUNTIF(INDIRECT(CR92):INDIRECT(CT92),1),COUNTIF(INDIRECT(CR92):INDIRECT(CT92),0)),\"\")","v":""},{"$f":"IF(ISNUMBER(SUM(COUNTIF(INDIRECT(CR92):INDIRECT(CU92),1),COUNTIF(INDIRECT(CR92):INDIRECT(CU92),0))),SUM(COUNTIF(INDIRECT(CR92):INDIRECT(CU92),1),COUNTIF(INDIRECT(CR92):INDIRECT(CU92),0)),\"\")","v":""},{"$f":"SUM(INDIRECT(CR92):INDIRECT(CS92))","v":{"$error":"#N/A"}},{"$f":"SUM(INDIRECT(CR92):INDIRECT(CT92))","v":{"$error":"#N/A"}},{"$f":"SUM(INDIRECT(CR92):INDIRECT(CU92))","v":{"$error":"#N/A"}}]
[null,null,null,null,null,null,null,null,null,null,null,null,null,null,null,null,null,null,null,null,null,null,null,null,null,null,null,null,null,null,null,null,null,null,null,null,null,null,null,null,null,null,null,null,null,null,null,null,null,null,null,null,null,null,null,null,null,null,null,0,"@","@","@","@","@","@","@","@","@","@","@","@","@","@","@","@","@","@","@","@","@","@","@","@","@","@","@","@","@","@","@",{"$f":"'Month 3'!BL93","v":"@"},{"$f":"'Month 3'!BK93","v":"@"},{"$f":"'Month 3'!BJ93","v":"@"},{"$f":"'Month 3'!BI93","v":"@"},{"$error":"#N/A"},{"$error":"#N/A"},{"$error":"#N/A"},{"$error":"#N/A"},{"$f":"IF(ISNUMBER(SUM(COUNTIF(INDIRECT(CR93):INDIRECT(CS93),2),COUNTIF(INDIRECT(CR93):INDIRECT(CS93),1),COUNTIF(INDIRECT(CR93):INDIRECT(CS93),0))),SUM(COUNTIF(INDIRECT(CR93):INDIRECT(CS93),2),COUNTIF(INDIRECT(CR93):INDIRECT(CS93),1),COUNTIF(INDIRECT(CR93):INDIRECT(CS93),0)),\"\")","v":""},{"$f":"IF(ISNUMBER(SUM(COUNTIF(INDIRECT(CR93):INDIRECT(CT93),2),COUNTIF(INDIRECT(CR93):INDIRECT(CT93),1),COUNTIF(INDIRECT(CR93):INDIRECT(CT93),0))),SUM(COUNTIF(INDIRECT(CR93):INDIRECT(CT93),2),COUNTIF(INDIRECT(CR93):INDIRECT(CT93),1),COUNTIF(INDIRECT(CR93):INDIRECT(CT93),0)),\"\")","v":""},{"$f":"IF(ISNUMBER(SUM(COUNTIF(INDIRECT(CR93):INDIRECT(CU93),1),COUNTIF(INDIRECT(CR93):INDIRECT(CU93),0))),SUM(COUNTIF(INDIRECT(CR93):INDIRECT(CU93),1),COUNTIF(INDIRECT(CR93):INDIRECT(CU93),0)),\"\")","v":""},{"$f":"SUM(INDIRECT(CR93):INDIRECT(CS93))","v":{"$error":"#N/A"}},{"$f":"SUM(INDIRECT(CR93):INDIRECT(CT93))","v":{"$error":"#N/A"}},{"$f":"SUM(INDIRECT(CR93):INDIRECT(CU93))","v":{"$error":"#N/A"}}]
[null,null,null,null,null,null,null,null,null,null,null,null,null,null,null,null,null,null,null,null,null,null,null,null,null,null,null,null,null,null,null,null,null,null,null,null,null,null,null,null,null,null,null,null,null,null,null,null,null,null,null,null,null,null,null,null,null,null,null,0,"@","@","@","@","@","@","@","@","@","@","@","@","@","@","@","@","@","@","@","@","@","@","@","@","@","@","@","@","@","@","@",{"$f":"'Month 3'!BL94","v":"@"},{"$f":"'Month 3'!BK94","v":"@"},{"$f":"'Month 3'!BJ94","v":"@"},{"$f":"'Month 3'!BI94","v":"@"},{"$error":"#N/A"},{"$error":"#N/A"},{"$error":"#N/A"},{"$error":"#N/A"},{"$f":"IF(ISNUMBER(SUM(COUNTIF(INDIRECT(CR94):INDIRECT(CS94),2),COUNTIF(INDIRECT(CR94):INDIRECT(CS94),1),COUNTIF(INDIRECT(CR94):INDIRECT(CS94),0))),SUM(COUNTIF(INDIRECT(CR94):INDIRECT(CS94),2),COUNTIF(INDIRECT(CR94):INDIRECT(CS94),1),COUNTIF(INDIRECT(CR94):INDIRECT(CS94),0)),\"\")","v":""},{"$f":"IF(ISNUMBER(SUM(COUNTIF(INDIRECT(CR94):INDIRECT(CT94),2),COUNTIF(INDIRECT(CR94):INDIRECT(CT94),1),COUNTIF(INDIRECT(CR94):INDIRECT(CT94),0))),SUM(COUNTIF(INDIRECT(CR94):INDIRECT(CT94),2),COUNTIF(INDIRECT(CR94):INDIRECT(CT94),1),COUNTIF(INDIRECT(CR94):INDIRECT(CT94),0)),\"\")","v":""},{"$f":"IF(ISNUMBER(SUM(COUNTIF(INDIRECT(CR94):INDIRECT(CU94),1),COUNTIF(INDIRECT(CR94):INDIRECT(CU94),0))),SUM(COUNTIF(INDIRECT(CR94):INDIRECT(CU94),1),COUNTIF(INDIRECT(CR94):INDIRECT(CU94),0)),\"\")","v":""},{"$f":"SUM(INDIRECT(CR94):INDIRECT(CS94))","v":{"$error":"#N/A"}},{"$f":"SUM(INDIRECT(CR94):INDIRECT(CT94))","v":{"$error":"#N/A"}},{"$f":"SUM(INDIRECT(CR94):INDIRECT(CU94))","v":{"$error":"#N/A"}}]
[null,null,null,null,null,null,null,null,null,null,null,null,null,null,null,null,null,null,null,null,null,null,null,null,null,null,null,null,null,null,null,null,null,null,null,null,null,null,null,null,null,null,null,null,null,null,null,null,null,null,null,null,null,null,null,null,null,null,null,0,"@","@","@","@","@","@","@","@","@","@","@","@","@","@","@","@","@","@","@","@","@","@","@","@","@","@","@","@","@","@","@",{"$f":"'Month 3'!BL95","v":"@"},{"$f":"'Month 3'!BK95","v":"@"},{"$f":"'Month 3'!BJ95","v":"@"},{"$f":"'Month 3'!BI95","v":"@"},{"$error":"#N/A"},{"$error":"#N/A"},{"$error":"#N/A"},{"$error":"#N/A"},{"$f":"IF(ISNUMBER(SUM(COUNTIF(INDIRECT(CR95):INDIRECT(CS95),2),COUNTIF(INDIRECT(CR95):INDIRECT(CS95),1),COUNTIF(INDIRECT(CR95):INDIRECT(CS95),0))),SUM(COUNTIF(INDIRECT(CR95):INDIRECT(CS95),2),COUNTIF(INDIRECT(CR95):INDIRECT(CS95),1),COUNTIF(INDIRECT(CR95):INDIRECT(CS95),0)),\"\")","v":""},{"$f":"IF(ISNUMBER(SUM(COUNTIF(INDIRECT(CR95):INDIRECT(CT95),2),COUNTIF(INDIRECT(CR95):INDIRECT(CT95),1),COUNTIF(INDIRECT(CR95):INDIRECT(CT95),0))),SUM(COUNTIF(INDIRECT(CR95):INDIRECT(CT95),2),COUNTIF(INDIRECT(CR95):INDIRECT(CT95),1),COUNTIF(INDIRECT(CR95):INDIRECT(CT95),0)),\"\")","v":""},{"$f":"IF(ISNUMBER(SUM(COUNTIF(INDIRECT(CR95):INDIRECT(CU95),1),COUNTIF(INDIRECT(CR95):INDIRECT(CU95),0))),SUM(COUNTIF(INDIRECT(CR95):INDIRECT(CU95),1),COUNTIF(INDIRECT(CR95):INDIRECT(CU95),0)),\"\")","v":""},{"$f":"SUM(INDIRECT(CR95):INDIRECT(CS95))","v":{"$error":"#N/A"}},{"$f":"SUM(INDIRECT(CR95):INDIRECT(CT95))","v":{"$error":"#N/A"}},{"$f":"SUM(INDIRECT(CR95):INDIRECT(CU95))","v":{"$error":"#N/A"}}]
[null,null,null,null,null,null,null,null,null,null,null,null,null,null,null,null,null,null,null,null,null,null,null,null,null,null,null,null,null,null,null,null,null,null,null,null,null,null,null,null,null,null,null,null,null,null,null,null,null,null,null,null,null,null,null,null,null,null,null,0,"@","@","@","@","@","@","@","@","@","@","@","@","@","@","@","@","@","@","@","@","@","@","@","@","@","@","@","@","@","@","@",{"$f":"'Month 3'!BL96","v":"@"},{"$f":"'Month 3'!BK96","v":"@"},{"$f":"'Month 3'!BJ96","v":"@"},{"$f":"'Month 3'!BI96","v":"@"},{"$error":"#N/A"},{"$error":"#N/A"},{"$error":"#N/A"},{"$error":"#N/A"},{"$f":"IF(ISNUMBER(SUM(COUNTIF(INDIRECT(CR96):INDIRECT(CS96),2),COUNTIF(INDIRECT(CR96):INDIRECT(CS96),1),COUNTIF(INDIRECT(CR96):INDIRECT(CS96),0))),SUM(COUNTIF(INDIRECT(CR96):INDIRECT(CS96),2),COUNTIF(INDIRECT(CR96):INDIRECT(CS96),1),COUNTIF(INDIRECT(CR96):INDIRECT(CS96),0)),\"\")","v":""},{"$f":"IF(ISNUMBER(SUM(COUNTIF(INDIRECT(CR96):INDIRECT(CT96),2),COUNTIF(INDIRECT(CR96):INDIRECT(CT96),1),COUNTIF(INDIRECT(CR96):INDIRECT(CT96),0))),SUM(COUNTIF(INDIRECT(CR96):INDIRECT(CT96),2),COUNTIF(INDIRECT(CR96):INDIRECT(CT96),1),COUNTIF(INDIRECT(CR96):INDIRECT(CT96),0)),\"\")","v":""},{"$f":"IF(ISNUMBER(SUM(COUNTIF(INDIRECT(CR96):INDIRECT(CU96),1),COUNTIF(INDIRECT(CR96):INDIRECT(CU96),0))),SUM(COUNTIF(INDIRECT(CR96):INDIRECT(CU96),1),COUNTIF(INDIRECT(CR96):INDIRECT(CU96),0)),\"\")","v":""},{"$f":"SUM(INDIRECT(CR96):INDIRECT(CS96))","v":{"$error":"#N/A"}},{"$f":"SUM(INDIRECT(CR96):INDIRECT(CT96))","v":{"$error":"#N/A"}},{"$f":"SUM(INDIRECT(CR96):INDIRECT(CU96))","v":{"$error":"#N/A"}}]
[null,null,null,null,null,null,null,null,null,null,null,null,null,null,null,null,null,null,null,null,null,null,null,null,null,null,null,null,null,null,null,null,null,null,null,null,null,null,null,null,null,null,null,null,null,null,null,null,null,null,null,null,null,null,null,null,null,null,null,0,"@","@","@","@","@","@","@","@","@","@","@","@","@","@","@","@","@","@","@","@","@","@","@","@","@","@","@","@","@","@","@",{"$f":"'Month 3'!BL97","v":"@"},{"$f":"'Month 3'!BK97","v":"@"},{"$f":"'Month 3'!BJ97","v":"@"},{"$f":"'Month 3'!BI97","v":"@"},{"$error":"#N/A"},{"$error":"#N/A"},{"$error":"#N/A"},{"$error":"#N/A"},{"$f":"IF(ISNUMBER(SUM(COUNTIF(INDIRECT(CR97):INDIRECT(CS97),2),COUNTIF(INDIRECT(CR97):INDIRECT(CS97),1),COUNTIF(INDIRECT(CR97):INDIRECT(CS97),0))),SUM(COUNTIF(INDIRECT(CR97):INDIRECT(CS97),2),COUNTIF(INDIRECT(CR97):INDIRECT(CS97),1),COUNTIF(INDIRECT(CR97):INDIRECT(CS97),0)),\"\")","v":""},{"$f":"IF(ISNUMBER(SUM(COUNTIF(INDIRECT(CR97):INDIRECT(CT97),2),COUNTIF(INDIRECT(CR97):INDIRECT(CT97),1),COUNTIF(INDIRECT(CR97):INDIRECT(CT97),0))),SUM(COUNTIF(INDIRECT(CR97):INDIRECT(CT97),2),COUNTIF(INDIRECT(CR97):INDIRECT(CT97),1),COUNTIF(INDIRECT(CR97):INDIRECT(CT97),0)),\"\")","v":""},{"$f":"IF(ISNUMBER(SUM(COUNTIF(INDIRECT(CR97):INDIRECT(CU97),1),COUNTIF(INDIRECT(CR97):INDIRECT(CU97),0))),SUM(COUNTIF(INDIRECT(CR97):INDIRECT(CU97),1),COUNTIF(INDIRECT(CR97):INDIRECT(CU97),0)),\"\")","v":""},{"$f":"SUM(INDIRECT(CR97):INDIRECT(CS97))","v":{"$error":"#N/A"}},{"$f":"SUM(INDIRECT(CR97):INDIRECT(CT97))","v":{"$error":"#N/A"}},{"$f":"SUM(INDIRECT(CR97):INDIRECT(CU97))","v":{"$error":"#N/A"}}]
[null,null,null,null,null,null,null,null,null,null,null,null,null,null,null,null,null,null,null,null,null,null,null,null,null,null,null,null,null,null,null,null,null,null,null,null,null,null,null,null,null,null,null,null,null,null,null,null,null,null,null,null,null,null,null,null,null,null,null,0,"@","@","@","@","@","@","@","@","@","@","@","@","@","@","@","@","@","@","@","@","@","@","@","@","@","@","@","@","@","@","@",{"$f":"'Month 3'!BL98","v":"@"},{"$f":"'Month 3'!BK98","v":"@"},{"$f":"'Month 3'!BJ98","v":"@"},{"$f":"'Month 3'!BI98","v":"@"},{"$error":"#N/A"},{"$error":"#N/A"},{"$error":"#N/A"},{"$error":"#N/A"},{"$f":"IF(ISNUMBER(SUM(COUNTIF(INDIRECT(CR98):INDIRECT(CS98),2),COUNTIF(INDIRECT(CR98):INDIRECT(CS98),1),COUNTIF(INDIRECT(CR98):INDIRECT(CS98),0))),SUM(COUNTIF(INDIRECT(CR98):INDIRECT(CS98),2),COUNTIF(INDIRECT(CR98):INDIRECT(CS98),1),COUNTIF(INDIRECT(CR98):INDIRECT(CS98),0)),\"\")","v":""},{"$f":"IF(ISNUMBER(SUM(COUNTIF(INDIRECT(CR98):INDIRECT(CT98),2),COUNTIF(INDIRECT(CR98):INDIRECT(CT98),1),COUNTIF(INDIRECT(CR98):INDIRECT(CT98),0))),SUM(COUNTIF(INDIRECT(CR98):INDIRECT(CT98),2),COUNTIF(INDIRECT(CR98):INDIRECT(CT98),1),COUNTIF(INDIRECT(CR98):INDIRECT(CT98),0)),\"\")","v":""},{"$f":"IF(ISNUMBER(SUM(COUNTIF(INDIRECT(CR98):INDIRECT(CU98),1),COUNTIF(INDIRECT(CR98):INDIRECT(CU98),0))),SUM(COUNTIF(INDIRECT(CR98):INDIRECT(CU98),1),COUNTIF(INDIRECT(CR98):INDIRECT(CU98),0)),\"\")","v":""},{"$f":"SUM(INDIRECT(CR98):INDIRECT(CS98))","v":{"$error":"#N/A"}},{"$f":"SUM(INDIRECT(CR98):INDIRECT(CT98))","v":{"$error":"#N/A"}},{"$f":"SUM(INDIRECT(CR98):INDIRECT(CU98))","v":{"$error":"#N/A"}}]
[null,null,null,null,null,null,null,null,null,null,null,null,null,null,null,null,null,null,null,null,null,null,null,null,null,null,null,null,null,null,null,null,null,null,null,null,null,null,null,null,null,null,null,null,null,null,null,null,null,null,null,null,null,null,null,null,null,null,null,0,"@","@","@","@","@","@","@","@","@","@","@","@","@","@","@","@","@","@","@","@","@","@","@","@","@","@","@","@","@","@","@",{"$f":"'Month 3'!BL99","v":"@"},{"$f":"'Month 3'!BK99","v":"@"},{"$f":"'Month 3'!BJ99","v":"@"},{"$f":"'Month 3'!BI99","v":"@"},{"$error":"#N/A"},{"$error":"#N/A"},{"$error":"#N/A"},{"$error":"#N/A"},{"$f":"IF(ISNUMBER(SUM(COUNTIF(INDIRECT(CR99):INDIRECT(CS99),2),COUNTIF(INDIRECT(CR99):INDIRECT(CS99),1),COUNTIF(INDIRECT(CR99):INDIRECT(CS99),0))),SUM(COUNTIF(INDIRECT(CR99):INDIRECT(CS99),2),COUNTIF(INDIRECT(CR99):INDIRECT(CS99),1),COUNTIF(INDIRECT(CR99):INDIRECT(CS99),0)),\"\")","v":""},{"$f":"IF(ISNUMBER(SUM(COUNTIF(INDIRECT(CR99):INDIRECT(CT99),2),COUNTIF(INDIRECT(CR99):INDIRECT(CT99),1),COUNTIF(INDIRECT(CR99):INDIRECT(CT99),0))),SUM(COUNTIF(INDIRECT(CR99):INDIRECT(CT99),2),COUNTIF(INDIRECT(CR99):INDIRECT(CT99),1),COUNTIF(INDIRECT(CR99):INDIRECT(CT99),0)),\"\")","v":""},{"$f":"IF(ISNUMBER(SUM(COUNTIF(INDIRECT(CR99):INDIRECT(CU99),1),COUNTIF(INDIRECT(CR99):INDIRECT(CU99),0))),SUM(COUNTIF(INDIRECT(CR99):INDIRECT(CU99),1),COUNTIF(INDIRECT(CR99):INDIRECT(CU99),0)),\"\")","v":""},{"$f":"SUM(INDIRECT(CR99):INDIRECT(CS99))","v":{"$error":"#N/A"}},{"$f":"SUM(INDIRECT(CR99):INDIRECT(CT99))","v":{"$error":"#N/A"}},{"$f":"SUM(INDIRECT(CR99):INDIRECT(CU99))","v":{"$error":"#N/A"}}]
[null,null,null,null,null,null,null,null,null,null,null,null,null,null,null,null,null,null,null,null,null,null,null,null,null,null,null,null,null,null,null,null,null,null,null,null,null,null,null,null,null,null,null,null,null,null,null,null,null,null,null,null,null,null,null,null,null,null,null,0,"@","@","@","@","@","@","@","@","@","@","@","@","@","@","@","@","@","@","@","@","@","@","@","@","@","@","@","@","@","@","@",{"$f":"'Month 3'!BL100","v":"@"},{"$f":"'Month 3'!BK100","v":"@"},{"$f":"'Month 3'!BJ100","v":"@"},{"$f":"'Month 3'!BI100","v":"@"},{"$error":"#N/A"},{"$error":"#N/A"},{"$error":"#N/A"},{"$error":"#N/A"},{"$f":"IF(ISNUMBER(SUM(COUNTIF(INDIRECT(CR100):INDIRECT(CS100),2),COUNTIF(INDIRECT(CR100):INDIRECT(CS100),1),COUNTIF(INDIRECT(CR100):INDIRECT(CS100),0))),SUM(COUNTIF(INDIRECT(CR100):INDIRECT(CS100),2),COUNTIF(INDIRECT(CR100):INDIRECT(CS100),1),COUNTIF(INDIRECT(CR100):INDIRECT(CS100),0)),\"\")","v":""},{"$f":"IF(ISNUMBER(SUM(COUNTIF(INDIRECT(CR100):INDIRECT(CT100),2),COUNTIF(INDIRECT(CR100):INDIRECT(CT100),1),COUNTIF(INDIRECT(CR100):INDIRECT(CT100),0))),SUM(COUNTIF(INDIRECT(CR100):INDIRECT(CT100),2),COUNTIF(INDIRECT(CR100):INDIRECT(CT100),1),COUNTIF(INDIRECT(CR100):INDIRECT(CT100),0)),\"\")","v":""},{"$f":"IF(ISNUMBER(SUM(COUNTIF(INDIRECT(CR100):INDIRECT(CU100),1),COUNTIF(INDIRECT(CR100):INDIRECT(CU100),0))),SUM(COUNTIF(INDIRECT(CR100):INDIRECT(CU100),1),COUNTIF(INDIRECT(CR100):INDIRECT(CU100),0)),\"\")","v":""},{"$f":"SUM(INDIRECT(CR100):INDIRECT(CS100))","v":{"$error":"#N/A"}},{"$f":"SUM(INDIRECT(CR100):INDIRECT(CT100))","v":{"$error":"#N/A"}},{"$f":"SUM(INDIRECT(CR100):INDIRECT(CU100))","v":{"$error":"#N/A"}}]
[null,null,null,null,null,null,null,null,null,null,null,null,null,null,null,null,null,null,null,null,null,null,null,null,null,null,null,null,null,null,null,null,null,null,null,null,null,null,null,null,null,null,null,null,null,null,null,null,null,null,null,null,null,null,null,null,null,null,null,0,"@","@","@","@","@","@","@","@","@","@","@","@","@","@","@","@","@","@","@","@","@","@","@","@","@","@","@","@","@","@","@",{"$f":"'Month 3'!BL101","v":"@"},{"$f":"'Month 3'!BK101","v":"@"},{"$f":"'Month 3'!BJ101","v":"@"},{"$f":"'Month 3'!BI101","v":"@"},{"$error":"#N/A"},{"$error":"#N/A"},{"$error":"#N/A"},{"$error":"#N/A"},{"$f":"IF(ISNUMBER(SUM(COUNTIF(INDIRECT(CR101):INDIRECT(CS101),2),COUNTIF(INDIRECT(CR101):INDIRECT(CS101),1),COUNTIF(INDIRECT(CR101):INDIRECT(CS101),0))),SUM(COUNTIF(INDIRECT(CR101):INDIRECT(CS101),2),COUNTIF(INDIRECT(CR101):INDIRECT(CS101),1),COUNTIF(INDIRECT(CR101):INDIRECT(CS101),0)),\"\")","v":""},{"$f":"IF(ISNUMBER(SUM(COUNTIF(INDIRECT(CR101):INDIRECT(CT101),2),COUNTIF(INDIRECT(CR101):INDIRECT(CT101),1),COUNTIF(INDIRECT(CR101):INDIRECT(CT101),0))),SUM(COUNTIF(INDIRECT(CR101):INDIRECT(CT101),2),COUNTIF(INDIRECT(CR101):INDIRECT(CT101),1),COUNTIF(INDIRECT(CR101):INDIRECT(CT101),0)),\"\")","v":""},{"$f":"IF(ISNUMBER(SUM(COUNTIF(INDIRECT(CR101):INDIRECT(CU101),1),COUNTIF(INDIRECT(CR101):INDIRECT(CU101),0))),SUM(COUNTIF(INDIRECT(CR101):INDIRECT(CU101),1),COUNTIF(INDIRECT(CR101):INDIRECT(CU101),0)),\"\")","v":""},{"$f":"SUM(INDIRECT(CR101):INDIRECT(CS101))","v":{"$error":"#N/A"}},{"$f":"SUM(INDIRECT(CR101):INDIRECT(CT101))","v":{"$error":"#N/A"}},{"$f":"SUM(INDIRECT(CR101):INDIRECT(CU101))","v":{"$error":"#N/A"}}]
[null,null,null,null,null,null,null,null,null,null,null,null,null,null,null,null,null,null,null,null,null,null,null,null,null,null,null,null,null,null,null,null,null,null,null,null,null,null,null,null,null,null,null,null,null,null,null,null,null,null,null,null,null,null,null,null,null,null,null,0,"@","@","@","@","@","@","@","@","@","@","@","@","@","@","@","@","@","@","@","@","@","@","@","@","@","@","@","@","@","@","@",{"$f":"'Month 3'!BL102","v":"@"},{"$f":"'Month 3'!BK102","v":"@"},{"$f":"'Month 3'!BJ102","v":"@"},{"$f":"'Month 3'!BI102","v":"@"},{"$error":"#N/A"},{"$error":"#N/A"},{"$error":"#N/A"},{"$error":"#N/A"},{"$f":"IF(ISNUMBER(SUM(COUNTIF(INDIRECT(CR102):INDIRECT(CS102),2),COUNTIF(INDIRECT(CR102):INDIRECT(CS102),1),COUNTIF(INDIRECT(CR102):INDIRECT(CS102),0))),SUM(COUNTIF(INDIRECT(CR102):INDIRECT(CS102),2),COUNTIF(INDIRECT(CR102):INDIRECT(CS102),1),COUNTIF(INDIRECT(CR102):INDIRECT(CS102),0)),\"\")","v":""},{"$f":"IF(ISNUMBER(SUM(COUNTIF(INDIRECT(CR102):INDIRECT(CT102),2),COUNTIF(INDIRECT(CR102):INDIRECT(CT102),1),COUNTIF(INDIRECT(CR102):INDIRECT(CT102),0))),SUM(COUNTIF(INDIRECT(CR102):INDIRECT(CT102),2),COUNTIF(INDIRECT(CR102):INDIRECT(CT102),1),COUNTIF(INDIRECT(CR102):INDIRECT(CT102),0)),\"\")","v":""},{"$f":"IF(ISNUMBER(SUM(COUNTIF(INDIRECT(CR102):INDIRECT(CU102),1),COUNTIF(INDIRECT(CR102):INDIRECT(CU102),0))),SUM(COUNTIF(INDIRECT(CR102):INDIRECT(CU102),1),COUNTIF(INDIRECT(CR102):INDIRECT(CU102),0)),\"\")","v":""},{"$f":"SUM(INDIRECT(CR102):INDIRECT(CS102))","v":{"$error":"#N/A"}},{"$f":"SUM(INDIRECT(CR102):INDIRECT(CT102))","v":{"$error":"#N/A"}},{"$f":"SUM(INDIRECT(CR102):INDIRECT(CU102))","v":{"$error":"#N/A"}}]
[null,null,null,null,null,null,null,null,null,null,null,null,null,null,null,null,null,null,null,null,null,null,null,null,null,null,null,null,null,null,null,null,null,null,null,null,null,null,null,null,null,null,null,null,null,null,null,null,null,null,null,null,null,null,null,null,null,null,null,0,"@","@","@","@","@","@","@","@","@","@","@","@","@","@","@","@","@","@","@","@","@","@","@","@","@","@","@","@","@","@","@",{"$f":"'Month 3'!BL103","v":"@"},{"$f":"'Month 3'!BK103","v":"@"},{"$f":"'Month 3'!BJ103","v":"@"},{"$f":"'Month 3'!BI103","v":"@"},{"$error":"#N/A"},{"$error":"#N/A"},{"$error":"#N/A"},{"$error":"#N/A"},{"$f":"IF(ISNUMBER(SUM(COUNTIF(INDIRECT(CR103):INDIRECT(CS103),2),COUNTIF(INDIRECT(CR103):INDIRECT(CS103),1),COUNTIF(INDIRECT(CR103):INDIRECT(CS103),0))),SUM(COUNTIF(INDIRECT(CR103):INDIRECT(CS103),2),COUNTIF(INDIRECT(CR103):INDIRECT(CS103),1),COUNTIF(INDIRECT(CR103):INDIRECT(CS103),0)),\"\")","v":""},{"$f":"IF(ISNUMBER(SUM(COUNTIF(INDIRECT(CR103):INDIRECT(CT103),2),COUNTIF(INDIRECT(CR103):INDIRECT(CT103),1),COUNTIF(INDIRECT(CR103):INDIRECT(CT103),0))),SUM(COUNTIF(INDIRECT(CR103):INDIRECT(CT103),2),COUNTIF(INDIRECT(CR103):INDIRECT(CT103),1),COUNTIF(INDIRECT(CR103):INDIRECT(CT103),0)),\"\")","v":""},{"$f":"IF(ISNUMBER(SUM(COUNTIF(INDIRECT(CR103):INDIRECT(CU103),1),COUNTIF(INDIRECT(CR103):INDIRECT(CU103),0))),SUM(COUNTIF(INDIRECT(CR103):INDIRECT(CU103),1),COUNTIF(INDIRECT(CR103):INDIRECT(CU103),0)),\"\")","v":""},{"$f":"SUM(INDIRECT(CR103):INDIRECT(CS103))","v":{"$error":"#N/A"}},{"$f":"SUM(INDIRECT(CR103):INDIRECT(CT103))","v":{"$error":"#N/A"}},{"$f":"SUM(INDIRECT(CR103):INDIRECT(CU103))","v":{"$error":"#N/A"}}]
[null,null,null,null,null,null,null,null,null,null,null,null,null,null,null,null,null,null,null,null,null,null,null,null,null,null,null,null,null,null,null,null,null,null,null,null,null,null,null,null,null,null,null,null,null,null,null,null,null,null,null,null,null,null,null,null,null,null,null,0,"@","@","@","@","@","@","@","@","@","@","@","@","@","@","@","@","@","@","@","@","@","@","@","@","@","@","@","@","@","@","@",{"$f":"'Month 3'!BL104","v":"@"},{"$f":"'Month 3'!BK104","v":"@"},{"$f":"'Month 3'!BJ104","v":"@"},{"$f":"'Month 3'!BI104","v":"@"},{"$error":"#N/A"},{"$error":"#N/A"},{"$error":"#N/A"},{"$error":"#N/A"},{"$f":"IF(ISNUMBER(SUM(COUNTIF(INDIRECT(CR104):INDIRECT(CS104),2),COUNTIF(INDIRECT(CR104):INDIRECT(CS104),1),COUNTIF(INDIRECT(CR104):INDIRECT(CS104),0))),SUM(COUNTIF(INDIRECT(CR104):INDIRECT(CS104),2),COUNTIF(INDIRECT(CR104):INDIRECT(CS104),1),COUNTIF(INDIRECT(CR104):INDIRECT(CS104),0)),\"\")","v":""},{"$f":"IF(ISNUMBER(SUM(COUNTIF(INDIRECT(CR104):INDIRECT(CT104),2),COUNTIF(INDIRECT(CR104):INDIRECT(CT104),1),COUNTIF(INDIRECT(CR104):INDIRECT(CT104),0))),SUM(COUNTIF(INDIRECT(CR104):INDIRECT(CT104),2),COUNTIF(INDIRECT(CR104):INDIRECT(CT104),1),COUNTIF(INDIRECT(CR104):INDIRECT(CT104),0)),\"\")","v":""},{"$f":"IF(ISNUMBER(SUM(COUNTIF(INDIRECT(CR104):INDIRECT(CU104),1),COUNTIF(INDIRECT(CR104):INDIRECT(CU104),0))),SUM(COUNTIF(INDIRECT(CR104):INDIRECT(CU104),1),COUNTIF(INDIRECT(CR104):INDIRECT(CU104),0)),\"\")","v":""},{"$f":"SUM(INDIRECT(CR104):INDIRECT(CS104))","v":{"$error":"#N/A"}},{"$f":"SUM(INDIRECT(CR104):INDIRECT(CT104))","v":{"$error":"#N/A"}},{"$f":"SUM(INDIRECT(CR104):INDIRECT(CU104))","v":{"$error":"#N/A"}}]

{"sheet":"Month 5","index":9,"n_rows":104,"n_cols":105,"rows_kept":104,"cut":false,"hidden":false,"merged":[[53,95,53,98],[53,99,53,101],[53,102,53,104],[6,23,20,35],[13,5,20,8]]}
[]
[]
[]
[]
[]
[null,null,null,null,"Student Name:",{"$f":"IF(ISTEXT('Month 1'!F6),'Month 1'!F6,\"\")","v":""},null,null,null,null,null,null,null,null,null,null,null,null,null,null,null,null,null,"General Notes:"]
["Go To:"]
[{"$f":"IF(ISBLANK('Month 1'!$F$12),\"Month 1\",'Month 1'!$F$12)","v":"--"},null,null,null,"Skill Title:",{"$f":"IF(ISTEXT('Month 1'!F8),'Month 1'!F8,\"\")","v":""}]
[{"$f":"IF(ISBLANK('Month 2'!$F$12),\"Month 2\",'Month 2'!$F$12)","v":"--"}]
[{"$f":"IF(ISBLANK('Month 3'!$F$12),\"Month 3\",'Month 3'!$F$12)","v":"--"},null,null,null,"Skill Type:",{"$f":"IF(ISBLANK('Month 1'!F10),\"\",'Month 1'!F10)","v":""}]
[{"$f":"IF(ISBLANK('Month 4'!$F$12),\"Month 4\",'Month 4'!$F$12)","v":"--"}]
[{"$f":"IF(ISBLANK('Month 5'!$F$12),\"Month 5\",'Month 5'!$F$12)","v":"--"},null,null,null,"Date Range:","--"]
[{"$f":"IF(ISBLANK('Month 6'!$F$12),\"Month 6\",'Month 6'!$F$12)","v":"--"}]
[{"$f":"IF(ISBLANK('Month 7'!$F$12),\"Month 7\",'Month 7'!$F$12)","v":"--"},null,null,null,"Objective:",{"$f":"IF(ISBLANK('Month 1'!$F$14),\"\",'Month 1'!$F$14)","v":""}]
[{"$f":"IF(ISBLANK('Month 8'!$F$12),\"Month 8\",'Month 8'!$F$12)","v":"--"}]
[{"$f":"IF(ISBLANK('Month 9'!$F$12),\"Month 9\",'Month 9'!$F$12)","v":"--"}]
[{"$f":"IF(ISBLANK('Month 10'!$F$12),\"Month 10\",'Month 10'!$F$12)","v":"--"}]
[{"$f":"IF(ISBLANK('Month 11'!$F$12),\"Month 11\",'Month 11'!$F$12)","v":"--"}]
[{"$f":"IF(ISBLANK('Month 12'!$F$12),\"Month 12\",'Month 12'!$F$12)","v":"--"}]
[]
[]
[]
[null,null,null,null,null,null,{"$f":"SUM(COUNTIF(G27:G76,\"+\"),COUNTIF(G27:G76,\"-\"),COUNTIF(G27:G76,\"y\"),COUNTIF(G27:G76,\"n\"),COUNTIF(G27:G76,1),COUNTIF(G27:G76,2))","v":0},0,0,0,0,0,0,0,0,0,0,0,0,0,0,0,0,0,0,0,0,0,0,0,0,0,0,0,0,0,0,{"$f":"SUM(G23:AK23)","v":0}]
[null,null,null,null,null,"Total Number Correct   à",{"$f":"IF(G23>0,SUM(CM55:CM104),\"\")","v":""},{"$f":"IF(H23>0,SUM(CL55:CL104),\"\")","v":""},{"$f":"IF(I23>0,SUM(CK55:CK104),\"\")","v":""},{"$f":"IF(J23>0,SUM(CJ55:CJ104),\"\")","v":""},{"$f":"IF(K23>0,SUM(CI55:CI104),\"\")","v":""},{"$f":"IF(L23>0,SUM(CH55:CH104),\"\")","v":""},{"$f":"IF(M23>0,SUM(CG55:CG104),\"\")","v":""},{"$f":"IF(N23>0,SUM(CF55:CF104),\"\")","v":""},{"$f":"IF(O23>0,SUM(CE55:CE104),\"\")","v":""},{"$f":"IF(P23>0,SUM(CD55:CD104),\"\")","v":""},{"$f":"IF(Q23>0,SUM(CC55:CC104),\"\")","v":""},{"$f":"IF(R23>0,SUM(CB55:CB104),\"\")","v":""},{"$f":"IF(S23>0,SUM(CA55:CA104),\"\")","v":""},{"$f":"IF(T23>0,SUM(BZ55:BZ104),\"\")","v":""},{"$f":"IF(U23>0,SUM(BY55:BY104),\"\")","v":""},{"$f":"IF(V23>0,SUM(BX55:BX104),\"\")","v":""},{"$f":"IF(W23>0,SUM(BW55:BW104),\"\")","v":""},{"$f":"IF(X23>0,SUM(BV55:BV104),\"\")","v":""},{"$f":"IF(Y23>0,SUM(BU55:BU104),\"\")","v":""},{"$f":"IF(Z23>0,SUM(BT55:BT104),\"\")","v":""},{"$f":"IF(AA23>0,SUM(BS55:BS104),\"\")","v":""},{"$f":"IF(AB23>0,SUM(BR55:BR104),\"\")","v":""},{"$f":"IF(AC23>0,SUM(BQ55:BQ104),\"\")","v":""},{"$f":"IF(AD23>0,SUM(BP55:BP104),\"\")","v":""},{"$f":"IF(AE23>0,SUM(BO55:BO104),\"\")","v":""},{"$f":"IF(AF23>0,SUM(BN55:BN104),\"\")","v":""},{"$f":"IF(AG23>0,SUM(BM55:BM104),\"\")","v":""},{"$f":"IF(AH23>0,SUM(BL55:BL104),\"\")","v":""},{"$f":"IF(AI23>0,SUM(BK55:BK104),\"\")","v":""},{"$f":"IF(AJ23>0,SUM(BJ55:BJ104),\"\")","v":""},{"$f":"IF(AK23>0,SUM(BI55:BI104),\"\")","v":""}]
[null,null,{"$f":"50-SUM(C27:C76)","v":0},"Note",null,"Initials   à"]
[null,null,0,"â",null,"Date   à"]
[null,null,{"$f":"IF(F27=\"\",1,0)","v":1},{"$f":"IF(Modifications!$C$2=2,\"N\",\"\")","v":""},{"$f":"IF(AND(BH55>0,$F$10=\"\"),\"Choose Skill Type\",IF(CX55=\"\",\"\",IF(AND(DA55=3,$F$10=\"Multi-Step (Task Analysis)\"),\"Add Next Step\",IF(AND(DA55=3,$F$10=\"Multi-Stimulus (Different Sd's)\"),\"Continue\",IF(OR(AND(CV55=5,CY55<=1),AND(CW55=4,CZ55=0)),\"Intervene\",IF(OR(AND(CV55=5,CY55<=2),AND(CW55=4,CZ55<=1),AND(CX55=3,DA55=0)),\"Check\",\"Continue\"))))))","v":""},{"$f":"IF(ISBLANK('Month 1'!$F$27),\"\",'Month 1'!$F$27)","v":""}]
[null,null,{"$f":"IF(F28=\"\",1,0)","v":1},{"$f":"IF(Modifications!$C$3=2,\"N\",\"\")","v":""},"",{"$f":"IF(ISBLANK('Month 1'!$F$28),\"\",'Month 1'!$F$28)","v":""}]
[null,null,1,{"$f":"IF(Modifications!$C$4=2,\"N\",\"\")","v":""},"",{"$f":"IF(ISBLANK('Month 1'!$F$29),\"\",'Month 1'!$F$29)","v":""}]
[null,null,1,{"$f":"IF(Modifications!$C$5=2,\"N\",\"\")","v":""},"",{"$f":"IF(ISBLANK('Month 1'!$F$30),\"\",'Month 1'!$F$30)","v":""}]
[null,null,1,{"$f":"IF(Modifications!$C$6=2,\"N\",\"\")","v":""},"",{"$f":"IF(ISBLANK('Month 1'!$F$31),\"\",'Month 1'!$F$31)","v":""}]
[null,null,1,{"$f":"IF(Modifications!$C$7=2,\"N\",\"\")","v":""},"",{"$f":"IF(ISBLANK('Month 1'!$F$32),\"\",'Month 1'!$F$32)","v":""}]
[null,null,1,{"$f":"IF(Modifications!$C$8=2,\"N\",\"\")","v":""},"",{"$f":"IF(ISBLANK('Month 1'!$F$33),\"\",'Month 1'!$F$33)","v":""}]
[null,null,1,{"$f":"IF(Modifications!$C$9=2,\"N\",\"\")","v":""},"",{"$f":"IF(ISBLANK('Month 1'!$F$34),\"\",'Month 1'!$F$34)","v":""}]
[null,null,1,{"$f":"IF(Modifications!$C$10=2,\"N\",\"\")","v":""},"",{"$f":"IF(ISBLANK('Month 1'!$F$35),\"\",'Month 1'!$F$35)","v":""}]
[null,null,1,{"$f":"IF(Modifications!$C$11=2,\"N\",\"\")","v":""},"",{"$f":"IF(ISBLANK('Month 1'!$F$36),\"\",'Month 1'!$F$36)","v":""}]
[null,null,1,{"$f":"IF(Modifications!$C$12=2,\"N\",\"\")","v":""},"",{"$f":"IF(ISBLANK('Month 1'!$F$37),\"\",'Month 1'!$F$37)","v":""}]
[null,null,1,{"$f":"IF(Modifications!$C$13=2,\"N\",\"\")","v":""},"",{"$f":"IF(ISBLANK('Month 1'!$F$38),\"\",'Month 1'!$F$38)","v":""}]
[null,null,1,{"$f":"IF(Modifications!$C$14=2,\"N\",\"\")","v":""},"",{"$f":"IF(ISBLANK('Month 1'!$F$39),\"\",'Month 1'!$F$39)","v":""}]
[null,null,1,{"$f":"IF(Modifications!$C$15=2,\"N\",\"\")","v":""},"",{"$f":"IF(ISBLANK('Month 1'!$F$40),\"\",'Month 1'!$F$40)","v":""}]
[null,null,1,{"$f":"IF(Modifications!$C$16=2,\"N\",\"\")","v":""},"",{"$f":"IF(ISBLANK('Month 1'!$F$41),\"\",'Month 1'!$F$41)","v":""}]
[null,null,1,{"$f":"IF(Modifications!$C$17=2,\"N\",\"\")","v":""},"",{"$f":"IF(ISBLANK('Month 1'!$F$42),\"\",'Month 1'!$F$42)","v":""}]
[null,null,1,{"$f":"IF(Modifications!$C$18=2,\"N\",\"\")","v":""},"",{"$f":"IF(ISBLANK('Month 1'!$F$43),\"\",'Month 1'!$F$43)","v":""}]
[null,null,1,{"$f":"IF(Modifications!$C$19=2,\"N\",\"\")","v":""},"",{"$f":"IF(ISBLANK('Month 1'!$F$44),\"\",'Month 1'!$F$44)","v":""}]
[null,null,1,{"$f":"IF(Modifications!$C$20=2,\"N\",\"\")","v":""},"",{"$f":"IF(ISBLANK('Month 1'!$F$45),\"\",'Month 1'!$F$45)","v":""}]
[null,null,1,{"$f":"IF(Modifications!$C$21=2,\"N\",\"\")","v":""},"",{"$f":"IF(ISBLANK('Month 1'!$F$46),\"\",'Month 1'!$F$46)","v":""}]
[null,null,1,{"$f":"IF(Modifications!$C$22=2,\"N\",\"\")","v":""},"",{"$f":"IF(ISBLANK('Month 1'!$F$47),\"\",'Month 1'!$F$47)","v":""}]
[null,null,1,{"$f":"IF(Modifications!$C$23=2,\"N\",\"\")","v":""},"",{"$f":"IF(ISBLANK('Month 1'!$F$48),\"\",'Month 1'!$F$48)","v":""}]
[null,null,1,{"$f":"IF(Modifications!$C$24=2,\"N\",\"\")","v":""},"",{"$f":"IF(ISBLANK('Month 1'!$F$49),\"\",'Month 1'!$F$49)","v":""}]
[null,null,1,{"$f":"IF(Modifications!$C$25=2,\"N\",\"\")","v":""},"",{"$f":"IF(ISBLANK('Month 1'!$F$50),\"\",'Month 1'!$F$50)","v":""}]
[null,null,1,{"$f":"IF(Modifications!$C$26=2,\"N\",\"\")","v":""},"",{"$f":"IF(ISBLANK('Month 1'!$F$51),\"\",'Month 1'!$F$51)","v":""}]
[null,null,1,{"$f":"IF(Modifications!$C$27=2,\"N\",\"\")","v":""},"",{"$f":"IF(ISBLANK('Month 1'!$F$52),\"\",'Month 1'!$F$52)","v":""}]
[null,null,1,{"$f":"IF(Modifications!$C$28=2,\"N\",\"\")","v":""},"",{"$f":"IF(ISBLANK('Month 1'!$F$53),\"\",'Month 1'!$F$53)","v":""}]
[null,null,1,{"$f":"IF(Modifications!$C$29=2,\"N\",\"\")","v":""},"",{"$f":"IF(ISBLANK('Month 1'!$F$54),\"\",'Month 1'!$F$54)","v":""},null,null,null,null,null,null,null,null,null,null,null,null,null,null,null,null,null,null,null,null,null,null,null,null,null,null,null,null,null,null,null,null,null,null,null,null,null,null,null,null,null,null,null,null,null,null,null,null,null,null,null,null,null,null,null,null,null,null,null,null,null,null,null,null,null,null,null,null,null,null,null,null,null,null,null,null,null,null,null,null,null,null,null,null,null,null,null,null,null,"Locations (start,5,4,3)",null,null,null,"Are they in a row? (5,4,3)",null,null,"Sum of items in row (5,4,3)"]
[null,null,1,{"$f":"IF(Modifications!$C$30=2,\"N\",\"\")","v":""},"",{"$f":"IF(ISBLANK('Month 1'!$F$55),\"\",'Month 1'!$F$55)","v":""},null,null,null,null,null,null,null,null,null,null,null,null,null,null,null,null,null,null,null,null,null,null,null,null,null,null,null,null,null,null,null,null,null,null,null,null,null,null,null,null,null,null,null,null,null,null,null,null,null,null,null,null,null,{"$f":"SUM(COUNTIF(BI55:CM55,1),COUNTIF(BI55:CM55,0))","v":0},{"$f":"IF(OR(AK27=\"+\",AK27=\"Y\",AK27=2),1,IF(OR(AK27=\"-\",AK27=\"N\",AK27=1),0,IF(OR(BJ55=1,BJ55=0),\"#\",\"@\")))","v":"@"},{"$f":"IF(OR(AJ27=\"+\",AJ27=\"Y\",AJ27=2),1,IF(OR(AJ27=\"-\",AJ27=\"N\",AJ27=1),0,IF(OR(BK55=1,BK55=0),\"#\",\"@\")))","v":"@"},{"$f":"IF(OR(AI27=\"+\",AI27=\"Y\",AI27=2),1,IF(OR(AI27=\"-\",AI27=\"N\",AI27=1),0,IF(OR(BL55=1,BL55=0),\"#\",\"@\")))","v":"@"},{"$f":"IF(OR(AH27=\"+\",AH27=\"Y\",AH27=2),1,IF(OR(AH27=\"-\",AH27=\"N\",AH27=1),0,IF(OR(BM55=1,BM55=0),\"#\",\"@\")))","v":"@"},{"$f":"IF(OR(AG27=\"+\",AG27=\"Y\",AG27=2),1,IF(OR(AG27=\"-\",AG27=\"N\",AG27=1),0,IF(OR(BN55=1,BN55=0),\"#\",\"@\")))","v":"@"},{"$f":"IF(OR(AF27=\"+\",AF27=\"Y\",AF27=2),1,IF(OR(AF27=\"-\",AF27=\"N\",AF27=1),0,IF(OR(BO55=1,BO55=0),\"#\",\"@\")))","v":"@"},{"$f":"IF(OR(AE27=\"+\",AE27=\"Y\",AE27=2),1,IF(OR(AE27=\"-\",AE27=\"N\",AE27=1),0,IF(OR(BP55=1,BP55=0),\"#\",\"@\")))","v":"@"},{"$f":"IF(OR(AD27=\"+\",AD27=\"Y\",AD27=2),1,IF(OR(AD27=\"-\",AD27=\"N\",AD27=1),0,IF(OR(BQ55=1,BQ55=0),\"#\",\"@\")))","v":"@"},{"$f":"IF(OR(AC27=\"+\",AC27=\"Y\",AC27=2),1,IF(OR(AC27=\"-\",AC27=\"N\",AC27=1),0,IF(OR(BR55=1,BR55=0),\"#\",\"@\")))","v":"@"},{"$f":"IF(OR(AB27=\"+\",AB27=\"Y\",AB27=2),1,IF(OR(AB27=\"-\",AB27=\"N\",AB27=1),0,IF(OR(BS55=1,BS55=0),\"#\",\"@\")))","v":"@"},{"$f":"IF(OR(AA27=\"+\",AA27=\"Y\",AA27=2),1,IF(OR(AA27=\"-\",AA27=\"N\",AA27=1),0,IF(OR(BT55=1,BT55=0),\"#\",\"@\")))","v":"@"},{"$f":"IF(OR(Z27=\"+\",Z27=\"Y\",Z27=2),1,IF(OR(Z27=\"-\",Z27=\"N\",Z27=1),0,IF(OR(BU55=1,BU55=0),\"#\",\"@\")))","v":"@"},{"$f":"IF(OR(Y27=\"+\",Y27=\"Y\",Y27=2),1,IF(OR(Y27=\"-\",Y27=\"N\",Y27=1),0,IF(OR(BV55=1,BV55=0),\"#\",\"@\")))","v":"@"},{"$f":"IF(OR(X27=\"+\",X27=\"Y\",X27=2),1,IF(OR(X27=\"-\",X27=\"N\",X27=1),0,IF(OR(BW55=1,BW55=0),\"#\",\"@\")))","v":"@"},{"$f":"IF(OR(W27=\"+\",W27=\"Y\",W27=2),1,IF(OR(W27=\"-\",W27=\"N\",W27=1),0,IF(OR(BX55=1,BX55=0),\"#\",\"@\")))","v":"@"},{"$f":"IF(OR(V27=\"+\",V27=\"Y\",V27=2),1,IF(OR(V27=\"-\",V27=\"N\",V27=1),0,IF(OR(BY55=1,BY55=0),\"#\",\"@\")))","v":"@"},{"$f":"IF(OR(U27=\"+\",U27=\"Y\",U27=2),1,IF(OR(U27=\"-\",U27=\"N\",U27=1),0,IF(OR(BZ55=1,BZ55=0),\"#\",\"@\")))","v":"@"},{"$f":"IF(OR(T27=\"+\",T27=\"Y\",T27=2),1,IF(OR(T27=\"-\",T27=\"N\",T27=1),0,IF(OR(CA55=1,CA55=0),\"#\",\"@\")))","v":"@"},{"$f":"IF(OR(S27=\"+\",S27=\"Y\",S27=2),1,IF(OR(S27=\"-\",S27=\"N\",S27=1),0,IF(OR(CB55=1,CB55=0),\"#\",\"@\")))","v":"@"},{"$f":"IF(OR(R27=\"+\",R27=\"Y\",R27=2),1,IF(OR(R27=\"-\",R27=\"N\",R27=1),0,IF(OR(CC55=1,CC55=0),\"#\",\"@\")))","v":"@"},{"$f":"IF(OR(Q27=\"+\",Q27=\"Y\",Q27=2),1,IF(OR(Q27=\"-\",Q27=\"N\",Q27=1),0,IF(OR(CD55=1,CD55=0),\"#\",\"@\")))","v":"@"},{"$f":"IF(OR(P27=\"+\",P27=\"Y\",P27=2),1,IF(OR(P27=\"-\",P27=\"N\",P27=1),0,IF(OR(CE55=1,CE55=0),\"#\",\"@\")))","v":"@"},{"$f":"IF(OR(O27=\"+\",O27=\"Y\",O27=2),1,IF(OR(O27=\"-\",O27=\"N\",O27=1),0,IF(OR(CF55=1,CF55=0),\"#\",\"@\")))","v":"@"},{"$f":"IF(OR(N27=\"+\",N27=\"Y\",N27=2),1,IF(OR(N27=\"-\",N27=\"N\",N27=1),0,IF(OR(CG55=1,CG55=0),\"#\",\"@\")))","v":"@"},{"$f":"IF(OR(M27=\"+\",M27=\"Y\",M27=2),1,IF(OR(M27=\"-\",M27=\"N\",M27=1),0,IF(OR(CH55=1,CH55=0),\"#\",\"@\")))","v":"@"},{"$f":"IF(OR(L27=\"+\",L27=\"Y\",L27=2),1,IF(OR(L27=\"-\",L27=\"N\",L27=1),0,IF(OR(CI55=1,CI55=0),\"#\",\"@\")))","v":"@"},{"$f":"IF(OR(K27=\"+\",K27=\"Y\",K27=2),1,IF(OR(K27=\"-\",K27=\"N\",K27=1),0,IF(OR(CJ55=1,CJ55=0),\"#\",\"@\")))","v":"@"},{"$f":"IF(OR(J27=\"+\",J27=\"Y\",J27=2),1,IF(OR(J27=\"-\",J27=\"N\",J27=1),0,IF(OR(CK55=1,CK55=0),\"#\",\"@\")))","v":"@"},{"$f":"IF(OR(I27=\"+\",I27=\"Y\",I27=2),1,IF(OR(I27=\"-\",I27=\"N\",I27=1),0,IF(OR(CL55=1,CL55=0),\"#\",\"@\")))","v":"@"},{"$f":"IF(OR(H27=\"+\",H27=\"Y\",H27=2),1,IF(OR(H27=\"-\",H27=\"N\",H27=1),0,IF(OR(CM55=1,CM55=0),\"#\",\"@\")))","v":"@"},{"$f":"IF(OR(G27=\"+\",G27=\"Y\",G27=2),1,IF(OR(G27=\"-\",G27=\"N\",G27=1),0,\"@\"))","v":"@"},{"$f":"'Month 4'!BL55","v":"@"},{"$f":"'Month 4'!BK55","v":"@"},{"$f":"'Month 4'!BJ55","v":"@"},{"$f":"'Month 4'!BI55","v":"@"},{"$f":"ADDRESS(ROW(BH55),(MATCH(\"#\",BI55:CM55,0)+61))","v":{"$error":"#N/A"}},{"$f":"ADDRESS(ROW(BH55),(MATCH(\"#\",BI55:CM55,0)+65))","v":{"$error":"#N/A"}},{"$f":"ADDRESS(ROW(BH55),(MATCH(\"#\",BI55:CM55,0)+64))","v":{"$error":"#N/A"}},{"$f":"ADDRESS(ROW(BH55),(MATCH(\"#\",BI55:CM55,0)+63))","v":{"$error":"#N/A"}},{"$f":"IF(ISNUMBER(SUM(COUNTIF(INDIRECT(CR55):INDIRECT(CS55),2),COUNTIF(INDIRECT(CR55):INDIRECT(CS55),1),COUNTIF(INDIRECT(CR55):INDIRECT(CS55),0))),SUM(COUNTIF(INDIRECT(CR55):INDIRECT(CS55),2),COUNTIF(INDIRECT(CR55):INDIRECT(CS55),1),COUNTIF(INDIRECT(CR55):INDIRECT(CS55),0)),\"\")","v":""},{"$f":"IF(ISNUMBER(SUM(COUNTIF(INDIRECT(CR55):INDIRECT(CT55),2),COUNTIF(INDIRECT(CR55):INDIRECT(CT55),1),COUNTIF(INDIRECT(CR55):INDIRECT(CT55),0))),SUM(COUNTIF(INDIRECT(CR55):INDIRECT(CT55),2),COUNTIF(INDIRECT(CR55):INDIRECT(CT55),1),COUNTIF(INDIRECT(CR55):INDIRECT(CT55),0)),\"\")","v":""},{"$f":"IF(ISNUMBER(SUM(COUNTIF(INDIRECT(CR55):INDIRECT(CU55),1),COUNTIF(INDIRECT(CR55):INDIRECT(CU55),0))),SUM(COUNTIF(INDIRECT(CR55):INDIRECT(CU55),1),COUNTIF(INDIRECT(CR55):INDIRECT(CU55),0)),\"\")","v":""},{"$f":"SUM(INDIRECT(CR55):INDIRECT(CS55))","v":{"$error":"#N/A"}},{"$f":"SUM(INDIRECT(CR55):INDIRECT(CT55))","v":{"$error":"#N/A"}},{"$f":"SUM(INDIRECT(CR55):INDIRECT(CU55))","v":{"$error":"#N/A"}}]
[null,null,1,{"$f":"IF(Modifications!$C$31=2,\"N\",\"\")","v":""},"",{"$f":"IF(ISBLANK('Month 1'!$F$56),\"\",'Month 1'!$F$56)","v":""},null,null,null,null,null,null,null,null,null,null,null,null,null,null,null,null,null,null,null,null,null,null,null,null,null,null,null,null,null,null,null,null,null,null,null,null,null,null,null,null,null,null,null,null,null,null,null,null,null,null,null,null,null,0,"@","@","@","@","@","@","@","@","@","@","@","@","@","@","@","@","@","@","@","@","@","@","@","@","@","@","@","@","@","@","@",{"$f":"'Month 4'!BL56","v":"@"},{"$f":"'Month 4'!BK56","v":"@"},{"$f":"'Month 4'!BJ56","v":"@"},{"$f":"'Month 4'!BI56","v":"@"},{"$error":"#N/A"},{"$error":"#N/A"},{"$error":"#N/A"},{"$error":"#N/A"},{"$f":"IF(ISNUMBER(SUM(COUNTIF(INDIRECT(CR56):INDIRECT(CS56),2),COUNTIF(INDIRECT(CR56):INDIRECT(CS56),1),COUNTIF(INDIRECT(CR56):INDIRECT(CS56),0))),SUM(COUNTIF(INDIRECT(CR56):INDIRECT(CS56),2),COUNTIF(INDIRECT(CR56):INDIRECT(CS56),1),COUNTIF(INDIRECT(CR56):INDIRECT(CS56),0)),\"\")","v":""},{"$f":"IF(ISNUMBER(SUM(COUNTIF(INDIRECT(CR56):INDIRECT(CT56),2),COUNTIF(INDIRECT(CR56):INDIRECT(CT56),1),COUNTIF(INDIRECT(CR56):INDIRECT(CT56),0))),SUM(COUNTIF(INDIRECT(CR56):INDIRECT(CT56),2),COUNTIF(INDIRECT(CR56):INDIRECT(CT56),1),COUNTIF(INDIRECT(CR56):INDIRECT(CT56),0)),\"\")","v":""},{"$f":"IF(ISNUMBER(SUM(COUNTIF(INDIRECT(CR56):INDIRECT(CU56),1),COUNTIF(INDIRECT(CR56):INDIRECT(CU56),0))),SUM(COUNTIF(INDIRECT(CR56):INDIRECT(CU56),1),COUNTIF(INDIRECT(CR56):INDIRECT(CU56),0)),\"\")","v":""},{"$f":"SUM(INDIRECT(CR56):INDIRECT(CS56))","v":{"$error":"#N/A"}},{"$f":"SUM(INDIRECT(CR56):INDIRECT(CT56))","v":{"$error":"#N/A"}},{"$f":"SUM(INDIRECT(CR56):INDIRECT(CU56))","v":{"$error":"#N/A"}}]
[null,null,1,{"$f":"IF(Modifications!$C$32=2,\"N\",\"\")","v":""},"",{"$f":"IF(ISBLANK('Month 1'!$F$57),\"\",'Month 1'!$F$57)","v":""},null,null,null,null,null,null,null,null,null,null,null,null,null,null,null,null,null,null,null,null,null,null,null,null,null,null,null,null,null,null,null,null,null,null,null,null,null,null,null,null,null,null,null,null,null,null,null,null,null,null,null,null,null,0,"@","@","@","@","@","@","@","@","@","@","@","@","@","@","@","@","@","@","@","@","@","@","@","@","@","@","@","@","@","@","@",{"$f":"'Month 4'!BL57","v":"@"},{"$f":"'Month 4'!BK57","v":"@"},{"$f":"'Month 4'!BJ57","v":"@"},{"$f":"'Month 4'!BI57","v":"@"},{"$error":"#N/A"},{"$error":"#N/A"},{"$error":"#N/A"},{"$error":"#N/A"},{"$f":"IF(ISNUMBER(SUM(COUNTIF(INDIRECT(CR57):INDIRECT(CS57),2),COUNTIF(INDIRECT(CR57):INDIRECT(CS57),1),COUNTIF(INDIRECT(CR57):INDIRECT(CS57),0))),SUM(COUNTIF(INDIRECT(CR57):INDIRECT(CS57),2),COUNTIF(INDIRECT(CR57):INDIRECT(CS57),1),COUNTIF(INDIRECT(CR57):INDIRECT(CS57),0)),\"\")","v":""},{"$f":"IF(ISNUMBER(SUM(COUNTIF(INDIRECT(CR57):INDIRECT(CT57),2),COUNTIF(INDIRECT(CR57):INDIRECT(CT57),1),COUNTIF(INDIRECT(CR57):INDIRECT(CT57),0))),SUM(COUNTIF(INDIRECT(CR57):INDIRECT(CT57),2),COUNTIF(INDIRECT(CR57):INDIRECT(CT57),1),COUNTIF(INDIRECT(CR57):INDIRECT(CT57),0)),\"\")","v":""},{"$f":"IF(ISNUMBER(SUM(COUNTIF(INDIRECT(CR57):INDIRECT(CU57),1),COUNTIF(INDIRECT(CR57):INDIRECT(CU57),0))),SUM(COUNTIF(INDIRECT(CR57):INDIRECT(CU57),1),COUNTIF(INDIRECT(CR57):INDIRECT(CU57),0)),\"\")","v":""},{"$f":"SUM(INDIRECT(CR57):INDIRECT(CS57))","v":{"$error":"#N/A"}},{"$f":"SUM(INDIRECT(CR57):INDIRECT(CT57))","v":{"$error":"#N/A"}},{"$f":"SUM(INDIRECT(CR57):INDIRECT(CU57))","v":{"$error":"#N/A"}}]
[null,null,1,{"$f":"IF(Modifications!$C$33=2,\"N\",\"\")","v":""},"",{"$f":"IF(ISBLANK('Month 1'!$F$58),\"\",'Month 1'!$F$58)","v":""},null,null,null,null,null,null,null,null,null,null,null,null,null,null,null,null,null,null,null,null,null,null,null,null,null,null,null,null,null,null,null,null,null,null,null,null,null,null,null,null,null,null,null,null,null,null,null,null,null,null,null,null,null,0,"@","@","@","@","@","@","@","@","@","@","@","@","@","@","@","@","@","@","@","@","@","@","@","@","@","@","@","@","@","@","@",{"$f":"'Month 4'!BL58","v":"@"},{"$f":"'Month 4'!BK58","v":"@"},{"$f":"'Month 4'!BJ58","v":"@"},{"$f":"'Month 4'!BI58","v":"@"},{"$error":"#N/A"},{"$error":"#N/A"},{"$error":"#N/A"},{"$error":"#N/A"},{"$f":"IF(ISNUMBER(SUM(COUNTIF(INDIRECT(CR58):INDIRECT(CS58),2),COUNTIF(INDIRECT(CR58):INDIRECT(CS58),1),COUNTIF(INDIRECT(CR58):INDIRECT(CS58),0))),SUM(COUNTIF(INDIRECT(CR58):INDIRECT(CS58),2),COUNTIF(INDIRECT(CR58):INDIRECT(CS58),1),COUNTIF(INDIRECT(CR58):INDIRECT(CS58),0)),\"\")","v":""},{"$f":"IF(ISNUMBER(SUM(COUNTIF(INDIRECT(CR58):INDIRECT(CT58),2),COUNTIF(INDIRECT(CR58):INDIRECT(CT58),1),COUNTIF(INDIRECT(CR58):INDIRECT(CT58),0))),SUM(COUNTIF(INDIRECT(CR58):INDIRECT(CT58),2),COUNTIF(INDIRECT(CR58):INDIRECT(CT58),1),COUNTIF(INDIRECT(CR58):INDIRECT(CT58),0)),\"\")","v":""},{"$f":"IF(ISNUMBER(SUM(COUNTIF(INDIRECT(CR58):INDIRECT(CU58),1),COUNTIF(INDIRECT(CR58):INDIRECT(CU58),0))),SUM(COUNTIF(INDIRECT(CR58):INDIRECT(CU58),1),COUNTIF(INDIRECT(CR58):INDIRECT(CU58),0)),\"\")","v":""},{"$f":"SUM(INDIRECT(CR58):INDIRECT(CS58))","v":{"$error":"#N/A"}},{"$f":"SUM(INDIRECT(CR58):INDIRECT(CT58))","v":{"$error":"#N/A"}},{"$f":"SUM(INDIRECT(CR58):INDIRECT(CU58))","v":{"$error":"#N/A"}}]
[null,null,1,{"$f":"IF(Modifications!$C$34=2,\"N\",\"\")","v":""},{"$f":"IF(AND(BH87>0,$F$10=\"\"),\"Choose Skill Type\",IF(CX87=\"\",\"\",IF(AND(DA87=3,$F$10=\"Multi-Step (Task Analysis)\"),\"Add Next Step\",IF(AND(DA87=3,$F$10=\"Multi-Stimulus (Different Sd's)\"),\"Continue\",IF(OR(AND(CV87=5,CY87<=1),AND(CW87=4,CZ87=0)),\"Intervene\",IF(OR(AND(CV87=5,CY87<=2),AND(CW87=4,CZ87<=1),AND(CX87=3,DA87=0)),\"Check\",\"Continue\"))))))","v":""},{"$f":"IF(ISBLANK('Month 1'!$F$59),\"\",'Month 1'!$F$59)","v":""},null,null,null,null,null,null,null,null,null,null,null,null,null,null,null,null,null,null,null,null,null,null,null,null,null,null,null,null,null,null,null,null,null,null,null,null,null,null,null,null,null,null,null,null,null,null,null,null,null,null,null,null,null,0,"@","@","@","@","@","@","@","@","@","@","@","@","@","@","@","@","@","@","@","@","@","@","@","@","@","@","@","@","@","@","@",{"$f":"'Month 4'!BL59","v":"@"},{"$f":"'Month 4'!BK59","v":"@"},{"$f":"'Month 4'!BJ59","v":"@"},{"$f":"'Month 4'!BI59","v":"@"},{"$error":"#N/A"},{"$error":"#N/A"},{"$error":"#N/A"},{"$error":"#N/A"},{"$f":"IF(ISNUMBER(SUM(COUNTIF(INDIRECT(CR59):INDIRECT(CS59),2),COUNTIF(INDIRECT(CR59):INDIRECT(CS59),1),COUNTIF(INDIRECT(CR59):INDIRECT(CS59),0))),SUM(COUNTIF(INDIRECT(CR59):INDIRECT(CS59),2),COUNTIF(INDIRECT(CR59):INDIRECT(CS59),1),COUNTIF(INDIRECT(CR59):INDIRECT(CS59),0)),\"\")","v":""},{"$f":"IF(ISNUMBER(SUM(COUNTIF(INDIRECT(CR59):INDIRECT(CT59),2),COUNTIF(INDIRECT(CR59):INDIRECT(CT59),1),COUNTIF(INDIRECT(CR59):INDIRECT(CT59),0))),SUM(COUNTIF(INDIRECT(CR59):INDIRECT(CT59),2),COUNTIF(INDIRECT(CR59):INDIRECT(CT59),1),COUNTIF(INDIRECT(CR59):INDIRECT(CT59),0)),\"\")","v":""},{"$f":"IF(ISNUMBER(SUM(COUNTIF(INDIRECT(CR59):INDIRECT(CU59),1),COUNTIF(INDIRECT(CR59):INDIRECT(CU59),0))),SUM(COUNTIF(INDIRECT(CR59):INDIRECT(CU59),1),COUNTIF(INDIRECT(CR59):INDIRECT(CU59),0)),\"\")","v":""},{"$f":"SUM(INDIRECT(CR59):INDIRECT(CS59))","v":{"$error":"#N/A"}},{"$f":"SUM(INDIRECT(CR59):INDIRECT(CT59))","v":{"$error":"#N/A"}},{"$f":"SUM(INDIRECT(CR59):INDIRECT(CU59))","v":{"$error":"#N/A"}}]
[null,null,1,{"$f":"IF(Modifications!$C$35=2,\"N\",\"\")","v":""},"",{"$f":"IF(ISBLANK('Month 1'!$F$60),\"\",'Month 1'!$F$60)","v":""},null,null,null,null,null,null,null,null,null,null,null,null,null,null,null,null,null,null,null,null,null,null,null,null,null,null,null,null,null,null,null,null,null,null,null,null,null,null,null,null,null,null,null,null,null,null,null,null,null,null,null,null,null,0,"@","@","@","@","@","@","@","@","@","@","@","@","@","@","@","@","@","@","@","@","@","@","@","@","@","@","@","@","@","@","@",{"$f":"'Month 4'!BL60","v":"@"},{"$f":"'Month 4'!BK60","v":"@"},{"$f":"'Month 4'!BJ60","v":"@"},{"$f":"'Month 4'!BI60","v":"@"},{"$error":"#N/A"},{"$error":"#N/A"},{"$error":"#N/A"},{"$error":"#N/A"},{"$f":"IF(ISNUMBER(SUM(COUNTIF(INDIRECT(CR60):INDIRECT(CS60),2),COUNTIF(INDIRECT(CR60):INDIRECT(CS60),1),COUNTIF(INDIRECT(CR60):INDIRECT(CS60),0))),SUM(COUNTIF(INDIRECT(CR60):INDIRECT(CS60),2),COUNTIF(INDIRECT(CR60):INDIRECT(CS60),1),COUNTIF(INDIRECT(CR60):INDIRECT(CS60),0)),\"\")","v":""},{"$f":"IF(ISNUMBER(SUM(COUNTIF(INDIRECT(CR60):INDIRECT(CT60),2),COUNTIF(INDIRECT(CR60):INDIRECT(CT60),1),COUNTIF(INDIRECT(CR60):INDIRECT(CT60),0))),SUM(COUNTIF(INDIRECT(CR60):INDIRECT(CT60),2),COUNTIF(INDIRECT(CR60):INDIRECT(CT60),1),COUNTIF(INDIRECT(CR60):INDIRECT(CT60),0)),\"\")","v":""},{"$f":"IF(ISNUMBER(SUM(COUNTIF(INDIRECT(CR60):INDIRECT(CU60),1),COUNTIF(INDIRECT(CR60):INDIRECT(CU60),0))),SUM(COUNTIF(INDIRECT(CR60):INDIRECT(CU60),1),COUNTIF(INDIRECT(CR60):INDIRECT(CU60),0)),\"\")","v":""},{"$f":"SUM(INDIRECT(CR60):INDIRECT(CS60))","v":{"$error":"#N/A"}},{"$f":"SUM(INDIRECT(CR60):INDIRECT(CT60))","v":{"$error":"#N/A"}},{"$f":"SUM(INDIRECT(CR60):INDIRECT(CU60))","v":{"$error":"#N/A"}}]
[null,null,1,{"$f":"IF(Modifications!$C$36=2,\"N\",\"\")","v":""},"",{"$f":"IF(ISBLANK('Month 1'!$F$61),\"\",'Month 1'!$F$61)","v":""},null,null,null,null,null,null,null,null,null,null,null,null,null,null,null,null,null,null,null,null,null,null,null,null,null,null,null,null,null,null,null,null,null,null,null,null,null,null,null,null,null,null,null,null,null,null,null,null,null,null,null,null,null,0,"@","@","@","@","@","@","@","@","@","@","@","@","@","@","@","@","@","@","@","@","@","@","@","@","@","@","@","@","@","@","@",{"$f":"'Month 4'!BL61","v":"@"},{"$f":"'Month 4'!BK61","v":"@"},{"$f":"'Month 4'!BJ61","v":"@"},{"$f":"'Month 4'!BI61","v":"@"},{"$error":"#N/A"},{"$error":"#N/A"},{"$error":"#N/A"},{"$error":"#N/A"},{"$f":"IF(ISNUMBER(SUM(COUNTIF(INDIRECT(CR61):INDIRECT(CS61),2),COUNTIF(INDIRECT(CR61):INDIRECT(CS61),1),COUNTIF(INDIRECT(CR61):INDIRECT(CS61),0))),SUM(COUNTIF(INDIRECT(CR61):INDIRECT(CS61),2),COUNTIF(INDIRECT(CR61):INDIRECT(CS61),1),COUNTIF(INDIRECT(CR61):INDIRECT(CS61),0)),\"\")","v":""},{"$f":"IF(ISNUMBER(SUM(COUNTIF(INDIRECT(CR61):INDIRECT(CT61),2),COUNTIF(INDIRECT(CR61):INDIRECT(CT61),1),COUNTIF(INDIRECT(CR61):INDIRECT(CT61),0))),SUM(COUNTIF(INDIRECT(CR61):INDIRECT(CT61),2),COUNTIF(INDIRECT(CR61):INDIRECT(CT61),1),COUNTIF(INDIRECT(CR61):INDIRECT(CT61),0)),\"\")","v":""},{"$f":"IF(ISNUMBER(SUM(COUNTIF(INDIRECT(CR61):INDIRECT(CU61),1),COUNTIF(INDIRECT(CR61):INDIRECT(CU61),0))),SUM(COUNTIF(INDIRECT(CR61):INDIRECT(CU61),1),COUNTIF(INDIRECT(CR61):INDIRECT(CU61),0)),\"\")","v":""},{"$f":"SUM(INDIRECT(CR61):INDIRECT(CS61))","v":{"$error":"#N/A"}},{"$f":"SUM(INDIRECT(CR61):INDIRECT(CT61))","v":{"$error":"#N/A"}},{"$f":"SUM(INDIRECT(CR61):INDIRECT(CU61))","v":{"$error":"#N/A"}}]
[null,null,1,{"$f":"IF(Modifications!$C$37=2,\"N\",\"\")","v":""},"",{"$f":"IF(ISBLANK('Month 1'!$F$62),\"\",'Month 1'!$F$62)","v":""},null,null,null,null,null,null,null,null,null,null,null,null,null,null,null,null,null,null,null,null,null,null,null,null,null,null,null,null,null,null,null,null,null,null,null,null,null,null,null,null,null,null,null,null,null,null,null,null,null,null,null,null,null,0,"@","@","@","@","@","@","@","@","@","@","@","@","@","@","@","@","@","@","@","@","@","@","@","@","@","@","@","@","@","@","@",{"$f":"'Month 4'!BL62","v":"@"},{"$f":"'Month 4'!BK62","v":"@"},{"$f":"'Month 4'!BJ62","v":"@"},{"$f":"'Month 4'!BI62","v":"@"},{"$error":"#N/A"},{"$error":"#N/A"},{"$error":"#N/A"},{"$error":"#N/A"},{"$f":"IF(ISNUMBER(SUM(COUNTIF(INDIRECT(CR62):INDIRECT(CS62),2),COUNTIF(INDIRECT(CR62):INDIRECT(CS62),1),COUNTIF(INDIRECT(CR62):INDIRECT(CS62),0))),SUM(COUNTIF(INDIRECT(CR62):INDIRECT(CS62),2),COUNTIF(INDIRECT(CR62):INDIRECT(CS62),1),COUNTIF(INDIRECT(CR62):INDIRECT(CS62),0)),\"\")","v":""},{"$f":"IF(ISNUMBER(SUM(COUNTIF(INDIRECT(CR62):INDIRECT(CT62),2),COUNTIF(INDIRECT(CR62):INDIRECT(CT62),1),COUNTIF(INDIRECT(CR62):INDIRECT(CT62),0))),SUM(COUNTIF(INDIRECT(CR62):INDIRECT(CT62),2),COUNTIF(INDIRECT(CR62):INDIRECT(CT62),1),COUNTIF(INDIRECT(CR62):INDIRECT(CT62),0)),\"\")","v":""},{"$f":"IF(ISNUMBER(SUM(COUNTIF(INDIRECT(CR62):INDIRECT(CU62),1),COUNTIF(INDIRECT(CR62):INDIRECT(CU62),0))),SUM(COUNTIF(INDIRECT(CR62):INDIRECT(CU62),1),COUNTIF(INDIRECT(CR62):INDIRECT(CU62),0)),\"\")","v":""},{"$f":"SUM(INDIRECT(CR62):INDIRECT(CS62))","v":{"$error":"#N/A"}},{"$f":"SUM(INDIRECT(CR62):INDIRECT(CT62))","v":{"$error":"#N/A"}},{"$f":"SUM(INDIRECT(CR62):INDIRECT(CU62))","v":{"$error":"#N/A"}}]
[null,null,1,{"$f":"IF(Modifications!$C$38=2,\"N\",\"\")","v":""},"",{"$f":"IF(ISBLANK('Month 1'!$F$63),\"\",'Month 1'!$F$63)","v":""},null,null,null,null,null,null,null,null,null,null,null,null,null,null,null,null,null,null,null,null,null,null,null,null,null,null,null,null,null,null,null,null,null,null,null,null,null,null,null,null,null,null,null,null,null,null,null,null,null,null,null,null,null,0,"@","@","@","@","@","@","@","@","@","@","@","@","@","@","@","@","@","@","@","@","@","@","@","@","@","@","@","@","@","@","@",{"$f":"'Month 4'!BL63","v":"@"},{"$f":"'Month 4'!BK63","v":"@"},{"$f":"'Month 4'!BJ63","v":"@"},{"$f":"'Month 4'!BI63","v":"@"},{"$error":"#N/A"},{"$error":"#N/A"},{"$error":"#N/A"},{"$error":"#N/A"},{"$f":"IF(ISNUMBER(SUM(COUNTIF(INDIRECT(CR63):INDIRECT(CS63),2),COUNTIF(INDIRECT(CR63):INDIRECT(CS63),1),COUNTIF(INDIRECT(CR63):INDIRECT(CS63),0))),SUM(COUNTIF(INDIRECT(CR63):INDIRECT(CS63),2),COUNTIF(INDIRECT(CR63):INDIRECT(CS63),1),COUNTIF(INDIRECT(CR63):INDIRECT(CS63),0)),\"\")","v":""},{"$f":"IF(ISNUMBER(SUM(COUNTIF(INDIRECT(CR63):INDIRECT(CT63),2),COUNTIF(INDIRECT(CR63):INDIRECT(CT63),1),COUNTIF(INDIRECT(CR63):INDIRECT(CT63),0))),SUM(COUNTIF(INDIRECT(CR63):INDIRECT(CT63),2),COUNTIF(INDIRECT(CR63):INDIRECT(CT63),1),COUNTIF(INDIRECT(CR63):INDIRECT(CT63),0)),\"\")","v":""},{"$f":"IF(ISNUMBER(SUM(COUNTIF(INDIRECT(CR63):INDIRECT(CU63),1),COUNTIF(INDIRECT(CR63):INDIRECT(CU63),0))),SUM(COUNTIF(INDIRECT(CR63):INDIRECT(CU63),1),COUNTIF(INDIRECT(CR63):INDIRECT(CU63),0)),\"\")","v":""},{"$f":"SUM(INDIRECT(CR63):INDIRECT(CS63))","v":{"$error":"#N/A"}},{"$f":"SUM(INDIRECT(CR63):INDIRECT(CT63))","v":{"$error":"#N/A"}},{"$f":"SUM(INDIRECT(CR63):INDIRECT(CU63))","v":{"$error":"#N/A"}}]
[null,null,1,{"$f":"IF(Modifications!$C$39=2,\"N\",\"\")","v":""},"",{"$f":"IF(ISBLANK('Month 1'!$F$64),\"\",'Month 1'!$F$64)","v":""},null,null,null,null,null,null,null,null,null,null,null,null,null,null,null,null,null,null,null,null,null,null,null,null,null,null,null,null,null,null,null,null,null,null,null,null,null,null,null,null,null,null,null,null,null,null,null,null,null,null,null,null,null,0,"@","@","@","@","@","@","@","@","@","@","@","@","@","@","@","@","@","@","@","@","@","@","@","@","@","@","@","@","@","@","@",{"$f":"'Month 4'!BL64","v":"@"},{"$f":"'Month 4'!BK64","v":"@"},{"$f":"'Month 4'!BJ64","v":"@"},{"$f":"'Month 4'!BI64","v":"@"},{"$error":"#N/A"},{"$error":"#N/A"},{"$error":"#N/A"},{"$error":"#N/A"},{"$f":"IF(ISNUMBER(SUM(COUNTIF(INDIRECT(CR64):INDIRECT(CS64),2),COUNTIF(INDIRECT(CR64):INDIRECT(CS64),1),COUNTIF(INDIRECT(CR64):INDIRECT(CS64),0))),SUM(COUNTIF(INDIRECT(CR64):INDIRECT(CS64),2),COUNTIF(INDIRECT(CR64):INDIRECT(CS64),1),COUNTIF(INDIRECT(CR64):INDIRECT(CS64),0)),\"\")","v":""},{"$f":"IF(ISNUMBER(SUM(COUNTIF(INDIRECT(CR64):INDIRECT(CT64),2),COUNTIF(INDIRECT(CR64):INDIRECT(CT64),1),COUNTIF(INDIRECT(CR64):INDIRECT(CT64),0))),SUM(COUNTIF(INDIRECT(CR64):INDIRECT(CT64),2),COUNTIF(INDIRECT(CR64):INDIRECT(CT64),1),COUNTIF(INDIRECT(CR64):INDIRECT(CT64),0)),\"\")","v":""},{"$f":"IF(ISNUMBER(SUM(COUNTIF(INDIRECT(CR64):INDIRECT(CU64),1),COUNTIF(INDIRECT(CR64):INDIRECT(CU64),0))),SUM(COUNTIF(INDIRECT(CR64):INDIRECT(CU64),1),COUNTIF(INDIRECT(CR64):INDIRECT(CU64),0)),\"\")","v":""},{"$f":"SUM(INDIRECT(CR64):INDIRECT(CS64))","v":{"$error":"#N/A"}},{"$f":"SUM(INDIRECT(CR64):INDIRECT(CT64))","v":{"$error":"#N/A"}},{"$f":"SUM(INDIRECT(CR64):INDIRECT(CU64))","v":{"$error":"#N/A"}}]
[null,null,1,{"$f":"IF(Modifications!$C$40=2,\"N\",\"\")","v":""},"",{"$f":"IF(ISBLANK('Month 1'!$F$65),\"\",'Month 1'!$F$65)","v":""},null,null,null,null,null,null,null,null,null,null,null,null,null,null,null,null,null,null,null,null,null,null,null,null,null,null,null,null,null,null,null,null,null,null,null,null,null,null,null,null,null,null,null,null,null,null,null,null,null,null,null,null,null,0,"@","@","@","@","@","@","@","@","@","@","@","@","@","@","@","@","@","@","@","@","@","@","@","@","@","@","@","@","@","@","@",{"$f":"'Month 4'!BL65","v":"@"},{"$f":"'Month 4'!BK65","v":"@"},{"$f":"'Month 4'!BJ65","v":"@"},{"$f":"'Month 4'!BI65","v":"@"},{"$error":"#N/A"},{"$error":"#N/A"},{"$error":"#N/A"},{"$error":"#N/A"},{"$f":"IF(ISNUMBER(SUM(COUNTIF(INDIRECT(CR65):INDIRECT(CS65),2),COUNTIF(INDIRECT(CR65):INDIRECT(CS65),1),COUNTIF(INDIRECT(CR65):INDIRECT(CS65),0))),SUM(COUNTIF(INDIRECT(CR65):INDIRECT(CS65),2),COUNTIF(INDIRECT(CR65):INDIRECT(CS65),1),COUNTIF(INDIRECT(CR65):INDIRECT(CS65),0)),\"\")","v":""},{"$f":"IF(ISNUMBER(SUM(COUNTIF(INDIRECT(CR65):INDIRECT(CT65),2),COUNTIF(INDIRECT(CR65):INDIRECT(CT65),1),COUNTIF(INDIRECT(CR65):INDIRECT(CT65),0))),SUM(COUNTIF(INDIRECT(CR65):INDIRECT(CT65),2),COUNTIF(INDIRECT(CR65):INDIRECT(CT65),1),COUNTIF(INDIRECT(CR65):INDIRECT(CT65),0)),\"\")","v":""},{"$f":"IF(ISNUMBER(SUM(COUNTIF(INDIRECT(CR65):INDIRECT(CU65),1),COUNTIF(INDIRECT(CR65):INDIRECT(CU65),0))),SUM(COUNTIF(INDIRECT(CR65):INDIRECT(CU65),1),COUNTIF(INDIRECT(CR65):INDIRECT(CU65),0)),\"\")","v":""},{"$f":"SUM(INDIRECT(CR65):INDIRECT(CS65))","v":{"$error":"#N/A"}},{"$f":"SUM(INDIRECT(CR65):INDIRECT(CT65))","v":{"$error":"#N/A"}},{"$f":"SUM(INDIRECT(CR65):INDIRECT(CU65))","v":{"$error":"#N/A"}}]
[null,null,1,{"$f":"IF(Modifications!$C$41=2,\"N\",\"\")","v":""},"",{"$f":"IF(ISBLANK('Month 1'!$F$66),\"\",'Month 1'!$F$66)","v":""},null,null,null,null,null,null,null,null,null,null,null,null,null,null,null,null,null,null,null,null,null,null,null,null,null,null,null,null,null,null,null,null,null,null,null,null,null,null,null,null,null,null,null,null,null,null,null,null,null,null,null,null,null,0,"@","@","@","@","@","@","@","@","@","@","@","@","@","@","@","@","@","@","@","@","@","@","@","@","@","@","@","@","@","@","@",{"$f":"'Month 4'!BL66","v":"@"},{"$f":"'Month 4'!BK66","v":"@"},{"$f":"'Month 4'!BJ66","v":"@"},{"$f":"'Month 4'!BI66","v":"@"},{"$error":"#N/A"},{"$error":"#N/A"},{"$error":"#N/A"},{"$error":"#N/A"},{"$f":"IF(ISNUMBER(SUM(COUNTIF(INDIRECT(CR66):INDIRECT(CS66),2),COUNTIF(INDIRECT(CR66):INDIRECT(CS66),1),COUNTIF(INDIRECT(CR66):INDIRECT(CS66),0))),SUM(COUNTIF(INDIRECT(CR66):INDIRECT(CS66),2),COUNTIF(INDIRECT(CR66):INDIRECT(CS66),1),COUNTIF(INDIRECT(CR66):INDIRECT(CS66),0)),\"\")","v":""},{"$f":"IF(ISNUMBER(SUM(COUNTIF(INDIRECT(CR66):INDIRECT(CT66),2),COUNTIF(INDIRECT(CR66):INDIRECT(CT66),1),COUNTIF(INDIRECT(CR66):INDIRECT(CT66),0))),SUM(COUNTIF(INDIRECT(CR66):INDIRECT(CT66),2),COUNTIF(INDIRECT(CR66):INDIRECT(CT66),1),COUNTIF(INDIRECT(CR66):INDIRECT(CT66),0)),\"\")","v":""},{"$f":"IF(ISNUMBER(SUM(COUNTIF(INDIRECT(CR66):INDIRECT(CU66),1),COUNTIF(INDIRECT(CR66):INDIRECT(CU66),0))),SUM(COUNTIF(INDIRECT(CR66):INDIRECT(CU66),1),COUNTIF(INDIRECT(CR66):INDIRECT(CU66),0)),\"\")","v":""},{"$f":"SUM(INDIRECT(CR66):INDIRECT(CS66))","v":{"$error":"#N/A"}},{"$f":"SUM(INDIRECT(CR66):INDIRECT(CT66))","v":{"$error":"#N/A"}},{"$f":"SUM(INDIRECT(CR66):INDIRECT(CU66))","v":{"$error":"#N/A"}}]
[null,null,1,{"$f":"IF(Modifications!$C$42=2,\"N\",\"\")","v":""},"",{"$f":"IF(ISBLANK('Month 1'!$F$67),\"\",'Month 1'!$F$67)","v":""},null,null,null,null,null,null,null,null,null,null,null,null,null,null,null,null,null,null,null,null,null,null,null,null,null,null,null,null,null,null,null,null,null,null,null,null,null,null,null,null,null,null,null,null,null,null,null,null,null,null,null,null,null,0,"@","@","@","@","@","@","@","@","@","@","@","@","@","@","@","@","@","@","@","@","@","@","@","@","@","@","@","@","@","@","@",{"$f":"'Month 4'!BL67","v":"@"},{"$f":"'Month 4'!BK67","v":"@"},{"$f":"'Month 4'!BJ67","v":"@"},{"$f":"'Month 4'!BI67","v":"@"},{"$error":"#N/A"},{"$error":"#N/A"},{"$error":"#N/A"},{"$error":"#N/A"},{"$f":"IF(ISNUMBER(SUM(COUNTIF(INDIRECT(CR67):INDIRECT(CS67),2),COUNTIF(INDIRECT(CR67):INDIRECT(CS67),1),COUNTIF(INDIRECT(CR67):INDIRECT(CS67),0))),SUM(COUNTIF(INDIRECT(CR67):INDIRECT(CS67),2),COUNTIF(INDIRECT(CR67):INDIRECT(CS67),1),COUNTIF(INDIRECT(CR67):INDIRECT(CS67),0)),\"\")","v":""},{"$f":"IF(ISNUMBER(SUM(COUNTIF(INDIRECT(CR67):INDIRECT(CT67),2),COUNTIF(INDIRECT(CR67):INDIRECT(CT67),1),COUNTIF(INDIRECT(CR67):INDIRECT(CT67),0))),SUM(COUNTIF(INDIRECT(CR67):INDIRECT(CT67),2),COUNTIF(INDIRECT(CR67):INDIRECT(CT67),1),COUNTIF(INDIRECT(CR67):INDIRECT(CT67),0)),\"\")","v":""},{"$f":"IF(ISNUMBER(SUM(COUNTIF(INDIRECT(CR67):INDIRECT(CU67),1),COUNTIF(INDIRECT(CR67):INDIRECT(CU67),0))),SUM(COUNTIF(INDIRECT(CR67):INDIRECT(CU67),1),COUNTIF(INDIRECT(CR67):INDIRECT(CU67),0)),\"\")","v":""},{"$f":"SUM(INDIRECT(CR67):INDIRECT(CS67))","v":{"$error":"#N/A"}},{"$f":"SUM(INDIRECT(CR67):INDIRECT(CT67))","v":{"$error":"#N/A"}},{"$f":"SUM(INDIRECT(CR67):INDIRECT(CU67))","v":{"$error":"#N/A"}}]
[null,null,1,{"$f":"IF(Modifications!$C$43=2,\"N\",\"\")","v":""},"",{"$f":"IF(ISBLANK('Month 1'!$F$68),\"\",'Month 1'!$F$68)","v":""},null,null,null,null,null,null,null,null,null,null,null,null,null,null,null,null,null,null,null,null,null,null,null,null,null,null,null,null,null,null,null,null,null,null,null,null,null,null,null,null,null,null,null,null,null,null,null,null,null,null,null,null,null,0,"@","@","@","@","@","@","@","@","@","@","@","@","@","@","@","@","@","@","@","@","@","@","@","@","@","@","@","@","@","@","@",{"$f":"'Month 4'!BL68","v":"@"},{"$f":"'Month 4'!BK68","v":"@"},{"$f":"'Month 4'!BJ68","v":"@"},{"$f":"'Month 4'!BI68","v":"@"},{"$error":"#N/A"},{"$error":"#N/A"},{"$error":"#N/A"},{"$error":"#N/A"},{"$f":"IF(ISNUMBER(SUM(COUNTIF(INDIRECT(CR68):INDIRECT(CS68),2),COUNTIF(INDIRECT(CR68):INDIRECT(CS68),1),COUNTIF(INDIRECT(CR68):INDIRECT(CS68),0))),SUM(COUNTIF(INDIRECT(CR68):INDIRECT(CS68),2),COUNTIF(INDIRECT(CR68):INDIRECT(CS68),1),COUNTIF(INDIRECT(CR68):INDIRECT(CS68),0)),\"\")","v":""},{"$f":"IF(ISNUMBER(SUM(COUNTIF(INDIRECT(CR68):INDIRECT(CT68),2),COUNTIF(INDIRECT(CR68):INDIRECT(CT68),1),COUNTIF(INDIRECT(CR68):INDIRECT(CT68),0))),SUM(COUNTIF(INDIRECT(CR68):INDIRECT(CT68),2),COUNTIF(INDIRECT(CR68):INDIRECT(CT68),1),COUNTIF(INDIRECT(CR68):INDIRECT(CT68),0)),\"\")","v":""},{"$f":"IF(ISNUMBER(SUM(COUNTIF(INDIRECT(CR68):INDIRECT(CU68),1),COUNTIF(INDIRECT(CR68):INDIRECT(CU68),0))),SUM(COUNTIF(INDIRECT(CR68):INDIRECT(CU68),1),COUNTIF(INDIRECT(CR68):INDIRECT(CU68),0)),\"\")","v":""},{"$f":"SUM(INDIRECT(CR68):INDIRECT(CS68))","v":{"$error":"#N/A"}},{"$f":"SUM(INDIRECT(CR68):INDIRECT(CT68))","v":{"$error":"#N/A"}},{"$f":"SUM(INDIRECT(CR68):INDIRECT(CU68))","v":{"$error":"#N/A"}}]
[null,null,1,{"$f":"IF(Modifications!$C$44=2,\"N\",\"\")","v":""},"",{"$f":"IF(ISBLANK('Month 1'!$F$69),\"\",'Month 1'!$F$69)","v":""},null,null,null,null,null,null,null,null,null,null,null,null,null,null,null,null,null,null,null,null,null,null,null,null,null,null,null,null,null,null,null,null,null,null,null,null,null,null,null,null,null,null,null,null,null,null,null,null,null,null,null,null,null,0,"@","@","@","@","@","@","@","@","@","@","@","@","@","@","@","@","@","@","@","@","@","@","@","@","@","@","@","@","@","@","@",{"$f":"'Month 4'!BL69","v":"@"},{"$f":"'Month 4'!BK69","v":"@"},{"$f":"'Month 4'!BJ69","v":"@"},{"$f":"'Month 4'!BI69","v":"@"},{"$error":"#N/A"},{"$error":"#N/A"},{"$error":"#N/A"},{"$error":"#N/A"},{"$f":"IF(ISNUMBER(SUM(COUNTIF(INDIRECT(CR69):INDIRECT(CS69),2),COUNTIF(INDIRECT(CR69):INDIRECT(CS69),1),COUNTIF(INDIRECT(CR69):INDIRECT(CS69),0))),SUM(COUNTIF(INDIRECT(CR69):INDIRECT(CS69),2),COUNTIF(INDIRECT(CR69):INDIRECT(CS69),1),COUNTIF(INDIRECT(CR69):INDIRECT(CS69),0)),\"\")","v":""},{"$f":"IF(ISNUMBER(SUM(COUNTIF(INDIRECT(CR69):INDIRECT(CT69),2),COUNTIF(INDIRECT(CR69):INDIRECT(CT69),1),COUNTIF(INDIRECT(CR69):INDIRECT(CT69),0))),SUM(COUNTIF(INDIRECT(CR69):INDIRECT(CT69),2),COUNTIF(INDIRECT(CR69):INDIRECT(CT69),1),COUNTIF(INDIRECT(CR69):INDIRECT(CT69),0)),\"\")","v":""},{"$f":"IF(ISNUMBER(SUM(COUNTIF(INDIRECT(CR69):INDIRECT(CU69),1),COUNTIF(INDIRECT(CR69):INDIRECT(CU69),0))),SUM(COUNTIF(INDIRECT(CR69):INDIRECT(CU69),1),COUNTIF(INDIRECT(CR69):INDIRECT(CU69),0)),\"\")","v":""},{"$f":"SUM(INDIRECT(CR69):INDIRECT(CS69))","v":{"$error":"#N/A"}},{"$f":"SUM(INDIRECT(CR69):INDIRECT(CT69))","v":{"$error":"#N/A"}},{"$f":"SUM(INDIRECT(CR69):INDIRECT(CU69))","v":{"$error":"#N/A"}}]
[null,null,1,{"$f":"IF(Modifications!$C$45=2,\"N\",\"\")","v":""},"",{"$f":"IF(ISBLANK('Month 1'!$F$70),\"\",'Month 1'!$F$70)","v":""},null,null,null,null,null,null,null,null,null,null,null,null,null,null,null,null,null,null,null,null,null,null,null,null,null,null,null,null,null,null,null,null,null,null,null,null,null,null,null,null,null,null,null,null,null,null,null,null,null,null,null,null,null,0,"@","@","@","@","@","@","@","@","@","@","@","@","@","@","@","@","@","@","@","@","@","@","@","@","@","@","@","@","@","@","@",{"$f":"'Month 4'!BL70","v":"@"},{"$f":"'Month 4'!BK70","v":"@"},{"$f":"'Month 4'!BJ70","v":"@"},{"$f":"'Month 4'!BI70","v":"@"},{"$error":"#N/A"},{"$error":"#N/A"},{"$error":"#N/A"},{"$error":"#N/A"},{"$f":"IF(ISNUMBER(SUM(COUNTIF(INDIRECT(CR70):INDIRECT(CS70),2),COUNTIF(INDIRECT(CR70):INDIRECT(CS70),1),COUNTIF(INDIRECT(CR70):INDIRECT(CS70),0))),SUM(COUNTIF(INDIRECT(CR70):INDIRECT(CS70),2),COUNTIF(INDIRECT(CR70):INDIRECT(CS70),1),COUNTIF(INDIRECT(CR70):INDIRECT(CS70),0)),\"\")","v":""},{"$f":"IF(ISNUMBER(SUM(COUNTIF(INDIRECT(CR70):INDIRECT(CT70),2),COUNTIF(INDIRECT(CR70):INDIRECT(CT70),1),COUNTIF(INDIRECT(CR70):INDIRECT(CT70),0))),SUM(COUNTIF(INDIRECT(CR70):INDIRECT(CT70),2),COUNTIF(INDIRECT(CR70):INDIRECT(CT70),1),COUNTIF(INDIRECT(CR70):INDIRECT(CT70),0)),\"\")","v":""},{"$f":"IF(ISNUMBER(SUM(COUNTIF(INDIRECT(CR70):INDIRECT(CU70),1),COUNTIF(INDIRECT(CR70):INDIRECT(CU70),0))),SUM(COUNTIF(INDIRECT(CR70):INDIRECT(CU70),1),COUNTIF(INDIRECT(CR70):INDIRECT(CU70),0)),\"\")","v":""},{"$f":"SUM(INDIRECT(CR70):INDIRECT(CS70))","v":{"$error":"#N/A"}},{"$f":"SUM(INDIRECT(CR70):INDIRECT(CT70))","v":{"$error":"#N/A"}},{"$f":"SUM(INDIRECT(CR70):INDIRECT(CU70))","v":{"$error":"#N/A"}}]
[null,null,1,{"$f":"IF(Modifications!$C$46=2,\"N\",\"\")","v":""},"",{"$f":"IF(ISBLANK('Month 1'!$F$71),\"\",'Month 1'!$F$71)","v":""},null,null,null,null,null,null,null,null,null,null,null,null,null,null,null,null,null,null,null,null,null,null,null,null,null,null,null,null,null,null,null,null,null,null,null,null,null,null,null,null,null,null,null,null,null,null,null,null,null,null,null,null,null,0,"@","@","@","@","@","@","@","@","@","@","@","@","@","@","@","@","@","@","@","@","@","@","@","@","@","@","@","@","@","@","@",{"$f":"'Month 4'!BL71","v":"@"},{"$f":"'Month 4'!BK71","v":"@"},{"$f":"'Month 4'!BJ71","v":"@"},{"$f":"'Month 4'!BI71","v":"@"},{"$error":"#N/A"},{"$error":"#N/A"},{"$error":"#N/A"},{"$error":"#N/A"},{"$f":"IF(ISNUMBER(SUM(COUNTIF(INDIRECT(CR71):INDIRECT(CS71),2),COUNTIF(INDIRECT(CR71):INDIRECT(CS71),1),COUNTIF(INDIRECT(CR71):INDIRECT(CS71),0))),SUM(COUNTIF(INDIRECT(CR71):INDIRECT(CS71),2),COUNTIF(INDIRECT(CR71):INDIRECT(CS71),1),COUNTIF(INDIRECT(CR71):INDIRECT(CS71),0)),\"\")","v":""},{"$f":"IF(ISNUMBER(SUM(COUNTIF(INDIRECT(CR71):INDIRECT(CT71),2),COUNTIF(INDIRECT(CR71):INDIRECT(CT71),1),COUNTIF(INDIRECT(CR71):INDIRECT(CT71),0))),SUM(COUNTIF(INDIRECT(CR71):INDIRECT(CT71),2),COUNTIF(INDIRECT(CR71):INDIRECT(CT71),1),COUNTIF(INDIRECT(CR71):INDIRECT(CT71),0)),\"\")","v":""},{"$f":"IF(ISNUMBER(SUM(COUNTIF(INDIRECT(CR71):INDIRECT(CU71),1),COUNTIF(INDIRECT(CR71):INDIRECT(CU71),0))),SUM(COUNTIF(INDIRECT(CR71):INDIRECT(CU71),1),COUNTIF(INDIRECT(CR71):INDIRECT(CU71),0)),\"\")","v":""},{"$f":"SUM(INDIRECT(CR71):INDIRECT(CS71))","v":{"$error":"#N/A"}},{"$f":"SUM(INDIRECT(CR71):INDIRECT(CT71))","v":{"$error":"#N/A"}},{"$f":"SUM(INDIRECT(CR71):INDIRECT(CU71))","v":{"$error":"#N/A"}}]
[null,null,1,{"$f":"IF(Modifications!$C$47=2,\"N\",\"\")","v":""},"",{"$f":"IF(ISBLANK('Month 1'!$F$72),\"\",'Month 1'!$F$72)","v":""},null,null,null,null,null,null,null,null,null,null,null,null,null,null,null,null,null,null,null,null,null,null,null,null,null,null,null,null,null,null,null,null,null,null,null,null,null,null,null,null,null,null,null,null,null,null,null,null,null,null,null,null,null,0,"@","@","@","@","@","@","@","@","@","@","@","@","@","@","@","@","@","@","@","@","@","@","@","@","@","@","@","@","@","@","@",{"$f":"'Month 4'!BL72","v":"@"},{"$f":"'Month 4'!BK72","v":"@"},{"$f":"'Month 4'!BJ72","v":"@"},{"$f":"'Month 4'!BI72","v":"@"},{"$error":"#N/A"},{"$error":"#N/A"},{"$error":"#N/A"},{"$error":"#N/A"},{"$f":"IF(ISNUMBER(SUM(COUNTIF(INDIRECT(CR72):INDIRECT(CS72),2),COUNTIF(INDIRECT(CR72):INDIRECT(CS72),1),COUNTIF(INDIRECT(CR72):INDIRECT(CS72),0))),SUM(COUNTIF(INDIRECT(CR72):INDIRECT(CS72),2),COUNTIF(INDIRECT(CR72):INDIRECT(CS72),1),COUNTIF(INDIRECT(CR72):INDIRECT(CS72),0)),\"\")","v":""},{"$f":"IF(ISNUMBER(SUM(COUNTIF(INDIRECT(CR72):INDIRECT(CT72),2),COUNTIF(INDIRECT(CR72):INDIRECT(CT72),1),COUNTIF(INDIRECT(CR72):INDIRECT(CT72),0))),SUM(COUNTIF(INDIRECT(CR72):INDIRECT(CT72),2),COUNTIF(INDIRECT(CR72):INDIRECT(CT72),1),COUNTIF(INDIRECT(CR72):INDIRECT(CT72),0)),\"\")","v":""},{"$f":"IF(ISNUMBER(SUM(COUNTIF(INDIRECT(CR72):INDIRECT(CU72),1),COUNTIF(INDIRECT(CR72):INDIRECT(CU72),0))),SUM(COUNTIF(INDIRECT(CR72):INDIRECT(CU72),1),COUNTIF(INDIRECT(CR72):INDIRECT(CU72),0)),\"\")","v":""},{"$f":"SUM(INDIRECT(CR72):INDIRECT(CS72))","v":{"$error":"#N/A"}},{"$f":"SUM(INDIRECT(CR72):INDIRECT(CT72))","v":{"$error":"#N/A"}},{"$f":"SUM(INDIRECT(CR72):INDIRECT(CU72))","v":{"$error":"#N/A"}}]
[null,null,1,{"$f":"IF(Modifications!$C$48=2,\"N\",\"\")","v":""},"",{"$f":"IF(ISBLANK('Month 1'!$F$73),\"\",'Month 1'!$F$73)","v":""},null,null,null,null,null,null,null,null,null,null,null,null,null,null,null,null,null,null,null,null,null,null,null,null,null,null,null,null,null,null,null,null,null,null,null,null,null,null,null,null,null,null,null,null,null,null,null,null,null,null,null,null,null,0,"@","@","@","@","@","@","@","@","@","@","@","@","@","@","@","@","@","@","@","@","@","@","@","@","@","@","@","@","@","@","@",{"$f":"'Month 4'!BL73","v":"@"},{"$f":"'Month 4'!BK73","v":"@"},{"$f":"'Month 4'!BJ73","v":"@"},{"$f":"'Month 4'!BI73","v":"@"},{"$error":"#N/A"},{"$error":"#N/A"},{"$error":"#N/A"},{"$error":"#N/A"},{"$f":"IF(ISNUMBER(SUM(COUNTIF(INDIRECT(CR73):INDIRECT(CS73),2),COUNTIF(INDIRECT(CR73):INDIRECT(CS73),1),COUNTIF(INDIRECT(CR73):INDIRECT(CS73),0))),SUM(COUNTIF(INDIRECT(CR73):INDIRECT(CS73),2),COUNTIF(INDIRECT(CR73):INDIRECT(CS73),1),COUNTIF(INDIRECT(CR73):INDIRECT(CS73),0)),\"\")","v":""},{"$f":"IF(ISNUMBER(SUM(COUNTIF(INDIRECT(CR73):INDIRECT(CT73),2),COUNTIF(INDIRECT(CR73):INDIRECT(CT73),1),COUNTIF(INDIRECT(CR73):INDIRECT(CT73),0))),SUM(COUNTIF(INDIRECT(CR73):INDIRECT(CT73),2),COUNTIF(INDIRECT(CR73):INDIRECT(CT73),1),COUNTIF(INDIRECT(CR73):INDIRECT(CT73),0)),\"\")","v":""},{"$f":"IF(ISNUMBER(SUM(COUNTIF(INDIRECT(CR73):INDIRECT(CU73),1),COUNTIF(INDIRECT(CR73):INDIRECT(CU73),0))),SUM(COUNTIF(INDIRECT(CR73):INDIRECT(CU73),1),COUNTIF(INDIRECT(CR73):INDIRECT(CU73),0)),\"\")","v":""},{"$f":"SUM(INDIRECT(CR73):INDIRECT(CS73))","v":{"$error":"#N/A"}},{"$f":"SUM(INDIRECT(CR73):INDIRECT(CT73))","v":{"$error":"#N/A"}},{"$f":"SUM(INDIRECT(CR73):INDIRECT(CU73))","v":{"$error":"#N/A"}}]
[null,null,1,{"$f":"IF(Modifications!$C$49=2,\"N\",\"\")","v":""},"",{"$f":"IF(ISBLANK('Month 1'!$F$74),\"\",'Month 1'!$F$74)","v":""},null,null,null,null,null,null,null,null,null,null,null,null,null,null,null,null,null,null,null,null,null,null,null,null,null,null,null,null,null,null,null,null,null,null,null,null,null,null,null,null,null,null,null,null,null,null,null,null,null,null,null,null,null,0,"@","@","@","@","@","@","@","@","@","@","@","@","@","@","@","@","@","@","@","@","@","@","@","@","@","@","@","@","@","@","@",{"$f":"'Month 4'!BL74","v":"@"},{"$f":"'Month 4'!BK74","v":"@"},{"$f":"'Month 4'!BJ74","v":"@"},{"$f":"'Month 4'!BI74","v":"@"},{"$error":"#N/A"},{"$error":"#N/A"},{"$error":"#N/A"},{"$error":"#N/A"},{"$f":"IF(ISNUMBER(SUM(COUNTIF(INDIRECT(CR74):INDIRECT(CS74),2),COUNTIF(INDIRECT(CR74):INDIRECT(CS74),1),COUNTIF(INDIRECT(CR74):INDIRECT(CS74),0))),SUM(COUNTIF(INDIRECT(CR74):INDIRECT(CS74),2),COUNTIF(INDIRECT(CR74):INDIRECT(CS74),1),COUNTIF(INDIRECT(CR74):INDIRECT(CS74),0)),\"\")","v":""},{"$f":"IF(ISNUMBER(SUM(COUNTIF(INDIRECT(CR74):INDIRECT(CT74),2),COUNTIF(INDIRECT(CR74):INDIRECT(CT74),1),COUNTIF(INDIRECT(CR74):INDIRECT(CT74),0))),SUM(COUNTIF(INDIRECT(CR74):INDIRECT(CT74),2),COUNTIF(INDIRECT(CR74):INDIRECT(CT74),1),COUNTIF(INDIRECT(CR74):INDIRECT(CT74),0)),\"\")","v":""},{"$f":"IF(ISNUMBER(SUM(COUNTIF(INDIRECT(CR74):INDIRECT(CU74),1),COUNTIF(INDIRECT(CR74):INDIRECT(CU74),0))),SUM(COUNTIF(INDIRECT(CR74):INDIRECT(CU74),1),COUNTIF(INDIRECT(CR74):INDIRECT(CU74),0)),\"\")","v":""},{"$f":"SUM(INDIRECT(CR74):INDIRECT(CS74))","v":{"$error":"#N/A"}},{"$f":"SUM(INDIRECT(CR74):INDIRECT(CT74))","v":{"$error":"#N/A"}},{"$f":"SUM(INDIRECT(CR74):INDIRECT(CU74))","v":{"$error":"#N/A"}}]
[null,null,1,{"$f":"IF(Modifications!$C$50=2,\"N\",\"\")","v":""},"",{"$f":"IF(ISBLANK('Month 1'!$F$75),\"\",'Month 1'!$F$75)","v":""},null,null,null,null,null,null,null,null,null,null,null,null,null,null,null,null,null,null,null,null,null,null,null,null,null,null,null,null,null,null,null,null,null,null,null,null,null,null,null,null,null,null,null,null,null,null,null,null,null,null,null,null,null,0,"@","@","@","@","@","@","@","@","@","@","@","@","@","@","@","@","@","@","@","@","@","@","@","@","@","@","@","@","@","@","@",{"$f":"'Month 4'!BL75","v":"@"},{"$f":"'Month 4'!BK75","v":"@"},{"$f":"'Month 4'!BJ75","v":"@"},{"$f":"'Month 4'!BI75","v":"@"},{"$error":"#N/A"},{"$error":"#N/A"},{"$error":"#N/A"},{"$error":"#N/A"},{"$f":"IF(ISNUMBER(SUM(COUNTIF(INDIRECT(CR75):INDIRECT(CS75),2),COUNTIF(INDIRECT(CR75):INDIRECT(CS75),1),COUNTIF(INDIRECT(CR75):INDIRECT(CS75),0))),SUM(COUNTIF(INDIRECT(CR75):INDIRECT(CS75),2),COUNTIF(INDIRECT(CR75):INDIRECT(CS75),1),COUNTIF(INDIRECT(CR75):INDIRECT(CS75),0)),\"\")","v":""},{"$f":"IF(ISNUMBER(SUM(COUNTIF(INDIRECT(CR75):INDIRECT(CT75),2),COUNTIF(INDIRECT(CR75):INDIRECT(CT75),1),COUNTIF(INDIRECT(CR75):INDIRECT(CT75),0))),SUM(COUNTIF(INDIRECT(CR75):INDIRECT(CT75),2),COUNTIF(INDIRECT(CR75):INDIRECT(CT75),1),COUNTIF(INDIRECT(CR75):INDIRECT(CT75),0)),\"\")","v":""},{"$f":"IF(ISNUMBER(SUM(COUNTIF(INDIRECT(CR75):INDIRECT(CU75),1),COUNTIF(INDIRECT(CR75):INDIRECT(CU75),0))),SUM(COUNTIF(INDIRECT(CR75):INDIRECT(CU75),1),COUNTIF(INDIRECT(CR75):INDIRECT(CU75),0)),\"\")","v":""},{"$f":"SUM(INDIRECT(CR75):INDIRECT(CS75))","v":{"$error":"#N/A"}},{"$f":"SUM(INDIRECT(CR75):INDIRECT(CT75))","v":{"$error":"#N/A"}},{"$f":"SUM(INDIRECT(CR75):INDIRECT(CU75))","v":{"$error":"#N/A"}}]
[null,null,1,{"$f":"IF(Modifications!$C$51=2,\"N\",\"\")","v":""},"",{"$f":"IF(ISBLANK('Month 1'!$F$76),\"\",'Month 1'!$F$76)","v":""},null,null,null,null,null,null,null,null,null,null,null,null,null,null,null,null,null,null,null,null,null,null,null,null,null,null,null,null,null,null,null,null,null,null,null,null,null,null,null,null,null,null,null,null,null,null,null,null,null,null,null,null,null,0,"@","@","@","@","@","@","@","@","@","@","@","@","@","@","@","@","@","@","@","@","@","@","@","@","@","@","@","@","@","@","@",{"$f":"'Month 4'!BL76","v":"@"},{"$f":"'Month 4'!BK76","v":"@"},{"$f":"'Month 4'!BJ76","v":"@"},{"$f":"'Month 4'!BI76","v":"@"},{"$error":"#N/A"},{"$error":"#N/A"},{"$error":"#N/A"},{"$error":"#N/A"},{"$f":"IF(ISNUMBER(SUM(COUNTIF(INDIRECT(CR76):INDIRECT(CS76),2),COUNTIF(INDIRECT(CR76):INDIRECT(CS76),1),COUNTIF(INDIRECT(CR76):INDIRECT(CS76),0))),SUM(COUNTIF(INDIRECT(CR76):INDIRECT(CS76),2),COUNTIF(INDIRECT(CR76):INDIRECT(CS76),1),COUNTIF(INDIRECT(CR76):INDIRECT(CS76),0)),\"\")","v":""},{"$f":"IF(ISNUMBER(SUM(COUNTIF(INDIRECT(CR76):INDIRECT(CT76),2),COUNTIF(INDIRECT(CR76):INDIRECT(CT76),1),COUNTIF(INDIRECT(CR76):INDIRECT(CT76),0))),SUM(COUNTIF(INDIRECT(CR76):INDIRECT(CT76),2),COUNTIF(INDIRECT(CR76):INDIRECT(CT76),1),COUNTIF(INDIRECT(CR76):INDIRECT(CT76),0)),\"\")","v":""},{"$f":"IF(ISNUMBER(SUM(COUNTIF(INDIRECT(CR76):INDIRECT(CU76),1),COUNTIF(INDIRECT(CR76):INDIRECT(CU76),0))),SUM(COUNTIF(INDIRECT(CR76):INDIRECT(CU76),1),COUNTIF(INDIRECT(CR76):INDIRECT(CU76),0)),\"\")","v":""},{"$f":"SUM(INDIRECT(CR76):INDIRECT(CS76))","v":{"$error":"#N/A"}},{"$f":"SUM(INDIRECT(CR76):INDIRECT(CT76))","v":{"$error":"#N/A"}},{"$f":"SUM(INDIRECT(CR76):INDIRECT(CU76))","v":{"$error":"#N/A"}}]
[null,null,null,null,null,null,null,null,null,null,null,null,null,null,null,null,null,null,null,null,null,null,null,null,null,null,null,null,null,null,null,null,null,null,null,null,null,null,null,null,null,null,null,null,null,null,null,null,null,null,null,null,null,null,null,null,null,null,null,0,"@","@","@","@","@","@","@","@","@","@","@","@","@","@","@","@","@","@","@","@","@","@","@","@","@","@","@","@","@","@","@",{"$f":"'Month 4'!BL77","v":"@"},{"$f":"'Month 4'!BK77","v":"@"},{"$f":"'Month 4'!BJ77","v":"@"},{"$f":"'Month 4'!BI77","v":"@"},{"$error":"#N/A"},{"$error":"#N/A"},{"$error":"#N/A"},{"$error":"#N/A"},{"$f":"IF(ISNUMBER(SUM(COUNTIF(INDIRECT(CR77):INDIRECT(CS77),2),COUNTIF(INDIRECT(CR77):INDIRECT(CS77),1),COUNTIF(INDIRECT(CR77):INDIRECT(CS77),0))),SUM(COUNTIF(INDIRECT(CR77):INDIRECT(CS77),2),COUNTIF(INDIRECT(CR77):INDIRECT(CS77),1),COUNTIF(INDIRECT(CR77):INDIRECT(CS77),0)),\"\")","v":""},{"$f":"IF(ISNUMBER(SUM(COUNTIF(INDIRECT(CR77):INDIRECT(CT77),2),COUNTIF(INDIRECT(CR77):INDIRECT(CT77),1),COUNTIF(INDIRECT(CR77):INDIRECT(CT77),0))),SUM(COUNTIF(INDIRECT(CR77):INDIRECT(CT77),2),COUNTIF(INDIRECT(CR77):INDIRECT(CT77),1),COUNTIF(INDIRECT(CR77):INDIRECT(CT77),0)),\"\")","v":""},{"$f":"IF(ISNUMBER(SUM(COUNTIF(INDIRECT(CR77):INDIRECT(CU77),1),COUNTIF(INDIRECT(CR77):INDIRECT(CU77),0))),SUM(COUNTIF(INDIRECT(CR77):INDIRECT(CU77),1),COUNTIF(INDIRECT(CR77):INDIRECT(CU77),0)),\"\")","v":""},{"$f":"SUM(INDIRECT(CR77):INDIRECT(CS77))","v":{"$error":"#N/A"}},{"$f":"SUM(INDIRECT(CR77):INDIRECT(CT77))","v":{"$error":"#N/A"}},{"$f":"SUM(INDIRECT(CR77):INDIRECT(CU77))","v":{"$error":"#N/A"}}]
[null,null,null,null,null,null,null,null,null,null,null,null,null,null,null,null,null,null,null,null,null,null,null,null,null,null,null,null,null,null,null,null,null,null,null,null,null,null,null,null,null,null,null,null,null,null,null,null,null,null,null,null,null,null,null,null,null,null,null,0,"@","@","@","@","@","@","@","@","@","@","@","@","@","@","@","@","@","@","@","@","@","@","@","@","@","@","@","@","@","@","@",{"$f":"'Month 4'!BL78","v":"@"},{"$f":"'Month 4'!BK78","v":"@"},{"$f":"'Month 4'!BJ78","v":"@"},{"$f":"'Month 4'!BI78","v":"@"},{"$error":"#N/A"},{"$error":"#N/A"},{"$error":"#N/A"},{"$error":"#N/A"},{"$f":"IF(ISNUMBER(SUM(COUNTIF(INDIRECT(CR78):INDIRECT(CS78),2),COUNTIF(INDIRECT(CR78):INDIRECT(CS78),1),COUNTIF(INDIRECT(CR78):INDIRECT(CS78),0))),SUM(COUNTIF(INDIRECT(CR78):INDIRECT(CS78),2),COUNTIF(INDIRECT(CR78):INDIRECT(CS78),1),COUNTIF(INDIRECT(CR78):INDIRECT(CS78),0)),\"\")","v":""},{"$f":"IF(ISNUMBER(SUM(COUNTIF(INDIRECT(CR78):INDIRECT(CT78),2),COUNTIF(INDIRECT(CR78):INDIRECT(CT78),1),COUNTIF(INDIRECT(CR78):INDIRECT(CT78),0))),SUM(COUNTIF(INDIRECT(CR78):INDIRECT(CT78),2),COUNTIF(INDIRECT(CR78):INDIRECT(CT78),1),COUNTIF(INDIRECT(CR78):INDIRECT(CT78),0)),\"\")","v":""},{"$f":"IF(ISNUMBER(SUM(COUNTIF(INDIRECT(CR78):INDIRECT(CU78),1),COUNTIF(INDIRECT(CR78):INDIRECT(CU78),0))),SUM(COUNTIF(INDIRECT(CR78):INDIRECT(CU78),1),COUNTIF(INDIRECT(CR78):INDIRECT(CU78),0)),\"\")","v":""},{"$f":"SUM(INDIRECT(CR78):INDIRECT(CS78))","v":{"$error":"#N/A"}},{"$f":"SUM(INDIRECT(CR78):INDIRECT(CT78))","v":{"$error":"#N/A"}},{"$f":"SUM(INDIRECT(CR78):INDIRECT(CU78))","v":{"$error":"#N/A"}}]
[null,null,null,null,null,null,{"$f":"IF(ISBLANK(G26),\"\",G26)","v":""},"","","","","","","","","","","","","","","","","","","","","","","","","","","","","","",null,null,null,null,null,null,null,null,null,null,null,null,null,null,null,null,null,null,null,null,null,null,0,"@","@","@","@","@","@","@","@","@","@","@","@","@","@","@","@","@","@","@","@","@","@","@","@","@","@","@","@","@","@","@",{"$f":"'Month 4'!BL79","v":"@"},{"$f":"'Month 4'!BK79","v":"@"},{"$f":"'Month 4'!BJ79","v":"@"},{"$f":"'Month 4'!BI79","v":"@"},{"$error":"#N/A"},{"$error":"#N/A"},{"$error":"#N/A"},{"$error":"#N/A"},{"$f":"IF(ISNUMBER(SUM(COUNTIF(INDIRECT(CR79):INDIRECT(CS79),2),COUNTIF(INDIRECT(CR79):INDIRECT(CS79),1),COUNTIF(INDIRECT(CR79):INDIRECT(CS79),0))),SUM(COUNTIF(INDIRECT(CR79):INDIRECT(CS79),2),COUNTIF(INDIRECT(CR79):INDIRECT(CS79),1),COUNTIF(INDIRECT(CR79):INDIRECT(CS79),0)),\"\")","v":""},{"$f":"IF(ISNUMBER(SUM(COUNTIF(INDIRECT(CR79):INDIRECT(CT79),2),COUNTIF(INDIRECT(CR79):INDIRECT(CT79),1),COUNTIF(INDIRECT(CR79):INDIRECT(CT79),0))),SUM(COUNTIF(INDIRECT(CR79):INDIRECT(CT79),2),COUNTIF(INDIRECT(CR79):INDIRECT(CT79),1),COUNTIF(INDIRECT(CR79):INDIRECT(CT79),0)),\"\")","v":""},{"$f":"IF(ISNUMBER(SUM(COUNTIF(INDIRECT(CR79):INDIRECT(CU79),1),COUNTIF(INDIRECT(CR79):INDIRECT(CU79),0))),SUM(COUNTIF(INDIRECT(CR79):INDIRECT(CU79),1),COUNTIF(INDIRECT(CR79):INDIRECT(CU79),0)),\"\")","v":""},{"$f":"SUM(INDIRECT(CR79):INDIRECT(CS79))","v":{"$error":"#N/A"}},{"$f":"SUM(INDIRECT(CR79):INDIRECT(CT79))","v":{"$error":"#N/A"}},{"$f":"SUM(INDIRECT(CR79):INDIRECT(CU79))","v":{"$error":"#N/A"}}]
[null,null,null,null,null,null,{"$f":"IF(G24=\"\",NA(),G24)","v":{"$error":"#N/A"}},{"$error":"#N/A"},{"$error":"#N/A"},{"$error":"#N/A"},{"$error":"#N/A"},{"$error":"#N/A"},{"$error":"#N/A"},{"$error":"#N/A"},{"$error":"#N/A"},{"$error":"#N/A"},{"$error":"#N/A"},{"$error":"#N/A"},{"$error":"#N/A"},{"$error":"#N/A"},{"$error":"#N/A"},{"$error":"#N/A"},{"$error":"#N/A"},{"$error":"#N/A"},{"$error":"#N/A"},{"$error":"#N/A"},{"$error":"#N/A"},{"$error":"#N/A"},{"$error":"#N/A"},{"$error":"#N/A"},{"$error":"#N/A"},{"$error":"#N/A"},{"$error":"#N/A"},{"$error":"#N/A"},{"$error":"#N/A"},{"$error":"#N/A"},{"$error":"#N/A"},null,null,null,null,null,null,null,null,null,null,null,null,null,null,null,null,null,null,null,null,null,null,{"$f":"SUM(COUNTIF(BI80:CM80,1),COUNTIF(BI80:CM80,0))","v":0},"@","@","@","@","@","@","@","@","@","@","@","@","@","@","@","@","@","@","@","@","@","@","@","@","@","@","@","@","@","@","@",{"$f":"'Month 4'!BL80","v":"@"},{"$f":"'Month 4'!BK80","v":"@"},{"$f":"'Month 4'!BJ80","v":"@"},{"$f":"'Month 4'!BI80","v":"@"},{"$error":"#N/A"},{"$error":"#N/A"},{"$error":"#N/A"},{"$error":"#N/A"},{"$f":"IF(ISNUMBER(SUM(COUNTIF(INDIRECT(CR80):INDIRECT(CS80),2),COUNTIF(INDIRECT(CR80):INDIRECT(CS80),1),COUNTIF(INDIRECT(CR80):INDIRECT(CS80),0))),SUM(COUNTIF(INDIRECT(CR80):INDIRECT(CS80),2),COUNTIF(INDIRECT(CR80):INDIRECT(CS80),1),COUNTIF(INDIRECT(CR80):INDIRECT(CS80),0)),\"\")","v":""},{"$f":"IF(ISNUMBER(SUM(COUNTIF(INDIRECT(CR80):INDIRECT(CT80),2),COUNTIF(INDIRECT(CR80):INDIRECT(CT80),1),COUNTIF(INDIRECT(CR80):INDIRECT(CT80),0))),SUM(COUNTIF(INDIRECT(CR80):INDIRECT(CT80),2),COUNTIF(INDIRECT(CR80):INDIRECT(CT80),1),COUNTIF(INDIRECT(CR80):INDIRECT(CT80),0)),\"\")","v":""},{"$f":"IF(ISNUMBER(SUM(COUNTIF(INDIRECT(CR80):INDIRECT(CU80),1),COUNTIF(INDIRECT(CR80):INDIRECT(CU80),0))),SUM(COUNTIF(INDIRECT(CR80):INDIRECT(CU80),1),COUNTIF(INDIRECT(CR80):INDIRECT(CU80),0)),\"\")","v":""},{"$f":"SUM(INDIRECT(CR80):INDIRECT(CS80))","v":{"$error":"#N/A"}},{"$f":"SUM(INDIRECT(CR80):INDIRECT(CT80))","v":{"$error":"#N/A"}},{"$f":"SUM(INDIRECT(CR80):INDIRECT(CU80))","v":{"$error":"#N/A"}}]
[null,null,null,null,null,null,null,null,null,null,null,null,null,null,null,null,null,null,null,null,null,null,null,null,null,null,null,null,null,null,null,null,null,null,null,null,null,null,null,null,null,null,null,null,null,null,null,null,null,null,null,null,null,null,null,null,null,null,null,0,"@","@","@","@","@","@","@","@","@","@","@","@","@","@","@","@","@","@","@","@","@","@","@","@","@","@","@","@","@","@","@",{"$f":"'Month 4'!BL81","v":"@"},{"$f":"'Month 4'!BK81","v":"@"},{"$f":"'Month 4'!BJ81","v":"@"},{"$f":"'Month 4'!BI81","v":"@"},{"$error":"#N/A"},{"$error":"#N/A"},{"$error":"#N/A"},{"$error":"#N/A"},{"$f":"IF(ISNUMBER(SUM(COUNTIF(INDIRECT(CR81):INDIRECT(CS81),2),COUNTIF(INDIRECT(CR81):INDIRECT(CS81),1),COUNTIF(INDIRECT(CR81):INDIRECT(CS81),0))),SUM(COUNTIF(INDIRECT(CR81):INDIRECT(CS81),2),COUNTIF(INDIRECT(CR81):INDIRECT(CS81),1),COUNTIF(INDIRECT(CR81):INDIRECT(CS81),0)),\"\")","v":""},{"$f":"IF(ISNUMBER(SUM(COUNTIF(INDIRECT(CR81):INDIRECT(CT81),2),COUNTIF(INDIRECT(CR81):INDIRECT(CT81),1),COUNTIF(INDIRECT(CR81):INDIRECT(CT81),0))),SUM(COUNTIF(INDIRECT(CR81):INDIRECT(CT81),2),COUNTIF(INDIRECT(CR81):INDIRECT(CT81),1),COUNTIF(INDIRECT(CR81):INDIRECT(CT81),0)),\"\")","v":""},{"$f":"IF(ISNUMBER(SUM(COUNTIF(INDIRECT(CR81):INDIRECT(CU81),1),COUNTIF(INDIRECT(CR81):INDIRECT(CU81),0))),SUM(COUNTIF(INDIRECT(CR81):INDIRECT(CU81),1),COUNTIF(INDIRECT(CR81):INDIRECT(CU81),0)),\"\")","v":""},{"$f":"SUM(INDIRECT(CR81):INDIRECT(CS81))","v":{"$error":"#N/A"}},{"$f":"SUM(INDIRECT(CR81):INDIRECT(CT81))","v":{"$error":"#N/A"}},{"$f":"SUM(INDIRECT(CR81):INDIRECT(CU81))","v":{"$error":"#N/A"}}]
[null,null,null,null,null,null,null,null,null,null,null,null,null,null,null,null,null,null,null,null,null,null,null,null,null,null,null,null,null,null,null,null,null,null,null,null,null,null,null,null,null,null,null,null,null,null,null,null,null,null,null,null,null,null,null,null,null,null,null,0,"@","@","@","@","@","@","@","@","@","@","@","@","@","@","@","@","@","@","@","@","@","@","@","@","@","@","@","@","@","@","@",{"$f":"'Month 4'!BL82","v":"@"},{"$f":"'Month 4'!BK82","v":"@"},{"$f":"'Month 4'!BJ82","v":"@"},{"$f":"'Month 4'!BI82","v":"@"},{"$error":"#N/A"},{"$error":"#N/A"},{"$error":"#N/A"},{"$error":"#N/A"},{"$f":"IF(ISNUMBER(SUM(COUNTIF(INDIRECT(CR82):INDIRECT(CS82),2),COUNTIF(INDIRECT(CR82):INDIRECT(CS82),1),COUNTIF(INDIRECT(CR82):INDIRECT(CS82),0))),SUM(COUNTIF(INDIRECT(CR82):INDIRECT(CS82),2),COUNTIF(INDIRECT(CR82):INDIRECT(CS82),1),COUNTIF(INDIRECT(CR82):INDIRECT(CS82),0)),\"\")","v":""},{"$f":"IF(ISNUMBER(SUM(COUNTIF(INDIRECT(CR82):INDIRECT(CT82),2),COUNTIF(INDIRECT(CR82):INDIRECT(CT82),1),COUNTIF(INDIRECT(CR82):INDIRECT(CT82),0))),SUM(COUNTIF(INDIRECT(CR82):INDIRECT(CT82),2),COUNTIF(INDIRECT(CR82):INDIRECT(CT82),1),COUNTIF(INDIRECT(CR82):INDIRECT(CT82),0)),\"\")","v":""},{"$f":"IF(ISNUMBER(SUM(COUNTIF(INDIRECT(CR82):INDIRECT(CU82),1),COUNTIF(INDIRECT(CR82):INDIRECT(CU82),0))),SUM(COUNTIF(INDIRECT(CR82):INDIRECT(CU82),1),COUNTIF(INDIRECT(CR82):INDIRECT(CU82),0)),\"\")","v":""},{"$f":"SUM(INDIRECT(CR82):INDIRECT(CS82))","v":{"$error":"#N/A"}},{"$f":"SUM(INDIRECT(CR82):INDIRECT(CT82))","v":{"$error":"#N/A"}},{"$f":"SUM(INDIRECT(CR82):INDIRECT(CU82))","v":{"$error":"#N/A"}}]
[null,null,null,null,null,null,null,null,null,null,null,null,null,null,null,null,null,null,null,null,null,null,null,null,null,null,null,null,null,null,null,null,null,null,null,null,null,null,null,null,null,null,null,null,null,null,null,null,null,null,null,null,null,null,null,null,null,null,null,0,"@","@","@","@","@","@","@","@","@","@","@","@","@","@","@","@","@","@","@","@","@","@","@","@","@","@","@","@","@","@","@",{"$f":"'Month 4'!BL83","v":"@"},{"$f":"'Month 4'!BK83","v":"@"},{"$f":"'Month 4'!BJ83","v":"@"},{"$f":"'Month 4'!BI83","v":"@"},{"$error":"#N/A"},{"$error":"#N/A"},{"$error":"#N/A"},{"$error":"#N/A"},{"$f":"IF(ISNUMBER(SUM(COUNTIF(INDIRECT(CR83):INDIRECT(CS83),2),COUNTIF(INDIRECT(CR83):INDIRECT(CS83),1),COUNTIF(INDIRECT(CR83):INDIRECT(CS83),0))),SUM(COUNTIF(INDIRECT(CR83):INDIRECT(CS83),2),COUNTIF(INDIRECT(CR83):INDIRECT(CS83),1),COUNTIF(INDIRECT(CR83):INDIRECT(CS83),0)),\"\")","v":""},{"$f":"IF(ISNUMBER(SUM(COUNTIF(INDIRECT(CR83):INDIRECT(CT83),2),COUNTIF(INDIRECT(CR83):INDIRECT(CT83),1),COUNTIF(INDIRECT(CR83):INDIRECT(CT83),0))),SUM(COUNTIF(INDIRECT(CR83):INDIRECT(CT83),2),COUNTIF(INDIRECT(CR83):INDIRECT(CT83),1),COUNTIF(INDIRECT(CR83):INDIRECT(CT83),0)),\"\")","v":""},{"$f":"IF(ISNUMBER(SUM(COUNTIF(INDIRECT(CR83):INDIRECT(CU83),1),COUNTIF(INDIRECT(CR83):INDIRECT(CU83),0))),SUM(COUNTIF(INDIRECT(CR83):INDIRECT(CU83),1),COUNTIF(INDIRECT(CR83):INDIRECT(CU83),0)),\"\")","v":""},{"$f":"SUM(INDIRECT(CR83):INDIRECT(CS83))","v":{"$error":"#N/A"}},{"$f":"SUM(INDIRECT(CR83):INDIRECT(CT83))","v":{"$error":"#N/A"}},{"$f":"SUM(INDIRECT(CR83):INDIRECT(CU83))","v":{"$error":"#N/A"}}]
[null,null,null,null,null,null,null,null,null,null,null,null,null,null,null,null,null,null,null,null,null,null,null,null,null,null,null,null,null,null,null,null,null,null,null,null,null,null,null,null,null,null,null,null,null,null,null,null,null,null,null,null,null,null,null,null,null,null,null,0,"@","@","@","@","@","@","@","@","@","@","@","@","@","@","@","@","@","@","@","@","@","@","@","@","@","@","@","@","@","@","@",{"$f":"'Month 4'!BL84","v":"@"},{"$f":"'Month 4'!BK84","v":"@"},{"$f":"'Month 4'!BJ84","v":"@"},{"$f":"'Month 4'!BI84","v":"@"},{"$error":"#N/A"},{"$error":"#N/A"},{"$error":"#N/A"},{"$error":"#N/A"},{"$f":"IF(ISNUMBER(SUM(COUNTIF(INDIRECT(CR84):INDIRECT(CS84),2),COUNTIF(INDIRECT(CR84):INDIRECT(CS84),1),COUNTIF(INDIRECT(CR84):INDIRECT(CS84),0))),SUM(COUNTIF(INDIRECT(CR84):INDIRECT(CS84),2),COUNTIF(INDIRECT(CR84):INDIRECT(CS84),1),COUNTIF(INDIRECT(CR84):INDIRECT(CS84),0)),\"\")","v":""},{"$f":"IF(ISNUMBER(SUM(COUNTIF(INDIRECT(CR84):INDIRECT(CT84),2),COUNTIF(INDIRECT(CR84):INDIRECT(CT84),1),COUNTIF(INDIRECT(CR84):INDIRECT(CT84),0))),SUM(COUNTIF(INDIRECT(CR84):INDIRECT(CT84),2),COUNTIF(INDIRECT(CR84):INDIRECT(CT84),1),COUNTIF(INDIRECT(CR84):INDIRECT(CT84),0)),\"\")","v":""},{"$f":"IF(ISNUMBER(SUM(COUNTIF(INDIRECT(CR84):INDIRECT(CU84),1),COUNTIF(INDIRECT(CR84):INDIRECT(CU84),0))),SUM(COUNTIF(INDIRECT(CR84):INDIRECT(CU84),1),COUNTIF(INDIRECT(CR84):INDIRECT(CU84),0)),\"\")","v":""},{"$f":"SUM(INDIRECT(CR84):INDIRECT(CS84))","v":{"$error":"#N/A"}},{"$f":"SUM(INDIRECT(CR84):INDIRECT(CT84))","v":{"$error":"#N/A"}},{"$f":"SUM(INDIRECT(CR84):INDIRECT(CU84))","v":{"$error":"#N/A"}}]
[null,null,null,null,null,null,null,null,null,null,null,null,null,null,null,null,null,null,null,null,null,null,null,null,null,null,null,null,null,null,null,null,null,null,null,null,null,null,null,null,null,null,null,null,null,null,null,null,null,null,null,null,null,null,null,null,null,null,null,0,"@","@","@","@","@","@","@","@","@","@","@","@","@","@","@","@","@","@","@","@","@","@","@","@","@","@","@","@","@","@","@",{"$f":"'Month 4'!BL85","v":"@"},{"$f":"'Month 4'!BK85","v":"@"},{"$f":"'Month 4'!BJ85","v":"@"},{"$f":"'Month 4'!BI85","v":"@"},{"$error":"#N/A"},{"$error":"#N/A"},{"$error":"#N/A"},{"$error":"#N/A"},{"$f":"IF(ISNUMBER(SUM(COUNTIF(INDIRECT(CR85):INDIRECT(CS85),2),COUNTIF(INDIRECT(CR85):INDIRECT(CS85),1),COUNTIF(INDIRECT(CR85):INDIRECT(CS85),0))),SUM(COUNTIF(INDIRECT(CR85):INDIRECT(CS85),2),COUNTIF(INDIRECT(CR85):INDIRECT(CS85),1),COUNTIF(INDIRECT(CR85):INDIRECT(CS85),0)),\"\")","v":""},{"$f":"IF(ISNUMBER(SUM(COUNTIF(INDIRECT(CR85):INDIRECT(CT85),2),COUNTIF(INDIRECT(CR85):INDIRECT(CT85),1),COUNTIF(INDIRECT(CR85):INDIRECT(CT85),0))),SUM(COUNTIF(INDIRECT(CR85):INDIRECT(CT85),2),COUNTIF(INDIRECT(CR85):INDIRECT(CT85),1),COUNTIF(INDIRECT(CR85):INDIRECT(CT85),0)),\"\")","v":""},{"$f":"IF(ISNUMBER(SUM(COUNTIF(INDIRECT(CR85):INDIRECT(CU85),1),COUNTIF(INDIRECT(CR85):INDIRECT(CU85),0))),SUM(COUNTIF(INDIRECT(CR85):INDIRECT(CU85),1),COUNTIF(INDIRECT(CR85):INDIRECT(CU85),0)),\"\")","v":""},{"$f":"SUM(INDIRECT(CR85):INDIRECT(CS85))","v":{"$error":"#N/A"}},{"$f":"SUM(INDIRECT(CR85):INDIRECT(CT85))","v":{"$error":"#N/A"}},{"$f":"SUM(INDIRECT(CR85):INDIRECT(CU85))","v":{"$error":"#N/A"}}]
[null,null,null,null,null,null,null,null,null,null,null,null,null,null,null,null,null,null,null,null,null,null,null,null,null,null,null,null,null,null,null,null,null,null,null,null,null,null,null,null,null,null,null,null,null,null,null,null,null,null,null,null,null,null,null,null,null,null,null,0,"@","@","@","@","@","@","@","@","@","@","@","@","@","@","@","@","@","@","@","@","@","@","@","@","@","@","@","@","@","@","@",{"$f":"'Month 4'!BL86","v":"@"},{"$f":"'Month 4'!BK86","v":"@"},{"$f":"'Month 4'!BJ86","v":"@"},{"$f":"'Month 4'!BI86","v":"@"},{"$error":"#N/A"},{"$error":"#N/A"},{"$error":"#N/A"},{"$error":"#N/A"},{"$f":"IF(ISNUMBER(SUM(COUNTIF(INDIRECT(CR86):INDIRECT(CS86),2),COUNTIF(INDIRECT(CR86):INDIRECT(CS86),1),COUNTIF(INDIRECT(CR86):INDIRECT(CS86),0))),SUM(COUNTIF(INDIRECT(CR86):INDIRECT(CS86),2),COUNTIF(INDIRECT(CR86):INDIRECT(CS86),1),COUNTIF(INDIRECT(CR86):INDIRECT(CS86),0)),\"\")","v":""},{"$f":"IF(ISNUMBER(SUM(COUNTIF(INDIRECT(CR86):INDIRECT(CT86),2),COUNTIF(INDIRECT(CR86):INDIRECT(CT86),1),COUNTIF(INDIRECT(CR86):INDIRECT(CT86),0))),SUM(COUNTIF(INDIRECT(CR86):INDIRECT(CT86),2),COUNTIF(INDIRECT(CR86):INDIRECT(CT86),1),COUNTIF(INDIRECT(CR86):INDIRECT(CT86),0)),\"\")","v":""},{"$f":"IF(ISNUMBER(SUM(COUNTIF(INDIRECT(CR86):INDIRECT(CU86),1),COUNTIF(INDIRECT(CR86):INDIRECT(CU86),0))),SUM(COUNTIF(INDIRECT(CR86):INDIRECT(CU86),1),COUNTIF(INDIRECT(CR86):INDIRECT(CU86),0)),\"\")","v":""},{"$f":"SUM(INDIRECT(CR86):INDIRECT(CS86))","v":{"$error":"#N/A"}},{"$f":"SUM(INDIRECT(CR86):INDIRECT(CT86))","v":{"$error":"#N/A"}},{"$f":"SUM(INDIRECT(CR86):INDIRECT(CU86))","v":{"$error":"#N/A"}}]
[null,null,null,null,null,null,null,null,null,null,null,null,null,null,null,null,null,null,null,null,null,null,null,null,null,null,null,null,null,null,null,null,null,null,null,null,null,null,null,null,null,null,null,null,null,null,null,null,null,null,null,null,null,null,null,null,null,null,null,0,{"$f":"IF(OR(AK59=\"+\",AK59=\"Y\",AK59=2),1,IF(OR(AK59=\"-\",AK59=\"N\",AK59=1),0,IF(OR(BJ87=1,BJ87=0),\"#\",\"@\")))","v":"@"},{"$f":"IF(OR(AJ59=\"+\",AJ59=\"Y\",AJ59=2),1,IF(OR(AJ59=\"-\",AJ59=\"N\",AJ59=1),0,IF(OR(BK87=1,BK87=0),\"#\",\"@\")))","v":"@"},{"$f":"IF(OR(AI59=\"+\",AI59=\"Y\",AI59=2),1,IF(OR(AI59=\"-\",AI59=\"N\",AI59=1),0,IF(OR(BL87=1,BL87=0),\"#\",\"@\")))","v":"@"},{"$f":"IF(OR(AH59=\"+\",AH59=\"Y\",AH59=2),1,IF(OR(AH59=\"-\",AH59=\"N\",AH59=1),0,IF(OR(BM87=1,BM87=0),\"#\",\"@\")))","v":"@"},{"$f":"IF(OR(AG59=\"+\",AG59=\"Y\",AG59=2),1,IF(OR(AG59=\"-\",AG59=\"N\",AG59=1),0,IF(OR(BN87=1,BN87=0),\"#\",\"@\")))","v":"@"},{"$f":"IF(OR(AF59=\"+\",AF59=\"Y\",AF59=2),1,IF(OR(AF59=\"-\",AF59=\"N\",AF59=1),0,IF(OR(BO87=1,BO87=0),\"#\",\"@\")))","v":"@"},{"$f":"IF(OR(AE59=\"+\",AE59=\"Y\",AE59=2),1,IF(OR(AE59=\"-\",AE59=\"N\",AE59=1),0,IF(OR(BP87=1,BP87=0),\"#\",\"@\")))","v":"@"},{"$f":"IF(OR(AD59=\"+\",AD59=\"Y\",AD59=2),1,IF(OR(AD59=\"-\",AD59=\"N\",AD59=1),0,IF(OR(BQ87=1,BQ87=0),\"#\",\"@\")))","v":"@"},{"$f":"IF(OR(AC59=\"+\",AC59=\"Y\",AC59=2),1,IF(OR(AC59=\"-\",AC59=\"N\",AC59=1),0,IF(OR(BR87=1,BR87=0),\"#\",\"@\")))","v":"@"},{"$f":"IF(OR(AB59=\"+\",AB59=\"Y\",AB59=2),1,IF(OR(AB59=\"-\",AB59=\"N\",AB59=1),0,IF(OR(BS87=1,BS87=0),\"#\",\"@\")))","v":"@"},{"$f":"IF(OR(AA59=\"+\",AA59=\"Y\",AA59=2),1,IF(OR(AA59=\"-\",AA59=\"N\",AA59=1),0,IF(OR(BT87=1,BT87=0),\"#\",\"@\")))","v":"@"},{"$f":"IF(OR(Z59=\"+\",Z59=\"Y\",Z59=2),1,IF(OR(Z59=\"-\",Z59=\"N\",Z59=1),0,IF(OR(BU87=1,BU87=0),\"#\",\"@\")))","v":"@"},{"$f":"IF(OR(Y59=\"+\",Y59=\"Y\",Y59=2),1,IF(OR(Y59=\"-\",Y59=\"N\",Y59=1),0,IF(OR(BV87=1,BV87=0),\"#\",\"@\")))","v":"@"},{"$f":"IF(OR(X59=\"+\",X59=\"Y\",X59=2),1,IF(OR(X59=\"-\",X59=\"N\",X59=1),0,IF(OR(BW87=1,BW87=0),\"#\",\"@\")))","v":"@"},{"$f":"IF(OR(W59=\"+\",W59=\"Y\",W59=2),1,IF(OR(W59=\"-\",W59=\"N\",W59=1),0,IF(OR(BX87=1,BX87=0),\"#\",\"@\")))","v":"@"},{"$f":"IF(OR(V59=\"+\",V59=\"Y\",V59=2),1,IF(OR(V59=\"-\",V59=\"N\",V59=1),0,IF(OR(BY87=1,BY87=0),\"#\",\"@\")))","v":"@"},{"$f":"IF(OR(U59=\"+\",U59=\"Y\",U59=2),1,IF(OR(U59=\"-\",U59=\"N\",U59=1),0,IF(OR(BZ87=1,BZ87=0),\"#\",\"@\")))","v":"@"},{"$f":"IF(OR(T59=\"+\",T59=\"Y\",T59=2),1,IF(OR(T59=\"-\",T59=\"N\",T59=1),0,IF(OR(CA87=1,CA87=0),\"#\",\"@\")))","v":"@"},{"$f":"IF(OR(S59=\"+\",S59=\"Y\",S59=2),1,IF(OR(S59=\"-\",S59=\"N\",S59=1),0,IF(OR(CB87=1,CB87=0),\"#\",\"@\")))","v":"@"},{"$f":"IF(OR(R59=\"+\",R59=\"Y\",R59=2),1,IF(OR(R59=\"-\",R59=\"N\",R59=1),0,IF(OR(CC87=1,CC87=0),\"#\",\"@\")))","v":"@"},{"$f":"IF(OR(Q59=\"+\",Q59=\"Y\",Q59=2),1,IF(OR(Q59=\"-\",Q59=\"N\",Q59=1),0,IF(OR(CD87=1,CD87=0),\"#\",\"@\")))","v":"@"},{"$f":"IF(OR(P59=\"+\",P59=\"Y\",P59=2),1,IF(OR(P59=\"-\",P59=\"N\",P59=1),0,IF(OR(CE87=1,CE87=0),\"#\",\"@\")))","v":"@"},{"$f":"IF(OR(O59=\"+\",O59=\"Y\",O59=2),1,IF(OR(O59=\"-\",O59=\"N\",O59=1),0,IF(OR(CF87=1,CF87=0),\"#\",\"@\")))","v":"@"},{"$f":"IF(OR(N59=\"+\",N59=\"Y\",N59=2),1,IF(OR(N59=\"-\",N59=\"N\",N59=1),0,IF(OR(CG87=1,CG87=0),\"#\",\"@\")))","v":"@"},{"$f":"IF(OR(M59=\"+\",M59=\"Y\",M59=2),1,IF(OR(M59=\"-\",M59=\"N\",M59=1),0,IF(OR(CH87=1,CH87=0),\"#\",\"@\")))","v":"@"},{"$f":"IF(OR(L59=\"+\",L59=\"Y\",L59=2),1,IF(OR(L59=\"-\",L59=\"N\",L59=1),0,IF(OR(CI87=1,CI87=0),\"#\",\"@\")))","v":"@"},{"$f":"IF(OR(K59=\"+\",K59=\"Y\",K59=2),1,IF(OR(K59=\"-\",K59=\"N\",K59=1),0,IF(OR(CJ87=1,CJ87=0),\"#\",\"@\")))","v":"@"},{"$f":"IF(OR(J59=\"+\",J59=\"Y\",J59=2),1,IF(OR(J59=\"-\",J59=\"N\",J59=1),0,IF(OR(CK87=1,CK87=0),\"#\",\"@\")))","v":"@"},{"$f":"IF(OR(I59=\"+\",I59=\"Y\",I59=2),1,IF(OR(I59=\"-\",I59=\"N\",I59=1),0,IF(OR(CL87=1,CL87=0),\"#\",\"@\")))","v":"@"},{"$f":"IF(OR(H59=\"+\",H59=\"Y\",H59=2),1,IF(OR(H59=\"-\",H59=\"N\",H59=1),0,IF(OR(CM87=1,CM87=0),\"#\",\"@\")))","v":"@"},{"$f":"IF(OR(G59=\"+\",G59=\"Y\",G59=2),1,IF(OR(G59=\"-\",G59=\"N\",G59=1),0,\"@\"))","v":"@"},{"$f":"'Month 4'!BL87","v":"@"},{"$f":"'Month 4'!BK87","v":"@"},{"$f":"'Month 4'!BJ87","v":"@"},{"$f":"'Month 4'!BI87","v":"@"},{"$f":"ADDRESS(ROW(BH87),(MATCH(\"#\",BI87:CM87,0)+61))","v":{"$error":"#N/A"}},{"$f":"ADDRESS(ROW(BH87),(MATCH(\"#\",BI87:CM87,0)+65))","v":{"$error":"#N/A"}},{"$f":"ADDRESS(ROW(BH87),(MATCH(\"#\",BI87:CM87,0)+64))","v":{"$error":"#N/A"}},{"$f":"ADDRESS(ROW(BH87),(MATCH(\"#\",BI87:CM87,0)+63))","v":{"$error":"#N/A"}},{"$f":"IF(ISNUMBER(SUM(COUNTIF(INDIRECT(CR87):INDIRECT(CS87),2),COUNTIF(INDIRECT(CR87):INDIRECT(CS87),1),COUNTIF(INDIRECT(CR87):INDIRECT(CS87),0))),SUM(COUNTIF(INDIRECT(CR87):INDIRECT(CS87),2),COUNTIF(INDIRECT(CR87):INDIRECT(CS87),1),COUNTIF(INDIRECT(CR87):INDIRECT(CS87),0)),\"\")","v":""},{"$f":"IF(ISNUMBER(SUM(COUNTIF(INDIRECT(CR87):INDIRECT(CT87),2),COUNTIF(INDIRECT(CR87):INDIRECT(CT87),1),COUNTIF(INDIRECT(CR87):INDIRECT(CT87),0))),SUM(COUNTIF(INDIRECT(CR87):INDIRECT(CT87),2),COUNTIF(INDIRECT(CR87):INDIRECT(CT87),1),COUNTIF(INDIRECT(CR87):INDIRECT(CT87),0)),\"\")","v":""},{"$f":"IF(ISNUMBER(SUM(COUNTIF(INDIRECT(CR87):INDIRECT(CU87),1),COUNTIF(INDIRECT(CR87):INDIRECT(CU87),0))),SUM(COUNTIF(INDIRECT(CR87):INDIRECT(CU87),1),COUNTIF(INDIRECT(CR87):INDIRECT(CU87),0)),\"\")","v":""},{"$f":"SUM(INDIRECT(CR87):INDIRECT(CS87))","v":{"$error":"#N/A"}},{"$f":"SUM(INDIRECT(CR87):INDIRECT(CT87))","v":{"$error":"#N/A"}},{"$f":"SUM(INDIRECT(CR87):INDIRECT(CU87))","v":{"$error":"#N/A"}}]
[null,null,null,null,null,null,null,null,null,null,null,null,null,null,null,null,null,null,null,null,null,null,null,null,null,null,null,null,null,null,null,null,null,null,null,null,null,null,null,null,null,null,null,null,null,null,null,null,null,null,null,null,null,null,null,null,null,null,null,0,"@","@","@","@","@","@","@","@","@","@","@","@","@","@","@","@","@","@","@","@","@","@","@","@","@","@","@","@","@","@","@",{"$f":"'Month 4'!BL88","v":"@"},{"$f":"'Month 4'!BK88","v":"@"},{"$f":"'Month 4'!BJ88","v":"@"},{"$f":"'Month 4'!BI88","v":"@"},{"$error":"#N/A"},{"$error":"#N/A"},{"$error":"#N/A"},{"$error":"#N/A"},{"$f":"IF(ISNUMBER(SUM(COUNTIF(INDIRECT(CR88):INDIRECT(CS88),2),COUNTIF(INDIRECT(CR88):INDIRECT(CS88),1),COUNTIF(INDIRECT(CR88):INDIRECT(CS88),0))),SUM(COUNTIF(INDIRECT(CR88):INDIRECT(CS88),2),COUNTIF(INDIRECT(CR88):INDIRECT(CS88),1),COUNTIF(INDIRECT(CR88):INDIRECT(CS88),0)),\"\")","v":""},{"$f":"IF(ISNUMBER(SUM(COUNTIF(INDIRECT(CR88):INDIRECT(CT88),2),COUNTIF(INDIRECT(CR88):INDIRECT(CT88),1),COUNTIF(INDIRECT(CR88):INDIRECT(CT88),0))),SUM(COUNTIF(INDIRECT(CR88):INDIRECT(CT88),2),COUNTIF(INDIRECT(CR88):INDIRECT(CT88),1),COUNTIF(INDIRECT(CR88):INDIRECT(CT88),0)),\"\")","v":""},{"$f":"IF(ISNUMBER(SUM(COUNTIF(INDIRECT(CR88):INDIRECT(CU88),1),COUNTIF(INDIRECT(CR88):INDIRECT(CU88),0))),SUM(COUNTIF(INDIRECT(CR88):INDIRECT(CU88),1),COUNTIF(INDIRECT(CR88):INDIRECT(CU88),0)),\"\")","v":""},{"$f":"SUM(INDIRECT(CR88):INDIRECT(CS88))","v":{"$error":"#N/A"}},{"$f":"SUM(INDIRECT(CR88):INDIRECT(CT88))","v":{"$error":"#N/A"}},{"$f":"SUM(INDIRECT(CR88):INDIRECT(CU88))","v":{"$error":"#N/A"}}]
[null,null,null,null,null,null,null,null,null,null,null,null,null,null,null,null,null,null,null,null,null,null,null,null,null,null,null,null,null,null,null,null,null,null,null,null,null,null,null,null,null,null,null,null,null,null,null,null,null,null,null,null,null,null,null,null,null,null,null,0,"@","@","@","@","@","@","@","@","@","@","@","@","@","@","@","@","@","@","@","@","@","@","@","@","@","@","@","@","@","@","@",{"$f":"'Month 4'!BL89","v":"@"},{"$f":"'Month 4'!BK89","v":"@"},{"$f":"'Month 4'!BJ89","v":"@"},{"$f":"'Month 4'!BI89","v":"@"},{"$error":"#N/A"},{"$error":"#N/A"},{"$error":"#N/A"},{"$error":"#N/A"},{"$f":"IF(ISNUMBER(SUM(COUNTIF(INDIRECT(CR89):INDIRECT(CS89),2),COUNTIF(INDIRECT(CR89):INDIRECT(CS89),1),COUNTIF(INDIRECT(CR89):INDIRECT(CS89),0))),SUM(COUNTIF(INDIRECT(CR89):INDIRECT(CS89),2),COUNTIF(INDIRECT(CR89):INDIRECT(CS89),1),COUNTIF(INDIRECT(CR89):INDIRECT(CS89),0)),\"\")","v":""},{"$f":"IF(ISNUMBER(SUM(COUNTIF(INDIRECT(CR89):INDIRECT(CT89),2),COUNTIF(INDIRECT(CR89):INDIRECT(CT89),1),COUNTIF(INDIRECT(CR89):INDIRECT(CT89),0))),SUM(COUNTIF(INDIRECT(CR89):INDIRECT(CT89),2),COUNTIF(INDIRECT(CR89):INDIRECT(CT89),1),COUNTIF(INDIRECT(CR89):INDIRECT(CT89),0)),\"\")","v":""},{"$f":"IF(ISNUMBER(SUM(COUNTIF(INDIRECT(CR89):INDIRECT(CU89),1),COUNTIF(INDIRECT(CR89):INDIRECT(CU89),0))),SUM(COUNTIF(INDIRECT(CR89):INDIRECT(CU89),1),COUNTIF(INDIRECT(CR89):INDIRECT(CU89),0)),\"\")","v":""},{"$f":"SUM(INDIRECT(CR89):INDIRECT(CS89))","v":{"$error":"#N/A"}},{"$f":"SUM(INDIRECT(CR89):INDIRECT(CT89))","v":{"$error":"#N/A"}},{"$f":"SUM(INDIRECT(CR89):INDIRECT(CU89))","v":{"$error":"#N/A"}}]
[null,null,null,null,null,null,null,null,null,null,null,null,null,null,null,null,null,null,null,null,null,null,null,null,null,null,null,null,null,null,null,null,null,null,null,null,null,null,null,null,null,null,null,null,null,null,null,null,null,null,null,null,null,null,null,null,null,null,null,0,"@","@","@","@","@","@","@","@","@","@","@","@","@","@","@","@","@","@","@","@","@","@","@","@","@","@","@","@","@","@","@",{"$f":"'Month 4'!BL90","v":"@"},{"$f":"'Month 4'!BK90","v":"@"},{"$f":"'Month 4'!BJ90","v":"@"},{"$f":"'Month 4'!BI90","v":"@"},{"$error":"#N/A"},{"$error":"#N/A"},{"$error":"#N/A"},{"$error":"#N/A"},{"$f":"IF(ISNUMBER(SUM(COUNTIF(INDIRECT(CR90):INDIRECT(CS90),2),COUNTIF(INDIRECT(CR90):INDIRECT(CS90),1),COUNTIF(INDIRECT(CR90):INDIRECT(CS90),0))),SUM(COUNTIF(INDIRECT(CR90):INDIRECT(CS90),2),COUNTIF(INDIRECT(CR90):INDIRECT(CS90),1),COUNTIF(INDIRECT(CR90):INDIRECT(CS90),0)),\"\")","v":""},{"$f":"IF(ISNUMBER(SUM(COUNTIF(INDIRECT(CR90):INDIRECT(CT90),2),COUNTIF(INDIRECT(CR90):INDIRECT(CT90),1),COUNTIF(INDIRECT(CR90):INDIRECT(CT90),0))),SUM(COUNTIF(INDIRECT(CR90):INDIRECT(CT90),2),COUNTIF(INDIRECT(CR90):INDIRECT(CT90),1),COUNTIF(INDIRECT(CR90):INDIRECT(CT90),0)),\"\")","v":""},{"$f":"IF(ISNUMBER(SUM(COUNTIF(INDIRECT(CR90):INDIRECT(CU90),1),COUNTIF(INDIRECT(CR90):INDIRECT(CU90),0))),SUM(COUNTIF(INDIRECT(CR90):INDIRECT(CU90),1),COUNTIF(INDIRECT(CR90):INDIRECT(CU90),0)),\"\")","v":""},{"$f":"SUM(INDIRECT(CR90):INDIRECT(CS90))","v":{"$error":"#N/A"}},{"$f":"SUM(INDIRECT(CR90):INDIRECT(CT90))","v":{"$error":"#N/A"}},{"$f":"SUM(INDIRECT(CR90):INDIRECT(CU90))","v":{"$error":"#N/A"}}]
[null,null,null,null,null,null,null,null,null,null,null,null,null,null,null,null,null,null,null,null,null,null,null,null,null,null,null,null,null,null,null,null,null,null,null,null,null,null,null,null,null,null,null,null,null,null,null,null,null,null,null,null,null,null,null,null,null,null,null,0,"@","@","@","@","@","@","@","@","@","@","@","@","@","@","@","@","@","@","@","@","@","@","@","@","@","@","@","@","@","@","@",{"$f":"'Month 4'!BL91","v":"@"},{"$f":"'Month 4'!BK91","v":"@"},{"$f":"'Month 4'!BJ91","v":"@"},{"$f":"'Month 4'!BI91","v":"@"},{"$error":"#N/A"},{"$error":"#N/A"},{"$error":"#N/A"},{"$error":"#N/A"},{"$f":"IF(ISNUMBER(SUM(COUNTIF(INDIRECT(CR91):INDIRECT(CS91),2),COUNTIF(INDIRECT(CR91):INDIRECT(CS91),1),COUNTIF(INDIRECT(CR91):INDIRECT(CS91),0))),SUM(COUNTIF(INDIRECT(CR91):INDIRECT(CS91),2),COUNTIF(INDIRECT(CR91):INDIRECT(CS91),1),COUNTIF(INDIRECT(CR91):INDIRECT(CS91),0)),\"\")","v":""},{"$f":"IF(ISNUMBER(SUM(COUNTIF(INDIRECT(CR91):INDIRECT(CT91),2),COUNTIF(INDIRECT(CR91):INDIRECT(CT91),1),COUNTIF(INDIRECT(CR91):INDIRECT(CT91),0))),SUM(COUNTIF(INDIRECT(CR91):INDIRECT(CT91),2),COUNTIF(INDIRECT(CR91):INDIRECT(CT91),1),COUNTIF(INDIRECT(CR91):INDIRECT(CT91),0)),\"\")","v":""},{"$f":"IF(ISNUMBER(SUM(COUNTIF(INDIRECT(CR91):INDIRECT(CU91),1),COUNTIF(INDIRECT(CR91):INDIRECT(CU91),0))),SUM(COUNTIF(INDIRECT(CR91):INDIRECT(CU91),1),COUNTIF(INDIRECT(CR91):INDIRECT(CU91),0)),\"\")","v":""},{"$f":"SUM(INDIRECT(CR91):INDIRECT(CS91))","v":{"$error":"#N/A"}},{"$f":"SUM(INDIRECT(CR91):INDIRECT(CT91))","v":{"$error":"#N/A"}},{"$f":"SUM(INDIRECT(CR91):INDIRECT(CU91))","v":{"$error":"#N/A"}}]
[null,null,null,null,null,null,null,null,null,null,null,null,null,null,null,null,null,null,null,null,null,null,null,null,null,null,null,null,null,null,null,null,null,null,null,null,null,null,null,null,null,null,null,null,null,null,null,null,null,null,null,null,null,null,null,null,null,null,null,0,"@","@","@","@","@","@","@","@","@","@","@","@","@","@","@","@","@","@","@","@","@","@","@","@","@","@","@","@","@","@","@",{"$f":"'Month 4'!BL92","v":"@"},{"$f":"'Month 4'!BK92","v":"@"},{"$f":"'Month 4'!BJ92","v":"@"},{"$f":"'Month 4'!BI92","v":"@"},{"$error":"#N/A"},{"$error":"#N/A"},{"$error":"#N/A"},{"$error":"#N/A"},{"$f":"IF(ISNUMBER(SUM(COUNTIF(INDIRECT(CR92):INDIRECT(CS92),2),COUNTIF(INDIRECT(CR92):INDIRECT(CS92),1),COUNTIF(INDIRECT(CR92):INDIRECT(CS92),0))),SUM(COUNTIF(INDIRECT(CR92):INDIRECT(CS92),2),COUNTIF(INDIRECT(CR92):INDIRECT(CS92),1),COUNTIF(INDIRECT(CR92):INDIRECT(CS92),0)),\"\")","v":""},{"$f":"IF(ISNUMBER(SUM(COUNTIF(INDIRECT(CR92):INDIRECT(CT92),2),COUNTIF(INDIRECT(CR92):INDIRECT(CT92),1),COUNTIF(INDIRECT(CR92):INDIRECT(CT92),0))),SUM(COUNTIF(INDIRECT(CR92):INDIRECT(CT92),2),COUNTIF(INDIRECT(CR92):INDIRECT(CT92),1),COUNTIF(INDIRECT(CR92):INDIRECT(CT92),0)),\"\")","v":""},{"$f":"IF(ISNUMBER(SUM(COUNTIF(INDIRECT(CR92):INDIRECT(CU92),1),COUNTIF(INDIRECT(CR92):INDIRECT(CU92),0))),SUM(COUNTIF(INDIRECT(CR92):INDIRECT(CU92),1),COUNTIF(INDIRECT(CR92):INDIRECT(CU92),0)),\"\")","v":""},{"$f":"SUM(INDIRECT(CR92):INDIRECT(CS92))","v":{"$error":"#N/A"}},{"$f":"SUM(INDIRECT(CR92):INDIRECT(CT92))","v":{"$error":"#N/A"}},{"$f":"SUM(INDIRECT(CR92):INDIRECT(CU92))","v":{"$error":"#N/A"}}]
[null,null,null,null,null,null,null,null,null,null,null,null,null,null,null,null,null,null,null,null,null,null,null,null,null,null,null,null,null,null,null,null,null,null,null,null,null,null,null,null,null,null,null,null,null,null,null,null,null,null,null,null,null,null,null,null,null,null,null,0,"@","@","@","@","@","@","@","@","@","@","@","@","@","@","@","@","@","@","@","@","@","@","@","@","@","@","@","@","@","@","@",{"$f":"'Month 4'!BL93","v":"@"},{"$f":"'Month 4'!BK93","v":"@"},{"$f":"'Month 4'!BJ93","v":"@"},{"$f":"'Month 4'!BI93","v":"@"},{"$error":"#N/A"},{"$error":"#N/A"},{"$error":"#N/A"},{"$error":"#N/A"},{"$f":"IF(ISNUMBER(SUM(COUNTIF(INDIRECT(CR93):INDIRECT(CS93),2),COUNTIF(INDIRECT(CR93):INDIRECT(CS93),1),COUNTIF(INDIRECT(CR93):INDIRECT(CS93),0))),SUM(COUNTIF(INDIRECT(CR93):INDIRECT(CS93),2),COUNTIF(INDIRECT(CR93):INDIRECT(CS93),1),COUNTIF(INDIRECT(CR93):INDIRECT(CS93),0)),\"\")","v":""},{"$f":"IF(ISNUMBER(SUM(COUNTIF(INDIRECT(CR93):INDIRECT(CT93),2),COUNTIF(INDIRECT(CR93):INDIRECT(CT93),1),COUNTIF(INDIRECT(CR93):INDIRECT(CT93),0))),SUM(COUNTIF(INDIRECT(CR93):INDIRECT(CT93),2),COUNTIF(INDIRECT(CR93):INDIRECT(CT93),1),COUNTIF(INDIRECT(CR93):INDIRECT(CT93),0)),\"\")","v":""},{"$f":"IF(ISNUMBER(SUM(COUNTIF(INDIRECT(CR93):INDIRECT(CU93),1),COUNTIF(INDIRECT(CR93):INDIRECT(CU93),0))),SUM(COUNTIF(INDIRECT(CR93):INDIRECT(CU93),1),COUNTIF(INDIRECT(CR93):INDIRECT(CU93),0)),\"\")","v":""},{"$f":"SUM(INDIRECT(CR93):INDIRECT(CS93))","v":{"$error":"#N/A"}},{"$f":"SUM(INDIRECT(CR93):INDIRECT(CT93))","v":{"$error":"#N/A"}},{"$f":"SUM(INDIRECT(CR93):INDIRECT(CU93))","v":{"$error":"#N/A"}}]
[null,null,null,null,null,null,null,null,null,null,null,null,null,null,null,null,null,null,null,null,null,null,null,null,null,null,null,null,null,null,null,null,null,null,null,null,null,null,null,null,null,null,null,null,null,null,null,null,null,null,null,null,null,null,null,null,null,null,null,0,"@","@","@","@","@","@","@","@","@","@","@","@","@","@","@","@","@","@","@","@","@","@","@","@","@","@","@","@","@","@","@",{"$f":"'Month 4'!BL94","v":"@"},{"$f":"'Month 4'!BK94","v":"@"},{"$f":"'Month 4'!BJ94","v":"@"},{"$f":"'Month 4'!BI94","v":"@"},{"$error":"#N/A"},{"$error":"#N/A"},{"$error":"#N/A"},{"$error":"#N/A"},{"$f":"IF(ISNUMBER(SUM(COUNTIF(INDIRECT(CR94):INDIRECT(CS94),2),COUNTIF(INDIRECT(CR94):INDIRECT(CS94),1),COUNTIF(INDIRECT(CR94):INDIRECT(CS94),0))),SUM(COUNTIF(INDIRECT(CR94):INDIRECT(CS94),2),COUNTIF(INDIRECT(CR94):INDIRECT(CS94),1),COUNTIF(INDIRECT(CR94):INDIRECT(CS94),0)),\"\")","v":""},{"$f":"IF(ISNUMBER(SUM(COUNTIF(INDIRECT(CR94):INDIRECT(CT94),2),COUNTIF(INDIRECT(CR94):INDIRECT(CT94),1),COUNTIF(INDIRECT(CR94):INDIRECT(CT94),0))),SUM(COUNTIF(INDIRECT(CR94):INDIRECT(CT94),2),COUNTIF(INDIRECT(CR94):INDIRECT(CT94),1),COUNTIF(INDIRECT(CR94):INDIRECT(CT94),0)),\"\")","v":""},{"$f":"IF(ISNUMBER(SUM(COUNTIF(INDIRECT(CR94):INDIRECT(CU94),1),COUNTIF(INDIRECT(CR94):INDIRECT(CU94),0))),SUM(COUNTIF(INDIRECT(CR94):INDIRECT(CU94),1),COUNTIF(INDIRECT(CR94):INDIRECT(CU94),0)),\"\")","v":""},{"$f":"SUM(INDIRECT(CR94):INDIRECT(CS94))","v":{"$error":"#N/A"}},{"$f":"SUM(INDIRECT(CR94):INDIRECT(CT94))","v":{"$error":"#N/A"}},{"$f":"SUM(INDIRECT(CR94):INDIRECT(CU94))","v":{"$error":"#N/A"}}]
[null,null,null,null,null,null,null,null,null,null,null,null,null,null,null,null,null,null,null,null,null,null,null,null,null,null,null,null,null,null,null,null,null,null,null,null,null,null,null,null,null,null,null,null,null,null,null,null,null,null,null,null,null,null,null,null,null,null,null,0,"@","@","@","@","@","@","@","@","@","@","@","@","@","@","@","@","@","@","@","@","@","@","@","@","@","@","@","@","@","@","@",{"$f":"'Month 4'!BL95","v":"@"},{"$f":"'Month 4'!BK95","v":"@"},{"$f":"'Month 4'!BJ95","v":"@"},{"$f":"'Month 4'!BI95","v":"@"},{"$error":"#N/A"},{"$error":"#N/A"},{"$error":"#N/A"},{"$error":"#N/A"},{"$f":"IF(ISNUMBER(SUM(COUNTIF(INDIRECT(CR95):INDIRECT(CS95),2),COUNTIF(INDIRECT(CR95):INDIRECT(CS95),1),COUNTIF(INDIRECT(CR95):INDIRECT(CS95),0))),SUM(COUNTIF(INDIRECT(CR95):INDIRECT(CS95),2),COUNTIF(INDIRECT(CR95):INDIRECT(CS95),1),COUNTIF(INDIRECT(CR95):INDIRECT(CS95),0)),\"\")","v":""},{"$f":"IF(ISNUMBER(SUM(COUNTIF(INDIRECT(CR95):INDIRECT(CT95),2),COUNTIF(INDIRECT(CR95):INDIRECT(CT95),1),COUNTIF(INDIRECT(CR95):INDIRECT(CT95),0))),SUM(COUNTIF(INDIRECT(CR95):INDIRECT(CT95),2),COUNTIF(INDIRECT(CR95):INDIRECT(CT95),1),COUNTIF(INDIRECT(CR95):INDIRECT(CT95),0)),\"\")","v":""},{"$f":"IF(ISNUMBER(SUM(COUNTIF(INDIRECT(CR95):INDIRECT(CU95),1),COUNTIF(INDIRECT(CR95):INDIRECT(CU95),0))),SUM(COUNTIF(INDIRECT(CR95):INDIRECT(CU95),1),COUNTIF(INDIRECT(CR95):INDIRECT(CU95),0)),\"\")","v":""},{"$f":"SUM(INDIRECT(CR95):INDIRECT(CS95))","v":{"$error":"#N/A"}},{"$f":"SUM(INDIRECT(CR95):INDIRECT(CT95))","v":{"$error":"#N/A"}},{"$f":"SUM(INDIRECT(CR95):INDIRECT(CU95))","v":{"$error":"#N/A"}}]
[null,null,null,null,null,null,null,null,null,null,null,null,null,null,null,null,null,null,null,null,null,null,null,null,null,null,null,null,null,null,null,null,null,null,null,null,null,null,null,null,null,null,null,null,null,null,null,null,null,null,null,null,null,null,null,null,null,null,null,0,"@","@","@","@","@","@","@","@","@","@","@","@","@","@","@","@","@","@","@","@","@","@","@","@","@","@","@","@","@","@","@",{"$f":"'Month 4'!BL96","v":"@"},{"$f":"'Month 4'!BK96","v":"@"},{"$f":"'Month 4'!BJ96","v":"@"},{"$f":"'Month 4'!BI96","v":"@"},{"$error":"#N/A"},{"$error":"#N/A"},{"$error":"#N/A"},{"$error":"#N/A"},{"$f":"IF(ISNUMBER(SUM(COUNTIF(INDIRECT(CR96):INDIRECT(CS96),2),COUNTIF(INDIRECT(CR96):INDIRECT(CS96),1),COUNTIF(INDIRECT(CR96):INDIRECT(CS96),0))),SUM(COUNTIF(INDIRECT(CR96):INDIRECT(CS96),2),COUNTIF(INDIRECT(CR96):INDIRECT(CS96),1),COUNTIF(INDIRECT(CR96):INDIRECT(CS96),0)),\"\")","v":""},{"$f":"IF(ISNUMBER(SUM(COUNTIF(INDIRECT(CR96):INDIRECT(CT96),2),COUNTIF(INDIRECT(CR96):INDIRECT(CT96),1),COUNTIF(INDIRECT(CR96):INDIRECT(CT96),0))),SUM(COUNTIF(INDIRECT(CR96):INDIRECT(CT96),2),COUNTIF(INDIRECT(CR96):INDIRECT(CT96),1),COUNTIF(INDIRECT(CR96):INDIRECT(CT96),0)),\"\")","v":""},{"$f":"IF(ISNUMBER(SUM(COUNTIF(INDIRECT(CR96):INDIRECT(CU96),1),COUNTIF(INDIRECT(CR96):INDIRECT(CU96),0))),SUM(COUNTIF(INDIRECT(CR96):INDIRECT(CU96),1),COUNTIF(INDIRECT(CR96):INDIRECT(CU96),0)),\"\")","v":""},{"$f":"SUM(INDIRECT(CR96):INDIRECT(CS96))","v":{"$error":"#N/A"}},{"$f":"SUM(INDIRECT(CR96):INDIRECT(CT96))","v":{"$error":"#N/A"}},{"$f":"SUM(INDIRECT(CR96):INDIRECT(CU96))","v":{"$error":"#N/A"}}]
[null,null,null,null,null,null,null,null,null,null,null,null,null,null,null,null,null,null,null,null,null,null,null,null,null,null,null,null,null,null,null,null,null,null,null,null,null,null,null,null,null,null,null,null,null,null,null,null,null,null,null,null,null,null,null,null,null,null,null,0,"@","@","@","@","@","@","@","@","@","@","@","@","@","@","@","@","@","@","@","@","@","@","@","@","@","@","@","@","@","@","@",{"$f":"'Month 4'!BL97","v":"@"},{"$f":"'Month 4'!BK97","v":"@"},{"$f":"'Month 4'!BJ97","v":"@"},{"$f":"'Month 4'!BI97","v":"@"},{"$error":"#N/A"},{"$error":"#N/A"},{"$error":"#N/A"},{"$error":"#N/A"},{"$f":"IF(ISNUMBER(SUM(COUNTIF(INDIRECT(CR97):INDIRECT(CS97),2),COUNTIF(INDIRECT(CR97):INDIRECT(CS97),1),COUNTIF(INDIRECT(CR97):INDIRECT(CS97),0))),SUM(COUNTIF(INDIRECT(CR97):INDIRECT(CS97),2),COUNTIF(INDIRECT(CR97):INDIRECT(CS97),1),COUNTIF(INDIRECT(CR97):INDIRECT(CS97),0)),\"\")","v":""},{"$f":"IF(ISNUMBER(SUM(COUNTIF(INDIRECT(CR97):INDIRECT(CT97),2),COUNTIF(INDIRECT(CR97):INDIRECT(CT97),1),COUNTIF(INDIRECT(CR97):INDIRECT(CT97),0))),SUM(COUNTIF(INDIRECT(CR97):INDIRECT(CT97),2),COUNTIF(INDIRECT(CR97):INDIRECT(CT97),1),COUNTIF(INDIRECT(CR97):INDIRECT(CT97),0)),\"\")","v":""},{"$f":"IF(ISNUMBER(SUM(COUNTIF(INDIRECT(CR97):INDIRECT(CU97),1),COUNTIF(INDIRECT(CR97):INDIRECT(CU97),0))),SUM(COUNTIF(INDIRECT(CR97):INDIRECT(CU97),1),COUNTIF(INDIRECT(CR97):INDIRECT(CU97),0)),\"\")","v":""},{"$f":"SUM(INDIRECT(CR97):INDIRECT(CS97))","v":{"$error":"#N/A"}},{"$f":"SUM(INDIRECT(CR97):INDIRECT(CT97))","v":{"$error":"#N/A"}},{"$f":"SUM(INDIRECT(CR97):INDIRECT(CU97))","v":{"$error":"#N/A"}}]
[null,null,null,null,null,null,null,null,null,null,null,null,null,null,null,null,null,null,null,null,null,null,null,null,null,null,null,null,null,null,null,null,null,null,null,null,null,null,null,null,null,null,null,null,null,null,null,null,null,null,null,null,null,null,null,null,null,null,null,0,"@","@","@","@","@","@","@","@","@","@","@","@","@","@","@","@","@","@","@","@","@","@","@","@","@","@","@","@","@","@","@",{"$f":"'Month 4'!BL98","v":"@"},{"$f":"'Month 4'!BK98","v":"@"},{"$f":"'Month 4'!BJ98","v":"@"},{"$f":"'Month 4'!BI98","v":"@"},{"$error":"#N/A"},{"$error":"#N/A"},{"$error":"#N/A"},{"$error":"#N/A"},{"$f":"IF(ISNUMBER(SUM(COUNTIF(INDIRECT(CR98):INDIRECT(CS98),2),COUNTIF(INDIRECT(CR98):INDIRECT(CS98),1),COUNTIF(INDIRECT(CR98):INDIRECT(CS98),0))),SUM(COUNTIF(INDIRECT(CR98):INDIRECT(CS98),2),COUNTIF(INDIRECT(CR98):INDIRECT(CS98),1),COUNTIF(INDIRECT(CR98):INDIRECT(CS98),0)),\"\")","v":""},{"$f":"IF(ISNUMBER(SUM(COUNTIF(INDIRECT(CR98):INDIRECT(CT98),2),COUNTIF(INDIRECT(CR98):INDIRECT(CT98),1),COUNTIF(INDIRECT(CR98):INDIRECT(CT98),0))),SUM(COUNTIF(INDIRECT(CR98):INDIRECT(CT98),2),COUNTIF(INDIRECT(CR98):INDIRECT(CT98),1),COUNTIF(INDIRECT(CR98):INDIRECT(CT98),0)),\"\")","v":""},{"$f":"IF(ISNUMBER(SUM(COUNTIF(INDIRECT(CR98):INDIRECT(CU98),1),COUNTIF(INDIRECT(CR98):INDIRECT(CU98),0))),SUM(COUNTIF(INDIRECT(CR98):INDIRECT(CU98),1),COUNTIF(INDIRECT(CR98):INDIRECT(CU98),0)),\"\")","v":""},{"$f":"SUM(INDIRECT(CR98):INDIRECT(CS98))","v":{"$error":"#N/A"}},{"$f":"SUM(INDIRECT(CR98):INDIRECT(CT98))","v":{"$error":"#N/A"}},{"$f":"SUM(INDIRECT(CR98):INDIRECT(CU98))","v":{"$error":"#N/A"}}]
[null,null,null,null,null,null,null,null,null,null,null,null,null,null,null,null,null,null,null,null,null,null,null,null,null,null,null,null,null,null,null,null,null,null,null,null,null,null,null,null,null,null,null,null,null,null,null,null,null,null,null,null,null,null,null,null,null,null,null,0,"@","@","@","@","@","@","@","@","@","@","@","@","@","@","@","@","@","@","@","@","@","@","@","@","@","@","@","@","@","@","@",{"$f":"'Month 4'!BL99","v":"@"},{"$f":"'Month 4'!BK99","v":"@"},{"$f":"'Month 4'!BJ99","v":"@"},{"$f":"'Month 4'!BI99","v":"@"},{"$error":"#N/A"},{"$error":"#N/A"},{"$error":"#N/A"},{"$error":"#N/A"},{"$f":"IF(ISNUMBER(SUM(COUNTIF(INDIRECT(CR99):INDIRECT(CS99),2),COUNTIF(INDIRECT(CR99):INDIRECT(CS99),1),COUNTIF(INDIRECT(CR99):INDIRECT(CS99),0))),SUM(COUNTIF(INDIRECT(CR99):INDIRECT(CS99),2),COUNTIF(INDIRECT(CR99):INDIRECT(CS99),1),COUNTIF(INDIRECT(CR99):INDIRECT(CS99),0)),\"\")","v":""},{"$f":"IF(ISNUMBER(SUM(COUNTIF(INDIRECT(CR99):INDIRECT(CT99),2),COUNTIF(INDIRECT(CR99):INDIRECT(CT99),1),COUNTIF(INDIRECT(CR99):INDIRECT(CT99),0))),SUM(COUNTIF(INDIRECT(CR99):INDIRECT(CT99),2),COUNTIF(INDIRECT(CR99):INDIRECT(CT99),1),COUNTIF(INDIRECT(CR99):INDIRECT(CT99),0)),\"\")","v":""},{"$f":"IF(ISNUMBER(SUM(COUNTIF(INDIRECT(CR99):INDIRECT(CU99),1),COUNTIF(INDIRECT(CR99):INDIRECT(CU99),0))),SUM(COUNTIF(INDIRECT(CR99):INDIRECT(CU99),1),COUNTIF(INDIRECT(CR99):INDIRECT(CU99),0)),\"\")","v":""},{"$f":"SUM(INDIRECT(CR99):INDIRECT(CS99))","v":{"$error":"#N/A"}},{"$f":"SUM(INDIRECT(CR99):INDIRECT(CT99))","v":{"$error":"#N/A"}},{"$f":"SUM(INDIRECT(CR99):INDIRECT(CU99))","v":{"$error":"#N/A"}}]
[null,null,null,null,null,null,null,null,null,null,null,null,null,null,null,null,null,null,null,null,null,null,null,null,null,null,null,null,null,null,null,null,null,null,null,null,null,null,null,null,null,null,null,null,null,null,null,null,null,null,null,null,null,null,null,null,null,null,null,0,"@","@","@","@","@","@","@","@","@","@","@","@","@","@","@","@","@","@","@","@","@","@","@","@","@","@","@","@","@","@","@",{"$f":"'Month 4'!BL100","v":"@"},{"$f":"'Month 4'!BK100","v":"@"},{"$f":"'Month 4'!BJ100","v":"@"},{"$f":"'Month 4'!BI100","v":"@"},{"$error":"#N/A"},{"$error":"#N/A"},{"$error":"#N/A"},{"$error":"#N/A"},{"$f":"IF(ISNUMBER(SUM(COUNTIF(INDIRECT(CR100):INDIRECT(CS100),2),COUNTIF(INDIRECT(CR100):INDIRECT(CS100),1),COUNTIF(INDIRECT(CR100):INDIRECT(CS100),0))),SUM(COUNTIF(INDIRECT(CR100):INDIRECT(CS100),2),COUNTIF(INDIRECT(CR100):INDIRECT(CS100),1),COUNTIF(INDIRECT(CR100):INDIRECT(CS100),0)),\"\")","v":""},{"$f":"IF(ISNUMBER(SUM(COUNTIF(INDIRECT(CR100):INDIRECT(CT100),2),COUNTIF(INDIRECT(CR100):INDIRECT(CT100),1),COUNTIF(INDIRECT(CR100):INDIRECT(CT100),0))),SUM(COUNTIF(INDIRECT(CR100):INDIRECT(CT100),2),COUNTIF(INDIRECT(CR100):INDIRECT(CT100),1),COUNTIF(INDIRECT(CR100):INDIRECT(CT100),0)),\"\")","v":""},{"$f":"IF(ISNUMBER(SUM(COUNTIF(INDIRECT(CR100):INDIRECT(CU100),1),COUNTIF(INDIRECT(CR100):INDIRECT(CU100),0))),SUM(COUNTIF(INDIRECT(CR100):INDIRECT(CU100),1),COUNTIF(INDIRECT(CR100):INDIRECT(CU100),0)),\"\")","v":""},{"$f":"SUM(INDIRECT(CR100):INDIRECT(CS100))","v":{"$error":"#N/A"}},{"$f":"SUM(INDIRECT(CR100):INDIRECT(CT100))","v":{"$error":"#N/A"}},{"$f":"SUM(INDIRECT(CR100):INDIRECT(CU100))","v":{"$error":"#N/A"}}]
[null,null,null,null,null,null,null,null,null,null,null,null,null,null,null,null,null,null,null,null,null,null,null,null,null,null,null,null,null,null,null,null,null,null,null,null,null,null,null,null,null,null,null,null,null,null,null,null,null,null,null,null,null,null,null,null,null,null,null,0,"@","@","@","@","@","@","@","@","@","@","@","@","@","@","@","@","@","@","@","@","@","@","@","@","@","@","@","@","@","@","@",{"$f":"'Month 4'!BL101","v":"@"},{"$f":"'Month 4'!BK101","v":"@"},{"$f":"'Month 4'!BJ101","v":"@"},{"$f":"'Month 4'!BI101","v":"@"},{"$error":"#N/A"},{"$error":"#N/A"},{"$error":"#N/A"},{"$error":"#N/A"},{"$f":"IF(ISNUMBER(SUM(COUNTIF(INDIRECT(CR101):INDIRECT(CS101),2),COUNTIF(INDIRECT(CR101):INDIRECT(CS101),1),COUNTIF(INDIRECT(CR101):INDIRECT(CS101),0))),SUM(COUNTIF(INDIRECT(CR101):INDIRECT(CS101),2),COUNTIF(INDIRECT(CR101):INDIRECT(CS101),1),COUNTIF(INDIRECT(CR101):INDIRECT(CS101),0)),\"\")","v":""},{"$f":"IF(ISNUMBER(SUM(COUNTIF(INDIRECT(CR101):INDIRECT(CT101),2),COUNTIF(INDIRECT(CR101):INDIRECT(CT101),1),COUNTIF(INDIRECT(CR101):INDIRECT(CT101),0))),SUM(COUNTIF(INDIRECT(CR101):INDIRECT(CT101),2),COUNTIF(INDIRECT(CR101):INDIRECT(CT101),1),COUNTIF(INDIRECT(CR101):INDIRECT(CT101),0)),\"\")","v":""},{"$f":"IF(ISNUMBER(SUM(COUNTIF(INDIRECT(CR101):INDIRECT(CU101),1),COUNTIF(INDIRECT(CR101):INDIRECT(CU101),0))),SUM(COUNTIF(INDIRECT(CR101):INDIRECT(CU101),1),COUNTIF(INDIRECT(CR101):INDIRECT(CU101),0)),\"\")","v":""},{"$f":"SUM(INDIRECT(CR101):INDIRECT(CS101))","v":{"$error":"#N/A"}},{"$f":"SUM(INDIRECT(CR101):INDIRECT(CT101))","v":{"$error":"#N/A"}},{"$f":"SUM(INDIRECT(CR101):INDIRECT(CU101))","v":{"$error":"#N/A"}}]
[null,null,null,null,null,null,null,null,null,null,null,null,null,null,null,null,null,null,null,null,null,null,null,null,null,null,null,null,null,null,null,null,null,null,null,null,null,null,null,null,null,null,null,null,null,null,null,null,null,null,null,null,null,null,null,null,null,null,null,0,"@","@","@","@","@","@","@","@","@","@","@","@","@","@","@","@","@","@","@","@","@","@","@","@","@","@","@","@","@","@","@",{"$f":"'Month 4'!BL102","v":"@"},{"$f":"'Month 4'!BK102","v":"@"},{"$f":"'Month 4'!BJ102","v":"@"},{"$f":"'Month 4'!BI102","v":"@"},{"$error":"#N/A"},{"$error":"#N/A"},{"$error":"#N/A"},{"$error":"#N/A"},{"$f":"IF(ISNUMBER(SUM(COUNTIF(INDIRECT(CR102):INDIRECT(CS102),2),COUNTIF(INDIRECT(CR102):INDIRECT(CS102),1),COUNTIF(INDIRECT(CR102):INDIRECT(CS102),0))),SUM(COUNTIF(INDIRECT(CR102):INDIRECT(CS102),2),COUNTIF(INDIRECT(CR102):INDIRECT(CS102),1),COUNTIF(INDIRECT(CR102):INDIRECT(CS102),0)),\"\")","v":""},{"$f":"IF(ISNUMBER(SUM(COUNTIF(INDIRECT(CR102):INDIRECT(CT102),2),COUNTIF(INDIRECT(CR102):INDIRECT(CT102),1),COUNTIF(INDIRECT(CR102):INDIRECT(CT102),0))),SUM(COUNTIF(INDIRECT(CR102):INDIRECT(CT102),2),COUNTIF(INDIRECT(CR102):INDIRECT(CT102),1),COUNTIF(INDIRECT(CR102):INDIRECT(CT102),0)),\"\")","v":""},{"$f":"IF(ISNUMBER(SUM(COUNTIF(INDIRECT(CR102):INDIRECT(CU102),1),COUNTIF(INDIRECT(CR102):INDIRECT(CU102),0))),SUM(COUNTIF(INDIRECT(CR102):INDIRECT(CU102),1),COUNTIF(INDIRECT(CR102):INDIRECT(CU102),0)),\"\")","v":""},{"$f":"SUM(INDIRECT(CR102):INDIRECT(CS102))","v":{"$error":"#N/A"}},{"$f":"SUM(INDIRECT(CR102):INDIRECT(CT102))","v":{"$error":"#N/A"}},{"$f":"SUM(INDIRECT(CR102):INDIRECT(CU102))","v":{"$error":"#N/A"}}]
[null,null,null,null,null,null,null,null,null,null,null,null,null,null,null,null,null,null,null,null,null,null,null,null,null,null,null,null,null,null,null,null,null,null,null,null,null,null,null,null,null,null,null,null,null,null,null,null,null,null,null,null,null,null,null,null,null,null,null,0,"@","@","@","@","@","@","@","@","@","@","@","@","@","@","@","@","@","@","@","@","@","@","@","@","@","@","@","@","@","@","@",{"$f":"'Month 4'!BL103","v":"@"},{"$f":"'Month 4'!BK103","v":"@"},{"$f":"'Month 4'!BJ103","v":"@"},{"$f":"'Month 4'!BI103","v":"@"},{"$error":"#N/A"},{"$error":"#N/A"},{"$error":"#N/A"},{"$error":"#N/A"},{"$f":"IF(ISNUMBER(SUM(COUNTIF(INDIRECT(CR103):INDIRECT(CS103),2),COUNTIF(INDIRECT(CR103):INDIRECT(CS103),1),COUNTIF(INDIRECT(CR103):INDIRECT(CS103),0))),SUM(COUNTIF(INDIRECT(CR103):INDIRECT(CS103),2),COUNTIF(INDIRECT(CR103):INDIRECT(CS103),1),COUNTIF(INDIRECT(CR103):INDIRECT(CS103),0)),\"\")","v":""},{"$f":"IF(ISNUMBER(SUM(COUNTIF(INDIRECT(CR103):INDIRECT(CT103),2),COUNTIF(INDIRECT(CR103):INDIRECT(CT103),1),COUNTIF(INDIRECT(CR103):INDIRECT(CT103),0))),SUM(COUNTIF(INDIRECT(CR103):INDIRECT(CT103),2),COUNTIF(INDIRECT(CR103):INDIRECT(CT103),1),COUNTIF(INDIRECT(CR103):INDIRECT(CT103),0)),\"\")","v":""},{"$f":"IF(ISNUMBER(SUM(COUNTIF(INDIRECT(CR103):INDIRECT(CU103),1),COUNTIF(INDIRECT(CR103):INDIRECT(CU103),0))),SUM(COUNTIF(INDIRECT(CR103):INDIRECT(CU103),1),COUNTIF(INDIRECT(CR103):INDIRECT(CU103),0)),\"\")","v":""},{"$f":"SUM(INDIRECT(CR103):INDIRECT(CS103))","v":{"$error":"#N/A"}},{"$f":"SUM(INDIRECT(CR103):INDIRECT(CT103))","v":{"$error":"#N/A"}},{"$f":"SUM(INDIRECT(CR103):INDIRECT(CU103))","v":{"$error":"#N/A"}}]
[null,null,null,null,null,null,null,null,null,null,null,null,null,null,null,null,null,null,null,null,null,null,null,null,null,null,null,null,null,null,null,null,null,null,null,null,null,null,null,null,null,null,null,null,null,null,null,null,null,null,null,null,null,null,null,null,null,null,null,0,"@","@","@","@","@","@","@","@","@","@","@","@","@","@","@","@","@","@","@","@","@","@","@","@","@","@","@","@","@","@","@",{"$f":"'Month 4'!BL104","v":"@"},{"$f":"'Month 4'!BK104","v":"@"},{"$f":"'Month 4'!BJ104","v":"@"},{"$f":"'Month 4'!BI104","v":"@"},{"$error":"#N/A"},{"$error":"#N/A"},{"$error":"#N/A"},{"$error":"#N/A"},{"$f":"IF(ISNUMBER(SUM(COUNTIF(INDIRECT(CR104):INDIRECT(CS104),2),COUNTIF(INDIRECT(CR104):INDIRECT(CS104),1),COUNTIF(INDIRECT(CR104):INDIRECT(CS104),0))),SUM(COUNTIF(INDIRECT(CR104):INDIRECT(CS104),2),COUNTIF(INDIRECT(CR104):INDIRECT(CS104),1),COUNTIF(INDIRECT(CR104):INDIRECT(CS104),0)),\"\")","v":""},{"$f":"IF(ISNUMBER(SUM(COUNTIF(INDIRECT(CR104):INDIRECT(CT104),2),COUNTIF(INDIRECT(CR104):INDIRECT(CT104),1),COUNTIF(INDIRECT(CR104):INDIRECT(CT104),0))),SUM(COUNTIF(INDIRECT(CR104):INDIRECT(CT104),2),COUNTIF(INDIRECT(CR104):INDIRECT(CT104),1),COUNTIF(INDIRECT(CR104):INDIRECT(CT104),0)),\"\")","v":""},{"$f":"IF(ISNUMBER(SUM(COUNTIF(INDIRECT(CR104):INDIRECT(CU104),1),COUNTIF(INDIRECT(CR104):INDIRECT(CU104),0))),SUM(COUNTIF(INDIRECT(CR104):INDIRECT(CU104),1),COUNTIF(INDIRECT(CR104):INDIRECT(CU104),0)),\"\")","v":""},{"$f":"SUM(INDIRECT(CR104):INDIRECT(CS104))","v":{"$error":"#N/A"}},{"$f":"SUM(INDIRECT(CR104):INDIRECT(CT104))","v":{"$error":"#N/A"}},{"$f":"SUM(INDIRECT(CR104):INDIRECT(CU104))","v":{"$error":"#N/A"}}]

{"sheet":"Month 6","index":10,"n_rows":104,"n_cols":105,"rows_kept":104,"cut":false,"hidden":false,"merged":[[53,95,53,98],[53,99,53,101],[53,102,53,104],[6,23,20,35],[13,5,20,8]]}
[]
[]
[]
[]
[]
[null,null,null,null,"Student Name:",{"$f":"IF(ISTEXT('Month 1'!F6),'Month 1'!F6,\"\")","v":""},null,null,null,null,null,null,null,null,null,null,null,null,null,null,null,null,null,"General Notes:"]
["Go To:"]
[{"$f":"IF(ISBLANK('Month 1'!$F$12),\"Month 1\",'Month 1'!$F$12)","v":"--"},null,null,null,"Skill Title:",{"$f":"IF(ISTEXT('Month 1'!F8),'Month 1'!F8,\"\")","v":""}]
[{"$f":"IF(ISBLANK('Month 2'!$F$12),\"Month 2\",'Month 2'!$F$12)","v":"--"}]
[{"$f":"IF(ISBLANK('Month 3'!$F$12),\"Month 3\",'Month 3'!$F$12)","v":"--"},null,null,null,"Skill Type:",{"$f":"IF(ISBLANK('Month 1'!F10),\"\",'Month 1'!F10)","v":""}]
[{"$f":"IF(ISBLANK('Month 4'!$F$12),\"Month 4\",'Month 4'!$F$12)","v":"--"}]
[{"$f":"IF(ISBLANK('Month 5'!$F$12),\"Month 5\",'Month 5'!$F$12)","v":"--"},null,null,null,"Date Range:","--"]
[{"$f":"IF(ISBLANK('Month 6'!$F$12),\"Month 6\",'Month 6'!$F$12)","v":"--"}]
[{"$f":"IF(ISBLANK('Month 7'!$F$12),\"Month 7\",'Month 7'!$F$12)","v":"--"},null,null,null,"Objective:",{"$f":"IF(ISBLANK('Month 1'!$F$14),\"\",'Month 1'!$F$14)","v":""}]
[{"$f":"IF(ISBLANK('Month 8'!$F$12),\"Month 8\",'Month 8'!$F$12)","v":"--"}]
[{"$f":"IF(ISBLANK('Month 9'!$F$12),\"Month 9\",'Month 9'!$F$12)","v":"--"}]
[{"$f":"IF(ISBLANK('Month 10'!$F$12),\"Month 10\",'Month 10'!$F$12)","v":"--"}]
[{"$f":"IF(ISBLANK('Month 11'!$F$12),\"Month 11\",'Month 11'!$F$12)","v":"--"}]
[{"$f":"IF(ISBLANK('Month 12'!$F$12),\"Month 12\",'Month 12'!$F$12)","v":"--"}]
[]
[]
[]
[null,null,null,null,null,null,{"$f":"SUM(COUNTIF(G27:G76,\"+\"),COUNTIF(G27:G76,\"-\"),COUNTIF(G27:G76,\"y\"),COUNTIF(G27:G76,\"n\"),COUNTIF(G27:G76,1),COUNTIF(G27:G76,2))","v":0},0,0,0,0,0,0,0,0,0,0,0,0,0,0,0,0,0,0,0,0,0,0,0,0,0,0,0,0,0,0,{"$f":"SUM(G23:AK23)","v":0}]
[null,null,null,null,null,"Total Number Correct   à",{"$f":"IF(G23>0,SUM(CM55:CM104),\"\")","v":""},{"$f":"IF(H23>0,SUM(CL55:CL104),\"\")","v":""},{"$f":"IF(I23>0,SUM(CK55:CK104),\"\")","v":""},{"$f":"IF(J23>0,SUM(CJ55:CJ104),\"\")","v":""},{"$f":"IF(K23>0,SUM(CI55:CI104),\"\")","v":""},{"$f":"IF(L23>0,SUM(CH55:CH104),\"\")","v":""},{"$f":"IF(M23>0,SUM(CG55:CG104),\"\")","v":""},{"$f":"IF(N23>0,SUM(CF55:CF104),\"\")","v":""},{"$f":"IF(O23>0,SUM(CE55:CE104),\"\")","v":""},{"$f":"IF(P23>0,SUM(CD55:CD104),\"\")","v":""},{"$f":"IF(Q23>0,SUM(CC55:CC104),\"\")","v":""},{"$f":"IF(R23>0,SUM(CB55:CB104),\"\")","v":""},{"$f":"IF(S23>0,SUM(CA55:CA104),\"\")","v":""},{"$f":"IF(T23>0,SUM(BZ55:BZ104),\"\")","v":""},{"$f":"IF(U23>0,SUM(BY55:BY104),\"\")","v":""},{"$f":"IF(V23>0,SUM(BX55:BX104),\"\")","v":""},{"$f":"IF(W23>0,SUM(BW55:BW104),\"\")","v":""},{"$f":"IF(X23>0,SUM(BV55:BV104),\"\")","v":""},{"$f":"IF(Y23>0,SUM(BU55:BU104),\"\")","v":""},{"$f":"IF(Z23>0,SUM(BT55:BT104),\"\")","v":""},{"$f":"IF(AA23>0,SUM(BS55:BS104),\"\")","v":""},{"$f":"IF(AB23>0,SUM(BR55:BR104),\"\")","v":""},{"$f":"IF(AC23>0,SUM(BQ55:BQ104),\"\")","v":""},{"$f":"IF(AD23>0,SUM(BP55:BP104),\"\")","v":""},{"$f":"IF(AE23>0,SUM(BO55:BO104),\"\")","v":""},{"$f":"IF(AF23>0,SUM(BN55:BN104),\"\")","v":""},{"$f":"IF(AG23>0,SUM(BM55:BM104),\"\")","v":""},{"$f":"IF(AH23>0,SUM(BL55:BL104),\"\")","v":""},{"$f":"IF(AI23>0,SUM(BK55:BK104),\"\")","v":""},{"$f":"IF(AJ23>0,SUM(BJ55:BJ104),\"\")","v":""},{"$f":"IF(AK23>0,SUM(BI55:BI104),\"\")","v":""}]
[null,null,{"$f":"50-SUM(C27:C76)","v":0},"Note",null,"Initials   à"]
[null,null,0,"â",null,"Date   à"]
[null,null,{"$f":"IF(F27=\"\",1,0)","v":1},{"$f":"IF(Modifications!$C$2=2,\"N\",\"\")","v":""},{"$f":"IF(AND(BH55>0,$F$10=\"\"),\"Choose Skill Type\",IF(CX55=\"\",\"\",IF(AND(DA55=3,$F$10=\"Multi-Step (Task Analysis)\"),\"Add Next Step\",IF(AND(DA55=3,$F$10=\"Multi-Stimulus (Different Sd's)\"),\"Continue\",IF(OR(AND(CV55=5,CY55<=1),AND(CW55=4,CZ55=0)),\"Intervene\",IF(OR(AND(CV55=5,CY55<=2),AND(CW55=4,CZ55<=1),AND(CX55=3,DA55=0)),\"Check\",\"Continue\"))))))","v":""},{"$f":"IF(ISBLANK('Month 1'!$F$27),\"\",'Month 1'!$F$27)","v":""}]
[null,null,{"$f":"IF(F28=\"\",1,0)","v":1},{"$f":"IF(Modifications!$C$3=2,\"N\",\"\")","v":""},"",{"$f":"IF(ISBLANK('Month 1'!$F$28),\"\",'Month 1'!$F$28)","v":""}]
[null,null,1,{"$f":"IF(Modifications!$C$4=2,\"N\",\"\")","v":""},"",{"$f":"IF(ISBLANK('Month 1'!$F$29),\"\",'Month 1'!$F$29)","v":""}]
[null,null,1,{"$f":"IF(Modifications!$C$5=2,\"N\",\"\")","v":""},"",{"$f":"IF(ISBLANK('Month 1'!$F$30),\"\",'Month 1'!$F$30)","v":""}]
[null,null,1,{"$f":"IF(Modifications!$C$6=2,\"N\",\"\")","v":""},"",{"$f":"IF(ISBLANK('Month 1'!$F$31),\"\",'Month 1'!$F$31)","v":""}]
[null,null,1,{"$f":"IF(Modifications!$C$7=2,\"N\",\"\")","v":""},"",{"$f":"IF(ISBLANK('Month 1'!$F$32),\"\",'Month 1'!$F$32)","v":""}]
[null,null,1,{"$f":"IF(Modifications!$C$8=2,\"N\",\"\")","v":""},"",{"$f":"IF(ISBLANK('Month 1'!$F$33),\"\",'Month 1'!$F$33)","v":""}]
[null,null,1,{"$f":"IF(Modifications!$C$9=2,\"N\",\"\")","v":""},"",{"$f":"IF(ISBLANK('Month 1'!$F$34),\"\",'Month 1'!$F$34)","v":""}]
[null,null,1,{"$f":"IF(Modifications!$C$10=2,\"N\",\"\")","v":""},"",{"$f":"IF(ISBLANK('Month 1'!$F$35),\"\",'Month 1'!$F$35)","v":""}]
[null,null,1,{"$f":"IF(Modifications!$C$11=2,\"N\",\"\")","v":""},"",{"$f":"IF(ISBLANK('Month 1'!$F$36),\"\",'Month 1'!$F$36)","v":""}]
[null,null,1,{"$f":"IF(Modifications!$C$12=2,\"N\",\"\")","v":""},"",{"$f":"IF(ISBLANK('Month 1'!$F$37),\"\",'Month 1'!$F$37)","v":""}]
[null,null,1,{"$f":"IF(Modifications!$C$13=2,\"N\",\"\")","v":""},"",{"$f":"IF(ISBLANK('Month 1'!$F$38),\"\",'Month 1'!$F$38)","v":""}]
[null,null,1,{"$f":"IF(Modifications!$C$14=2,\"N\",\"\")","v":""},"",{"$f":"IF(ISBLANK('Month 1'!$F$39),\"\",'Month 1'!$F$39)","v":""}]
[null,null,1,{"$f":"IF(Modifications!$C$15=2,\"N\",\"\")","v":""},"",{"$f":"IF(ISBLANK('Month 1'!$F$40),\"\",'Month 1'!$F$40)","v":""}]
[null,null,1,{"$f":"IF(Modifications!$C$16=2,\"N\",\"\")","v":""},"",{"$f":"IF(ISBLANK('Month 1'!$F$41),\"\",'Month 1'!$F$41)","v":""}]
[null,null,1,{"$f":"IF(Modifications!$C$17=2,\"N\",\"\")","v":""},"",{"$f":"IF(ISBLANK('Month 1'!$F$42),\"\",'Month 1'!$F$42)","v":""}]
[null,null,1,{"$f":"IF(Modifications!$C$18=2,\"N\",\"\")","v":""},"",{"$f":"IF(ISBLANK('Month 1'!$F$43),\"\",'Month 1'!$F$43)","v":""}]
[null,null,1,{"$f":"IF(Modifications!$C$19=2,\"N\",\"\")","v":""},"",{"$f":"IF(ISBLANK('Month 1'!$F$44),\"\",'Month 1'!$F$44)","v":""}]
[null,null,1,{"$f":"IF(Modifications!$C$20=2,\"N\",\"\")","v":""},"",{"$f":"IF(ISBLANK('Month 1'!$F$45),\"\",'Month 1'!$F$45)","v":""}]
[null,null,1,{"$f":"IF(Modifications!$C$21=2,\"N\",\"\")","v":""},"",{"$f":"IF(ISBLANK('Month 1'!$F$46),\"\",'Month 1'!$F$46)","v":""}]
[null,null,1,{"$f":"IF(Modifications!$C$22=2,\"N\",\"\")","v":""},"",{"$f":"IF(ISBLANK('Month 1'!$F$47),\"\",'Month 1'!$F$47)","v":""}]
[null,null,1,{"$f":"IF(Modifications!$C$23=2,\"N\",\"\")","v":""},"",{"$f":"IF(ISBLANK('Month 1'!$F$48),\"\",'Month 1'!$F$48)","v":""}]
[null,null,1,{"$f":"IF(Modifications!$C$24=2,\"N\",\"\")","v":""},"",{"$f":"IF(ISBLANK('Month 1'!$F$49),\"\",'Month 1'!$F$49)","v":""}]
[null,null,1,{"$f":"IF(Modifications!$C$25=2,\"N\",\"\")","v":""},"",{"$f":"IF(ISBLANK('Month 1'!$F$50),\"\",'Month 1'!$F$50)","v":""}]
[null,null,1,{"$f":"IF(Modifications!$C$26=2,\"N\",\"\")","v":""},"",{"$f":"IF(ISBLANK('Month 1'!$F$51),\"\",'Month 1'!$F$51)","v":""}]
[null,null,1,{"$f":"IF(Modifications!$C$27=2,\"N\",\"\")","v":""},"",{"$f":"IF(ISBLANK('Month 1'!$F$52),\"\",'Month 1'!$F$52)","v":""}]
[null,null,1,{"$f":"IF(Modifications!$C$28=2,\"N\",\"\")","v":""},"",{"$f":"IF(ISBLANK('Month 1'!$F$53),\"\",'Month 1'!$F$53)","v":""}]
[null,null,1,{"$f":"IF(Modifications!$C$29=2,\"N\",\"\")","v":""},"",{"$f":"IF(ISBLANK('Month 1'!$F$54),\"\",'Month 1'!$F$54)","v":""},null,null,null,null,null,null,null,null,null,null,null,null,null,null,null,null,null,null,null,null,null,null,null,null,null,null,null,null,null,null,null,null,null,null,null,null,null,null,null,null,null,null,null,null,null,null,null,null,null,null,null,null,null,null,null,null,null,null,null,null,null,null,null,null,null,null,null,null,null,null,null,null,null,null,null,null,null,null,null,null,null,null,null,null,null,null,null,null,null,"Locations (start,5,4,3)",null,null,null,"Are they in a row? (5,4,3)",null,null,"Sum of items in row (5,4,3)"]
[null,null,1,{"$f":"IF(Modifications!$C$30=2,\"N\",\"\")","v":""},"",{"$f":"IF(ISBLANK('Month 1'!$F$55),\"\",'Month 1'!$F$55)","v":""},null,null,null,null,null,null,null,null,null,null,null,null,null,null,null,null,null,null,null,null,null,null,null,null,null,null,null,null,null,null,null,null,null,null,null,null,null,null,null,null,null,null,null,null,null,null,null,null,null,null,null,null,null,{"$f":"SUM(COUNTIF(BI55:CM55,1),COUNTIF(BI55:CM55,0))","v":0},{"$f":"IF(OR(AK27=\"+\",AK27=\"Y\",AK27=2),1,IF(OR(AK27=\"-\",AK27=\"N\",AK27=1),0,IF(OR(BJ55=1,BJ55=0),\"#\",\"@\")))","v":"@"},{"$f":"IF(OR(AJ27=\"+\",AJ27=\"Y\",AJ27=2),1,IF(OR(AJ27=\"-\",AJ27=\"N\",AJ27=1),0,IF(OR(BK55=1,BK55=0),\"#\",\"@\")))","v":"@"},{"$f":"IF(OR(AI27=\"+\",AI27=\"Y\",AI27=2),1,IF(OR(AI27=\"-\",AI27=\"N\",AI27=1),0,IF(OR(BL55=1,BL55=0),\"#\",\"@\")))","v":"@"},{"$f":"IF(OR(AH27=\"+\",AH27=\"Y\",AH27=2),1,IF(OR(AH27=\"-\",AH27=\"N\",AH27=1),0,IF(OR(BM55=1,BM55=0),\"#\",\"@\")))","v":"@"},{"$f":"IF(OR(AG27=\"+\",AG27=\"Y\",AG27=2),1,IF(OR(AG27=\"-\",AG27=\"N\",AG27=1),0,IF(OR(BN55=1,BN55=0),\"#\",\"@\")))","v":"@"},{"$f":"IF(OR(AF27=\"+\",AF27=\"Y\",AF27=2),1,IF(OR(AF27=\"-\",AF27=\"N\",AF27=1),0,IF(OR(BO55=1,BO55=0),\"#\",\"@\")))","v":"@"},{"$f":"IF(OR(AE27=\"+\",AE27=\"Y\",AE27=2),1,IF(OR(AE27=\"-\",AE27=\"N\",AE27=1),0,IF(OR(BP55=1,BP55=0),\"#\",\"@\")))","v":"@"},{"$f":"IF(OR(AD27=\"+\",AD27=\"Y\",AD27=2),1,IF(OR(AD27=\"-\",AD27=\"N\",AD27=1),0,IF(OR(BQ55=1,BQ55=0),\"#\",\"@\")))","v":"@"},{"$f":"IF(OR(AC27=\"+\",AC27=\"Y\",AC27=2),1,IF(OR(AC27=\"-\",AC27=\"N\",AC27=1),0,IF(OR(BR55=1,BR55=0),\"#\",\"@\")))","v":"@"},{"$f":"IF(OR(AB27=\"+\",AB27=\"Y\",AB27=2),1,IF(OR(AB27=\"-\",AB27=\"N\",AB27=1),0,IF(OR(BS55=1,BS55=0),\"#\",\"@\")))","v":"@"},{"$f":"IF(OR(AA27=\"+\",AA27=\"Y\",AA27=2),1,IF(OR(AA27=\"-\",AA27=\"N\",AA27=1),0,IF(OR(BT55=1,BT55=0),\"#\",\"@\")))","v":"@"},{"$f":"IF(OR(Z27=\"+\",Z27=\"Y\",Z27=2),1,IF(OR(Z27=\"-\",Z27=\"N\",Z27=1),0,IF(OR(BU55=1,BU55=0),\"#\",\"@\")))","v":"@"},{"$f":"IF(OR(Y27=\"+\",Y27=\"Y\",Y27=2),1,IF(OR(Y27=\"-\",Y27=\"N\",Y27=1),0,IF(OR(BV55=1,BV55=0),\"#\",\"@\")))","v":"@"},{"$f":"IF(OR(X27=\"+\",X27=\"Y\",X27=2),1,IF(OR(X27=\"-\",X27=\"N\",X27=1),0,IF(OR(BW55=1,BW55=0),\"#\",\"@\")))","v":"@"},{"$f":"IF(OR(W27=\"+\",W27=\"Y\",W27=2),1,IF(OR(W27=\"-\",W27=\"N\",W27=1),0,IF(OR(BX55=1,BX55=0),\"#\",\"@\")))","v":"@"},{"$f":"IF(OR(V27=\"+\",V27=\"Y\",V27=2),1,IF(OR(V27=\"-\",V27=\"N\",V27=1),0,IF(OR(BY55=1,BY55=0),\"#\",\"@\")))","v":"@"},{"$f":"IF(OR(U27=\"+\",U27=\"Y\",U27=2),1,IF(OR(U27=\"-\",U27=\"N\",U27=1),0,IF(OR(BZ55=1,BZ55=0),\"#\",\"@\")))","v":"@"},{"$f":"IF(OR(T27=\"+\",T27=\"Y\",T27=2),1,IF(OR(T27=\"-\",T27=\"N\",T27=1),0,IF(OR(CA55=1,CA55=0),\"#\",\"@\")))","v":"@"},{"$f":"IF(OR(S27=\"+\",S27=\"Y\",S27=2),1,IF(OR(S27=\"-\",S27=\"N\",S27=1),0,IF(OR(CB55=1,CB55=0),\"#\",\"@\")))","v":"@"},{"$f":"IF(OR(R27=\"+\",R27=\"Y\",R27=2),1,IF(OR(R27=\"-\",R27=\"N\",R27=1),0,IF(OR(CC55=1,CC55=0),\"#\",\"@\")))","v":"@"},{"$f":"IF(OR(Q27=\"+\",Q27=\"Y\",Q27=2),1,IF(OR(Q27=\"-\",Q27=\"N\",Q27=1),0,IF(OR(CD55=1,CD55=0),\"#\",\"@\")))","v":"@"},{"$f":"IF(OR(P27=\"+\",P27=\"Y\",P27=2),1,IF(OR(P27=\"-\",P27=\"N\",P27=1),0,IF(OR(CE55=1,CE55=0),\"#\",\"@\")))","v":"@"},{"$f":"IF(OR(O27=\"+\",O27=\"Y\",O27=2),1,IF(OR(O27=\"-\",O27=\"N\",O27=1),0,IF(OR(CF55=1,CF55=0),\"#\",\"@\")))","v":"@"},{"$f":"IF(OR(N27=\"+\",N27=\"Y\",N27=2),1,IF(OR(N27=\"-\",N27=\"N\",N27=1),0,IF(OR(CG55=1,CG55=0),\"#\",\"@\")))","v":"@"},{"$f":"IF(OR(M27=\"+\",M27=\"Y\",M27=2),1,IF(OR(M27=\"-\",M27=\"N\",M27=1),0,IF(OR(CH55=1,CH55=0),\"#\",\"@\")))","v":"@"},{"$f":"IF(OR(L27=\"+\",L27=\"Y\",L27=2),1,IF(OR(L27=\"-\",L27=\"N\",L27=1),0,IF(OR(CI55=1,CI55=0),\"#\",\"@\")))","v":"@"},{"$f":"IF(OR(K27=\"+\",K27=\"Y\",K27=2),1,IF(OR(K27=\"-\",K27=\"N\",K27=1),0,IF(OR(CJ55=1,CJ55=0),\"#\",\"@\")))","v":"@"},{"$f":"IF(OR(J27=\"+\",J27=\"Y\",J27=2),1,IF(OR(J27=\"-\",J27=\"N\",J27=1),0,IF(OR(CK55=1,CK55=0),\"#\",\"@\")))","v":"@"},{"$f":"IF(OR(I27=\"+\",I27=\"Y\",I27=2),1,IF(OR(I27=\"-\",I27=\"N\",I27=1),0,IF(OR(CL55=1,CL55=0),\"#\",\"@\")))","v":"@"},{"$f":"IF(OR(H27=\"+\",H27=\"Y\",H27=2),1,IF(OR(H27=\"-\",H27=\"N\",H27=1),0,IF(OR(CM55=1,CM55=0),\"#\",\"@\")))","v":"@"},{"$f":"IF(OR(G27=\"+\",G27=\"Y\",G27=2),1,IF(OR(G27=\"-\",G27=\"N\",G27=1),0,\"@\"))","v":"@"},{"$f":"'Month 5'!BL55","v":"@"},{"$f":"'Month 5'!BK55","v":"@"},{"$f":"'Month 5'!BJ55","v":"@"},{"$f":"'Month 5'!BI55","v":"@"},{"$f":"ADDRESS(ROW(BH55),(MATCH(\"#\",BI55:CM55,0)+61))","v":{"$error":"#N/A"}},{"$f":"ADDRESS(ROW(BH55),(MATCH(\"#\",BI55:CM55,0)+65))","v":{"$error":"#N/A"}},{"$f":"ADDRESS(ROW(BH55),(MATCH(\"#\",BI55:CM55,0)+64))","v":{"$error":"#N/A"}},{"$f":"ADDRESS(ROW(BH55),(MATCH(\"#\",BI55:CM55,0)+63))","v":{"$error":"#N/A"}},{"$f":"IF(ISNUMBER(SUM(COUNTIF(INDIRECT(CR55):INDIRECT(CS55),2),COUNTIF(INDIRECT(CR55):INDIRECT(CS55),1),COUNTIF(INDIRECT(CR55):INDIRECT(CS55),0))),SUM(COUNTIF(INDIRECT(CR55):INDIRECT(CS55),2),COUNTIF(INDIRECT(CR55):INDIRECT(CS55),1),COUNTIF(INDIRECT(CR55):INDIRECT(CS55),0)),\"\")","v":""},{"$f":"IF(ISNUMBER(SUM(COUNTIF(INDIRECT(CR55):INDIRECT(CT55),2),COUNTIF(INDIRECT(CR55):INDIRECT(CT55),1),COUNTIF(INDIRECT(CR55):INDIRECT(CT55),0))),SUM(COUNTIF(INDIRECT(CR55):INDIRECT(CT55),2),COUNTIF(INDIRECT(CR55):INDIRECT(CT55),1),COUNTIF(INDIRECT(CR55):INDIRECT(CT55),0)),\"\")","v":""},{"$f":"IF(ISNUMBER(SUM(COUNTIF(INDIRECT(CR55):INDIRECT(CU55),1),COUNTIF(INDIRECT(CR55):INDIRECT(CU55),0))),SUM(COUNTIF(INDIRECT(CR55):INDIRECT(CU55),1),COUNTIF(INDIRECT(CR55):INDIRECT(CU55),0)),\"\")","v":""},{"$f":"SUM(INDIRECT(CR55):INDIRECT(CS55))","v":{"$error":"#N/A"}},{"$f":"SUM(INDIRECT(CR55):INDIRECT(CT55))","v":{"$error":"#N/A"}},{"$f":"SUM(INDIRECT(CR55):INDIRECT(CU55))","v":{"$error":"#N/A"}}]
[null,null,1,{"$f":"IF(Modifications!$C$31=2,\"N\",\"\")","v":""},"",{"$f":"IF(ISBLANK('Month 1'!$F$56),\"\",'Month 1'!$F$56)","v":""},null,null,null,null,null,null,null,null,null,null,null,null,null,null,null,null,null,null,null,null,null,null,null,null,null,null,null,null,null,null,null,null,null,null,null,null,null,null,null,null,null,null,null,null,null,null,null,null,null,null,null,null,null,0,"@","@","@","@","@","@","@","@","@","@","@","@","@","@","@","@","@","@","@","@","@","@","@","@","@","@","@","@","@","@","@",{"$f":"'Month 5'!BL56","v":"@"},{"$f":"'Month 5'!BK56","v":"@"},{"$f":"'Month 5'!BJ56","v":"@"},{"$f":"'Month 5'!BI56","v":"@"},{"$error":"#N/A"},{"$error":"#N/A"},{"$error":"#N/A"},{"$error":"#N/A"},{"$f":"IF(ISNUMBER(SUM(COUNTIF(INDIRECT(CR56):INDIRECT(CS56),2),COUNTIF(INDIRECT(CR56):INDIRECT(CS56),1),COUNTIF(INDIRECT(CR56):INDIRECT(CS56),0))),SUM(COUNTIF(INDIRECT(CR56):INDIRECT(CS56),2),COUNTIF(INDIRECT(CR56):INDIRECT(CS56),1),COUNTIF(INDIRECT(CR56):INDIRECT(CS56),0)),\"\")","v":""},{"$f":"IF(ISNUMBER(SUM(COUNTIF(INDIRECT(CR56):INDIRECT(CT56),2),COUNTIF(INDIRECT(CR56):INDIRECT(CT56),1),COUNTIF(INDIRECT(CR56):INDIRECT(CT56),0))),SUM(COUNTIF(INDIRECT(CR56):INDIRECT(CT56),2),COUNTIF(INDIRECT(CR56):INDIRECT(CT56),1),COUNTIF(INDIRECT(CR56):INDIRECT(CT56),0)),\"\")","v":""},{"$f":"IF(ISNUMBER(SUM(COUNTIF(INDIRECT(CR56):INDIRECT(CU56),1),COUNTIF(INDIRECT(CR56):INDIRECT(CU56),0))),SUM(COUNTIF(INDIRECT(CR56):INDIRECT(CU56),1),COUNTIF(INDIRECT(CR56):INDIRECT(CU56),0)),\"\")","v":""},{"$f":"SUM(INDIRECT(CR56):INDIRECT(CS56))","v":{"$error":"#N/A"}},{"$f":"SUM(INDIRECT(CR56):INDIRECT(CT56))","v":{"$error":"#N/A"}},{"$f":"SUM(INDIRECT(CR56):INDIRECT(CU56))","v":{"$error":"#N/A"}}]
[null,null,1,{"$f":"IF(Modifications!$C$32=2,\"N\",\"\")","v":""},"",{"$f":"IF(ISBLANK('Month 1'!$F$57),\"\",'Month 1'!$F$57)","v":""},null,null,null,null,null,null,null,null,null,null,null,null,null,null,null,null,null,null,null,null,null,null,null,null,null,null,null,null,null,null,null,null,null,null,null,null,null,null,null,null,null,null,null,null,null,null,null,null,null,null,null,null,null,0,"@","@","@","@","@","@","@","@","@","@","@","@","@","@","@","@","@","@","@","@","@","@","@","@","@","@","@","@","@","@","@",{"$f":"'Month 5'!BL57","v":"@"},{"$f":"'Month 5'!BK57","v":"@"},{"$f":"'Month 5'!BJ57","v":"@"},{"$f":"'Month 5'!BI57","v":"@"},{"$error":"#N/A"},{"$error":"#N/A"},{"$error":"#N/A"},{"$error":"#N/A"},{"$f":"IF(ISNUMBER(SUM(COUNTIF(INDIRECT(CR57):INDIRECT(CS57),2),COUNTIF(INDIRECT(CR57):INDIRECT(CS57),1),COUNTIF(INDIRECT(CR57):INDIRECT(CS57),0))),SUM(COUNTIF(INDIRECT(CR57):INDIRECT(CS57),2),COUNTIF(INDIRECT(CR57):INDIRECT(CS57),1),COUNTIF(INDIRECT(CR57):INDIRECT(CS57),0)),\"\")","v":""},{"$f":"IF(ISNUMBER(SUM(COUNTIF(INDIRECT(CR57):INDIRECT(CT57),2),COUNTIF(INDIRECT(CR57):INDIRECT(CT57),1),COUNTIF(INDIRECT(CR57):INDIRECT(CT57),0))),SUM(COUNTIF(INDIRECT(CR57):INDIRECT(CT57),2),COUNTIF(INDIRECT(CR57):INDIRECT(CT57),1),COUNTIF(INDIRECT(CR57):INDIRECT(CT57),0)),\"\")","v":""},{"$f":"IF(ISNUMBER(SUM(COUNTIF(INDIRECT(CR57):INDIRECT(CU57),1),COUNTIF(INDIRECT(CR57):INDIRECT(CU57),0))),SUM(COUNTIF(INDIRECT(CR57):INDIRECT(CU57),1),COUNTIF(INDIRECT(CR57):INDIRECT(CU57),0)),\"\")","v":""},{"$f":"SUM(INDIRECT(CR57):INDIRECT(CS57))","v":{"$error":"#N/A"}},{"$f":"SUM(INDIRECT(CR57):INDIRECT(CT57))","v":{"$error":"#N/A"}},{"$f":"SUM(INDIRECT(CR57):INDIRECT(CU57))","v":{"$error":"#N/A"}}]
[null,null,1,{"$f":"IF(Modifications!$C$33=2,\"N\",\"\")","v":""},"",{"$f":"IF(ISBLANK('Month 1'!$F$58),\"\",'Month 1'!$F$58)","v":""},null,null,null,null,null,null,null,null,null,null,null,null,null,null,null,null,null,null,null,null,null,null,null,null,null,null,null,null,null,null,null,null,null,null,null,null,null,null,null,null,null,null,null,null,null,null,null,null,null,null,null,null,null,0,"@","@","@","@","@","@","@","@","@","@","@","@","@","@","@","@","@","@","@","@","@","@","@","@","@","@","@","@","@","@","@",{"$f":"'Month 5'!BL58","v":"@"},{"$f":"'Month 5'!BK58","v":"@"},{"$f":"'Month 5'!BJ58","v":"@"},{"$f":"'Month 5'!BI58","v":"@"},{"$error":"#N/A"},{"$error":"#N/A"},{"$error":"#N/A"},{"$error":"#N/A"},{"$f":"IF(ISNUMBER(SUM(COUNTIF(INDIRECT(CR58):INDIRECT(CS58),2),COUNTIF(INDIRECT(CR58):INDIRECT(CS58),1),COUNTIF(INDIRECT(CR58):INDIRECT(CS58),0))),SUM(COUNTIF(INDIRECT(CR58):INDIRECT(CS58),2),COUNTIF(INDIRECT(CR58):INDIRECT(CS58),1),COUNTIF(INDIRECT(CR58):INDIRECT(CS58),0)),\"\")","v":""},{"$f":"IF(ISNUMBER(SUM(COUNTIF(INDIRECT(CR58):INDIRECT(CT58),2),COUNTIF(INDIRECT(CR58):INDIRECT(CT58),1),COUNTIF(INDIRECT(CR58):INDIRECT(CT58),0))),SUM(COUNTIF(INDIRECT(CR58):INDIRECT(CT58),2),COUNTIF(INDIRECT(CR58):INDIRECT(CT58),1),COUNTIF(INDIRECT(CR58):INDIRECT(CT58),0)),\"\")","v":""},{"$f":"IF(ISNUMBER(SUM(COUNTIF(INDIRECT(CR58):INDIRECT(CU58),1),COUNTIF(INDIRECT(CR58):INDIRECT(CU58),0))),SUM(COUNTIF(INDIRECT(CR58):INDIRECT(CU58),1),COUNTIF(INDIRECT(CR58):INDIRECT(CU58),0)),\"\")","v":""},{"$f":"SUM(INDIRECT(CR58):INDIRECT(CS58))","v":{"$error":"#N/A"}},{"$f":"SUM(INDIRECT(CR58):INDIRECT(CT58))","v":{"$error":"#N/A"}},{"$f":"SUM(INDIRECT(CR58):INDIRECT(CU58))","v":{"$error":"#N/A"}}]
[null,null,1,{"$f":"IF(Modifications!$C$34=2,\"N\",\"\")","v":""},{"$f":"IF(AND(BH87>0,$F$10=\"\"),\"Choose Skill Type\",IF(CX87=\"\",\"\",IF(AND(DA87=3,$F$10=\"Multi-Step (Task Analysis)\"),\"Add Next Step\",IF(AND(DA87=3,$F$10=\"Multi-Stimulus (Different Sd's)\"),\"Continue\",IF(OR(AND(CV87=5,CY87<=1),AND(CW87=4,CZ87=0)),\"Intervene\",IF(OR(AND(CV87=5,CY87<=2),AND(CW87=4,CZ87<=1),AND(CX87=3,DA87=0)),\"Check\",\"Continue\"))))))","v":""},{"$f":"IF(ISBLANK('Month 1'!$F$59),\"\",'Month 1'!$F$59)","v":""},null,null,null,null,null,null,null,null,null,null,null,null,null,null,null,null,null,null,null,null,null,null,null,null,null,null,null,null,null,null,null,null,null,null,null,null,null,null,null,null,null,null,null,null,null,null,null,null,null,null,null,null,null,0,"@","@","@","@","@","@","@","@","@","@","@","@","@","@","@","@","@","@","@","@","@","@","@","@","@","@","@","@","@","@","@",{"$f":"'Month 5'!BL59","v":"@"},{"$f":"'Month 5'!BK59","v":"@"},{"$f":"'Month 5'!BJ59","v":"@"},{"$f":"'Month 5'!BI59","v":"@"},{"$error":"#N/A"},{"$error":"#N/A"},{"$error":"#N/A"},{"$error":"#N/A"},{"$f":"IF(ISNUMBER(SUM(COUNTIF(INDIRECT(CR59):INDIRECT(CS59),2),COUNTIF(INDIRECT(CR59):INDIRECT(CS59),1),COUNTIF(INDIRECT(CR59):INDIRECT(CS59),0))),SUM(COUNTIF(INDIRECT(CR59):INDIRECT(CS59),2),COUNTIF(INDIRECT(CR59):INDIRECT(CS59),1),COUNTIF(INDIRECT(CR59):INDIRECT(CS59),0)),\"\")","v":""},{"$f":"IF(ISNUMBER(SUM(COUNTIF(INDIRECT(CR59):INDIRECT(CT59),2),COUNTIF(INDIRECT(CR59):INDIRECT(CT59),1),COUNTIF(INDIRECT(CR59):INDIRECT(CT59),0))),SUM(COUNTIF(INDIRECT(CR59):INDIRECT(CT59),2),COUNTIF(INDIRECT(CR59):INDIRECT(CT59),1),COUNTIF(INDIRECT(CR59):INDIRECT(CT59),0)),\"\")","v":""},{"$f":"IF(ISNUMBER(SUM(COUNTIF(INDIRECT(CR59):INDIRECT(CU59),1),COUNTIF(INDIRECT(CR59):INDIRECT(CU59),0))),SUM(COUNTIF(INDIRECT(CR59):INDIRECT(CU59),1),COUNTIF(INDIRECT(CR59):INDIRECT(CU59),0)),\"\")","v":""},{"$f":"SUM(INDIRECT(CR59):INDIRECT(CS59))","v":{"$error":"#N/A"}},{"$f":"SUM(INDIRECT(CR59):INDIRECT(CT59))","v":{"$error":"#N/A"}},{"$f":"SUM(INDIRECT(CR59):INDIRECT(CU59))","v":{"$error":"#N/A"}}]
[null,null,1,{"$f":"IF(Modifications!$C$35=2,\"N\",\"\")","v":""},"",{"$f":"IF(ISBLANK('Month 1'!$F$60),\"\",'Month 1'!$F$60)","v":""},null,null,null,null,null,null,null,null,null,null,null,null,null,null,null,null,null,null,null,null,null,null,null,null,null,null,null,null,null,null,null,null,null,null,null,null,null,null,null,null,null,null,null,null,null,null,null,null,null,null,null,null,null,0,"@","@","@","@","@","@","@","@","@","@","@","@","@","@","@","@","@","@","@","@","@","@","@","@","@","@","@","@","@","@","@",{"$f":"'Month 5'!BL60","v":"@"},{"$f":"'Month 5'!BK60","v":"@"},{"$f":"'Month 5'!BJ60","v":"@"},{"$f":"'Month 5'!BI60","v":"@"},{"$error":"#N/A"},{"$error":"#N/A"},{"$error":"#N/A"},{"$error":"#N/A"},{"$f":"IF(ISNUMBER(SUM(COUNTIF(INDIRECT(CR60):INDIRECT(CS60),2),COUNTIF(INDIRECT(CR60):INDIRECT(CS60),1),COUNTIF(INDIRECT(CR60):INDIRECT(CS60),0))),SUM(COUNTIF(INDIRECT(CR60):INDIRECT(CS60),2),COUNTIF(INDIRECT(CR60):INDIRECT(CS60),1),COUNTIF(INDIRECT(CR60):INDIRECT(CS60),0)),\"\")","v":""},{"$f":"IF(ISNUMBER(SUM(COUNTIF(INDIRECT(CR60):INDIRECT(CT60),2),COUNTIF(INDIRECT(CR60):INDIRECT(CT60),1),COUNTIF(INDIRECT(CR60):INDIRECT(CT60),0))),SUM(COUNTIF(INDIRECT(CR60):INDIRECT(CT60),2),COUNTIF(INDIRECT(CR60):INDIRECT(CT60),1),COUNTIF(INDIRECT(CR60):INDIRECT(CT60),0)),\"\")","v":""},{"$f":"IF(ISNUMBER(SUM(COUNTIF(INDIRECT(CR60):INDIRECT(CU60),1),COUNTIF(INDIRECT(CR60):INDIRECT(CU60),0))),SUM(COUNTIF(INDIRECT(CR60):INDIRECT(CU60),1),COUNTIF(INDIRECT(CR60):INDIRECT(CU60),0)),\"\")","v":""},{"$f":"SUM(INDIRECT(CR60):INDIRECT(CS60))","v":{"$error":"#N/A"}},{"$f":"SUM(INDIRECT(CR60):INDIRECT(CT60))","v":{"$error":"#N/A"}},{"$f":"SUM(INDIRECT(CR60):INDIRECT(CU60))","v":{"$error":"#N/A"}}]
[null,null,1,{"$f":"IF(Modifications!$C$36=2,\"N\",\"\")","v":""},"",{"$f":"IF(ISBLANK('Month 1'!$F$61),\"\",'Month 1'!$F$61)","v":""},null,null,null,null,null,null,null,null,null,null,null,null,null,null,null,null,null,null,null,null,null,null,null,null,null,null,null,null,null,null,null,null,null,null,null,null,null,null,null,null,null,null,null,null,null,null,null,null,null,null,null,null,null,0,"@","@","@","@","@","@","@","@","@","@","@","@","@","@","@","@","@","@","@","@","@","@","@","@","@","@","@","@","@","@","@",{"$f":"'Month 5'!BL61","v":"@"},{"$f":"'Month 5'!BK61","v":"@"},{"$f":"'Month 5'!BJ61","v":"@"},{"$f":"'Month 5'!BI61","v":"@"},{"$error":"#N/A"},{"$error":"#N/A"},{"$error":"#N/A"},{"$error":"#N/A"},{"$f":"IF(ISNUMBER(SUM(COUNTIF(INDIRECT(CR61):INDIRECT(CS61),2),COUNTIF(INDIRECT(CR61):INDIRECT(CS61),1),COUNTIF(INDIRECT(CR61):INDIRECT(CS61),0))),SUM(COUNTIF(INDIRECT(CR61):INDIRECT(CS61),2),COUNTIF(INDIRECT(CR61):INDIRECT(CS61),1),COUNTIF(INDIRECT(CR61):INDIRECT(CS61),0)),\"\")","v":""},{"$f":"IF(ISNUMBER(SUM(COUNTIF(INDIRECT(CR61):INDIRECT(CT61),2),COUNTIF(INDIRECT(CR61):INDIRECT(CT61),1),COUNTIF(INDIRECT(CR61):INDIRECT(CT61),0))),SUM(COUNTIF(INDIRECT(CR61):INDIRECT(CT61),2),COUNTIF(INDIRECT(CR61):INDIRECT(CT61),1),COUNTIF(INDIRECT(CR61):INDIRECT(CT61),0)),\"\")","v":""},{"$f":"IF(ISNUMBER(SUM(COUNTIF(INDIRECT(CR61):INDIRECT(CU61),1),COUNTIF(INDIRECT(CR61):INDIRECT(CU61),0))),SUM(COUNTIF(INDIRECT(CR61):INDIRECT(CU61),1),COUNTIF(INDIRECT(CR61):INDIRECT(CU61),0)),\"\")","v":""},{"$f":"SUM(INDIRECT(CR61):INDIRECT(CS61))","v":{"$error":"#N/A"}},{"$f":"SUM(INDIRECT(CR61):INDIRECT(CT61))","v":{"$error":"#N/A"}},{"$f":"SUM(INDIRECT(CR61):INDIRECT(CU61))","v":{"$error":"#N/A"}}]
[null,null,1,{"$f":"IF(Modifications!$C$37=2,\"N\",\"\")","v":""},"",{"$f":"IF(ISBLANK('Month 1'!$F$62),\"\",'Month 1'!$F$62)","v":""},null,null,null,null,null,null,null,null,null,null,null,null,null,null,null,null,null,null,null,null,null,null,null,null,null,null,null,null,null,null,null,null,null,null,null,null,null,null,null,null,null,null,null,null,null,null,null,null,null,null,null,null,null,0,"@","@","@","@","@","@","@","@","@","@","@","@","@","@","@","@","@","@","@","@","@","@","@","@","@","@","@","@","@","@","@",{"$f":"'Month 5'!BL62","v":"@"},{"$f":"'Month 5'!BK62","v":"@"},{"$f":"'Month 5'!BJ62","v":"@"},{"$f":"'Month 5'!BI62","v":"@"},{"$error":"#N/A"},{"$error":"#N/A"},{"$error":"#N/A"},{"$error":"#N/A"},{"$f":"IF(ISNUMBER(SUM(COUNTIF(INDIRECT(CR62):INDIRECT(CS62),2),COUNTIF(INDIRECT(CR62):INDIRECT(CS62),1),COUNTIF(INDIRECT(CR62):INDIRECT(CS62),0))),SUM(COUNTIF(INDIRECT(CR62):INDIRECT(CS62),2),COUNTIF(INDIRECT(CR62):INDIRECT(CS62),1),COUNTIF(INDIRECT(CR62):INDIRECT(CS62),0)),\"\")","v":""},{"$f":"IF(ISNUMBER(SUM(COUNTIF(INDIRECT(CR62):INDIRECT(CT62),2),COUNTIF(INDIRECT(CR62):INDIRECT(CT62),1),COUNTIF(INDIRECT(CR62):INDIRECT(CT62),0))),SUM(COUNTIF(INDIRECT(CR62):INDIRECT(CT62),2),COUNTIF(INDIRECT(CR62):INDIRECT(CT62),1),COUNTIF(INDIRECT(CR62):INDIRECT(CT62),0)),\"\")","v":""},{"$f":"IF(ISNUMBER(SUM(COUNTIF(INDIRECT(CR62):INDIRECT(CU62),1),COUNTIF(INDIRECT(CR62):INDIRECT(CU62),0))),SUM(COUNTIF(INDIRECT(CR62):INDIRECT(CU62),1),COUNTIF(INDIRECT(CR62):INDIRECT(CU62),0)),\"\")","v":""},{"$f":"SUM(INDIRECT(CR62):INDIRECT(CS62))","v":{"$error":"#N/A"}},{"$f":"SUM(INDIRECT(CR62):INDIRECT(CT62))","v":{"$error":"#N/A"}},{"$f":"SUM(INDIRECT(CR62):INDIRECT(CU62))","v":{"$error":"#N/A"}}]
[null,null,1,{"$f":"IF(Modifications!$C$38=2,\"N\",\"\")","v":""},"",{"$f":"IF(ISBLANK('Month 1'!$F$63),\"\",'Month 1'!$F$63)","v":""},null,null,null,null,null,null,null,null,null,null,null,null,null,null,null,null,null,null,null,null,null,null,null,null,null,null,null,null,null,null,null,null,null,null,null,null,null,null,null,null,null,null,null,null,null,null,null,null,null,null,null,null,null,0,"@","@","@","@","@","@","@","@","@","@","@","@","@","@","@","@","@","@","@","@","@","@","@","@","@","@","@","@","@","@","@",{"$f":"'Month 5'!BL63","v":"@"},{"$f":"'Month 5'!BK63","v":"@"},{"$f":"'Month 5'!BJ63","v":"@"},{"$f":"'Month 5'!BI63","v":"@"},{"$error":"#N/A"},{"$error":"#N/A"},{"$error":"#N/A"},{"$error":"#N/A"},{"$f":"IF(ISNUMBER(SUM(COUNTIF(INDIRECT(CR63):INDIRECT(CS63),2),COUNTIF(INDIRECT(CR63):INDIRECT(CS63),1),COUNTIF(INDIRECT(CR63):INDIRECT(CS63),0))),SUM(COUNTIF(INDIRECT(CR63):INDIRECT(CS63),2),COUNTIF(INDIRECT(CR63):INDIRECT(CS63),1),COUNTIF(INDIRECT(CR63):INDIRECT(CS63),0)),\"\")","v":""},{"$f":"IF(ISNUMBER(SUM(COUNTIF(INDIRECT(CR63):INDIRECT(CT63),2),COUNTIF(INDIRECT(CR63):INDIRECT(CT63),1),COUNTIF(INDIRECT(CR63):INDIRECT(CT63),0))),SUM(COUNTIF(INDIRECT(CR63):INDIRECT(CT63),2),COUNTIF(INDIRECT(CR63):INDIRECT(CT63),1),COUNTIF(INDIRECT(CR63):INDIRECT(CT63),0)),\"\")","v":""},{"$f":"IF(ISNUMBER(SUM(COUNTIF(INDIRECT(CR63):INDIRECT(CU63),1),COUNTIF(INDIRECT(CR63):INDIRECT(CU63),0))),SUM(COUNTIF(INDIRECT(CR63):INDIRECT(CU63),1),COUNTIF(INDIRECT(CR63):INDIRECT(CU63),0)),\"\")","v":""},{"$f":"SUM(INDIRECT(CR63):INDIRECT(CS63))","v":{"$error":"#N/A"}},{"$f":"SUM(INDIRECT(CR63):INDIRECT(CT63))","v":{"$error":"#N/A"}},{"$f":"SUM(INDIRECT(CR63):INDIRECT(CU63))","v":{"$error":"#N/A"}}]
[null,null,1,{"$f":"IF(Modifications!$C$39=2,\"N\",\"\")","v":""},"",{"$f":"IF(ISBLANK('Month 1'!$F$64),\"\",'Month 1'!$F$64)","v":""},null,null,null,null,null,null,null,null,null,null,null,null,null,null,null,null,null,null,null,null,null,null,null,null,null,null,null,null,null,null,null,null,null,null,null,null,null,null,null,null,null,null,null,null,null,null,null,null,null,null,null,null,null,0,"@","@","@","@","@","@","@","@","@","@","@","@","@","@","@","@","@","@","@","@","@","@","@","@","@","@","@","@","@","@","@",{"$f":"'Month 5'!BL64","v":"@"},{"$f":"'Month 5'!BK64","v":"@"},{"$f":"'Month 5'!BJ64","v":"@"},{"$f":"'Month 5'!BI64","v":"@"},{"$error":"#N/A"},{"$error":"#N/A"},{"$error":"#N/A"},{"$error":"#N/A"},{"$f":"IF(ISNUMBER(SUM(COUNTIF(INDIRECT(CR64):INDIRECT(CS64),2),COUNTIF(INDIRECT(CR64):INDIRECT(CS64),1),COUNTIF(INDIRECT(CR64):INDIRECT(CS64),0))),SUM(COUNTIF(INDIRECT(CR64):INDIRECT(CS64),2),COUNTIF(INDIRECT(CR64):INDIRECT(CS64),1),COUNTIF(INDIRECT(CR64):INDIRECT(CS64),0)),\"\")","v":""},{"$f":"IF(ISNUMBER(SUM(COUNTIF(INDIRECT(CR64):INDIRECT(CT64),2),COUNTIF(INDIRECT(CR64):INDIRECT(CT64),1),COUNTIF(INDIRECT(CR64):INDIRECT(CT64),0))),SUM(COUNTIF(INDIRECT(CR64):INDIRECT(CT64),2),COUNTIF(INDIRECT(CR64):INDIRECT(CT64),1),COUNTIF(INDIRECT(CR64):INDIRECT(CT64),0)),\"\")","v":""},{"$f":"IF(ISNUMBER(SUM(COUNTIF(INDIRECT(CR64):INDIRECT(CU64),1),COUNTIF(INDIRECT(CR64):INDIRECT(CU64),0))),SUM(COUNTIF(INDIRECT(CR64):INDIRECT(CU64),1),COUNTIF(INDIRECT(CR64):INDIRECT(CU64),0)),\"\")","v":""},{"$f":"SUM(INDIRECT(CR64):INDIRECT(CS64))","v":{"$error":"#N/A"}},{"$f":"SUM(INDIRECT(CR64):INDIRECT(CT64))","v":{"$error":"#N/A"}},{"$f":"SUM(INDIRECT(CR64):INDIRECT(CU64))","v":{"$error":"#N/A"}}]
[null,null,1,{"$f":"IF(Modifications!$C$40=2,\"N\",\"\")","v":""},"",{"$f":"IF(ISBLANK('Month 1'!$F$65),\"\",'Month 1'!$F$65)","v":""},null,null,null,null,null,null,null,null,null,null,null,null,null,null,null,null,null,null,null,null,null,null,null,null,null,null,null,null,null,null,null,null,null,null,null,null,null,null,null,null,null,null,null,null,null,null,null,null,null,null,null,null,null,0,"@","@","@","@","@","@","@","@","@","@","@","@","@","@","@","@","@","@","@","@","@","@","@","@","@","@","@","@","@","@","@",{"$f":"'Month 5'!BL65","v":"@"},{"$f":"'Month 5'!BK65","v":"@"},{"$f":"'Month 5'!BJ65","v":"@"},{"$f":"'Month 5'!BI65","v":"@"},{"$error":"#N/A"},{"$error":"#N/A"},{"$error":"#N/A"},{"$error":"#N/A"},{"$f":"IF(ISNUMBER(SUM(COUNTIF(INDIRECT(CR65):INDIRECT(CS65),2),COUNTIF(INDIRECT(CR65):INDIRECT(CS65),1),COUNTIF(INDIRECT(CR65):INDIRECT(CS65),0))),SUM(COUNTIF(INDIRECT(CR65):INDIRECT(CS65),2),COUNTIF(INDIRECT(CR65):INDIRECT(CS65),1),COUNTIF(INDIRECT(CR65):INDIRECT(CS65),0)),\"\")","v":""},{"$f":"IF(ISNUMBER(SUM(COUNTIF(INDIRECT(CR65):INDIRECT(CT65),2),COUNTIF(INDIRECT(CR65):INDIRECT(CT65),1),COUNTIF(INDIRECT(CR65):INDIRECT(CT65),0))),SUM(COUNTIF(INDIRECT(CR65):INDIRECT(CT65),2),COUNTIF(INDIRECT(CR65):INDIRECT(CT65),1),COUNTIF(INDIRECT(CR65):INDIRECT(CT65),0)),\"\")","v":""},{"$f":"IF(ISNUMBER(SUM(COUNTIF(INDIRECT(CR65):INDIRECT(CU65),1),COUNTIF(INDIRECT(CR65):INDIRECT(CU65),0))),SUM(COUNTIF(INDIRECT(CR65):INDIRECT(CU65),1),COUNTIF(INDIRECT(CR65):INDIRECT(CU65),0)),\"\")","v":""},{"$f":"SUM(INDIRECT(CR65):INDIRECT(CS65))","v":{"$error":"#N/A"}},{"$f":"SUM(INDIRECT(CR65):INDIRECT(CT65))","v":{"$error":"#N/A"}},{"$f":"SUM(INDIRECT(CR65):INDIRECT(CU65))","v":{"$error":"#N/A"}}]
[null,null,1,{"$f":"IF(Modifications!$C$41=2,\"N\",\"\")","v":""},"",{"$f":"IF(ISBLANK('Month 1'!$F$66),\"\",'Month 1'!$F$66)","v":""},null,null,null,null,null,null,null,null,null,null,null,null,null,null,null,null,null,null,null,null,null,null,null,null,null,null,null,null,null,null,null,null,null,null,null,null,null,null,null,null,null,null,null,null,null,null,null,null,null,null,null,null,null,0,"@","@","@","@","@","@","@","@","@","@","@","@","@","@","@","@","@","@","@","@","@","@","@","@","@","@","@","@","@","@","@",{"$f":"'Month 5'!BL66","v":"@"},{"$f":"'Month 5'!BK66","v":"@"},{"$f":"'Month 5'!BJ66","v":"@"},{"$f":"'Month 5'!BI66","v":"@"},{"$error":"#N/A"},{"$error":"#N/A"},{"$error":"#N/A"},{"$error":"#N/A"},{"$f":"IF(ISNUMBER(SUM(COUNTIF(INDIRECT(CR66):INDIRECT(CS66),2),COUNTIF(INDIRECT(CR66):INDIRECT(CS66),1),COUNTIF(INDIRECT(CR66):INDIRECT(CS66),0))),SUM(COUNTIF(INDIRECT(CR66):INDIRECT(CS66),2),COUNTIF(INDIRECT(CR66):INDIRECT(CS66),1),COUNTIF(INDIRECT(CR66):INDIRECT(CS66),0)),\"\")","v":""},{"$f":"IF(ISNUMBER(SUM(COUNTIF(INDIRECT(CR66):INDIRECT(CT66),2),COUNTIF(INDIRECT(CR66):INDIRECT(CT66),1),COUNTIF(INDIRECT(CR66):INDIRECT(CT66),0))),SUM(COUNTIF(INDIRECT(CR66):INDIRECT(CT66),2),COUNTIF(INDIRECT(CR66):INDIRECT(CT66),1),COUNTIF(INDIRECT(CR66):INDIRECT(CT66),0)),\"\")","v":""},{"$f":"IF(ISNUMBER(SUM(COUNTIF(INDIRECT(CR66):INDIRECT(CU66),1),COUNTIF(INDIRECT(CR66):INDIRECT(CU66),0))),SUM(COUNTIF(INDIRECT(CR66):INDIRECT(CU66),1),COUNTIF(INDIRECT(CR66):INDIRECT(CU66),0)),\"\")","v":""},{"$f":"SUM(INDIRECT(CR66):INDIRECT(CS66))","v":{"$error":"#N/A"}},{"$f":"SUM(INDIRECT(CR66):INDIRECT(CT66))","v":{"$error":"#N/A"}},{"$f":"SUM(INDIRECT(CR66):INDIRECT(CU66))","v":{"$error":"#N/A"}}]
[null,null,1,{"$f":"IF(Modifications!$C$42=2,\"N\",\"\")","v":""},"",{"$f":"IF(ISBLANK('Month 1'!$F$67),\"\",'Month 1'!$F$67)","v":""},null,null,null,null,null,null,null,null,null,null,null,null,null,null,null,null,null,null,null,null,null,null,null,null,null,null,null,null,null,null,null,null,null,null,null,null,null,null,null,null,null,null,null,null,null,null,null,null,null,null,null,null,null,0,"@","@","@","@","@","@","@","@","@","@","@","@","@","@","@","@","@","@","@","@","@","@","@","@","@","@","@","@","@","@","@",{"$f":"'Month 5'!BL67","v":"@"},{"$f":"'Month 5'!BK67","v":"@"},{"$f":"'Month 5'!BJ67","v":"@"},{"$f":"'Month 5'!BI67","v":"@"},{"$error":"#N/A"},{"$error":"#N/A"},{"$error":"#N/A"},{"$error":"#N/A"},{"$f":"IF(ISNUMBER(SUM(COUNTIF(INDIRECT(CR67):INDIRECT(CS67),2),COUNTIF(INDIRECT(CR67):INDIRECT(CS67),1),COUNTIF(INDIRECT(CR67):INDIRECT(CS67),0))),SUM(COUNTIF(INDIRECT(CR67):INDIRECT(CS67),2),COUNTIF(INDIRECT(CR67):INDIRECT(CS67),1),COUNTIF(INDIRECT(CR67):INDIRECT(CS67),0)),\"\")","v":""},{"$f":"IF(ISNUMBER(SUM(COUNTIF(INDIRECT(CR67):INDIRECT(CT67),2),COUNTIF(INDIRECT(CR67):INDIRECT(CT67),1),COUNTIF(INDIRECT(CR67):INDIRECT(CT67),0))),SUM(COUNTIF(INDIRECT(CR67):INDIRECT(CT67),2),COUNTIF(INDIRECT(CR67):INDIRECT(CT67),1),COUNTIF(INDIRECT(CR67):INDIRECT(CT67),0)),\"\")","v":""},{"$f":"IF(ISNUMBER(SUM(COUNTIF(INDIRECT(CR67):INDIRECT(CU67),1),COUNTIF(INDIRECT(CR67):INDIRECT(CU67),0))),SUM(COUNTIF(INDIRECT(CR67):INDIRECT(CU67),1),COUNTIF(INDIRECT(CR67):INDIRECT(CU67),0)),\"\")","v":""},{"$f":"SUM(INDIRECT(CR67):INDIRECT(CS67))","v":{"$error":"#N/A"}},{"$f":"SUM(INDIRECT(CR67):INDIRECT(CT67))","v":{"$error":"#N/A"}},{"$f":"SUM(INDIRECT(CR67):INDIRECT(CU67))","v":{"$error":"#N/A"}}]
[null,null,1,{"$f":"IF(Modifications!$C$43=2,\"N\",\"\")","v":""},"",{"$f":"IF(ISBLANK('Month 1'!$F$68),\"\",'Month 1'!$F$68)","v":""},null,null,null,null,null,null,null,null,null,null,null,null,null,null,null,null,null,null,null,null,null,null,null,null,null,null,null,null,null,null,null,null,null,null,null,null,null,null,null,null,null,null,null,null,null,null,null,null,null,null,null,null,null,0,"@","@","@","@","@","@","@","@","@","@","@","@","@","@","@","@","@","@","@","@","@","@","@","@","@","@","@","@","@","@","@",{"$f":"'Month 5'!BL68","v":"@"},{"$f":"'Month 5'!BK68","v":"@"},{"$f":"'Month 5'!BJ68","v":"@"},{"$f":"'Month 5'!BI68","v":"@"},{"$error":"#N/A"},{"$error":"#N/A"},{"$error":"#N/A"},{"$error":"#N/A"},{"$f":"IF(ISNUMBER(SUM(COUNTIF(INDIRECT(CR68):INDIRECT(CS68),2),COUNTIF(INDIRECT(CR68):INDIRECT(CS68),1),COUNTIF(INDIRECT(CR68):INDIRECT(CS68),0))),SUM(COUNTIF(INDIRECT(CR68):INDIRECT(CS68),2),COUNTIF(INDIRECT(CR68):INDIRECT(CS68),1),COUNTIF(INDIRECT(CR68):INDIRECT(CS68),0)),\"\")","v":""},{"$f":"IF(ISNUMBER(SUM(COUNTIF(INDIRECT(CR68):INDIRECT(CT68),2),COUNTIF(INDIRECT(CR68):INDIRECT(CT68),1),COUNTIF(INDIRECT(CR68):INDIRECT(CT68),0))),SUM(COUNTIF(INDIRECT(CR68):INDIRECT(CT68),2),COUNTIF(INDIRECT(CR68):INDIRECT(CT68),1),COUNTIF(INDIRECT(CR68):INDIRECT(CT68),0)),\"\")","v":""},{"$f":"IF(ISNUMBER(SUM(COUNTIF(INDIRECT(CR68):INDIRECT(CU68),1),COUNTIF(INDIRECT(CR68):INDIRECT(CU68),0))),SUM(COUNTIF(INDIRECT(CR68):INDIRECT(CU68),1),COUNTIF(INDIRECT(CR68):INDIRECT(CU68),0)),\"\")","v":""},{"$f":"SUM(INDIRECT(CR68):INDIRECT(CS68))","v":{"$error":"#N/A"}},{"$f":"SUM(INDIRECT(CR68):INDIRECT(CT68))","v":{"$error":"#N/A"}},{"$f":"SUM(INDIRECT(CR68):INDIRECT(CU68))","v":{"$error":"#N/A"}}]
[null,null,1,{"$f":"IF(Modifications!$C$44=2,\"N\",\"\")","v":""},"",{"$f":"IF(ISBLANK('Month 1'!$F$69),\"\",'Month 1'!$F$69)","v":""},null,null,null,null,null,null,null,null,null,null,null,null,null,null,null,null,null,null,null,null,null,null,null,null,null,null,null,null,null,null,null,null,null,null,null,null,null,null,null,null,null,null,null,null,null,null,null,null,null,null,null,null,null,0,"@","@","@","@","@","@","@","@","@","@","@","@","@","@","@","@","@","@","@","@","@","@","@","@","@","@","@","@","@","@","@",{"$f":"'Month 5'!BL69","v":"@"},{"$f":"'Month 5'!BK69","v":"@"},{"$f":"'Month 5'!BJ69","v":"@"},{"$f":"'Month 5'!BI69","v":"@"},{"$error":"#N/A"},{"$error":"#N/A"},{"$error":"#N/A"},{"$error":"#N/A"},{"$f":"IF(ISNUMBER(SUM(COUNTIF(INDIRECT(CR69):INDIRECT(CS69),2),COUNTIF(INDIRECT(CR69):INDIRECT(CS69),1),COUNTIF(INDIRECT(CR69):INDIRECT(CS69),0))),SUM(COUNTIF(INDIRECT(CR69):INDIRECT(CS69),2),COUNTIF(INDIRECT(CR69):INDIRECT(CS69),1),COUNTIF(INDIRECT(CR69):INDIRECT(CS69),0)),\"\")","v":""},{"$f":"IF(ISNUMBER(SUM(COUNTIF(INDIRECT(CR69):INDIRECT(CT69),2),COUNTIF(INDIRECT(CR69):INDIRECT(CT69),1),COUNTIF(INDIRECT(CR69):INDIRECT(CT69),0))),SUM(COUNTIF(INDIRECT(CR69):INDIRECT(CT69),2),COUNTIF(INDIRECT(CR69):INDIRECT(CT69),1),COUNTIF(INDIRECT(CR69):INDIRECT(CT69),0)),\"\")","v":""},{"$f":"IF(ISNUMBER(SUM(COUNTIF(INDIRECT(CR69):INDIRECT(CU69),1),COUNTIF(INDIRECT(CR69):INDIRECT(CU69),0))),SUM(COUNTIF(INDIRECT(CR69):INDIRECT(CU69),1),COUNTIF(INDIRECT(CR69):INDIRECT(CU69),0)),\"\")","v":""},{"$f":"SUM(INDIRECT(CR69):INDIRECT(CS69))","v":{"$error":"#N/A"}},{"$f":"SUM(INDIRECT(CR69):INDIRECT(CT69))","v":{"$error":"#N/A"}},{"$f":"SUM(INDIRECT(CR69):INDIRECT(CU69))","v":{"$error":"#N/A"}}]
[null,null,1,{"$f":"IF(Modifications!$C$45=2,\"N\",\"\")","v":""},"",{"$f":"IF(ISBLANK('Month 1'!$F$70),\"\",'Month 1'!$F$70)","v":""},null,null,null,null,null,null,null,null,null,null,null,null,null,null,null,null,null,null,null,null,null,null,null,null,null,null,null,null,null,null,null,null,null,null,null,null,null,null,null,null,null,null,null,null,null,null,null,null,null,null,null,null,null,0,"@","@","@","@","@","@","@","@","@","@","@","@","@","@","@","@","@","@","@","@","@","@","@","@","@","@","@","@","@","@","@",{"$f":"'Month 5'!BL70","v":"@"},{"$f":"'Month 5'!BK70","v":"@"},{"$f":"'Month 5'!BJ70","v":"@"},{"$f":"'Month 5'!BI70","v":"@"},{"$error":"#N/A"},{"$error":"#N/A"},{"$error":"#N/A"},{"$error":"#N/A"},{"$f":"IF(ISNUMBER(SUM(COUNTIF(INDIRECT(CR70):INDIRECT(CS70),2),COUNTIF(INDIRECT(CR70):INDIRECT(CS70),1),COUNTIF(INDIRECT(CR70):INDIRECT(CS70),0))),SUM(COUNTIF(INDIRECT(CR70):INDIRECT(CS70),2),COUNTIF(INDIRECT(CR70):INDIRECT(CS70),1),COUNTIF(INDIRECT(CR70):INDIRECT(CS70),0)),\"\")","v":""},{"$f":"IF(ISNUMBER(SUM(COUNTIF(INDIRECT(CR70):INDIRECT(CT70),2),COUNTIF(INDIRECT(CR70):INDIRECT(CT70),1),COUNTIF(INDIRECT(CR70):INDIRECT(CT70),0))),SUM(COUNTIF(INDIRECT(CR70):INDIRECT(CT70),2),COUNTIF(INDIRECT(CR70):INDIRECT(CT70),1),COUNTIF(INDIRECT(CR70):INDIRECT(CT70),0)),\"\")","v":""},{"$f":"IF(ISNUMBER(SUM(COUNTIF(INDIRECT(CR70):INDIRECT(CU70),1),COUNTIF(INDIRECT(CR70):INDIRECT(CU70),0))),SUM(COUNTIF(INDIRECT(CR70):INDIRECT(CU70),1),COUNTIF(INDIRECT(CR70):INDIRECT(CU70),0)),\"\")","v":""},{"$f":"SUM(INDIRECT(CR70):INDIRECT(CS70))","v":{"$error":"#N/A"}},{"$f":"SUM(INDIRECT(CR70):INDIRECT(CT70))","v":{"$error":"#N/A"}},{"$f":"SUM(INDIRECT(CR70):INDIRECT(CU70))","v":{"$error":"#N/A"}}]
[null,null,1,{"$f":"IF(Modifications!$C$46=2,\"N\",\"\")","v":""},"",{"$f":"IF(ISBLANK('Month 1'!$F$71),\"\",'Month 1'!$F$71)","v":""},null,null,null,null,null,null,null,null,null,null,null,null,null,null,null,null,null,null,null,null,null,null,null,null,null,null,null,null,null,null,null,null,null,null,null,null,null,null,null,null,null,null,null,null,null,null,null,null,null,null,null,null,null,0,"@","@","@","@","@","@","@","@","@","@","@","@","@","@","@","@","@","@","@","@","@","@","@","@","@","@","@","@","@","@","@",{"$f":"'Month 5'!BL71","v":"@"},{"$f":"'Month 5'!BK71","v":"@"},{"$f":"'Month 5'!BJ71","v":"@"},{"$f":"'Month 5'!BI71","v":"@"},{"$error":"#N/A"},{"$error":"#N/A"},{"$error":"#N/A"},{"$error":"#N/A"},{"$f":"IF(ISNUMBER(SUM(COUNTIF(INDIRECT(CR71):INDIRECT(CS71),2),COUNTIF(INDIRECT(CR71):INDIRECT(CS71),1),COUNTIF(INDIRECT(CR71):INDIRECT(CS71),0))),SUM(COUNTIF(INDIRECT(CR71):INDIRECT(CS71),2),COUNTIF(INDIRECT(CR71):INDIRECT(CS71),1),COUNTIF(INDIRECT(CR71):INDIRECT(CS71),0)),\"\")","v":""},{"$f":"IF(ISNUMBER(SUM(COUNTIF(INDIRECT(CR71):INDIRECT(CT71),2),COUNTIF(INDIRECT(CR71):INDIRECT(CT71),1),COUNTIF(INDIRECT(CR71):INDIRECT(CT71),0))),SUM(COUNTIF(INDIRECT(CR71):INDIRECT(CT71),2),COUNTIF(INDIRECT(CR71):INDIRECT(CT71),1),COUNTIF(INDIRECT(CR71):INDIRECT(CT71),0)),\"\")","v":""},{"$f":"IF(ISNUMBER(SUM(COUNTIF(INDIRECT(CR71):INDIRECT(CU71),1),COUNTIF(INDIRECT(CR71):INDIRECT(CU71),0))),SUM(COUNTIF(INDIRECT(CR71):INDIRECT(CU71),1),COUNTIF(INDIRECT(CR71):INDIRECT(CU71),0)),\"\")","v":""},{"$f":"SUM(INDIRECT(CR71):INDIRECT(CS71))","v":{"$error":"#N/A"}},{"$f":"SUM(INDIRECT(CR71):INDIRECT(CT71))","v":{"$error":"#N/A"}},{"$f":"SUM(INDIRECT(CR71):INDIRECT(CU71))","v":{"$error":"#N/A"}}]
[null,null,1,{"$f":"IF(Modifications!$C$47=2,\"N\",\"\")","v":""},"",{"$f":"IF(ISBLANK('Month 1'!$F$72),\"\",'Month 1'!$F$72)","v":""},null,null,null,null,null,null,null,null,null,null,null,null,null,null,null,null,null,null,null,null,null,null,null,null,null,null,null,null,null,null,null,null,null,null,null,null,null,null,null,null,null,null,null,null,null,null,null,null,null,null,null,null,null,0,"@","@","@","@","@","@","@","@","@","@","@","@","@","@","@","@","@","@","@","@","@","@","@","@","@","@","@","@","@","@","@",{"$f":"'Month 5'!BL72","v":"@"},{"$f":"'Month 5'!BK72","v":"@"},{"$f":"'Month 5'!BJ72","v":"@"},{"$f":"'Month 5'!BI72","v":"@"},{"$error":"#N/A"},{"$error":"#N/A"},{"$error":"#N/A"},{"$error":"#N/A"},{"$f":"IF(ISNUMBER(SUM(COUNTIF(INDIRECT(CR72):INDIRECT(CS72),2),COUNTIF(INDIRECT(CR72):INDIRECT(CS72),1),COUNTIF(INDIRECT(CR72):INDIRECT(CS72),0))),SUM(COUNTIF(INDIRECT(CR72):INDIRECT(CS72),2),COUNTIF(INDIRECT(CR72):INDIRECT(CS72),1),COUNTIF(INDIRECT(CR72):INDIRECT(CS72),0)),\"\")","v":""},{"$f":"IF(ISNUMBER(SUM(COUNTIF(INDIRECT(CR72):INDIRECT(CT72),2),COUNTIF(INDIRECT(CR72):INDIRECT(CT72),1),COUNTIF(INDIRECT(CR72):INDIRECT(CT72),0))),SUM(COUNTIF(INDIRECT(CR72):INDIRECT(CT72),2),COUNTIF(INDIRECT(CR72):INDIRECT(CT72),1),COUNTIF(INDIRECT(CR72):INDIRECT(CT72),0)),\"\")","v":""},{"$f":"IF(ISNUMBER(SUM(COUNTIF(INDIRECT(CR72):INDIRECT(CU72),1),COUNTIF(INDIRECT(CR72):INDIRECT(CU72),0))),SUM(COUNTIF(INDIRECT(CR72):INDIRECT(CU72),1),COUNTIF(INDIRECT(CR72):INDIRECT(CU72),0)),\"\")","v":""},{"$f":"SUM(INDIRECT(CR72):INDIRECT(CS72))","v":{"$error":"#N/A"}},{"$f":"SUM(INDIRECT(CR72):INDIRECT(CT72))","v":{"$error":"#N/A"}},{"$f":"SUM(INDIRECT(CR72):INDIRECT(CU72))","v":{"$error":"#N/A"}}]
[null,null,1,{"$f":"IF(Modifications!$C$48=2,\"N\",\"\")","v":""},"",{"$f":"IF(ISBLANK('Month 1'!$F$73),\"\",'Month 1'!$F$73)","v":""},null,null,null,null,null,null,null,null,null,null,null,null,null,null,null,null,null,null,null,null,null,null,null,null,null,null,null,null,null,null,null,null,null,null,null,null,null,null,null,null,null,null,null,null,null,null,null,null,null,null,null,null,null,0,"@","@","@","@","@","@","@","@","@","@","@","@","@","@","@","@","@","@","@","@","@","@","@","@","@","@","@","@","@","@","@",{"$f":"'Month 5'!BL73","v":"@"},{"$f":"'Month 5'!BK73","v":"@"},{"$f":"'Month 5'!BJ73","v":"@"},{"$f":"'Month 5'!BI73","v":"@"},{"$error":"#N/A"},{"$error":"#N/A"},{"$error":"#N/A"},{"$error":"#N/A"},{"$f":"IF(ISNUMBER(SUM(COUNTIF(INDIRECT(CR73):INDIRECT(CS73),2),COUNTIF(INDIRECT(CR73):INDIRECT(CS73),1),COUNTIF(INDIRECT(CR73):INDIRECT(CS73),0))),SUM(COUNTIF(INDIRECT(CR73):INDIRECT(CS73),2),COUNTIF(INDIRECT(CR73):INDIRECT(CS73),1),COUNTIF(INDIRECT(CR73):INDIRECT(CS73),0)),\"\")","v":""},{"$f":"IF(ISNUMBER(SUM(COUNTIF(INDIRECT(CR73):INDIRECT(CT73),2),COUNTIF(INDIRECT(CR73):INDIRECT(CT73),1),COUNTIF(INDIRECT(CR73):INDIRECT(CT73),0))),SUM(COUNTIF(INDIRECT(CR73):INDIRECT(CT73),2),COUNTIF(INDIRECT(CR73):INDIRECT(CT73),1),COUNTIF(INDIRECT(CR73):INDIRECT(CT73),0)),\"\")","v":""},{"$f":"IF(ISNUMBER(SUM(COUNTIF(INDIRECT(CR73):INDIRECT(CU73),1),COUNTIF(INDIRECT(CR73):INDIRECT(CU73),0))),SUM(COUNTIF(INDIRECT(CR73):INDIRECT(CU73),1),COUNTIF(INDIRECT(CR73):INDIRECT(CU73),0)),\"\")","v":""},{"$f":"SUM(INDIRECT(CR73):INDIRECT(CS73))","v":{"$error":"#N/A"}},{"$f":"SUM(INDIRECT(CR73):INDIRECT(CT73))","v":{"$error":"#N/A"}},{"$f":"SUM(INDIRECT(CR73):INDIRECT(CU73))","v":{"$error":"#N/A"}}]
[null,null,1,{"$f":"IF(Modifications!$C$49=2,\"N\",\"\")","v":""},"",{"$f":"IF(ISBLANK('Month 1'!$F$74),\"\",'Month 1'!$F$74)","v":""},null,null,null,null,null,null,null,null,null,null,null,null,null,null,null,null,null,null,null,null,null,null,null,null,null,null,null,null,null,null,null,null,null,null,null,null,null,null,null,null,null,null,null,null,null,null,null,null,null,null,null,null,null,0,"@","@","@","@","@","@","@","@","@","@","@","@","@","@","@","@","@","@","@","@","@","@","@","@","@","@","@","@","@","@","@",{"$f":"'Month 5'!BL74","v":"@"},{"$f":"'Month 5'!BK74","v":"@"},{"$f":"'Month 5'!BJ74","v":"@"},{"$f":"'Month 5'!BI74","v":"@"},{"$error":"#N/A"},{"$error":"#N/A"},{"$error":"#N/A"},{"$error":"#N/A"},{"$f":"IF(ISNUMBER(SUM(COUNTIF(INDIRECT(CR74):INDIRECT(CS74),2),COUNTIF(INDIRECT(CR74):INDIRECT(CS74),1),COUNTIF(INDIRECT(CR74):INDIRECT(CS74),0))),SUM(COUNTIF(INDIRECT(CR74):INDIRECT(CS74),2),COUNTIF(INDIRECT(CR74):INDIRECT(CS74),1),COUNTIF(INDIRECT(CR74):INDIRECT(CS74),0)),\"\")","v":""},{"$f":"IF(ISNUMBER(SUM(COUNTIF(INDIRECT(CR74):INDIRECT(CT74),2),COUNTIF(INDIRECT(CR74):INDIRECT(CT74),1),COUNTIF(INDIRECT(CR74):INDIRECT(CT74),0))),SUM(COUNTIF(INDIRECT(CR74):INDIRECT(CT74),2),COUNTIF(INDIRECT(CR74):INDIRECT(CT74),1),COUNTIF(INDIRECT(CR74):INDIRECT(CT74),0)),\"\")","v":""},{"$f":"IF(ISNUMBER(SUM(COUNTIF(INDIRECT(CR74):INDIRECT(CU74),1),COUNTIF(INDIRECT(CR74):INDIRECT(CU74),0))),SUM(COUNTIF(INDIRECT(CR74):INDIRECT(CU74),1),COUNTIF(INDIRECT(CR74):INDIRECT(CU74),0)),\"\")","v":""},{"$f":"SUM(INDIRECT(CR74):INDIRECT(CS74))","v":{"$error":"#N/A"}},{"$f":"SUM(INDIRECT(CR74):INDIRECT(CT74))","v":{"$error":"#N/A"}},{"$f":"SUM(INDIRECT(CR74):INDIRECT(CU74))","v":{"$error":"#N/A"}}]
[null,null,1,{"$f":"IF(Modifications!$C$50=2,\"N\",\"\")","v":""},"",{"$f":"IF(ISBLANK('Month 1'!$F$75),\"\",'Month 1'!$F$75)","v":""},null,null,null,null,null,null,null,null,null,null,null,null,null,null,null,null,null,null,null,null,null,null,null,null,null,null,null,null,null,null,null,null,null,null,null,null,null,null,null,null,null,null,null,null,null,null,null,null,null,null,null,null,null,0,"@","@","@","@","@","@","@","@","@","@","@","@","@","@","@","@","@","@","@","@","@","@","@","@","@","@","@","@","@","@","@",{"$f":"'Month 5'!BL75","v":"@"},{"$f":"'Month 5'!BK75","v":"@"},{"$f":"'Month 5'!BJ75","v":"@"},{"$f":"'Month 5'!BI75","v":"@"},{"$error":"#N/A"},{"$error":"#N/A"},{"$error":"#N/A"},{"$error":"#N/A"},{"$f":"IF(ISNUMBER(SUM(COUNTIF(INDIRECT(CR75):INDIRECT(CS75),2),COUNTIF(INDIRECT(CR75):INDIRECT(CS75),1),COUNTIF(INDIRECT(CR75):INDIRECT(CS75),0))),SUM(COUNTIF(INDIRECT(CR75):INDIRECT(CS75),2),COUNTIF(INDIRECT(CR75):INDIRECT(CS75),1),COUNTIF(INDIRECT(CR75):INDIRECT(CS75),0)),\"\")","v":""},{"$f":"IF(ISNUMBER(SUM(COUNTIF(INDIRECT(CR75):INDIRECT(CT75),2),COUNTIF(INDIRECT(CR75):INDIRECT(CT75),1),COUNTIF(INDIRECT(CR75):INDIRECT(CT75),0))),SUM(COUNTIF(INDIRECT(CR75):INDIRECT(CT75),2),COUNTIF(INDIRECT(CR75):INDIRECT(CT75),1),COUNTIF(INDIRECT(CR75):INDIRECT(CT75),0)),\"\")","v":""},{"$f":"IF(ISNUMBER(SUM(COUNTIF(INDIRECT(CR75):INDIRECT(CU75),1),COUNTIF(INDIRECT(CR75):INDIRECT(CU75),0))),SUM(COUNTIF(INDIRECT(CR75):INDIRECT(CU75),1),COUNTIF(INDIRECT(CR75):INDIRECT(CU75),0)),\"\")","v":""},{"$f":"SUM(INDIRECT(CR75):INDIRECT(CS75))","v":{"$error":"#N/A"}},{"$f":"SUM(INDIRECT(CR75):INDIRECT(CT75))","v":{"$error":"#N/A"}},{"$f":"SUM(INDIRECT(CR75):INDIRECT(CU75))","v":{"$error":"#N/A"}}]
[null,null,1,{"$f":"IF(Modifications!$C$51=2,\"N\",\"\")","v":""},"",{"$f":"IF(ISBLANK('Month 1'!$F$76),\"\",'Month 1'!$F$76)","v":""},null,null,null,null,null,null,null,null,null,null,null,null,null,null,null,null,null,null,null,null,null,null,null,null,null,null,null,null,null,null,null,null,null,null,null,null,null,null,null,null,null,null,null,null,null,null,null,null,null,null,null,null,null,0,"@","@","@","@","@","@","@","@","@","@","@","@","@","@","@","@","@","@","@","@","@","@","@","@","@","@","@","@","@","@","@",{"$f":"'Month 5'!BL76","v":"@"},{"$f":"'Month 5'!BK76","v":"@"},{"$f":"'Month 5'!BJ76","v":"@"},{"$f":"'Month 5'!BI76","v":"@"},{"$error":"#N/A"},{"$error":"#N/A"},{"$error":"#N/A"},{"$error":"#N/A"},{"$f":"IF(ISNUMBER(SUM(COUNTIF(INDIRECT(CR76):INDIRECT(CS76),2),COUNTIF(INDIRECT(CR76):INDIRECT(CS76),1),COUNTIF(INDIRECT(CR76):INDIRECT(CS76),0))),SUM(COUNTIF(INDIRECT(CR76):INDIRECT(CS76),2),COUNTIF(INDIRECT(CR76):INDIRECT(CS76),1),COUNTIF(INDIRECT(CR76):INDIRECT(CS76),0)),\"\")","v":""},{"$f":"IF(ISNUMBER(SUM(COUNTIF(INDIRECT(CR76):INDIRECT(CT76),2),COUNTIF(INDIRECT(CR76):INDIRECT(CT76),1),COUNTIF(INDIRECT(CR76):INDIRECT(CT76),0))),SUM(COUNTIF(INDIRECT(CR76):INDIRECT(CT76),2),COUNTIF(INDIRECT(CR76):INDIRECT(CT76),1),COUNTIF(INDIRECT(CR76):INDIRECT(CT76),0)),\"\")","v":""},{"$f":"IF(ISNUMBER(SUM(COUNTIF(INDIRECT(CR76):INDIRECT(CU76),1),COUNTIF(INDIRECT(CR76):INDIRECT(CU76),0))),SUM(COUNTIF(INDIRECT(CR76):INDIRECT(CU76),1),COUNTIF(INDIRECT(CR76):INDIRECT(CU76),0)),\"\")","v":""},{"$f":"SUM(INDIRECT(CR76):INDIRECT(CS76))","v":{"$error":"#N/A"}},{"$f":"SUM(INDIRECT(CR76):INDIRECT(CT76))","v":{"$error":"#N/A"}},{"$f":"SUM(INDIRECT(CR76):INDIRECT(CU76))","v":{"$error":"#N/A"}}]
[null,null,null,null,null,null,null,null,null,null,null,null,null,null,null,null,null,null,null,null,null,null,null,null,null,null,null,null,null,null,null,null,null,null,null,null,null,null,null,null,null,null,null,null,null,null,null,null,null,null,null,null,null,null,null,null,null,null,null,0,"@","@","@","@","@","@","@","@","@","@","@","@","@","@","@","@","@","@","@","@","@","@","@","@","@","@","@","@","@","@","@",{"$f":"'Month 5'!BL77","v":"@"},{"$f":"'Month 5'!BK77","v":"@"},{"$f":"'Month 5'!BJ77","v":"@"},{"$f":"'Month 5'!BI77","v":"@"},{"$error":"#N/A"},{"$error":"#N/A"},{"$error":"#N/A"},{"$error":"#N/A"},{"$f":"IF(ISNUMBER(SUM(COUNTIF(INDIRECT(CR77):INDIRECT(CS77),2),COUNTIF(INDIRECT(CR77):INDIRECT(CS77),1),COUNTIF(INDIRECT(CR77):INDIRECT(CS77),0))),SUM(COUNTIF(INDIRECT(CR77):INDIRECT(CS77),2),COUNTIF(INDIRECT(CR77):INDIRECT(CS77),1),COUNTIF(INDIRECT(CR77):INDIRECT(CS77),0)),\"\")","v":""},{"$f":"IF(ISNUMBER(SUM(COUNTIF(INDIRECT(CR77):INDIRECT(CT77),2),COUNTIF(INDIRECT(CR77):INDIRECT(CT77),1),COUNTIF(INDIRECT(CR77):INDIRECT(CT77),0))),SUM(COUNTIF(INDIRECT(CR77):INDIRECT(CT77),2),COUNTIF(INDIRECT(CR77):INDIRECT(CT77),1),COUNTIF(INDIRECT(CR77):INDIRECT(CT77),0)),\"\")","v":""},{"$f":"IF(ISNUMBER(SUM(COUNTIF(INDIRECT(CR77):INDIRECT(CU77),1),COUNTIF(INDIRECT(CR77):INDIRECT(CU77),0))),SUM(COUNTIF(INDIRECT(CR77):INDIRECT(CU77),1),COUNTIF(INDIRECT(CR77):INDIRECT(CU77),0)),\"\")","v":""},{"$f":"SUM(INDIRECT(CR77):INDIRECT(CS77))","v":{"$error":"#N/A"}},{"$f":"SUM(INDIRECT(CR77):INDIRECT(CT77))","v":{"$error":"#N/A"}},{"$f":"SUM(INDIRECT(CR77):INDIRECT(CU77))","v":{"$error":"#N/A"}}]
[null,null,null,null,null,null,null,null,null,null,null,null,null,null,null,null,null,null,null,null,null,null,null,null,null,null,null,null,null,null,null,null,null,null,null,null,null,null,null,null,null,null,null,null,null,null,null,null,null,null,null,null,null,null,null,null,null,null,null,0,"@","@","@","@","@","@","@","@","@","@","@","@","@","@","@","@","@","@","@","@","@","@","@","@","@","@","@","@","@","@","@",{"$f":"'Month 5'!BL78","v":"@"},{"$f":"'Month 5'!BK78","v":"@"},{"$f":"'Month 5'!BJ78","v":"@"},{"$f":"'Month 5'!BI78","v":"@"},{"$error":"#N/A"},{"$error":"#N/A"},{"$error":"#N/A"},{"$error":"#N/A"},{"$f":"IF(ISNUMBER(SUM(COUNTIF(INDIRECT(CR78):INDIRECT(CS78),2),COUNTIF(INDIRECT(CR78):INDIRECT(CS78),1),COUNTIF(INDIRECT(CR78):INDIRECT(CS78),0))),SUM(COUNTIF(INDIRECT(CR78):INDIRECT(CS78),2),COUNTIF(INDIRECT(CR78):INDIRECT(CS78),1),COUNTIF(INDIRECT(CR78):INDIRECT(CS78),0)),\"\")","v":""},{"$f":"IF(ISNUMBER(SUM(COUNTIF(INDIRECT(CR78):INDIRECT(CT78),2),COUNTIF(INDIRECT(CR78):INDIRECT(CT78),1),COUNTIF(INDIRECT(CR78):INDIRECT(CT78),0))),SUM(COUNTIF(INDIRECT(CR78):INDIRECT(CT78),2),COUNTIF(INDIRECT(CR78):INDIRECT(CT78),1),COUNTIF(INDIRECT(CR78):INDIRECT(CT78),0)),\"\")","v":""},{"$f":"IF(ISNUMBER(SUM(COUNTIF(INDIRECT(CR78):INDIRECT(CU78),1),COUNTIF(INDIRECT(CR78):INDIRECT(CU78),0))),SUM(COUNTIF(INDIRECT(CR78):INDIRECT(CU78),1),COUNTIF(INDIRECT(CR78):INDIRECT(CU78),0)),\"\")","v":""},{"$f":"SUM(INDIRECT(CR78):INDIRECT(CS78))","v":{"$error":"#N/A"}},{"$f":"SUM(INDIRECT(CR78):INDIRECT(CT78))","v":{"$error":"#N/A"}},{"$f":"SUM(INDIRECT(CR78):INDIRECT(CU78))","v":{"$error":"#N/A"}}]
[null,null,null,null,null,null,{"$f":"IF(ISBLANK(G26),\"\",G26)","v":""},"","","","","","","","","","","","","","","","","","","","","","","","","","","","","","",null,null,null,null,null,null,null,null,null,null,null,null,null,null,null,null,null,null,null,null,null,null,0,"@","@","@","@","@","@","@","@","@","@","@","@","@","@","@","@","@","@","@","@","@","@","@","@","@","@","@","@","@","@","@",{"$f":"'Month 5'!BL79","v":"@"},{"$f":"'Month 5'!BK79","v":"@"},{"$f":"'Month 5'!BJ79","v":"@"},{"$f":"'Month 5'!BI79","v":"@"},{"$error":"#N/A"},{"$error":"#N/A"},{"$error":"#N/A"},{"$error":"#N/A"},{"$f":"IF(ISNUMBER(SUM(COUNTIF(INDIRECT(CR79):INDIRECT(CS79),2),COUNTIF(INDIRECT(CR79):INDIRECT(CS79),1),COUNTIF(INDIRECT(CR79):INDIRECT(CS79),0))),SUM(COUNTIF(INDIRECT(CR79):INDIRECT(CS79),2),COUNTIF(INDIRECT(CR79):INDIRECT(CS79),1),COUNTIF(INDIRECT(CR79):INDIRECT(CS79),0)),\"\")","v":""},{"$f":"IF(ISNUMBER(SUM(COUNTIF(INDIRECT(CR79):INDIRECT(CT79),2),COUNTIF(INDIRECT(CR79):INDIRECT(CT79),1),COUNTIF(INDIRECT(CR79):INDIRECT(CT79),0))),SUM(COUNTIF(INDIRECT(CR79):INDIRECT(CT79),2),COUNTIF(INDIRECT(CR79):INDIRECT(CT79),1),COUNTIF(INDIRECT(CR79):INDIRECT(CT79),0)),\"\")","v":""},{"$f":"IF(ISNUMBER(SUM(COUNTIF(INDIRECT(CR79):INDIRECT(CU79),1),COUNTIF(INDIRECT(CR79):INDIRECT(CU79),0))),SUM(COUNTIF(INDIRECT(CR79):INDIRECT(CU79),1),COUNTIF(INDIRECT(CR79):INDIRECT(CU79),0)),\"\")","v":""},{"$f":"SUM(INDIRECT(CR79):INDIRECT(CS79))","v":{"$error":"#N/A"}},{"$f":"SUM(INDIRECT(CR79):INDIRECT(CT79))","v":{"$error":"#N/A"}},{"$f":"SUM(INDIRECT(CR79):INDIRECT(CU79))","v":{"$error":"#N/A"}}]
[null,null,null,null,null,null,{"$f":"IF(G24=\"\",NA(),G24)","v":{"$error":"#N/A"}},{"$error":"#N/A"},{"$error":"#N/A"},{"$error":"#N/A"},{"$error":"#N/A"},{"$error":"#N/A"},{"$error":"#N/A"},{"$error":"#N/A"},{"$error":"#N/A"},{"$error":"#N/A"},{"$error":"#N/A"},{"$error":"#N/A"},{"$error":"#N/A"},{"$error":"#N/A"},{"$error":"#N/A"},{"$error":"#N/A"},{"$error":"#N/A"},{"$error":"#N/A"},{"$error":"#N/A"},{"$error":"#N/A"},{"$error":"#N/A"},{"$error":"#N/A"},{"$error":"#N/A"},{"$error":"#N/A"},{"$error":"#N/A"},{"$error":"#N/A"},{"$error":"#N/A"},{"$error":"#N/A"},{"$error":"#N/A"},{"$error":"#N/A"},{"$error":"#N/A"},null,null,null,null,null,null,null,null,null,null,null,null,null,null,null,null,null,null,null,null,null,null,{"$f":"SUM(COUNTIF(BI80:CM80,1),COUNTIF(BI80:CM80,0))","v":0},"@","@","@","@","@","@","@","@","@","@","@","@","@","@","@","@","@","@","@","@","@","@","@","@","@","@","@","@","@","@","@",{"$f":"'Month 5'!BL80","v":"@"},{"$f":"'Month 5'!BK80","v":"@"},{"$f":"'Month 5'!BJ80","v":"@"},{"$f":"'Month 5'!BI80","v":"@"},{"$error":"#N/A"},{"$error":"#N/A"},{"$error":"#N/A"},{"$error":"#N/A"},{"$f":"IF(ISNUMBER(SUM(COUNTIF(INDIRECT(CR80):INDIRECT(CS80),2),COUNTIF(INDIRECT(CR80):INDIRECT(CS80),1),COUNTIF(INDIRECT(CR80):INDIRECT(CS80),0))),SUM(COUNTIF(INDIRECT(CR80):INDIRECT(CS80),2),COUNTIF(INDIRECT(CR80):INDIRECT(CS80),1),COUNTIF(INDIRECT(CR80):INDIRECT(CS80),0)),\"\")","v":""},{"$f":"IF(ISNUMBER(SUM(COUNTIF(INDIRECT(CR80):INDIRECT(CT80),2),COUNTIF(INDIRECT(CR80):INDIRECT(CT80),1),COUNTIF(INDIRECT(CR80):INDIRECT(CT80),0))),SUM(COUNTIF(INDIRECT(CR80):INDIRECT(CT80),2),COUNTIF(INDIRECT(CR80):INDIRECT(CT80),1),COUNTIF(INDIRECT(CR80):INDIRECT(CT80),0)),\"\")","v":""},{"$f":"IF(ISNUMBER(SUM(COUNTIF(INDIRECT(CR80):INDIRECT(CU80),1),COUNTIF(INDIRECT(CR80):INDIRECT(CU80),0))),SUM(COUNTIF(INDIRECT(CR80):INDIRECT(CU80),1),COUNTIF(INDIRECT(CR80):INDIRECT(CU80),0)),\"\")","v":""},{"$f":"SUM(INDIRECT(CR80):INDIRECT(CS80))","v":{"$error":"#N/A"}},{"$f":"SUM(INDIRECT(CR80):INDIRECT(CT80))","v":{"$error":"#N/A"}},{"$f":"SUM(INDIRECT(CR80):INDIRECT(CU80))","v":{"$error":"#N/A"}}]
[null,null,null,null,null,null,null,null,null,null,null,null,null,null,null,null,null,null,null,null,null,null,null,null,null,null,null,null,null,null,null,null,null,null,null,null,null,null,null,null,null,null,null,null,null,null,null,null,null,null,null,null,null,null,null,null,null,null,null,0,"@","@","@","@","@","@","@","@","@","@","@","@","@","@","@","@","@","@","@","@","@","@","@","@","@","@","@","@","@","@","@",{"$f":"'Month 5'!BL81","v":"@"},{"$f":"'Month 5'!BK81","v":"@"},{"$f":"'Month 5'!BJ81","v":"@"},{"$f":"'Month 5'!BI81","v":"@"},{"$error":"#N/A"},{"$error":"#N/A"},{"$error":"#N/A"},{"$error":"#N/A"},{"$f":"IF(ISNUMBER(SUM(COUNTIF(INDIRECT(CR81):INDIRECT(CS81),2),COUNTIF(INDIRECT(CR81):INDIRECT(CS81),1),COUNTIF(INDIRECT(CR81):INDIRECT(CS81),0))),SUM(COUNTIF(INDIRECT(CR81):INDIRECT(CS81),2),COUNTIF(INDIRECT(CR81):INDIRECT(CS81),1),COUNTIF(INDIRECT(CR81):INDIRECT(CS81),0)),\"\")","v":""},{"$f":"IF(ISNUMBER(SUM(COUNTIF(INDIRECT(CR81):INDIRECT(CT81),2),COUNTIF(INDIRECT(CR81):INDIRECT(CT81),1),COUNTIF(INDIRECT(CR81):INDIRECT(CT81),0))),SUM(COUNTIF(INDIRECT(CR81):INDIRECT(CT81),2),COUNTIF(INDIRECT(CR81):INDIRECT(CT81),1),COUNTIF(INDIRECT(CR81):INDIRECT(CT81),0)),\"\")","v":""},{"$f":"IF(ISNUMBER(SUM(COUNTIF(INDIRECT(CR81):INDIRECT(CU81),1),COUNTIF(INDIRECT(CR81):INDIRECT(CU81),0))),SUM(COUNTIF(INDIRECT(CR81):INDIRECT(CU81),1),COUNTIF(INDIRECT(CR81):INDIRECT(CU81),0)),\"\")","v":""},{"$f":"SUM(INDIRECT(CR81):INDIRECT(CS81))","v":{"$error":"#N/A"}},{"$f":"SUM(INDIRECT(CR81):INDIRECT(CT81))","v":{"$error":"#N/A"}},{"$f":"SUM(INDIRECT(CR81):INDIRECT(CU81))","v":{"$error":"#N/A"}}]
[null,null,null,null,null,null,null,null,null,null,null,null,null,null,null,null,null,null,null,null,null,null,null,null,null,null,null,null,null,null,null,null,null,null,null,null,null,null,null,null,null,null,null,null,null,null,null,null,null,null,null,null,null,null,null,null,null,null,null,0,"@","@","@","@","@","@","@","@","@","@","@","@","@","@","@","@","@","@","@","@","@","@","@","@","@","@","@","@","@","@","@",{"$f":"'Month 5'!BL82","v":"@"},{"$f":"'Month 5'!BK82","v":"@"},{"$f":"'Month 5'!BJ82","v":"@"},{"$f":"'Month 5'!BI82","v":"@"},{"$error":"#N/A"},{"$error":"#N/A"},{"$error":"#N/A"},{"$error":"#N/A"},{"$f":"IF(ISNUMBER(SUM(COUNTIF(INDIRECT(CR82):INDIRECT(CS82),2),COUNTIF(INDIRECT(CR82):INDIRECT(CS82),1),COUNTIF(INDIRECT(CR82):INDIRECT(CS82),0))),SUM(COUNTIF(INDIRECT(CR82):INDIRECT(CS82),2),COUNTIF(INDIRECT(CR82):INDIRECT(CS82),1),COUNTIF(INDIRECT(CR82):INDIRECT(CS82),0)),\"\")","v":""},{"$f":"IF(ISNUMBER(SUM(COUNTIF(INDIRECT(CR82):INDIRECT(CT82),2),COUNTIF(INDIRECT(CR82):INDIRECT(CT82),1),COUNTIF(INDIRECT(CR82):INDIRECT(CT82),0))),SUM(COUNTIF(INDIRECT(CR82):INDIRECT(CT82),2),COUNTIF(INDIRECT(CR82):INDIRECT(CT82),1),COUNTIF(INDIRECT(CR82):INDIRECT(CT82),0)),\"\")","v":""},{"$f":"IF(ISNUMBER(SUM(COUNTIF(INDIRECT(CR82):INDIRECT(CU82),1),COUNTIF(INDIRECT(CR82):INDIRECT(CU82),0))),SUM(COUNTIF(INDIRECT(CR82):INDIRECT(CU82),1),COUNTIF(INDIRECT(CR82):INDIRECT(CU82),0)),\"\")","v":""},{"$f":"SUM(INDIRECT(CR82):INDIRECT(CS82))","v":{"$error":"#N/A"}},{"$f":"SUM(INDIRECT(CR82):INDIRECT(CT82))","v":{"$error":"#N/A"}},{"$f":"SUM(INDIRECT(CR82):INDIRECT(CU82))","v":{"$error":"#N/A"}}]
[null,null,null,null,null,null,null,null,null,null,null,null,null,null,null,null,null,null,null,null,null,null,null,null,null,null,null,null,null,null,null,null,null,null,null,null,null,null,null,null,null,null,null,null,null,null,null,null,null,null,null,null,null,null,null,null,null,null,null,0,"@","@","@","@","@","@","@","@","@","@","@","@","@","@","@","@","@","@","@","@","@","@","@","@","@","@","@","@","@","@","@",{"$f":"'Month 5'!BL83","v":"@"},{"$f":"'Month 5'!BK83","v":"@"},{"$f":"'Month 5'!BJ83","v":"@"},{"$f":"'Month 5'!BI83","v":"@"},{"$error":"#N/A"},{"$error":"#N/A"},{"$error":"#N/A"},{"$error":"#N/A"},{"$f":"IF(ISNUMBER(SUM(COUNTIF(INDIRECT(CR83):INDIRECT(CS83),2),COUNTIF(INDIRECT(CR83):INDIRECT(CS83),1),COUNTIF(INDIRECT(CR83):INDIRECT(CS83),0))),SUM(COUNTIF(INDIRECT(CR83):INDIRECT(CS83),2),COUNTIF(INDIRECT(CR83):INDIRECT(CS83),1),COUNTIF(INDIRECT(CR83):INDIRECT(CS83),0)),\"\")","v":""},{"$f":"IF(ISNUMBER(SUM(COUNTIF(INDIRECT(CR83):INDIRECT(CT83),2),COUNTIF(INDIRECT(CR83):INDIRECT(CT83),1),COUNTIF(INDIRECT(CR83):INDIRECT(CT83),0))),SUM(COUNTIF(INDIRECT(CR83):INDIRECT(CT83),2),COUNTIF(INDIRECT(CR83):INDIRECT(CT83),1),COUNTIF(INDIRECT(CR83):INDIRECT(CT83),0)),\"\")","v":""},{"$f":"IF(ISNUMBER(SUM(COUNTIF(INDIRECT(CR83):INDIRECT(CU83),1),COUNTIF(INDIRECT(CR83):INDIRECT(CU83),0))),SUM(COUNTIF(INDIRECT(CR83):INDIRECT(CU83),1),COUNTIF(INDIRECT(CR83):INDIRECT(CU83),0)),\"\")","v":""},{"$f":"SUM(INDIRECT(CR83):INDIRECT(CS83))","v":{"$error":"#N/A"}},{"$f":"SUM(INDIRECT(CR83):INDIRECT(CT83))","v":{"$error":"#N/A"}},{"$f":"SUM(INDIRECT(CR83):INDIRECT(CU83))","v":{"$error":"#N/A"}}]
[null,null,null,null,null,null,null,null,null,null,null,null,null,null,null,null,null,null,null,null,null,null,null,null,null,null,null,null,null,null,null,null,null,null,null,null,null,null,null,null,null,null,null,null,null,null,null,null,null,null,null,null,null,null,null,null,null,null,null,0,"@","@","@","@","@","@","@","@","@","@","@","@","@","@","@","@","@","@","@","@","@","@","@","@","@","@","@","@","@","@","@",{"$f":"'Month 5'!BL84","v":"@"},{"$f":"'Month 5'!BK84","v":"@"},{"$f":"'Month 5'!BJ84","v":"@"},{"$f":"'Month 5'!BI84","v":"@"},{"$error":"#N/A"},{"$error":"#N/A"},{"$error":"#N/A"},{"$error":"#N/A"},{"$f":"IF(ISNUMBER(SUM(COUNTIF(INDIRECT(CR84):INDIRECT(CS84),2),COUNTIF(INDIRECT(CR84):INDIRECT(CS84),1),COUNTIF(INDIRECT(CR84):INDIRECT(CS84),0))),SUM(COUNTIF(INDIRECT(CR84):INDIRECT(CS84),2),COUNTIF(INDIRECT(CR84):INDIRECT(CS84),1),COUNTIF(INDIRECT(CR84):INDIRECT(CS84),0)),\"\")","v":""},{"$f":"IF(ISNUMBER(SUM(COUNTIF(INDIRECT(CR84):INDIRECT(CT84),2),COUNTIF(INDIRECT(CR84):INDIRECT(CT84),1),COUNTIF(INDIRECT(CR84):INDIRECT(CT84),0))),SUM(COUNTIF(INDIRECT(CR84):INDIRECT(CT84),2),COUNTIF(INDIRECT(CR84):INDIRECT(CT84),1),COUNTIF(INDIRECT(CR84):INDIRECT(CT84),0)),\"\")","v":""},{"$f":"IF(ISNUMBER(SUM(COUNTIF(INDIRECT(CR84):INDIRECT(CU84),1),COUNTIF(INDIRECT(CR84):INDIRECT(CU84),0))),SUM(COUNTIF(INDIRECT(CR84):INDIRECT(CU84),1),COUNTIF(INDIRECT(CR84):INDIRECT(CU84),0)),\"\")","v":""},{"$f":"SUM(INDIRECT(CR84):INDIRECT(CS84))","v":{"$error":"#N/A"}},{"$f":"SUM(INDIRECT(CR84):INDIRECT(CT84))","v":{"$error":"#N/A"}},{"$f":"SUM(INDIRECT(CR84):INDIRECT(CU84))","v":{"$error":"#N/A"}}]
[null,null,null,null,null,null,null,null,null,null,null,null,null,null,null,null,null,null,null,null,null,null,null,null,null,null,null,null,null,null,null,null,null,null,null,null,null,null,null,null,null,null,null,null,null,null,null,null,null,null,null,null,null,null,null,null,null,null,null,0,"@","@","@","@","@","@","@","@","@","@","@","@","@","@","@","@","@","@","@","@","@","@","@","@","@","@","@","@","@","@","@",{"$f":"'Month 5'!BL85","v":"@"},{"$f":"'Month 5'!BK85","v":"@"},{"$f":"'Month 5'!BJ85","v":"@"},{"$f":"'Month 5'!BI85","v":"@"},{"$error":"#N/A"},{"$error":"#N/A"},{"$error":"#N/A"},{"$error":"#N/A"},{"$f":"IF(ISNUMBER(SUM(COUNTIF(INDIRECT(CR85):INDIRECT(CS85),2),COUNTIF(INDIRECT(CR85):INDIRECT(CS85),1),COUNTIF(INDIRECT(CR85):INDIRECT(CS85),0))),SUM(COUNTIF(INDIRECT(CR85):INDIRECT(CS85),2),COUNTIF(INDIRECT(CR85):INDIRECT(CS85),1),COUNTIF(INDIRECT(CR85):INDIRECT(CS85),0)),\"\")","v":""},{"$f":"IF(ISNUMBER(SUM(COUNTIF(INDIRECT(CR85):INDIRECT(CT85),2),COUNTIF(INDIRECT(CR85):INDIRECT(CT85),1),COUNTIF(INDIRECT(CR85):INDIRECT(CT85),0))),SUM(COUNTIF(INDIRECT(CR85):INDIRECT(CT85),2),COUNTIF(INDIRECT(CR85):INDIRECT(CT85),1),COUNTIF(INDIRECT(CR85):INDIRECT(CT85),0)),\"\")","v":""},{"$f":"IF(ISNUMBER(SUM(COUNTIF(INDIRECT(CR85):INDIRECT(CU85),1),COUNTIF(INDIRECT(CR85):INDIRECT(CU85),0))),SUM(COUNTIF(INDIRECT(CR85):INDIRECT(CU85),1),COUNTIF(INDIRECT(CR85):INDIRECT(CU85),0)),\"\")","v":""},{"$f":"SUM(INDIRECT(CR85):INDIRECT(CS85))","v":{"$error":"#N/A"}},{"$f":"SUM(INDIRECT(CR85):INDIRECT(CT85))","v":{"$error":"#N/A"}},{"$f":"SUM(INDIRECT(CR85):INDIRECT(CU85))","v":{"$error":"#N/A"}}]
[null,null,null,null,null,null,null,null,null,null,null,null,null,null,null,null,null,null,null,null,null,null,null,null,null,null,null,null,null,null,null,null,null,null,null,null,null,null,null,null,null,null,null,null,null,null,null,null,null,null,null,null,null,null,null,null,null,null,null,0,"@","@","@","@","@","@","@","@","@","@","@","@","@","@","@","@","@","@","@","@","@","@","@","@","@","@","@","@","@","@","@",{"$f":"'Month 5'!BL86","v":"@"},{"$f":"'Month 5'!BK86","v":"@"},{"$f":"'Month 5'!BJ86","v":"@"},{"$f":"'Month 5'!BI86","v":"@"},{"$error":"#N/A"},{"$error":"#N/A"},{"$error":"#N/A"},{"$error":"#N/A"},{"$f":"IF(ISNUMBER(SUM(COUNTIF(INDIRECT(CR86):INDIRECT(CS86),2),COUNTIF(INDIRECT(CR86):INDIRECT(CS86),1),COUNTIF(INDIRECT(CR86):INDIRECT(CS86),0))),SUM(COUNTIF(INDIRECT(CR86):INDIRECT(CS86),2),COUNTIF(INDIRECT(CR86):INDIRECT(CS86),1),COUNTIF(INDIRECT(CR86):INDIRECT(CS86),0)),\"\")","v":""},{"$f":"IF(ISNUMBER(SUM(COUNTIF(INDIRECT(CR86):INDIRECT(CT86),2),COUNTIF(INDIRECT(CR86):INDIRECT(CT86),1),COUNTIF(INDIRECT(CR86):INDIRECT(CT86),0))),SUM(COUNTIF(INDIRECT(CR86):INDIRECT(CT86),2),COUNTIF(INDIRECT(CR86):INDIRECT(CT86),1),COUNTIF(INDIRECT(CR86):INDIRECT(CT86),0)),\"\")","v":""},{"$f":"IF(ISNUMBER(SUM(COUNTIF(INDIRECT(CR86):INDIRECT(CU86),1),COUNTIF(INDIRECT(CR86):INDIRECT(CU86),0))),SUM(COUNTIF(INDIRECT(CR86):INDIRECT(CU86),1),COUNTIF(INDIRECT(CR86):INDIRECT(CU86),0)),\"\")","v":""},{"$f":"SUM(INDIRECT(CR86):INDIRECT(CS86))","v":{"$error":"#N/A"}},{"$f":"SUM(INDIRECT(CR86):INDIRECT(CT86))","v":{"$error":"#N/A"}},{"$f":"SUM(INDIRECT(CR86):INDIRECT(CU86))","v":{"$error":"#N/A"}}]
[null,null,null,null,null,null,null,null,null,null,null,null,null,null,null,null,null,null,null,null,null,null,null,null,null,null,null,null,null,null,null,null,null,null,null,null,null,null,null,null,null,null,null,null,null,null,null,null,null,null,null,null,null,null,null,null,null,null,null,0,{"$f":"IF(OR(AK59=\"+\",AK59=\"Y\",AK59=2),1,IF(OR(AK59=\"-\",AK59=\"N\",AK59=1),0,IF(OR(BJ87=1,BJ87=0),\"#\",\"@\")))","v":"@"},{"$f":"IF(OR(AJ59=\"+\",AJ59=\"Y\",AJ59=2),1,IF(OR(AJ59=\"-\",AJ59=\"N\",AJ59=1),0,IF(OR(BK87=1,BK87=0),\"#\",\"@\")))","v":"@"},{"$f":"IF(OR(AI59=\"+\",AI59=\"Y\",AI59=2),1,IF(OR(AI59=\"-\",AI59=\"N\",AI59=1),0,IF(OR(BL87=1,BL87=0),\"#\",\"@\")))","v":"@"},{"$f":"IF(OR(AH59=\"+\",AH59=\"Y\",AH59=2),1,IF(OR(AH59=\"-\",AH59=\"N\",AH59=1),0,IF(OR(BM87=1,BM87=0),\"#\",\"@\")))","v":"@"},{"$f":"IF(OR(AG59=\"+\",AG59=\"Y\",AG59=2),1,IF(OR(AG59=\"-\",AG59=\"N\",AG59=1),0,IF(OR(BN87=1,BN87=0),\"#\",\"@\")))","v":"@"},{"$f":"IF(OR(AF59=\"+\",AF59=\"Y\",AF59=2),1,IF(OR(AF59=\"-\",AF59=\"N\",AF59=1),0,IF(OR(BO87=1,BO87=0),\"#\",\"@\")))","v":"@"},{"$f":"IF(OR(AE59=\"+\",AE59=\"Y\",AE59=2),1,IF(OR(AE59=\"-\",AE59=\"N\",AE59=1),0,IF(OR(BP87=1,BP87=0),\"#\",\"@\")))","v":"@"},{"$f":"IF(OR(AD59=\"+\",AD59=\"Y\",AD59=2),1,IF(OR(AD59=\"-\",AD59=\"N\",AD59=1),0,IF(OR(BQ87=1,BQ87=0),\"#\",\"@\")))","v":"@"},{"$f":"IF(OR(AC59=\"+\",AC59=\"Y\",AC59=2),1,IF(OR(AC59=\"-\",AC59=\"N\",AC59=1),0,IF(OR(BR87=1,BR87=0),\"#\",\"@\")))","v":"@"},{"$f":"IF(OR(AB59=\"+\",AB59=\"Y\",AB59=2),1,IF(OR(AB59=\"-\",AB59=\"N\",AB59=1),0,IF(OR(BS87=1,BS87=0),\"#\",\"@\")))","v":"@"},{"$f":"IF(OR(AA59=\"+\",AA59=\"Y\",AA59=2),1,IF(OR(AA59=\"-\",AA59=\"N\",AA59=1),0,IF(OR(BT87=1,BT87=0),\"#\",\"@\")))","v":"@"},{"$f":"IF(OR(Z59=\"+\",Z59=\"Y\",Z59=2),1,IF(OR(Z59=\"-\",Z59=\"N\",Z59=1),0,IF(OR(BU87=1,BU87=0),\"#\",\"@\")))","v":"@"},{"$f":"IF(OR(Y59=\"+\",Y59=\"Y\",Y59=2),1,IF(OR(Y59=\"-\",Y59=\"N\",Y59=1),0,IF(OR(BV87=1,BV87=0),\"#\",\"@\")))","v":"@"},{"$f":"IF(OR(X59=\"+\",X59=\"Y\",X59=2),1,IF(OR(X59=\"-\",X59=\"N\",X59=1),0,IF(OR(BW87=1,BW87=0),\"#\",\"@\")))","v":"@"},{"$f":"IF(OR(W59=\"+\",W59=\"Y\",W59=2),1,IF(OR(W59=\"-\",W59=\"N\",W59=1),0,IF(OR(BX87=1,BX87=0),\"#\",\"@\")))","v":"@"},{"$f":"IF(OR(V59=\"+\",V59=\"Y\",V59=2),1,IF(OR(V59=\"-\",V59=\"N\",V59=1),0,IF(OR(BY87=1,BY87=0),\"#\",\"@\")))","v":"@"},{"$f":"IF(OR(U59=\"+\",U59=\"Y\",U59=2),1,IF(OR(U59=\"-\",U59=\"N\",U59=1),0,IF(OR(BZ87=1,BZ87=0),\"#\",\"@\")))","v":"@"},{"$f":"IF(OR(T59=\"+\",T59=\"Y\",T59=2),1,IF(OR(T59=\"-\",T59=\"N\",T59=1),0,IF(OR(CA87=1,CA87=0),\"#\",\"@\")))","v":"@"},{"$f":"IF(OR(S59=\"+\",S59=\"Y\",S59=2),1,IF(OR(S59=\"-\",S59=\"N\",S59=1),0,IF(OR(CB87=1,CB87=0),\"#\",\"@\")))","v":"@"},{"$f":"IF(OR(R59=\"+\",R59=\"Y\",R59=2),1,IF(OR(R59=\"-\",R59=\"N\",R59=1),0,IF(OR(CC87=1,CC87=0),\"#\",\"@\")))","v":"@"},{"$f":"IF(OR(Q59=\"+\",Q59=\"Y\",Q59=2),1,IF(OR(Q59=\"-\",Q59=\"N\",Q59=1),0,IF(OR(CD87=1,CD87=0),\"#\",\"@\")))","v":"@"},{"$f":"IF(OR(P59=\"+\",P59=\"Y\",P59=2),1,IF(OR(P59=\"-\",P59=\"N\",P59=1),0,IF(OR(CE87=1,CE87=0),\"#\",\"@\")))","v":"@"},{"$f":"IF(OR(O59=\"+\",O59=\"Y\",O59=2),1,IF(OR(O59=\"-\",O59=\"N\",O59=1),0,IF(OR(CF87=1,CF87=0),\"#\",\"@\")))","v":"@"},{"$f":"IF(OR(N59=\"+\",N59=\"Y\",N59=2),1,IF(OR(N59=\"-\",N59=\"N\",N59=1),0,IF(OR(CG87=1,CG87=0),\"#\",\"@\")))","v":"@"},{"$f":"IF(OR(M59=\"+\",M59=\"Y\",M59=2),1,IF(OR(M59=\"-\",M59=\"N\",M59=1),0,IF(OR(CH87=1,CH87=0),\"#\",\"@\")))","v":"@"},{"$f":"IF(OR(L59=\"+\",L59=\"Y\",L59=2),1,IF(OR(L59=\"-\",L59=\"N\",L59=1),0,IF(OR(CI87=1,CI87=0),\"#\",\"@\")))","v":"@"},{"$f":"IF(OR(K59=\"+\",K59=\"Y\",K59=2),1,IF(OR(K59=\"-\",K59=\"N\",K59=1),0,IF(OR(CJ87=1,CJ87=0),\"#\",\"@\")))","v":"@"},{"$f":"IF(OR(J59=\"+\",J59=\"Y\",J59=2),1,IF(OR(J59=\"-\",J59=\"N\",J59=1),0,IF(OR(CK87=1,CK87=0),\"#\",\"@\")))","v":"@"},{"$f":"IF(OR(I59=\"+\",I59=\"Y\",I59=2),1,IF(OR(I59=\"-\",I59=\"N\",I59=1),0,IF(OR(CL87=1,CL87=0),\"#\",\"@\")))","v":"@"},{"$f":"IF(OR(H59=\"+\",H59=\"Y\",H59=2),1,IF(OR(H59=\"-\",H59=\"N\",H59=1),0,IF(OR(CM87=1,CM87=0),\"#\",\"@\")))","v":"@"},{"$f":"IF(OR(G59=\"+\",G59=\"Y\",G59=2),1,IF(OR(G59=\"-\",G59=\"N\",G59=1),0,\"@\"))","v":"@"},{"$f":"'Month 5'!BL87","v":"@"},{"$f":"'Month 5'!BK87","v":"@"},{"$f":"'Month 5'!BJ87","v":"@"},{"$f":"'Month 5'!BI87","v":"@"},{"$f":"ADDRESS(ROW(BH87),(MATCH(\"#\",BI87:CM87,0)+61))","v":{"$error":"#N/A"}},{"$f":"ADDRESS(ROW(BH87),(MATCH(\"#\",BI87:CM87,0)+65))","v":{"$error":"#N/A"}},{"$f":"ADDRESS(ROW(BH87),(MATCH(\"#\",BI87:CM87,0)+64))","v":{"$error":"#N/A"}},{"$f":"ADDRESS(ROW(BH87),(MATCH(\"#\",BI87:CM87,0)+63))","v":{"$error":"#N/A"}},{"$f":"IF(ISNUMBER(SUM(COUNTIF(INDIRECT(CR87):INDIRECT(CS87),2),COUNTIF(INDIRECT(CR87):INDIRECT(CS87),1),COUNTIF(INDIRECT(CR87):INDIRECT(CS87),0))),SUM(COUNTIF(INDIRECT(CR87):INDIRECT(CS87),2),COUNTIF(INDIRECT(CR87):INDIRECT(CS87),1),COUNTIF(INDIRECT(CR87):INDIRECT(CS87),0)),\"\")","v":""},{"$f":"IF(ISNUMBER(SUM(COUNTIF(INDIRECT(CR87):INDIRECT(CT87),2),COUNTIF(INDIRECT(CR87):INDIRECT(CT87),1),COUNTIF(INDIRECT(CR87):INDIRECT(CT87),0))),SUM(COUNTIF(INDIRECT(CR87):INDIRECT(CT87),2),COUNTIF(INDIRECT(CR87):INDIRECT(CT87),1),COUNTIF(INDIRECT(CR87):INDIRECT(CT87),0)),\"\")","v":""},{"$f":"IF(ISNUMBER(SUM(COUNTIF(INDIRECT(CR87):INDIRECT(CU87),1),COUNTIF(INDIRECT(CR87):INDIRECT(CU87),0))),SUM(COUNTIF(INDIRECT(CR87):INDIRECT(CU87),1),COUNTIF(INDIRECT(CR87):INDIRECT(CU87),0)),\"\")","v":""},{"$f":"SUM(INDIRECT(CR87):INDIRECT(CS87))","v":{"$error":"#N/A"}},{"$f":"SUM(INDIRECT(CR87):INDIRECT(CT87))","v":{"$error":"#N/A"}},{"$f":"SUM(INDIRECT(CR87):INDIRECT(CU87))","v":{"$error":"#N/A"}}]
[null,null,null,null,null,null,null,null,null,null,null,null,null,null,null,null,null,null,null,null,null,null,null,null,null,null,null,null,null,null,null,null,null,null,null,null,null,null,null,null,null,null,null,null,null,null,null,null,null,null,null,null,null,null,null,null,null,null,null,0,"@","@","@","@","@","@","@","@","@","@","@","@","@","@","@","@","@","@","@","@","@","@","@","@","@","@","@","@","@","@","@",{"$f":"'Month 5'!BL88","v":"@"},{"$f":"'Month 5'!BK88","v":"@"},{"$f":"'Month 5'!BJ88","v":"@"},{"$f":"'Month 5'!BI88","v":"@"},{"$error":"#N/A"},{"$error":"#N/A"},{"$error":"#N/A"},{"$error":"#N/A"},{"$f":"IF(ISNUMBER(SUM(COUNTIF(INDIRECT(CR88):INDIRECT(CS88),2),COUNTIF(INDIRECT(CR88):INDIRECT(CS88),1),COUNTIF(INDIRECT(CR88):INDIRECT(CS88),0))),SUM(COUNTIF(INDIRECT(CR88):INDIRECT(CS88),2),COUNTIF(INDIRECT(CR88):INDIRECT(CS88),1),COUNTIF(INDIRECT(CR88):INDIRECT(CS88),0)),\"\")","v":""},{"$f":"IF(ISNUMBER(SUM(COUNTIF(INDIRECT(CR88):INDIRECT(CT88),2),COUNTIF(INDIRECT(CR88):INDIRECT(CT88),1),COUNTIF(INDIRECT(CR88):INDIRECT(CT88),0))),SUM(COUNTIF(INDIRECT(CR88):INDIRECT(CT88),2),COUNTIF(INDIRECT(CR88):INDIRECT(CT88),1),COUNTIF(INDIRECT(CR88):INDIRECT(CT88),0)),\"\")","v":""},{"$f":"IF(ISNUMBER(SUM(COUNTIF(INDIRECT(CR88):INDIRECT(CU88),1),COUNTIF(INDIRECT(CR88):INDIRECT(CU88),0))),SUM(COUNTIF(INDIRECT(CR88):INDIRECT(CU88),1),COUNTIF(INDIRECT(CR88):INDIRECT(CU88),0)),\"\")","v":""},{"$f":"SUM(INDIRECT(CR88):INDIRECT(CS88))","v":{"$error":"#N/A"}},{"$f":"SUM(INDIRECT(CR88):INDIRECT(CT88))","v":{"$error":"#N/A"}},{"$f":"SUM(INDIRECT(CR88):INDIRECT(CU88))","v":{"$error":"#N/A"}}]
[null,null,null,null,null,null,null,null,null,null,null,null,null,null,null,null,null,null,null,null,null,null,null,null,null,null,null,null,null,null,null,null,null,null,null,null,null,null,null,null,null,null,null,null,null,null,null,null,null,null,null,null,null,null,null,null,null,null,null,0,"@","@","@","@","@","@","@","@","@","@","@","@","@","@","@","@","@","@","@","@","@","@","@","@","@","@","@","@","@","@","@",{"$f":"'Month 5'!BL89","v":"@"},{"$f":"'Month 5'!BK89","v":"@"},{"$f":"'Month 5'!BJ89","v":"@"},{"$f":"'Month 5'!BI89","v":"@"},{"$error":"#N/A"},{"$error":"#N/A"},{"$error":"#N/A"},{"$error":"#N/A"},{"$f":"IF(ISNUMBER(SUM(COUNTIF(INDIRECT(CR89):INDIRECT(CS89),2),COUNTIF(INDIRECT(CR89):INDIRECT(CS89),1),COUNTIF(INDIRECT(CR89):INDIRECT(CS89),0))),SUM(COUNTIF(INDIRECT(CR89):INDIRECT(CS89),2),COUNTIF(INDIRECT(CR89):INDIRECT(CS89),1),COUNTIF(INDIRECT(CR89):INDIRECT(CS89),0)),\"\")","v":""},{"$f":"IF(ISNUMBER(SUM(COUNTIF(INDIRECT(CR89):INDIRECT(CT89),2),COUNTIF(INDIRECT(CR89):INDIRECT(CT89),1),COUNTIF(INDIRECT(CR89):INDIRECT(CT89),0))),SUM(COUNTIF(INDIRECT(CR89):INDIRECT(CT89),2),COUNTIF(INDIRECT(CR89):INDIRECT(CT89),1),COUNTIF(INDIRECT(CR89):INDIRECT(CT89),0)),\"\")","v":""},{"$f":"IF(ISNUMBER(SUM(COUNTIF(INDIRECT(CR89):INDIRECT(CU89),1),COUNTIF(INDIRECT(CR89):INDIRECT(CU89),0))),SUM(COUNTIF(INDIRECT(CR89):INDIRECT(CU89),1),COUNTIF(INDIRECT(CR89):INDIRECT(CU89),0)),\"\")","v":""},{"$f":"SUM(INDIRECT(CR89):INDIRECT(CS89))","v":{"$error":"#N/A"}},{"$f":"SUM(INDIRECT(CR89):INDIRECT(CT89))","v":{"$error":"#N/A"}},{"$f":"SUM(INDIRECT(CR89):INDIRECT(CU89))","v":{"$error":"#N/A"}}]
[null,null,null,null,null,null,null,null,null,null,null,null,null,null,null,null,null,null,null,null,null,null,null,null,null,null,null,null,null,null,null,null,null,null,null,null,null,null,null,null,null,null,null,null,null,null,null,null,null,null,null,null,null,null,null,null,null,null,null,0,"@","@","@","@","@","@","@","@","@","@","@","@","@","@","@","@","@","@","@","@","@","@","@","@","@","@","@","@","@","@","@",{"$f":"'Month 5'!BL90","v":"@"},{"$f":"'Month 5'!BK90","v":"@"},{"$f":"'Month 5'!BJ90","v":"@"},{"$f":"'Month 5'!BI90","v":"@"},{"$error":"#N/A"},{"$error":"#N/A"},{"$error":"#N/A"},{"$error":"#N/A"},{"$f":"IF(ISNUMBER(SUM(COUNTIF(INDIRECT(CR90):INDIRECT(CS90),2),COUNTIF(INDIRECT(CR90):INDIRECT(CS90),1),COUNTIF(INDIRECT(CR90):INDIRECT(CS90),0))),SUM(COUNTIF(INDIRECT(CR90):INDIRECT(CS90),2),COUNTIF(INDIRECT(CR90):INDIRECT(CS90),1),COUNTIF(INDIRECT(CR90):INDIRECT(CS90),0)),\"\")","v":""},{"$f":"IF(ISNUMBER(SUM(COUNTIF(INDIRECT(CR90):INDIRECT(CT90),2),COUNTIF(INDIRECT(CR90):INDIRECT(CT90),1),COUNTIF(INDIRECT(CR90):INDIRECT(CT90),0))),SUM(COUNTIF(INDIRECT(CR90):INDIRECT(CT90),2),COUNTIF(INDIRECT(CR90):INDIRECT(CT90),1),COUNTIF(INDIRECT(CR90):INDIRECT(CT90),0)),\"\")","v":""},{"$f":"IF(ISNUMBER(SUM(COUNTIF(INDIRECT(CR90):INDIRECT(CU90),1),COUNTIF(INDIRECT(CR90):INDIRECT(CU90),0))),SUM(COUNTIF(INDIRECT(CR90):INDIRECT(CU90),1),COUNTIF(INDIRECT(CR90):INDIRECT(CU90),0)),\"\")","v":""},{"$f":"SUM(INDIRECT(CR90):INDIRECT(CS90))","v":{"$error":"#N/A"}},{"$f":"SUM(INDIRECT(CR90):INDIRECT(CT90))","v":{"$error":"#N/A"}},{"$f":"SUM(INDIRECT(CR90):INDIRECT(CU90))","v":{"$error":"#N/A"}}]
[null,null,null,null,null,null,null,null,null,null,null,null,null,null,null,null,null,null,null,null,null,null,null,null,null,null,null,null,null,null,null,null,null,null,null,null,null,null,null,null,null,null,null,null,null,null,null,null,null,null,null,null,null,null,null,null,null,null,null,0,"@","@","@","@","@","@","@","@","@","@","@","@","@","@","@","@","@","@","@","@","@","@","@","@","@","@","@","@","@","@","@",{"$f":"'Month 5'!BL91","v":"@"},{"$f":"'Month 5'!BK91","v":"@"},{"$f":"'Month 5'!BJ91","v":"@"},{"$f":"'Month 5'!BI91","v":"@"},{"$error":"#N/A"},{"$error":"#N/A"},{"$error":"#N/A"},{"$error":"#N/A"},{"$f":"IF(ISNUMBER(SUM(COUNTIF(INDIRECT(CR91):INDIRECT(CS91),2),COUNTIF(INDIRECT(CR91):INDIRECT(CS91),1),COUNTIF(INDIRECT(CR91):INDIRECT(CS91),0))),SUM(COUNTIF(INDIRECT(CR91):INDIRECT(CS91),2),COUNTIF(INDIRECT(CR91):INDIRECT(CS91),1),COUNTIF(INDIRECT(CR91):INDIRECT(CS91),0)),\"\")","v":""},{"$f":"IF(ISNUMBER(SUM(COUNTIF(INDIRECT(CR91):INDIRECT(CT91),2),COUNTIF(INDIRECT(CR91):INDIRECT(CT91),1),COUNTIF(INDIRECT(CR91):INDIRECT(CT91),0))),SUM(COUNTIF(INDIRECT(CR91):INDIRECT(CT91),2),COUNTIF(INDIRECT(CR91):INDIRECT(CT91),1),COUNTIF(INDIRECT(CR91):INDIRECT(CT91),0)),\"\")","v":""},{"$f":"IF(ISNUMBER(SUM(COUNTIF(INDIRECT(CR91):INDIRECT(CU91),1),COUNTIF(INDIRECT(CR91):INDIRECT(CU91),0))),SUM(COUNTIF(INDIRECT(CR91):INDIRECT(CU91),1),COUNTIF(INDIRECT(CR91):INDIRECT(CU91),0)),\"\")","v":""},{"$f":"SUM(INDIRECT(CR91):INDIRECT(CS91))","v":{"$error":"#N/A"}},{"$f":"SUM(INDIRECT(CR91):INDIRECT(CT91))","v":{"$error":"#N/A"}},{"$f":"SUM(INDIRECT(CR91):INDIRECT(CU91))","v":{"$error":"#N/A"}}]
[null,null,null,null,null,null,null,null,null,null,null,null,null,null,null,null,null,null,null,null,null,null,null,null,null,null,null,null,null,null,null,null,null,null,null,null,null,null,null,null,null,null,null,null,null,null,null,null,null,null,null,null,null,null,null,null,null,null,null,0,"@","@","@","@","@","@","@","@","@","@","@","@","@","@","@","@","@","@","@","@","@","@","@","@","@","@","@","@","@","@","@",{"$f":"'Month 5'!BL92","v":"@"},{"$f":"'Month 5'!BK92","v":"@"},{"$f":"'Month 5'!BJ92","v":"@"},{"$f":"'Month 5'!BI92","v":"@"},{"$error":"#N/A"},{"$error":"#N/A"},{"$error":"#N/A"},{"$error":"#N/A"},{"$f":"IF(ISNUMBER(SUM(COUNTIF(INDIRECT(CR92):INDIRECT(CS92),2),COUNTIF(INDIRECT(CR92):INDIRECT(CS92),1),COUNTIF(INDIRECT(CR92):INDIRECT(CS92),0))),SUM(COUNTIF(INDIRECT(CR92):INDIRECT(CS92),2),COUNTIF(INDIRECT(CR92):INDIRECT(CS92),1),COUNTIF(INDIRECT(CR92):INDIRECT(CS92),0)),\"\")","v":""},{"$f":"IF(ISNUMBER(SUM(COUNTIF(INDIRECT(CR92):INDIRECT(CT92),2),COUNTIF(INDIRECT(CR92):INDIRECT(CT92),1),COUNTIF(INDIRECT(CR92):INDIRECT(CT92),0))),SUM(COUNTIF(INDIRECT(CR92):INDIRECT(CT92),2),COUNTIF(INDIRECT(CR92):INDIRECT(CT92),1),COUNTIF(INDIRECT(CR92):INDIRECT(CT92),0)),\"\")","v":""},{"$f":"IF(ISNUMBER(SUM(COUNTIF(INDIRECT(CR92):INDIRECT(CU92),1),COUNTIF(INDIRECT(CR92):INDIRECT(CU92),0))),SUM(COUNTIF(INDIRECT(CR92):INDIRECT(CU92),1),COUNTIF(INDIRECT(CR92):INDIRECT(CU92),0)),\"\")","v":""},{"$f":"SUM(INDIRECT(CR92):INDIRECT(CS92))","v":{"$error":"#N/A"}},{"$f":"SUM(INDIRECT(CR92):INDIRECT(CT92))","v":{"$error":"#N/A"}},{"$f":"SUM(INDIRECT(CR92):INDIRECT(CU92))","v":{"$error":"#N/A"}}]
[null,null,null,null,null,null,null,null,null,null,null,null,null,null,null,null,null,null,null,null,null,null,null,null,null,null,null,null,null,null,null,null,null,null,null,null,null,null,null,null,null,null,null,null,null,null,null,null,null,null,null,null,null,null,null,null,null,null,null,0,"@","@","@","@","@","@","@","@","@","@","@","@","@","@","@","@","@","@","@","@","@","@","@","@","@","@","@","@","@","@","@",{"$f":"'Month 5'!BL93","v":"@"},{"$f":"'Month 5'!BK93","v":"@"},{"$f":"'Month 5'!BJ93","v":"@"},{"$f":"'Month 5'!BI93","v":"@"},{"$error":"#N/A"},{"$error":"#N/A"},{"$error":"#N/A"},{"$error":"#N/A"},{"$f":"IF(ISNUMBER(SUM(COUNTIF(INDIRECT(CR93):INDIRECT(CS93),2),COUNTIF(INDIRECT(CR93):INDIRECT(CS93),1),COUNTIF(INDIRECT(CR93):INDIRECT(CS93),0))),SUM(COUNTIF(INDIRECT(CR93):INDIRECT(CS93),2),COUNTIF(INDIRECT(CR93):INDIRECT(CS93),1),COUNTIF(INDIRECT(CR93):INDIRECT(CS93),0)),\"\")","v":""},{"$f":"IF(ISNUMBER(SUM(COUNTIF(INDIRECT(CR93):INDIRECT(CT93),2),COUNTIF(INDIRECT(CR93):INDIRECT(CT93),1),COUNTIF(INDIRECT(CR93):INDIRECT(CT93),0))),SUM(COUNTIF(INDIRECT(CR93):INDIRECT(CT93),2),COUNTIF(INDIRECT(CR93):INDIRECT(CT93),1),COUNTIF(INDIRECT(CR93):INDIRECT(CT93),0)),\"\")","v":""},{"$f":"IF(ISNUMBER(SUM(COUNTIF(INDIRECT(CR93):INDIRECT(CU93),1),COUNTIF(INDIRECT(CR93):INDIRECT(CU93),0))),SUM(COUNTIF(INDIRECT(CR93):INDIRECT(CU93),1),COUNTIF(INDIRECT(CR93):INDIRECT(CU93),0)),\"\")","v":""},{"$f":"SUM(INDIRECT(CR93):INDIRECT(CS93))","v":{"$error":"#N/A"}},{"$f":"SUM(INDIRECT(CR93):INDIRECT(CT93))","v":{"$error":"#N/A"}},{"$f":"SUM(INDIRECT(CR93):INDIRECT(CU93))","v":{"$error":"#N/A"}}]
[null,null,null,null,null,null,null,null,null,null,null,null,null,null,null,null,null,null,null,null,null,null,null,null,null,null,null,null,null,null,null,null,null,null,null,null,null,null,null,null,null,null,null,null,null,null,null,null,null,null,null,null,null,null,null,null,null,null,null,0,"@","@","@","@","@","@","@","@","@","@","@","@","@","@","@","@","@","@","@","@","@","@","@","@","@","@","@","@","@","@","@",{"$f":"'Month 5'!BL94","v":"@"},{"$f":"'Month 5'!BK94","v":"@"},{"$f":"'Month 5'!BJ94","v":"@"},{"$f":"'Month 5'!BI94","v":"@"},{"$error":"#N/A"},{"$error":"#N/A"},{"$error":"#N/A"},{"$error":"#N/A"},{"$f":"IF(ISNUMBER(SUM(COUNTIF(INDIRECT(CR94):INDIRECT(CS94),2),COUNTIF(INDIRECT(CR94):INDIRECT(CS94),1),COUNTIF(INDIRECT(CR94):INDIRECT(CS94),0))),SUM(COUNTIF(INDIRECT(CR94):INDIRECT(CS94),2),COUNTIF(INDIRECT(CR94):INDIRECT(CS94),1),COUNTIF(INDIRECT(CR94):INDIRECT(CS94),0)),\"\")","v":""},{"$f":"IF(ISNUMBER(SUM(COUNTIF(INDIRECT(CR94):INDIRECT(CT94),2),COUNTIF(INDIRECT(CR94):INDIRECT(CT94),1),COUNTIF(INDIRECT(CR94):INDIRECT(CT94),0))),SUM(COUNTIF(INDIRECT(CR94):INDIRECT(CT94),2),COUNTIF(INDIRECT(CR94):INDIRECT(CT94),1),COUNTIF(INDIRECT(CR94):INDIRECT(CT94),0)),\"\")","v":""},{"$f":"IF(ISNUMBER(SUM(COUNTIF(INDIRECT(CR94):INDIRECT(CU94),1),COUNTIF(INDIRECT(CR94):INDIRECT(CU94),0))),SUM(COUNTIF(INDIRECT(CR94):INDIRECT(CU94),1),COUNTIF(INDIRECT(CR94):INDIRECT(CU94),0)),\"\")","v":""},{"$f":"SUM(INDIRECT(CR94):INDIRECT(CS94))","v":{"$error":"#N/A"}},{"$f":"SUM(INDIRECT(CR94):INDIRECT(CT94))","v":{"$error":"#N/A"}},{"$f":"SUM(INDIRECT(CR94):INDIRECT(CU94))","v":{"$error":"#N/A"}}]
[null,null,null,null,null,null,null,null,null,null,null,null,null,null,null,null,null,null,null,null,null,null,null,null,null,null,null,null,null,null,null,null,null,null,null,null,null,null,null,null,null,null,null,null,null,null,null,null,null,null,null,null,null,null,null,null,null,null,null,0,"@","@","@","@","@","@","@","@","@","@","@","@","@","@","@","@","@","@","@","@","@","@","@","@","@","@","@","@","@","@","@",{"$f":"'Month 5'!BL95","v":"@"},{"$f":"'Month 5'!BK95","v":"@"},{"$f":"'Month 5'!BJ95","v":"@"},{"$f":"'Month 5'!BI95","v":"@"},{"$error":"#N/A"},{"$error":"#N/A"},{"$error":"#N/A"},{"$error":"#N/A"},{"$f":"IF(ISNUMBER(SUM(COUNTIF(INDIRECT(CR95):INDIRECT(CS95),2),COUNTIF(INDIRECT(CR95):INDIRECT(CS95),1),COUNTIF(INDIRECT(CR95):INDIRECT(CS95),0))),SUM(COUNTIF(INDIRECT(CR95):INDIRECT(CS95),2),COUNTIF(INDIRECT(CR95):INDIRECT(CS95),1),COUNTIF(INDIRECT(CR95):INDIRECT(CS95),0)),\"\")","v":""},{"$f":"IF(ISNUMBER(SUM(COUNTIF(INDIRECT(CR95):INDIRECT(CT95),2),COUNTIF(INDIRECT(CR95):INDIRECT(CT95),1),COUNTIF(INDIRECT(CR95):INDIRECT(CT95),0))),SUM(COUNTIF(INDIRECT(CR95):INDIRECT(CT95),2),COUNTIF(INDIRECT(CR95):INDIRECT(CT95),1),COUNTIF(INDIRECT(CR95):INDIRECT(CT95),0)),\"\")","v":""},{"$f":"IF(ISNUMBER(SUM(COUNTIF(INDIRECT(CR95):INDIRECT(CU95),1),COUNTIF(INDIRECT(CR95):INDIRECT(CU95),0))),SUM(COUNTIF(INDIRECT(CR95):INDIRECT(CU95),1),COUNTIF(INDIRECT(CR95):INDIRECT(CU95),0)),\"\")","v":""},{"$f":"SUM(INDIRECT(CR95):INDIRECT(CS95))","v":{"$error":"#N/A"}},{"$f":"SUM(INDIRECT(CR95):INDIRECT(CT95))","v":{"$error":"#N/A"}},{"$f":"SUM(INDIRECT(CR95):INDIRECT(CU95))","v":{"$error":"#N/A"}}]
[null,null,null,null,null,null,null,null,null,null,null,null,null,null,null,null,null,null,null,null,null,null,null,null,null,null,null,null,null,null,null,null,null,null,null,null,null,null,null,null,null,null,null,null,null,null,null,null,null,null,null,null,null,null,null,null,null,null,null,0,"@","@","@","@","@","@","@","@","@","@","@","@","@","@","@","@","@","@","@","@","@","@","@","@","@","@","@","@","@","@","@",{"$f":"'Month 5'!BL96","v":"@"},{"$f":"'Month 5'!BK96","v":"@"},{"$f":"'Month 5'!BJ96","v":"@"},{"$f":"'Month 5'!BI96","v":"@"},{"$error":"#N/A"},{"$error":"#N/A"},{"$error":"#N/A"},{"$error":"#N/A"},{"$f":"IF(ISNUMBER(SUM(COUNTIF(INDIRECT(CR96):INDIRECT(CS96),2),COUNTIF(INDIRECT(CR96):INDIRECT(CS96),1),COUNTIF(INDIRECT(CR96):INDIRECT(CS96),0))),SUM(COUNTIF(INDIRECT(CR96):INDIRECT(CS96),2),COUNTIF(INDIRECT(CR96):INDIRECT(CS96),1),COUNTIF(INDIRECT(CR96):INDIRECT(CS96),0)),\"\")","v":""},{"$f":"IF(ISNUMBER(SUM(COUNTIF(INDIRECT(CR96):INDIRECT(CT96),2),COUNTIF(INDIRECT(CR96):INDIRECT(CT96),1),COUNTIF(INDIRECT(CR96):INDIRECT(CT96),0))),SUM(COUNTIF(INDIRECT(CR96):INDIRECT(CT96),2),COUNTIF(INDIRECT(CR96):INDIRECT(CT96),1),COUNTIF(INDIRECT(CR96):INDIRECT(CT96),0)),\"\")","v":""},{"$f":"IF(ISNUMBER(SUM(COUNTIF(INDIRECT(CR96):INDIRECT(CU96),1),COUNTIF(INDIRECT(CR96):INDIRECT(CU96),0))),SUM(COUNTIF(INDIRECT(CR96):INDIRECT(CU96),1),COUNTIF(INDIRECT(CR96):INDIRECT(CU96),0)),\"\")","v":""},{"$f":"SUM(INDIRECT(CR96):INDIRECT(CS96))","v":{"$error":"#N/A"}},{"$f":"SUM(INDIRECT(CR96):INDIRECT(CT96))","v":{"$error":"#N/A"}},{"$f":"SUM(INDIRECT(CR96):INDIRECT(CU96))","v":{"$error":"#N/A"}}]
[null,null,null,null,null,null,null,null,null,null,null,null,null,null,null,null,null,null,null,null,null,null,null,null,null,null,null,null,null,null,null,null,null,null,null,null,null,null,null,null,null,null,null,null,null,null,null,null,null,null,null,null,null,null,null,null,null,null,null,0,"@","@","@","@","@","@","@","@","@","@","@","@","@","@","@","@","@","@","@","@","@","@","@","@","@","@","@","@","@","@","@",{"$f":"'Month 5'!BL97","v":"@"},{"$f":"'Month 5'!BK97","v":"@"},{"$f":"'Month 5'!BJ97","v":"@"},{"$f":"'Month 5'!BI97","v":"@"},{"$error":"#N/A"},{"$error":"#N/A"},{"$error":"#N/A"},{"$error":"#N/A"},{"$f":"IF(ISNUMBER(SUM(COUNTIF(INDIRECT(CR97):INDIRECT(CS97),2),COUNTIF(INDIRECT(CR97):INDIRECT(CS97),1),COUNTIF(INDIRECT(CR97):INDIRECT(CS97),0))),SUM(COUNTIF(INDIRECT(CR97):INDIRECT(CS97),2),COUNTIF(INDIRECT(CR97):INDIRECT(CS97),1),COUNTIF(INDIRECT(CR97):INDIRECT(CS97),0)),\"\")","v":""},{"$f":"IF(ISNUMBER(SUM(COUNTIF(INDIRECT(CR97):INDIRECT(CT97),2),COUNTIF(INDIRECT(CR97):INDIRECT(CT97),1),COUNTIF(INDIRECT(CR97):INDIRECT(CT97),0))),SUM(COUNTIF(INDIRECT(CR97):INDIRECT(CT97),2),COUNTIF(INDIRECT(CR97):INDIRECT(CT97),1),COUNTIF(INDIRECT(CR97):INDIRECT(CT97),0)),\"\")","v":""},{"$f":"IF(ISNUMBER(SUM(COUNTIF(INDIRECT(CR97):INDIRECT(CU97),1),COUNTIF(INDIRECT(CR97):INDIRECT(CU97),0))),SUM(COUNTIF(INDIRECT(CR97):INDIRECT(CU97),1),COUNTIF(INDIRECT(CR97):INDIRECT(CU97),0)),\"\")","v":""},{"$f":"SUM(INDIRECT(CR97):INDIRECT(CS97))","v":{"$error":"#N/A"}},{"$f":"SUM(INDIRECT(CR97):INDIRECT(CT97))","v":{"$error":"#N/A"}},{"$f":"SUM(INDIRECT(CR97):INDIRECT(CU97))","v":{"$error":"#N/A"}}]
[null,null,null,null,null,null,null,null,null,null,null,null,null,null,null,null,null,null,null,null,null,null,null,null,null,null,null,null,null,null,null,null,null,null,null,null,null,null,null,null,null,null,null,null,null,null,null,null,null,null,null,null,null,null,null,null,null,null,null,0,"@","@","@","@","@","@","@","@","@","@","@","@","@","@","@","@","@","@","@","@","@","@","@","@","@","@","@","@","@","@","@",{"$f":"'Month 5'!BL98","v":"@"},{"$f":"'Month 5'!BK98","v":"@"},{"$f":"'Month 5'!BJ98","v":"@"},{"$f":"'Month 5'!BI98","v":"@"},{"$error":"#N/A"},{"$error":"#N/A"},{"$error":"#N/A"},{"$error":"#N/A"},{"$f":"IF(ISNUMBER(SUM(COUNTIF(INDIRECT(CR98):INDIRECT(CS98),2),COUNTIF(INDIRECT(CR98):INDIRECT(CS98),1),COUNTIF(INDIRECT(CR98):INDIRECT(CS98),0))),SUM(COUNTIF(INDIRECT(CR98):INDIRECT(CS98),2),COUNTIF(INDIRECT(CR98):INDIRECT(CS98),1),COUNTIF(INDIRECT(CR98):INDIRECT(CS98),0)),\"\")","v":""},{"$f":"IF(ISNUMBER(SUM(COUNTIF(INDIRECT(CR98):INDIRECT(CT98),2),COUNTIF(INDIRECT(CR98):INDIRECT(CT98),1),COUNTIF(INDIRECT(CR98):INDIRECT(CT98),0))),SUM(COUNTIF(INDIRECT(CR98):INDIRECT(CT98),2),COUNTIF(INDIRECT(CR98):INDIRECT(CT98),1),COUNTIF(INDIRECT(CR98):INDIRECT(CT98),0)),\"\")","v":""},{"$f":"IF(ISNUMBER(SUM(COUNTIF(INDIRECT(CR98):INDIRECT(CU98),1),COUNTIF(INDIRECT(CR98):INDIRECT(CU98),0))),SUM(COUNTIF(INDIRECT(CR98):INDIRECT(CU98),1),COUNTIF(INDIRECT(CR98):INDIRECT(CU98),0)),\"\")","v":""},{"$f":"SUM(INDIRECT(CR98):INDIRECT(CS98))","v":{"$error":"#N/A"}},{"$f":"SUM(INDIRECT(CR98):INDIRECT(CT98))","v":{"$error":"#N/A"}},{"$f":"SUM(INDIRECT(CR98):INDIRECT(CU98))","v":{"$error":"#N/A"}}]
[null,null,null,null,null,null,null,null,null,null,null,null,null,null,null,null,null,null,null,null,null,null,null,null,null,null,null,null,null,null,null,null,null,null,null,null,null,null,null,null,null,null,null,null,null,null,null,null,null,null,null,null,null,null,null,null,null,null,null,0,"@","@","@","@","@","@","@","@","@","@","@","@","@","@","@","@","@","@","@","@","@","@","@","@","@","@","@","@","@","@","@",{"$f":"'Month 5'!BL99","v":"@"},{"$f":"'Month 5'!BK99","v":"@"},{"$f":"'Month 5'!BJ99","v":"@"},{"$f":"'Month 5'!BI99","v":"@"},{"$error":"#N/A"},{"$error":"#N/A"},{"$error":"#N/A"},{"$error":"#N/A"},{"$f":"IF(ISNUMBER(SUM(COUNTIF(INDIRECT(CR99):INDIRECT(CS99),2),COUNTIF(INDIRECT(CR99):INDIRECT(CS99),1),COUNTIF(INDIRECT(CR99):INDIRECT(CS99),0))),SUM(COUNTIF(INDIRECT(CR99):INDIRECT(CS99),2),COUNTIF(INDIRECT(CR99):INDIRECT(CS99),1),COUNTIF(INDIRECT(CR99):INDIRECT(CS99),0)),\"\")","v":""},{"$f":"IF(ISNUMBER(SUM(COUNTIF(INDIRECT(CR99):INDIRECT(CT99),2),COUNTIF(INDIRECT(CR99):INDIRECT(CT99),1),COUNTIF(INDIRECT(CR99):INDIRECT(CT99),0))),SUM(COUNTIF(INDIRECT(CR99):INDIRECT(CT99),2),COUNTIF(INDIRECT(CR99):INDIRECT(CT99),1),COUNTIF(INDIRECT(CR99):INDIRECT(CT99),0)),\"\")","v":""},{"$f":"IF(ISNUMBER(SUM(COUNTIF(INDIRECT(CR99):INDIRECT(CU99),1),COUNTIF(INDIRECT(CR99):INDIRECT(CU99),0))),SUM(COUNTIF(INDIRECT(CR99):INDIRECT(CU99),1),COUNTIF(INDIRECT(CR99):INDIRECT(CU99),0)),\"\")","v":""},{"$f":"SUM(INDIRECT(CR99):INDIRECT(CS99))","v":{"$error":"#N/A"}},{"$f":"SUM(INDIRECT(CR99):INDIRECT(CT99))","v":{"$error":"#N/A"}},{"$f":"SUM(INDIRECT(CR99):INDIRECT(CU99))","v":{"$error":"#N/A"}}]
[null,null,null,null,null,null,null,null,null,null,null,null,null,null,null,null,null,null,null,null,null,null,null,null,null,null,null,null,null,null,null,null,null,null,null,null,null,null,null,null,null,null,null,null,null,null,null,null,null,null,null,null,null,null,null,null,null,null,null,0,"@","@","@","@","@","@","@","@","@","@","@","@","@","@","@","@","@","@","@","@","@","@","@","@","@","@","@","@","@","@","@",{"$f":"'Month 5'!BL100","v":"@"},{"$f":"'Month 5'!BK100","v":"@"},{"$f":"'Month 5'!BJ100","v":"@"},{"$f":"'Month 5'!BI100","v":"@"},{"$error":"#N/A"},{"$error":"#N/A"},{"$error":"#N/A"},{"$error":"#N/A"},{"$f":"IF(ISNUMBER(SUM(COUNTIF(INDIRECT(CR100):INDIRECT(CS100),2),COUNTIF(INDIRECT(CR100):INDIRECT(CS100),1),COUNTIF(INDIRECT(CR100):INDIRECT(CS100),0))),SUM(COUNTIF(INDIRECT(CR100):INDIRECT(CS100),2),COUNTIF(INDIRECT(CR100):INDIRECT(CS100),1),COUNTIF(INDIRECT(CR100):INDIRECT(CS100),0)),\"\")","v":""},{"$f":"IF(ISNUMBER(SUM(COUNTIF(INDIRECT(CR100):INDIRECT(CT100),2),COUNTIF(INDIRECT(CR100):INDIRECT(CT100),1),COUNTIF(INDIRECT(CR100):INDIRECT(CT100),0))),SUM(COUNTIF(INDIRECT(CR100):INDIRECT(CT100),2),COUNTIF(INDIRECT(CR100):INDIRECT(CT100),1),COUNTIF(INDIRECT(CR100):INDIRECT(CT100),0)),\"\")","v":""},{"$f":"IF(ISNUMBER(SUM(COUNTIF(INDIRECT(CR100):INDIRECT(CU100),1),COUNTIF(INDIRECT(CR100):INDIRECT(CU100),0))),SUM(COUNTIF(INDIRECT(CR100):INDIRECT(CU100),1),COUNTIF(INDIRECT(CR100):INDIRECT(CU100),0)),\"\")","v":""},{"$f":"SUM(INDIRECT(CR100):INDIRECT(CS100))","v":{"$error":"#N/A"}},{"$f":"SUM(INDIRECT(CR100):INDIRECT(CT100))","v":{"$error":"#N/A"}},{"$f":"SUM(INDIRECT(CR100):INDIRECT(CU100))","v":{"$error":"#N/A"}}]
[null,null,null,null,null,null,null,null,null,null,null,null,null,null,null,null,null,null,null,null,null,null,null,null,null,null,null,null,null,null,null,null,null,null,null,null,null,null,null,null,null,null,null,null,null,null,null,null,null,null,null,null,null,null,null,null,null,null,null,0,"@","@","@","@","@","@","@","@","@","@","@","@","@","@","@","@","@","@","@","@","@","@","@","@","@","@","@","@","@","@","@",{"$f":"'Month 5'!BL101","v":"@"},{"$f":"'Month 5'!BK101","v":"@"},{"$f":"'Month 5'!BJ101","v":"@"},{"$f":"'Month 5'!BI101","v":"@"},{"$error":"#N/A"},{"$error":"#N/A"},{"$error":"#N/A"},{"$error":"#N/A"},{"$f":"IF(ISNUMBER(SUM(COUNTIF(INDIRECT(CR101):INDIRECT(CS101),2),COUNTIF(INDIRECT(CR101):INDIRECT(CS101),1),COUNTIF(INDIRECT(CR101):INDIRECT(CS101),0))),SUM(COUNTIF(INDIRECT(CR101):INDIRECT(CS101),2),COUNTIF(INDIRECT(CR101):INDIRECT(CS101),1),COUNTIF(INDIRECT(CR101):INDIRECT(CS101),0)),\"\")","v":""},{"$f":"IF(ISNUMBER(SUM(COUNTIF(INDIRECT(CR101):INDIRECT(CT101),2),COUNTIF(INDIRECT(CR101):INDIRECT(CT101),1),COUNTIF(INDIRECT(CR101):INDIRECT(CT101),0))),SUM(COUNTIF(INDIRECT(CR101):INDIRECT(CT101),2),COUNTIF(INDIRECT(CR101):INDIRECT(CT101),1),COUNTIF(INDIRECT(CR101):INDIRECT(CT101),0)),\"\")","v":""},{"$f":"IF(ISNUMBER(SUM(COUNTIF(INDIRECT(CR101):INDIRECT(CU101),1),COUNTIF(INDIRECT(CR101):INDIRECT(CU101),0))),SUM(COUNTIF(INDIRECT(CR101):INDIRECT(CU101),1),COUNTIF(INDIRECT(CR101):INDIRECT(CU101),0)),\"\")","v":""},{"$f":"SUM(INDIRECT(CR101):INDIRECT(CS101))","v":{"$error":"#N/A"}},{"$f":"SUM(INDIRECT(CR101):INDIRECT(CT101))","v":{"$error":"#N/A"}},{"$f":"SUM(INDIRECT(CR101):INDIRECT(CU101))","v":{"$error":"#N/A"}}]
[null,null,null,null,null,null,null,null,null,null,null,null,null,null,null,null,null,null,null,null,null,null,null,null,null,null,null,null,null,null,null,null,null,null,null,null,null,null,null,null,null,null,null,null,null,null,null,null,null,null,null,null,null,null,null,null,null,null,null,0,"@","@","@","@","@","@","@","@","@","@","@","@","@","@","@","@","@","@","@","@","@","@","@","@","@","@","@","@","@","@","@",{"$f":"'Month 5'!BL102","v":"@"},{"$f":"'Month 5'!BK102","v":"@"},{"$f":"'Month 5'!BJ102","v":"@"},{"$f":"'Month 5'!BI102","v":"@"},{"$error":"#N/A"},{"$error":"#N/A"},{"$error":"#N/A"},{"$error":"#N/A"},{"$f":"IF(ISNUMBER(SUM(COUNTIF(INDIRECT(CR102):INDIRECT(CS102),2),COUNTIF(INDIRECT(CR102):INDIRECT(CS102),1),COUNTIF(INDIRECT(CR102):INDIRECT(CS102),0))),SUM(COUNTIF(INDIRECT(CR102):INDIRECT(CS102),2),COUNTIF(INDIRECT(CR102):INDIRECT(CS102),1),COUNTIF(INDIRECT(CR102):INDIRECT(CS102),0)),\"\")","v":""},{"$f":"IF(ISNUMBER(SUM(COUNTIF(INDIRECT(CR102):INDIRECT(CT102),2),COUNTIF(INDIRECT(CR102):INDIRECT(CT102),1),COUNTIF(INDIRECT(CR102):INDIRECT(CT102),0))),SUM(COUNTIF(INDIRECT(CR102):INDIRECT(CT102),2),COUNTIF(INDIRECT(CR102):INDIRECT(CT102),1),COUNTIF(INDIRECT(CR102):INDIRECT(CT102),0)),\"\")","v":""},{"$f":"IF(ISNUMBER(SUM(COUNTIF(INDIRECT(CR102):INDIRECT(CU102),1),COUNTIF(INDIRECT(CR102):INDIRECT(CU102),0))),SUM(COUNTIF(INDIRECT(CR102):INDIRECT(CU102),1),COUNTIF(INDIRECT(CR102):INDIRECT(CU102),0)),\"\")","v":""},{"$f":"SUM(INDIRECT(CR102):INDIRECT(CS102))","v":{"$error":"#N/A"}},{"$f":"SUM(INDIRECT(CR102):INDIRECT(CT102))","v":{"$error":"#N/A"}},{"$f":"SUM(INDIRECT(CR102):INDIRECT(CU102))","v":{"$error":"#N/A"}}]
[null,null,null,null,null,null,null,null,null,null,null,null,null,null,null,null,null,null,null,null,null,null,null,null,null,null,null,null,null,null,null,null,null,null,null,null,null,null,null,null,null,null,null,null,null,null,null,null,null,null,null,null,null,null,null,null,null,null,null,0,"@","@","@","@","@","@","@","@","@","@","@","@","@","@","@","@","@","@","@","@","@","@","@","@","@","@","@","@","@","@","@",{"$f":"'Month 5'!BL103","v":"@"},{"$f":"'Month 5'!BK103","v":"@"},{"$f":"'Month 5'!BJ103","v":"@"},{"$f":"'Month 5'!BI103","v":"@"},{"$error":"#N/A"},{"$error":"#N/A"},{"$error":"#N/A"},{"$error":"#N/A"},{"$f":"IF(ISNUMBER(SUM(COUNTIF(INDIRECT(CR103):INDIRECT(CS103),2),COUNTIF(INDIRECT(CR103):INDIRECT(CS103),1),COUNTIF(INDIRECT(CR103):INDIRECT(CS103),0))),SUM(COUNTIF(INDIRECT(CR103):INDIRECT(CS103),2),COUNTIF(INDIRECT(CR103):INDIRECT(CS103),1),COUNTIF(INDIRECT(CR103):INDIRECT(CS103),0)),\"\")","v":""},{"$f":"IF(ISNUMBER(SUM(COUNTIF(INDIRECT(CR103):INDIRECT(CT103),2),COUNTIF(INDIRECT(CR103):INDIRECT(CT103),1),COUNTIF(INDIRECT(CR103):INDIRECT(CT103),0))),SUM(COUNTIF(INDIRECT(CR103):INDIRECT(CT103),2),COUNTIF(INDIRECT(CR103):INDIRECT(CT103),1),COUNTIF(INDIRECT(CR103):INDIRECT(CT103),0)),\"\")","v":""},{"$f":"IF(ISNUMBER(SUM(COUNTIF(INDIRECT(CR103):INDIRECT(CU103),1),COUNTIF(INDIRECT(CR103):INDIRECT(CU103),0))),SUM(COUNTIF(INDIRECT(CR103):INDIRECT(CU103),1),COUNTIF(INDIRECT(CR103):INDIRECT(CU103),0)),\"\")","v":""},{"$f":"SUM(INDIRECT(CR103):INDIRECT(CS103))","v":{"$error":"#N/A"}},{"$f":"SUM(INDIRECT(CR103):INDIRECT(CT103))","v":{"$error":"#N/A"}},{"$f":"SUM(INDIRECT(CR103):INDIRECT(CU103))","v":{"$error":"#N/A"}}]
[null,null,null,null,null,null,null,null,null,null,null,null,null,null,null,null,null,null,null,null,null,null,null,null,null,null,null,null,null,null,null,null,null,null,null,null,null,null,null,null,null,null,null,null,null,null,null,null,null,null,null,null,null,null,null,null,null,null,null,0,"@","@","@","@","@","@","@","@","@","@","@","@","@","@","@","@","@","@","@","@","@","@","@","@","@","@","@","@","@","@","@",{"$f":"'Month 5'!BL104","v":"@"},{"$f":"'Month 5'!BK104","v":"@"},{"$f":"'Month 5'!BJ104","v":"@"},{"$f":"'Month 5'!BI104","v":"@"},{"$error":"#N/A"},{"$error":"#N/A"},{"$error":"#N/A"},{"$error":"#N/A"},{"$f":"IF(ISNUMBER(SUM(COUNTIF(INDIRECT(CR104):INDIRECT(CS104),2),COUNTIF(INDIRECT(CR104):INDIRECT(CS104),1),COUNTIF(INDIRECT(CR104):INDIRECT(CS104),0))),SUM(COUNTIF(INDIRECT(CR104):INDIRECT(CS104),2),COUNTIF(INDIRECT(CR104):INDIRECT(CS104),1),COUNTIF(INDIRECT(CR104):INDIRECT(CS104),0)),\"\")","v":""},{"$f":"IF(ISNUMBER(SUM(COUNTIF(INDIRECT(CR104):INDIRECT(CT104),2),COUNTIF(INDIRECT(CR104):INDIRECT(CT104),1),COUNTIF(INDIRECT(CR104):INDIRECT(CT104),0))),SUM(COUNTIF(INDIRECT(CR104):INDIRECT(CT104),2),COUNTIF(INDIRECT(CR104):INDIRECT(CT104),1),COUNTIF(INDIRECT(CR104):INDIRECT(CT104),0)),\"\")","v":""},{"$f":"IF(ISNUMBER(SUM(COUNTIF(INDIRECT(CR104):INDIRECT(CU104),1),COUNTIF(INDIRECT(CR104):INDIRECT(CU104),0))),SUM(COUNTIF(INDIRECT(CR104):INDIRECT(CU104),1),COUNTIF(INDIRECT(CR104):INDIRECT(CU104),0)),\"\")","v":""},{"$f":"SUM(INDIRECT(CR104):INDIRECT(CS104))","v":{"$error":"#N/A"}},{"$f":"SUM(INDIRECT(CR104):INDIRECT(CT104))","v":{"$error":"#N/A"}},{"$f":"SUM(INDIRECT(CR104):INDIRECT(CU104))","v":{"$error":"#N/A"}}]

{"sheet":"Month 7","index":11,"n_rows":104,"n_cols":105,"rows_kept":104,"cut":false,"hidden":false,"merged":[[53,95,53,98],[53,99,53,101],[53,102,53,104],[6,23,20,35],[13,5,20,8]]}
[]
[]
[]
[]
[]
[null,null,null,null,"Student Name:",{"$f":"IF(ISTEXT('Month 1'!F6),'Month 1'!F6,\"\")","v":""},null,null,null,null,null,null,null,null,null,null,null,null,null,null,null,null,null,"General Notes:"]
["Go To:"]
[{"$f":"IF(ISBLANK('Month 1'!$F$12),\"Month 1\",'Month 1'!$F$12)","v":"--"},null,null,null,"Skill Title:",{"$f":"IF(ISTEXT('Month 1'!F8),'Month 1'!F8,\"\")","v":""}]
[{"$f":"IF(ISBLANK('Month 2'!$F$12),\"Month 2\",'Month 2'!$F$12)","v":"--"}]
[{"$f":"IF(ISBLANK('Month 3'!$F$12),\"Month 3\",'Month 3'!$F$12)","v":"--"},null,null,null,"Skill Type:",{"$f":"IF(ISBLANK('Month 1'!F10),\"\",'Month 1'!F10)","v":""}]
[{"$f":"IF(ISBLANK('Month 4'!$F$12),\"Month 4\",'Month 4'!$F$12)","v":"--"}]
[{"$f":"IF(ISBLANK('Month 5'!$F$12),\"Month 5\",'Month 5'!$F$12)","v":"--"},null,null,null,"Date Range:","--"]
[{"$f":"IF(ISBLANK('Month 6'!$F$12),\"Month 6\",'Month 6'!$F$12)","v":"--"}]
[{"$f":"IF(ISBLANK('Month 7'!$F$12),\"Month 7\",'Month 7'!$F$12)","v":"--"},null,null,null,"Objective:",{"$f":"IF(ISBLANK('Month 1'!$F$14),\"\",'Month 1'!$F$14)","v":""}]
[{"$f":"IF(ISBLANK('Month 8'!$F$12),\"Month 8\",'Month 8'!$F$12)","v":"--"}]
[{"$f":"IF(ISBLANK('Month 9'!$F$12),\"Month 9\",'Month 9'!$F$12)","v":"--"}]
[{"$f":"IF(ISBLANK('Month 10'!$F$12),\"Month 10\",'Month 10'!$F$12)","v":"--"}]
[{"$f":"IF(ISBLANK('Month 11'!$F$12),\"Month 11\",'Month 11'!$F$12)","v":"--"}]
[{"$f":"IF(ISBLANK('Month 12'!$F$12),\"Month 12\",'Month 12'!$F$12)","v":"--"}]
[]
[]
[]
[null,null,null,null,null,null,{"$f":"SUM(COUNTIF(G27:G76,\"+\"),COUNTIF(G27:G76,\"-\"),COUNTIF(G27:G76,\"y\"),COUNTIF(G27:G76,\"n\"),COUNTIF(G27:G76,1),COUNTIF(G27:G76,2))","v":0},0,0,0,0,0,0,0,0,0,0,0,0,0,0,0,0,0,0,0,0,0,0,0,0,0,0,0,0,0,0,{"$f":"SUM(G23:AK23)","v":0}]
[null,null,null,null,null,"Total Number Correct   à",{"$f":"IF(G23>0,SUM(CM55:CM104),\"\")","v":""},{"$f":"IF(H23>0,SUM(CL55:CL104),\"\")","v":""},{"$f":"IF(I23>0,SUM(CK55:CK104),\"\")","v":""},{"$f":"IF(J23>0,SUM(CJ55:CJ104),\"\")","v":""},{"$f":"IF(K23>0,SUM(CI55:CI104),\"\")","v":""},{"$f":"IF(L23>0,SUM(CH55:CH104),\"\")","v":""},{"$f":"IF(M23>0,SUM(CG55:CG104),\"\")","v":""},{"$f":"IF(N23>0,SUM(CF55:CF104),\"\")","v":""},{"$f":"IF(O23>0,SUM(CE55:CE104),\"\")","v":""},{"$f":"IF(P23>0,SUM(CD55:CD104),\"\")","v":""},{"$f":"IF(Q23>0,SUM(CC55:CC104),\"\")","v":""},{"$f":"IF(R23>0,SUM(CB55:CB104),\"\")","v":""},{"$f":"IF(S23>0,SUM(CA55:CA104),\"\")","v":""},{"$f":"IF(T23>0,SUM(BZ55:BZ104),\"\")","v":""},{"$f":"IF(U23>0,SUM(BY55:BY104),\"\")","v":""},{"$f":"IF(V23>0,SUM(BX55:BX104),\"\")","v":""},{"$f":"IF(W23>0,SUM(BW55:BW104),\"\")","v":""},{"$f":"IF(X23>0,SUM(BV55:BV104),\"\")","v":""},{"$f":"IF(Y23>0,SUM(BU55:BU104),\"\")","v":""},{"$f":"IF(Z23>0,SUM(BT55:BT104),\"\")","v":""},{"$f":"IF(AA23>0,SUM(BS55:BS104),\"\")","v":""},{"$f":"IF(AB23>0,SUM(BR55:BR104),\"\")","v":""},{"$f":"IF(AC23>0,SUM(BQ55:BQ104),\"\")","v":""},{"$f":"IF(AD23>0,SUM(BP55:BP104),\"\")","v":""},{"$f":"IF(AE23>0,SUM(BO55:BO104),\"\")","v":""},{"$f":"IF(AF23>0,SUM(BN55:BN104),\"\")","v":""},{"$f":"IF(AG23>0,SUM(BM55:BM104),\"\")","v":""},{"$f":"IF(AH23>0,SUM(BL55:BL104),\"\")","v":""},{"$f":"IF(AI23>0,SUM(BK55:BK104),\"\")","v":""},{"$f":"IF(AJ23>0,SUM(BJ55:BJ104),\"\")","v":""},{"$f":"IF(AK23>0,SUM(BI55:BI104),\"\")","v":""}]
[null,null,{"$f":"50-SUM(C27:C76)","v":0},"Note",null,"Initials   à"]
[null,null,0,"â",null,"Date   à"]
[null,null,{"$f":"IF(F27=\"\",1,0)","v":1},{"$f":"IF(Modifications!$C$2=2,\"N\",\"\")","v":""},{"$f":"IF(AND(BH55>0,$F$10=\"\"),\"Choose Skill Type\",IF(CX55=\"\",\"\",IF(AND(DA55=3,$F$10=\"Multi-Step (Task Analysis)\"),\"Add Next Step\",IF(AND(DA55=3,$F$10=\"Multi-Stimulus (Different Sd's)\"),\"Continue\",IF(OR(AND(CV55=5,CY55<=1),AND(CW55=4,CZ55=0)),\"Intervene\",IF(OR(AND(CV55=5,CY55<=2),AND(CW55=4,CZ55<=1),AND(CX55=3,DA55=0)),\"Check\",\"Continue\"))))))","v":""},{"$f":"IF(ISBLANK('Month 1'!$F$27),\"\",'Month 1'!$F$27)","v":""}]
[null,null,{"$f":"IF(F28=\"\",1,0)","v":1},{"$f":"IF(Modifications!$C$3=2,\"N\",\"\")","v":""},"",{"$f":"IF(ISBLANK('Month 1'!$F$28),\"\",'Month 1'!$F$28)","v":""}]
[null,null,1,{"$f":"IF(Modifications!$C$4=2,\"N\",\"\")","v":""},"",{"$f":"IF(ISBLANK('Month 1'!$F$29),\"\",'Month 1'!$F$29)","v":""}]
[null,null,1,{"$f":"IF(Modifications!$C$5=2,\"N\",\"\")","v":""},"",{"$f":"IF(ISBLANK('Month 1'!$F$30),\"\",'Month 1'!$F$30)","v":""}]
[null,null,1,{"$f":"IF(Modifications!$C$6=2,\"N\",\"\")","v":""},"",{"$f":"IF(ISBLANK('Month 1'!$F$31),\"\",'Month 1'!$F$31)","v":""}]
[null,null,1,{"$f":"IF(Modifications!$C$7=2,\"N\",\"\")","v":""},"",{"$f":"IF(ISBLANK('Month 1'!$F$32),\"\",'Month 1'!$F$32)","v":""}]
[null,null,1,{"$f":"IF(Modifications!$C$8=2,\"N\",\"\")","v":""},"",{"$f":"IF(ISBLANK('Month 1'!$F$33),\"\",'Month 1'!$F$33)","v":""}]
[null,null,1,{"$f":"IF(Modifications!$C$9=2,\"N\",\"\")","v":""},"",{"$f":"IF(ISBLANK('Month 1'!$F$34),\"\",'Month 1'!$F$34)","v":""}]
[null,null,1,{"$f":"IF(Modifications!$C$10=2,\"N\",\"\")","v":""},"",{"$f":"IF(ISBLANK('Month 1'!$F$35),\"\",'Month 1'!$F$35)","v":""}]
[null,null,1,{"$f":"IF(Modifications!$C$11=2,\"N\",\"\")","v":""},"",{"$f":"IF(ISBLANK('Month 1'!$F$36),\"\",'Month 1'!$F$36)","v":""}]
[null,null,1,{"$f":"IF(Modifications!$C$12=2,\"N\",\"\")","v":""},"",{"$f":"IF(ISBLANK('Month 1'!$F$37),\"\",'Month 1'!$F$37)","v":""}]
[null,null,1,{"$f":"IF(Modifications!$C$13=2,\"N\",\"\")","v":""},"",{"$f":"IF(ISBLANK('Month 1'!$F$38),\"\",'Month 1'!$F$38)","v":""}]
[null,null,1,{"$f":"IF(Modifications!$C$14=2,\"N\",\"\")","v":""},"",{"$f":"IF(ISBLANK('Month 1'!$F$39),\"\",'Month 1'!$F$39)","v":""}]
[null,null,1,{"$f":"IF(Modifications!$C$15=2,\"N\",\"\")","v":""},"",{"$f":"IF(ISBLANK('Month 1'!$F$40),\"\",'Month 1'!$F$40)","v":""}]
[null,null,1,{"$f":"IF(Modifications!$C$16=2,\"N\",\"\")","v":""},"",{"$f":"IF(ISBLANK('Month 1'!$F$41),\"\",'Month 1'!$F$41)","v":""}]
[null,null,1,{"$f":"IF(Modifications!$C$17=2,\"N\",\"\")","v":""},"",{"$f":"IF(ISBLANK('Month 1'!$F$42),\"\",'Month 1'!$F$42)","v":""}]
[null,null,1,{"$f":"IF(Modifications!$C$18=2,\"N\",\"\")","v":""},"",{"$f":"IF(ISBLANK('Month 1'!$F$43),\"\",'Month 1'!$F$43)","v":""}]
[null,null,1,{"$f":"IF(Modifications!$C$19=2,\"N\",\"\")","v":""},"",{"$f":"IF(ISBLANK('Month 1'!$F$44),\"\",'Month 1'!$F$44)","v":""}]
[null,null,1,{"$f":"IF(Modifications!$C$20=2,\"N\",\"\")","v":""},"",{"$f":"IF(ISBLANK('Month 1'!$F$45),\"\",'Month 1'!$F$45)","v":""}]
[null,null,1,{"$f":"IF(Modifications!$C$21=2,\"N\",\"\")","v":""},"",{"$f":"IF(ISBLANK('Month 1'!$F$46),\"\",'Month 1'!$F$46)","v":""}]
[null,null,1,{"$f":"IF(Modifications!$C$22=2,\"N\",\"\")","v":""},"",{"$f":"IF(ISBLANK('Month 1'!$F$47),\"\",'Month 1'!$F$47)","v":""}]
[null,null,1,{"$f":"IF(Modifications!$C$23=2,\"N\",\"\")","v":""},"",{"$f":"IF(ISBLANK('Month 1'!$F$48),\"\",'Month 1'!$F$48)","v":""}]
[null,null,1,{"$f":"IF(Modifications!$C$24=2,\"N\",\"\")","v":""},"",{"$f":"IF(ISBLANK('Month 1'!$F$49),\"\",'Month 1'!$F$49)","v":""}]
[null,null,1,{"$f":"IF(Modifications!$C$25=2,\"N\",\"\")","v":""},"",{"$f":"IF(ISBLANK('Month 1'!$F$50),\"\",'Month 1'!$F$50)","v":""}]
[null,null,1,{"$f":"IF(Modifications!$C$26=2,\"N\",\"\")","v":""},"",{"$f":"IF(ISBLANK('Month 1'!$F$51),\"\",'Month 1'!$F$51)","v":""}]
[null,null,1,{"$f":"IF(Modifications!$C$27=2,\"N\",\"\")","v":""},"",{"$f":"IF(ISBLANK('Month 1'!$F$52),\"\",'Month 1'!$F$52)","v":""}]
[null,null,1,{"$f":"IF(Modifications!$C$28=2,\"N\",\"\")","v":""},"",{"$f":"IF(ISBLANK('Month 1'!$F$53),\"\",'Month 1'!$F$53)","v":""}]
[null,null,1,{"$f":"IF(Modifications!$C$29=2,\"N\",\"\")","v":""},"",{"$f":"IF(ISBLANK('Month 1'!$F$54),\"\",'Month 1'!$F$54)","v":""},null,null,null,null,null,null,null,null,null,null,null,null,null,null,null,null,null,null,null,null,null,null,null,null,null,null,null,null,null,null,null,null,null,null,null,null,null,null,null,null,null,null,null,null,null,null,null,null,null,null,null,null,null,null,null,null,null,null,null,null,null,null,null,null,null,null,null,null,null,null,null,null,null,null,null,null,null,null,null,null,null,null,null,null,null,null,null,null,null,"Locations (start,5,4,3)",null,null,null,"Are they in a row? (5,4,3)",null,null,"Sum of items in row (5,4,3)"]
[null,null,1,{"$f":"IF(Modifications!$C$30=2,\"N\",\"\")","v":""},"",{"$f":"IF(ISBLANK('Month 1'!$F$55),\"\",'Month 1'!$F$55)","v":""},null,null,null,null,null,null,null,null,null,null,null,null,null,null,null,null,null,null,null,null,null,null,null,null,null,null,null,null,null,null,null,null,null,null,null,null,null,null,null,null,null,null,null,null,null,null,null,null,null,null,null,null,null,{"$f":"SUM(COUNTIF(BI55:CM55,1),COUNTIF(BI55:CM55,0))","v":0},{"$f":"IF(OR(AK27=\"+\",AK27=\"Y\",AK27=2),1,IF(OR(AK27=\"-\",AK27=\"N\",AK27=1),0,IF(OR(BJ55=1,BJ55=0),\"#\",\"@\")))","v":"@"},{"$f":"IF(OR(AJ27=\"+\",AJ27=\"Y\",AJ27=2),1,IF(OR(AJ27=\"-\",AJ27=\"N\",AJ27=1),0,IF(OR(BK55=1,BK55=0),\"#\",\"@\")))","v":"@"},{"$f":"IF(OR(AI27=\"+\",AI27=\"Y\",AI27=2),1,IF(OR(AI27=\"-\",AI27=\"N\",AI27=1),0,IF(OR(BL55=1,BL55=0),\"#\",\"@\")))","v":"@"},{"$f":"IF(OR(AH27=\"+\",AH27=\"Y\",AH27=2),1,IF(OR(AH27=\"-\",AH27=\"N\",AH27=1),0,IF(OR(BM55=1,BM55=0),\"#\",\"@\")))","v":"@"},{"$f":"IF(OR(AG27=\"+\",AG27=\"Y\",AG27=2),1,IF(OR(AG27=\"-\",AG27=\"N\",AG27=1),0,IF(OR(BN55=1,BN55=0),\"#\",\"@\")))","v":"@"},{"$f":"IF(OR(AF27=\"+\",AF27=\"Y\",AF27=2),1,IF(OR(AF27=\"-\",AF27=\"N\",AF27=1),0,IF(OR(BO55=1,BO55=0),\"#\",\"@\")))","v":"@"},{"$f":"IF(OR(AE27=\"+\",AE27=\"Y\",AE27=2),1,IF(OR(AE27=\"-\",AE27=\"N\",AE27=1),0,IF(OR(BP55=1,BP55=0),\"#\",\"@\")))","v":"@"},{"$f":"IF(OR(AD27=\"+\",AD27=\"Y\",AD27=2),1,IF(OR(AD27=\"-\",AD27=\"N\",AD27=1),0,IF(OR(BQ55=1,BQ55=0),\"#\",\"@\")))","v":"@"},{"$f":"IF(OR(AC27=\"+\",AC27=\"Y\",AC27=2),1,IF(OR(AC27=\"-\",AC27=\"N\",AC27=1),0,IF(OR(BR55=1,BR55=0),\"#\",\"@\")))","v":"@"},{"$f":"IF(OR(AB27=\"+\",AB27=\"Y\",AB27=2),1,IF(OR(AB27=\"-\",AB27=\"N\",AB27=1),0,IF(OR(BS55=1,BS55=0),\"#\",\"@\")))","v":"@"},{"$f":"IF(OR(AA27=\"+\",AA27=\"Y\",AA27=2),1,IF(OR(AA27=\"-\",AA27=\"N\",AA27=1),0,IF(OR(BT55=1,BT55=0),\"#\",\"@\")))","v":"@"},{"$f":"IF(OR(Z27=\"+\",Z27=\"Y\",Z27=2),1,IF(OR(Z27=\"-\",Z27=\"N\",Z27=1),0,IF(OR(BU55=1,BU55=0),\"#\",\"@\")))","v":"@"},{"$f":"IF(OR(Y27=\"+\",Y27=\"Y\",Y27=2),1,IF(OR(Y27=\"-\",Y27=\"N\",Y27=1),0,IF(OR(BV55=1,BV55=0),\"#\",\"@\")))","v":"@"},{"$f":"IF(OR(X27=\"+\",X27=\"Y\",X27=2),1,IF(OR(X27=\"-\",X27=\"N\",X27=1),0,IF(OR(BW55=1,BW55=0),\"#\",\"@\")))","v":"@"},{"$f":"IF(OR(W27=\"+\",W27=\"Y\",W27=2),1,IF(OR(W27=\"-\",W27=\"N\",W27=1),0,IF(OR(BX55=1,BX55=0),\"#\",\"@\")))","v":"@"},{"$f":"IF(OR(V27=\"+\",V27=\"Y\",V27=2),1,IF(OR(V27=\"-\",V27=\"N\",V27=1),0,IF(OR(BY55=1,BY55=0),\"#\",\"@\")))","v":"@"},{"$f":"IF(OR(U27=\"+\",U27=\"Y\",U27=2),1,IF(OR(U27=\"-\",U27=\"N\",U27=1),0,IF(OR(BZ55=1,BZ55=0),\"#\",\"@\")))","v":"@"},{"$f":"IF(OR(T27=\"+\",T27=\"Y\",T27=2),1,IF(OR(T27=\"-\",T27=\"N\",T27=1),0,IF(OR(CA55=1,CA55=0),\"#\",\"@\")))","v":"@"},{"$f":"IF(OR(S27=\"+\",S27=\"Y\",S27=2),1,IF(OR(S27=\"-\",S27=\"N\",S27=1),0,IF(OR(CB55=1,CB55=0),\"#\",\"@\")))","v":"@"},{"$f":"IF(OR(R27=\"+\",R27=\"Y\",R27=2),1,IF(OR(R27=\"-\",R27=\"N\",R27=1),0,IF(OR(CC55=1,CC55=0),\"#\",\"@\")))","v":"@"},{"$f":"IF(OR(Q27=\"+\",Q27=\"Y\",Q27=2),1,IF(OR(Q27=\"-\",Q27=\"N\",Q27=1),0,IF(OR(CD55=1,CD55=0),\"#\",\"@\")))","v":"@"},{"$f":"IF(OR(P27=\"+\",P27=\"Y\",P27=2),1,IF(OR(P27=\"-\",P27=\"N\",P27=1),0,IF(OR(CE55=1,CE55=0),\"#\",\"@\")))","v":"@"},{"$f":"IF(OR(O27=\"+\",O27=\"Y\",O27=2),1,IF(OR(O27=\"-\",O27=\"N\",O27=1),0,IF(OR(CF55=1,CF55=0),\"#\",\"@\")))","v":"@"},{"$f":"IF(OR(N27=\"+\",N27=\"Y\",N27=2),1,IF(OR(N27=\"-\",N27=\"N\",N27=1),0,IF(OR(CG55=1,CG55=0),\"#\",\"@\")))","v":"@"},{"$f":"IF(OR(M27=\"+\",M27=\"Y\",M27=2),1,IF(OR(M27=\"-\",M27=\"N\",M27=1),0,IF(OR(CH55=1,CH55=0),\"#\",\"@\")))","v":"@"},{"$f":"IF(OR(L27=\"+\",L27=\"Y\",L27=2),1,IF(OR(L27=\"-\",L27=\"N\",L27=1),0,IF(OR(CI55=1,CI55=0),\"#\",\"@\")))","v":"@"},{"$f":"IF(OR(K27=\"+\",K27=\"Y\",K27=2),1,IF(OR(K27=\"-\",K27=\"N\",K27=1),0,IF(OR(CJ55=1,CJ55=0),\"#\",\"@\")))","v":"@"},{"$f":"IF(OR(J27=\"+\",J27=\"Y\",J27=2),1,IF(OR(J27=\"-\",J27=\"N\",J27=1),0,IF(OR(CK55=1,CK55=0),\"#\",\"@\")))","v":"@"},{"$f":"IF(OR(I27=\"+\",I27=\"Y\",I27=2),1,IF(OR(I27=\"-\",I27=\"N\",I27=1),0,IF(OR(CL55=1,CL55=0),\"#\",\"@\")))","v":"@"},{"$f":"IF(OR(H27=\"+\",H27=\"Y\",H27=2),1,IF(OR(H27=\"-\",H27=\"N\",H27=1),0,IF(OR(CM55=1,CM55=0),\"#\",\"@\")))","v":"@"},{"$f":"IF(OR(G27=\"+\",G27=\"Y\",G27=2),1,IF(OR(G27=\"-\",G27=\"N\",G27=1),0,\"@\"))","v":"@"},{"$f":"'Month 6'!BL55","v":"@"},{"$f":"'Month 6'!BK55","v":"@"},{"$f":"'Month 6'!BJ55","v":"@"},{"$f":"'Month 6'!BI55","v":"@"},{"$f":"ADDRESS(ROW(BH55),(MATCH(\"#\",BI55:CM55,0)+61))","v":{"$error":"#N/A"}},{"$f":"ADDRESS(ROW(BH55),(MATCH(\"#\",BI55:CM55,0)+65))","v":{"$error":"#N/A"}},{"$f":"ADDRESS(ROW(BH55),(MATCH(\"#\",BI55:CM55,0)+64))","v":{"$error":"#N/A"}},{"$f":"ADDRESS(ROW(BH55),(MATCH(\"#\",BI55:CM55,0)+63))","v":{"$error":"#N/A"}},{"$f":"IF(ISNUMBER(SUM(COUNTIF(INDIRECT(CR55):INDIRECT(CS55),2),COUNTIF(INDIRECT(CR55):INDIRECT(CS55),1),COUNTIF(INDIRECT(CR55):INDIRECT(CS55),0))),SUM(COUNTIF(INDIRECT(CR55):INDIRECT(CS55),2),COUNTIF(INDIRECT(CR55):INDIRECT(CS55),1),COUNTIF(INDIRECT(CR55):INDIRECT(CS55),0)),\"\")","v":""},{"$f":"IF(ISNUMBER(SUM(COUNTIF(INDIRECT(CR55):INDIRECT(CT55),2),COUNTIF(INDIRECT(CR55):INDIRECT(CT55),1),COUNTIF(INDIRECT(CR55):INDIRECT(CT55),0))),SUM(COUNTIF(INDIRECT(CR55):INDIRECT(CT55),2),COUNTIF(INDIRECT(CR55):INDIRECT(CT55),1),COUNTIF(INDIRECT(CR55):INDIRECT(CT55),0)),\"\")","v":""},{"$f":"IF(ISNUMBER(SUM(COUNTIF(INDIRECT(CR55):INDIRECT(CU55),1),COUNTIF(INDIRECT(CR55):INDIRECT(CU55),0))),SUM(COUNTIF(INDIRECT(CR55):INDIRECT(CU55),1),COUNTIF(INDIRECT(CR55):INDIRECT(CU55),0)),\"\")","v":""},{"$f":"SUM(INDIRECT(CR55):INDIRECT(CS55))","v":{"$error":"#N/A"}},{"$f":"SUM(INDIRECT(CR55):INDIRECT(CT55))","v":{"$error":"#N/A"}},{"$f":"SUM(INDIRECT(CR55):INDIRECT(CU55))","v":{"$error":"#N/A"}}]
[null,null,1,{"$f":"IF(Modifications!$C$31=2,\"N\",\"\")","v":""},"",{"$f":"IF(ISBLANK('Month 1'!$F$56),\"\",'Month 1'!$F$56)","v":""},null,null,null,null,null,null,null,null,null,null,null,null,null,null,null,null,null,null,null,null,null,null,null,null,null,null,null,null,null,null,null,null,null,null,null,null,null,null,null,null,null,null,null,null,null,null,null,null,null,null,null,null,null,0,"@","@","@","@","@","@","@","@","@","@","@","@","@","@","@","@","@","@","@","@","@","@","@","@","@","@","@","@","@","@","@",{"$f":"'Month 6'!BL56","v":"@"},{"$f":"'Month 6'!BK56","v":"@"},{"$f":"'Month 6'!BJ56","v":"@"},{"$f":"'Month 6'!BI56","v":"@"},{"$error":"#N/A"},{"$error":"#N/A"},{"$error":"#N/A"},{"$error":"#N/A"},{"$f":"IF(ISNUMBER(SUM(COUNTIF(INDIRECT(CR56):INDIRECT(CS56),2),COUNTIF(INDIRECT(CR56):INDIRECT(CS56),1),COUNTIF(INDIRECT(CR56):INDIRECT(CS56),0))),SUM(COUNTIF(INDIRECT(CR56):INDIRECT(CS56),2),COUNTIF(INDIRECT(CR56):INDIRECT(CS56),1),COUNTIF(INDIRECT(CR56):INDIRECT(CS56),0)),\"\")","v":""},{"$f":"IF(ISNUMBER(SUM(COUNTIF(INDIRECT(CR56):INDIRECT(CT56),2),COUNTIF(INDIRECT(CR56):INDIRECT(CT56),1),COUNTIF(INDIRECT(CR56):INDIRECT(CT56),0))),SUM(COUNTIF(INDIRECT(CR56):INDIRECT(CT56),2),COUNTIF(INDIRECT(CR56):INDIRECT(CT56),1),COUNTIF(INDIRECT(CR56):INDIRECT(CT56),0)),\"\")","v":""},{"$f":"IF(ISNUMBER(SUM(COUNTIF(INDIRECT(CR56):INDIRECT(CU56),1),COUNTIF(INDIRECT(CR56):INDIRECT(CU56),0))),SUM(COUNTIF(INDIRECT(CR56):INDIRECT(CU56),1),COUNTIF(INDIRECT(CR56):INDIRECT(CU56),0)),\"\")","v":""},{"$f":"SUM(INDIRECT(CR56):INDIRECT(CS56))","v":{"$error":"#N/A"}},{"$f":"SUM(INDIRECT(CR56):INDIRECT(CT56))","v":{"$error":"#N/A"}},{"$f":"SUM(INDIRECT(CR56):INDIRECT(CU56))","v":{"$error":"#N/A"}}]
[null,null,1,{"$f":"IF(Modifications!$C$32=2,\"N\",\"\")","v":""},"",{"$f":"IF(ISBLANK('Month 1'!$F$57),\"\",'Month 1'!$F$57)","v":""},null,null,null,null,null,null,null,null,null,null,null,null,null,null,null,null,null,null,null,null,null,null,null,null,null,null,null,null,null,null,null,null,null,null,null,null,null,null,null,null,null,null,null,null,null,null,null,null,null,null,null,null,null,0,"@","@","@","@","@","@","@","@","@","@","@","@","@","@","@","@","@","@","@","@","@","@","@","@","@","@","@","@","@","@","@",{"$f":"'Month 6'!BL57","v":"@"},{"$f":"'Month 6'!BK57","v":"@"},{"$f":"'Month 6'!BJ57","v":"@"},{"$f":"'Month 6'!BI57","v":"@"},{"$error":"#N/A"},{"$error":"#N/A"},{"$error":"#N/A"},{"$error":"#N/A"},{"$f":"IF(ISNUMBER(SUM(COUNTIF(INDIRECT(CR57):INDIRECT(CS57),2),COUNTIF(INDIRECT(CR57):INDIRECT(CS57),1),COUNTIF(INDIRECT(CR57):INDIRECT(CS57),0))),SUM(COUNTIF(INDIRECT(CR57):INDIRECT(CS57),2),COUNTIF(INDIRECT(CR57):INDIRECT(CS57),1),COUNTIF(INDIRECT(CR57):INDIRECT(CS57),0)),\"\")","v":""},{"$f":"IF(ISNUMBER(SUM(COUNTIF(INDIRECT(CR57):INDIRECT(CT57),2),COUNTIF(INDIRECT(CR57):INDIRECT(CT57),1),COUNTIF(INDIRECT(CR57):INDIRECT(CT57),0))),SUM(COUNTIF(INDIRECT(CR57):INDIRECT(CT57),2),COUNTIF(INDIRECT(CR57):INDIRECT(CT57),1),COUNTIF(INDIRECT(CR57):INDIRECT(CT57),0)),\"\")","v":""},{"$f":"IF(ISNUMBER(SUM(COUNTIF(INDIRECT(CR57):INDIRECT(CU57),1),COUNTIF(INDIRECT(CR57):INDIRECT(CU57),0))),SUM(COUNTIF(INDIRECT(CR57):INDIRECT(CU57),1),COUNTIF(INDIRECT(CR57):INDIRECT(CU57),0)),\"\")","v":""},{"$f":"SUM(INDIRECT(CR57):INDIRECT(CS57))","v":{"$error":"#N/A"}},{"$f":"SUM(INDIRECT(CR57):INDIRECT(CT57))","v":{"$error":"#N/A"}},{"$f":"SUM(INDIRECT(CR57):INDIRECT(CU57))","v":{"$error":"#N/A"}}]
[null,null,1,{"$f":"IF(Modifications!$C$33=2,\"N\",\"\")","v":""},"",{"$f":"IF(ISBLANK('Month 1'!$F$58),\"\",'Month 1'!$F$58)","v":""},null,null,null,null,null,null,null,null,null,null,null,null,null,null,null,null,null,null,null,null,null,null,null,null,null,null,null,null,null,null,null,null,null,null,null,null,null,null,null,null,null,null,null,null,null,null,null,null,null,null,null,null,null,0,"@","@","@","@","@","@","@","@","@","@","@","@","@","@","@","@","@","@","@","@","@","@","@","@","@","@","@","@","@","@","@",{"$f":"'Month 6'!BL58","v":"@"},{"$f":"'Month 6'!BK58","v":"@"},{"$f":"'Month 6'!BJ58","v":"@"},{"$f":"'Month 6'!BI58","v":"@"},{"$error":"#N/A"},{"$error":"#N/A"},{"$error":"#N/A"},{"$error":"#N/A"},{"$f":"IF(ISNUMBER(SUM(COUNTIF(INDIRECT(CR58):INDIRECT(CS58),2),COUNTIF(INDIRECT(CR58):INDIRECT(CS58),1),COUNTIF(INDIRECT(CR58):INDIRECT(CS58),0))),SUM(COUNTIF(INDIRECT(CR58):INDIRECT(CS58),2),COUNTIF(INDIRECT(CR58):INDIRECT(CS58),1),COUNTIF(INDIRECT(CR58):INDIRECT(CS58),0)),\"\")","v":""},{"$f":"IF(ISNUMBER(SUM(COUNTIF(INDIRECT(CR58):INDIRECT(CT58),2),COUNTIF(INDIRECT(CR58):INDIRECT(CT58),1),COUNTIF(INDIRECT(CR58):INDIRECT(CT58),0))),SUM(COUNTIF(INDIRECT(CR58):INDIRECT(CT58),2),COUNTIF(INDIRECT(CR58):INDIRECT(CT58),1),COUNTIF(INDIRECT(CR58):INDIRECT(CT58),0)),\"\")","v":""},{"$f":"IF(ISNUMBER(SUM(COUNTIF(INDIRECT(CR58):INDIRECT(CU58),1),COUNTIF(INDIRECT(CR58):INDIRECT(CU58),0))),SUM(COUNTIF(INDIRECT(CR58):INDIRECT(CU58),1),COUNTIF(INDIRECT(CR58):INDIRECT(CU58),0)),\"\")","v":""},{"$f":"SUM(INDIRECT(CR58):INDIRECT(CS58))","v":{"$error":"#N/A"}},{"$f":"SUM(INDIRECT(CR58):INDIRECT(CT58))","v":{"$error":"#N/A"}},{"$f":"SUM(INDIRECT(CR58):INDIRECT(CU58))","v":{"$error":"#N/A"}}]
[null,null,1,{"$f":"IF(Modifications!$C$34=2,\"N\",\"\")","v":""},{"$f":"IF(AND(BH87>0,$F$10=\"\"),\"Choose Skill Type\",IF(CX87=\"\",\"\",IF(AND(DA87=3,$F$10=\"Multi-Step (Task Analysis)\"),\"Add Next Step\",IF(AND(DA87=3,$F$10=\"Multi-Stimulus (Different Sd's)\"),\"Continue\",IF(OR(AND(CV87=5,CY87<=1),AND(CW87=4,CZ87=0)),\"Intervene\",IF(OR(AND(CV87=5,CY87<=2),AND(CW87=4,CZ87<=1),AND(CX87=3,DA87=0)),\"Check\",\"Continue\"))))))","v":""},{"$f":"IF(ISBLANK('Month 1'!$F$59),\"\",'Month 1'!$F$59)","v":""},null,null,null,null,null,null,null,null,null,null,null,null,null,null,null,null,null,null,null,null,null,null,null,null,null,null,null,null,null,null,null,null,null,null,null,null,null,null,null,null,null,null,null,null,null,null,null,null,null,null,null,null,null,0,"@","@","@","@","@","@","@","@","@","@","@","@","@","@","@","@","@","@","@","@","@","@","@","@","@","@","@","@","@","@","@",{"$f":"'Month 6'!BL59","v":"@"},{"$f":"'Month 6'!BK59","v":"@"},{"$f":"'Month 6'!BJ59","v":"@"},{"$f":"'Month 6'!BI59","v":"@"},{"$error":"#N/A"},{"$error":"#N/A"},{"$error":"#N/A"},{"$error":"#N/A"},{"$f":"IF(ISNUMBER(SUM(COUNTIF(INDIRECT(CR59):INDIRECT(CS59),2),COUNTIF(INDIRECT(CR59):INDIRECT(CS59),1),COUNTIF(INDIRECT(CR59):INDIRECT(CS59),0))),SUM(COUNTIF(INDIRECT(CR59):INDIRECT(CS59),2),COUNTIF(INDIRECT(CR59):INDIRECT(CS59),1),COUNTIF(INDIRECT(CR59):INDIRECT(CS59),0)),\"\")","v":""},{"$f":"IF(ISNUMBER(SUM(COUNTIF(INDIRECT(CR59):INDIRECT(CT59),2),COUNTIF(INDIRECT(CR59):INDIRECT(CT59),1),COUNTIF(INDIRECT(CR59):INDIRECT(CT59),0))),SUM(COUNTIF(INDIRECT(CR59):INDIRECT(CT59),2),COUNTIF(INDIRECT(CR59):INDIRECT(CT59),1),COUNTIF(INDIRECT(CR59):INDIRECT(CT59),0)),\"\")","v":""},{"$f":"IF(ISNUMBER(SUM(COUNTIF(INDIRECT(CR59):INDIRECT(CU59),1),COUNTIF(INDIRECT(CR59):INDIRECT(CU59),0))),SUM(COUNTIF(INDIRECT(CR59):INDIRECT(CU59),1),COUNTIF(INDIRECT(CR59):INDIRECT(CU59),0)),\"\")","v":""},{"$f":"SUM(INDIRECT(CR59):INDIRECT(CS59))","v":{"$error":"#N/A"}},{"$f":"SUM(INDIRECT(CR59):INDIRECT(CT59))","v":{"$error":"#N/A"}},{"$f":"SUM(INDIRECT(CR59):INDIRECT(CU59))","v":{"$error":"#N/A"}}]
[null,null,1,{"$f":"IF(Modifications!$C$35=2,\"N\",\"\")","v":""},"",{"$f":"IF(ISBLANK('Month 1'!$F$60),\"\",'Month 1'!$F$60)","v":""},null,null,null,null,null,null,null,null,null,null,null,null,null,null,null,null,null,null,null,null,null,null,null,null,null,null,null,null,null,null,null,null,null,null,null,null,null,null,null,null,null,null,null,null,null,null,null,null,null,null,null,null,null,0,"@","@","@","@","@","@","@","@","@","@","@","@","@","@","@","@","@","@","@","@","@","@","@","@","@","@","@","@","@","@","@",{"$f":"'Month 6'!BL60","v":"@"},{"$f":"'Month 6'!BK60","v":"@"},{"$f":"'Month 6'!BJ60","v":"@"},{"$f":"'Month 6'!BI60","v":"@"},{"$error":"#N/A"},{"$error":"#N/A"},{"$error":"#N/A"},{"$error":"#N/A"},{"$f":"IF(ISNUMBER(SUM(COUNTIF(INDIRECT(CR60):INDIRECT(CS60),2),COUNTIF(INDIRECT(CR60):INDIRECT(CS60),1),COUNTIF(INDIRECT(CR60):INDIRECT(CS60),0))),SUM(COUNTIF(INDIRECT(CR60):INDIRECT(CS60),2),COUNTIF(INDIRECT(CR60):INDIRECT(CS60),1),COUNTIF(INDIRECT(CR60):INDIRECT(CS60),0)),\"\")","v":""},{"$f":"IF(ISNUMBER(SUM(COUNTIF(INDIRECT(CR60):INDIRECT(CT60),2),COUNTIF(INDIRECT(CR60):INDIRECT(CT60),1),COUNTIF(INDIRECT(CR60):INDIRECT(CT60),0))),SUM(COUNTIF(INDIRECT(CR60):INDIRECT(CT60),2),COUNTIF(INDIRECT(CR60):INDIRECT(CT60),1),COUNTIF(INDIRECT(CR60):INDIRECT(CT60),0)),\"\")","v":""},{"$f":"IF(ISNUMBER(SUM(COUNTIF(INDIRECT(CR60):INDIRECT(CU60),1),COUNTIF(INDIRECT(CR60):INDIRECT(CU60),0))),SUM(COUNTIF(INDIRECT(CR60):INDIRECT(CU60),1),COUNTIF(INDIRECT(CR60):INDIRECT(CU60),0)),\"\")","v":""},{"$f":"SUM(INDIRECT(CR60):INDIRECT(CS60))","v":{"$error":"#N/A"}},{"$f":"SUM(INDIRECT(CR60):INDIRECT(CT60))","v":{"$error":"#N/A"}},{"$f":"SUM(INDIRECT(CR60):INDIRECT(CU60))","v":{"$error":"#N/A"}}]
[null,null,1,{"$f":"IF(Modifications!$C$36=2,\"N\",\"\")","v":""},"",{"$f":"IF(ISBLANK('Month 1'!$F$61),\"\",'Month 1'!$F$61)","v":""},null,null,null,null,null,null,null,null,null,null,null,null,null,null,null,null,null,null,null,null,null,null,null,null,null,null,null,null,null,null,null,null,null,null,null,null,null,null,null,null,null,null,null,null,null,null,null,null,null,null,null,null,null,0,"@","@","@","@","@","@","@","@","@","@","@","@","@","@","@","@","@","@","@","@","@","@","@","@","@","@","@","@","@","@","@",{"$f":"'Month 6'!BL61","v":"@"},{"$f":"'Month 6'!BK61","v":"@"},{"$f":"'Month 6'!BJ61","v":"@"},{"$f":"'Month 6'!BI61","v":"@"},{"$error":"#N/A"},{"$error":"#N/A"},{"$error":"#N/A"},{"$error":"#N/A"},{"$f":"IF(ISNUMBER(SUM(COUNTIF(INDIRECT(CR61):INDIRECT(CS61),2),COUNTIF(INDIRECT(CR61):INDIRECT(CS61),1),COUNTIF(INDIRECT(CR61):INDIRECT(CS61),0))),SUM(COUNTIF(INDIRECT(CR61):INDIRECT(CS61),2),COUNTIF(INDIRECT(CR61):INDIRECT(CS61),1),COUNTIF(INDIRECT(CR61):INDIRECT(CS61),0)),\"\")","v":""},{"$f":"IF(ISNUMBER(SUM(COUNTIF(INDIRECT(CR61):INDIRECT(CT61),2),COUNTIF(INDIRECT(CR61):INDIRECT(CT61),1),COUNTIF(INDIRECT(CR61):INDIRECT(CT61),0))),SUM(COUNTIF(INDIRECT(CR61):INDIRECT(CT61),2),COUNTIF(INDIRECT(CR61):INDIRECT(CT61),1),COUNTIF(INDIRECT(CR61):INDIRECT(CT61),0)),\"\")","v":""},{"$f":"IF(ISNUMBER(SUM(COUNTIF(INDIRECT(CR61):INDIRECT(CU61),1),COUNTIF(INDIRECT(CR61):INDIRECT(CU61),0))),SUM(COUNTIF(INDIRECT(CR61):INDIRECT(CU61),1),COUNTIF(INDIRECT(CR61):INDIRECT(CU61),0)),\"\")","v":""},{"$f":"SUM(INDIRECT(CR61):INDIRECT(CS61))","v":{"$error":"#N/A"}},{"$f":"SUM(INDIRECT(CR61):INDIRECT(CT61))","v":{"$error":"#N/A"}},{"$f":"SUM(INDIRECT(CR61):INDIRECT(CU61))","v":{"$error":"#N/A"}}]
[null,null,1,{"$f":"IF(Modifications!$C$37=2,\"N\",\"\")","v":""},"",{"$f":"IF(ISBLANK('Month 1'!$F$62),\"\",'Month 1'!$F$62)","v":""},null,null,null,null,null,null,null,null,null,null,null,null,null,null,null,null,null,null,null,null,null,null,null,null,null,null,null,null,null,null,null,null,null,null,null,null,null,null,null,null,null,null,null,null,null,null,null,null,null,null,null,null,null,0,"@","@","@","@","@","@","@","@","@","@","@","@","@","@","@","@","@","@","@","@","@","@","@","@","@","@","@","@","@","@","@",{"$f":"'Month 6'!BL62","v":"@"},{"$f":"'Month 6'!BK62","v":"@"},{"$f":"'Month 6'!BJ62","v":"@"},{"$f":"'Month 6'!BI62","v":"@"},{"$error":"#N/A"},{"$error":"#N/A"},{"$error":"#N/A"},{"$error":"#N/A"},{"$f":"IF(ISNUMBER(SUM(COUNTIF(INDIRECT(CR62):INDIRECT(CS62),2),COUNTIF(INDIRECT(CR62):INDIRECT(CS62),1),COUNTIF(INDIRECT(CR62):INDIRECT(CS62),0))),SUM(COUNTIF(INDIRECT(CR62):INDIRECT(CS62),2),COUNTIF(INDIRECT(CR62):INDIRECT(CS62),1),COUNTIF(INDIRECT(CR62):INDIRECT(CS62),0)),\"\")","v":""},{"$f":"IF(ISNUMBER(SUM(COUNTIF(INDIRECT(CR62):INDIRECT(CT62),2),COUNTIF(INDIRECT(CR62):INDIRECT(CT62),1),COUNTIF(INDIRECT(CR62):INDIRECT(CT62),0))),SUM(COUNTIF(INDIRECT(CR62):INDIRECT(CT62),2),COUNTIF(INDIRECT(CR62):INDIRECT(CT62),1),COUNTIF(INDIRECT(CR62):INDIRECT(CT62),0)),\"\")","v":""},{"$f":"IF(ISNUMBER(SUM(COUNTIF(INDIRECT(CR62):INDIRECT(CU62),1),COUNTIF(INDIRECT(CR62):INDIRECT(CU62),0))),SUM(COUNTIF(INDIRECT(CR62):INDIRECT(CU62),1),COUNTIF(INDIRECT(CR62):INDIRECT(CU62),0)),\"\")","v":""},{"$f":"SUM(INDIRECT(CR62):INDIRECT(CS62))","v":{"$error":"#N/A"}},{"$f":"SUM(INDIRECT(CR62):INDIRECT(CT62))","v":{"$error":"#N/A"}},{"$f":"SUM(INDIRECT(CR62):INDIRECT(CU62))","v":{"$error":"#N/A"}}]
[null,null,1,{"$f":"IF(Modifications!$C$38=2,\"N\",\"\")","v":""},"",{"$f":"IF(ISBLANK('Month 1'!$F$63),\"\",'Month 1'!$F$63)","v":""},null,null,null,null,null,null,null,null,null,null,null,null,null,null,null,null,null,null,null,null,null,null,null,null,null,null,null,null,null,null,null,null,null,null,null,null,null,null,null,null,null,null,null,null,null,null,null,null,null,null,null,null,null,0,"@","@","@","@","@","@","@","@","@","@","@","@","@","@","@","@","@","@","@","@","@","@","@","@","@","@","@","@","@","@","@",{"$f":"'Month 6'!BL63","v":"@"},{"$f":"'Month 6'!BK63","v":"@"},{"$f":"'Month 6'!BJ63","v":"@"},{"$f":"'Month 6'!BI63","v":"@"},{"$error":"#N/A"},{"$error":"#N/A"},{"$error":"#N/A"},{"$error":"#N/A"},{"$f":"IF(ISNUMBER(SUM(COUNTIF(INDIRECT(CR63):INDIRECT(CS63),2),COUNTIF(INDIRECT(CR63):INDIRECT(CS63),1),COUNTIF(INDIRECT(CR63):INDIRECT(CS63),0))),SUM(COUNTIF(INDIRECT(CR63):INDIRECT(CS63),2),COUNTIF(INDIRECT(CR63):INDIRECT(CS63),1),COUNTIF(INDIRECT(CR63):INDIRECT(CS63),0)),\"\")","v":""},{"$f":"IF(ISNUMBER(SUM(COUNTIF(INDIRECT(CR63):INDIRECT(CT63),2),COUNTIF(INDIRECT(CR63):INDIRECT(CT63),1),COUNTIF(INDIRECT(CR63):INDIRECT(CT63),0))),SUM(COUNTIF(INDIRECT(CR63):INDIRECT(CT63),2),COUNTIF(INDIRECT(CR63):INDIRECT(CT63),1),COUNTIF(INDIRECT(CR63):INDIRECT(CT63),0)),\"\")","v":""},{"$f":"IF(ISNUMBER(SUM(COUNTIF(INDIRECT(CR63):INDIRECT(CU63),1),COUNTIF(INDIRECT(CR63):INDIRECT(CU63),0))),SUM(COUNTIF(INDIRECT(CR63):INDIRECT(CU63),1),COUNTIF(INDIRECT(CR63):INDIRECT(CU63),0)),\"\")","v":""},{"$f":"SUM(INDIRECT(CR63):INDIRECT(CS63))","v":{"$error":"#N/A"}},{"$f":"SUM(INDIRECT(CR63):INDIRECT(CT63))","v":{"$error":"#N/A"}},{"$f":"SUM(INDIRECT(CR63):INDIRECT(CU63))","v":{"$error":"#N/A"}}]
[null,null,1,{"$f":"IF(Modifications!$C$39=2,\"N\",\"\")","v":""},"",{"$f":"IF(ISBLANK('Month 1'!$F$64),\"\",'Month 1'!$F$64)","v":""},null,null,null,null,null,null,null,null,null,null,null,null,null,null,null,null,null,null,null,null,null,null,null,null,null,null,null,null,null,null,null,null,null,null,null,null,null,null,null,null,null,null,null,null,null,null,null,null,null,null,null,null,null,0,"@","@","@","@","@","@","@","@","@","@","@","@","@","@","@","@","@","@","@","@","@","@","@","@","@","@","@","@","@","@","@",{"$f":"'Month 6'!BL64","v":"@"},{"$f":"'Month 6'!BK64","v":"@"},{"$f":"'Month 6'!BJ64","v":"@"},{"$f":"'Month 6'!BI64","v":"@"},{"$error":"#N/A"},{"$error":"#N/A"},{"$error":"#N/A"},{"$error":"#N/A"},{"$f":"IF(ISNUMBER(SUM(COUNTIF(INDIRECT(CR64):INDIRECT(CS64),2),COUNTIF(INDIRECT(CR64):INDIRECT(CS64),1),COUNTIF(INDIRECT(CR64):INDIRECT(CS64),0))),SUM(COUNTIF(INDIRECT(CR64):INDIRECT(CS64),2),COUNTIF(INDIRECT(CR64):INDIRECT(CS64),1),COUNTIF(INDIRECT(CR64):INDIRECT(CS64),0)),\"\")","v":""},{"$f":"IF(ISNUMBER(SUM(COUNTIF(INDIRECT(CR64):INDIRECT(CT64),2),COUNTIF(INDIRECT(CR64):INDIRECT(CT64),1),COUNTIF(INDIRECT(CR64):INDIRECT(CT64),0))),SUM(COUNTIF(INDIRECT(CR64):INDIRECT(CT64),2),COUNTIF(INDIRECT(CR64):INDIRECT(CT64),1),COUNTIF(INDIRECT(CR64):INDIRECT(CT64),0)),\"\")","v":""},{"$f":"IF(ISNUMBER(SUM(COUNTIF(INDIRECT(CR64):INDIRECT(CU64),1),COUNTIF(INDIRECT(CR64):INDIRECT(CU64),0))),SUM(COUNTIF(INDIRECT(CR64):INDIRECT(CU64),1),COUNTIF(INDIRECT(CR64):INDIRECT(CU64),0)),\"\")","v":""},{"$f":"SUM(INDIRECT(CR64):INDIRECT(CS64))","v":{"$error":"#N/A"}},{"$f":"SUM(INDIRECT(CR64):INDIRECT(CT64))","v":{"$error":"#N/A"}},{"$f":"SUM(INDIRECT(CR64):INDIRECT(CU64))","v":{"$error":"#N/A"}}]
[null,null,1,{"$f":"IF(Modifications!$C$40=2,\"N\",\"\")","v":""},"",{"$f":"IF(ISBLANK('Month 1'!$F$65),\"\",'Month 1'!$F$65)","v":""},null,null,null,null,null,null,null,null,null,null,null,null,null,null,null,null,null,null,null,null,null,null,null,null,null,null,null,null,null,null,null,null,null,null,null,null,null,null,null,null,null,null,null,null,null,null,null,null,null,null,null,null,null,0,"@","@","@","@","@","@","@","@","@","@","@","@","@","@","@","@","@","@","@","@","@","@","@","@","@","@","@","@","@","@","@",{"$f":"'Month 6'!BL65","v":"@"},{"$f":"'Month 6'!BK65","v":"@"},{"$f":"'Month 6'!BJ65","v":"@"},{"$f":"'Month 6'!BI65","v":"@"},{"$error":"#N/A"},{"$error":"#N/A"},{"$error":"#N/A"},{"$error":"#N/A"},{"$f":"IF(ISNUMBER(SUM(COUNTIF(INDIRECT(CR65):INDIRECT(CS65),2),COUNTIF(INDIRECT(CR65):INDIRECT(CS65),1),COUNTIF(INDIRECT(CR65):INDIRECT(CS65),0))),SUM(COUNTIF(INDIRECT(CR65):INDIRECT(CS65),2),COUNTIF(INDIRECT(CR65):INDIRECT(CS65),1),COUNTIF(INDIRECT(CR65):INDIRECT(CS65),0)),\"\")","v":""},{"$f":"IF(ISNUMBER(SUM(COUNTIF(INDIRECT(CR65):INDIRECT(CT65),2),COUNTIF(INDIRECT(CR65):INDIRECT(CT65),1),COUNTIF(INDIRECT(CR65):INDIRECT(CT65),0))),SUM(COUNTIF(INDIRECT(CR65):INDIRECT(CT65),2),COUNTIF(INDIRECT(CR65):INDIRECT(CT65),1),COUNTIF(INDIRECT(CR65):INDIRECT(CT65),0)),\"\")","v":""},{"$f":"IF(ISNUMBER(SUM(COUNTIF(INDIRECT(CR65):INDIRECT(CU65),1),COUNTIF(INDIRECT(CR65):INDIRECT(CU65),0))),SUM(COUNTIF(INDIRECT(CR65):INDIRECT(CU65),1),COUNTIF(INDIRECT(CR65):INDIRECT(CU65),0)),\"\")","v":""},{"$f":"SUM(INDIRECT(CR65):INDIRECT(CS65))","v":{"$error":"#N/A"}},{"$f":"SUM(INDIRECT(CR65):INDIRECT(CT65))","v":{"$error":"#N/A"}},{"$f":"SUM(INDIRECT(CR65):INDIRECT(CU65))","v":{"$error":"#N/A"}}]
[null,null,1,{"$f":"IF(Modifications!$C$41=2,\"N\",\"\")","v":""},"",{"$f":"IF(ISBLANK('Month 1'!$F$66),\"\",'Month 1'!$F$66)","v":""},null,null,null,null,null,null,null,null,null,null,null,null,null,null,null,null,null,null,null,null,null,null,null,null,null,null,null,null,null,null,null,null,null,null,null,null,null,null,null,null,null,null,null,null,null,null,null,null,null,null,null,null,null,0,"@","@","@","@","@","@","@","@","@","@","@","@","@","@","@","@","@","@","@","@","@","@","@","@","@","@","@","@","@","@","@",{"$f":"'Month 6'!BL66","v":"@"},{"$f":"'Month 6'!BK66","v":"@"},{"$f":"'Month 6'!BJ66","v":"@"},{"$f":"'Month 6'!BI66","v":"@"},{"$error":"#N/A"},{"$error":"#N/A"},{"$error":"#N/A"},{"$error":"#N/A"},{"$f":"IF(ISNUMBER(SUM(COUNTIF(INDIRECT(CR66):INDIRECT(CS66),2),COUNTIF(INDIRECT(CR66):INDIRECT(CS66),1),COUNTIF(INDIRECT(CR66):INDIRECT(CS66),0))),SUM(COUNTIF(INDIRECT(CR66):INDIRECT(CS66),2),COUNTIF(INDIRECT(CR66):INDIRECT(CS66),1),COUNTIF(INDIRECT(CR66):INDIRECT(CS66),0)),\"\")","v":""},{"$f":"IF(ISNUMBER(SUM(COUNTIF(INDIRECT(CR66):INDIRECT(CT66),2),COUNTIF(INDIRECT(CR66):INDIRECT(CT66),1),COUNTIF(INDIRECT(CR66):INDIRECT(CT66),0))),SUM(COUNTIF(INDIRECT(CR66):INDIRECT(CT66),2),COUNTIF(INDIRECT(CR66):INDIRECT(CT66),1),COUNTIF(INDIRECT(CR66):INDIRECT(CT66),0)),\"\")","v":""},{"$f":"IF(ISNUMBER(SUM(COUNTIF(INDIRECT(CR66):INDIRECT(CU66),1),COUNTIF(INDIRECT(CR66):INDIRECT(CU66),0))),SUM(COUNTIF(INDIRECT(CR66):INDIRECT(CU66),1),COUNTIF(INDIRECT(CR66):INDIRECT(CU66),0)),\"\")","v":""},{"$f":"SUM(INDIRECT(CR66):INDIRECT(CS66))","v":{"$error":"#N/A"}},{"$f":"SUM(INDIRECT(CR66):INDIRECT(CT66))","v":{"$error":"#N/A"}},{"$f":"SUM(INDIRECT(CR66):INDIRECT(CU66))","v":{"$error":"#N/A"}}]
[null,null,1,{"$f":"IF(Modifications!$C$42=2,\"N\",\"\")","v":""},"",{"$f":"IF(ISBLANK('Month 1'!$F$67),\"\",'Month 1'!$F$67)","v":""},null,null,null,null,null,null,null,null,null,null,null,null,null,null,null,null,null,null,null,null,null,null,null,null,null,null,null,null,null,null,null,null,null,null,null,null,null,null,null,null,null,null,null,null,null,null,null,null,null,null,null,null,null,0,"@","@","@","@","@","@","@","@","@","@","@","@","@","@","@","@","@","@","@","@","@","@","@","@","@","@","@","@","@","@","@",{"$f":"'Month 6'!BL67","v":"@"},{"$f":"'Month 6'!BK67","v":"@"},{"$f":"'Month 6'!BJ67","v":"@"},{"$f":"'Month 6'!BI67","v":"@"},{"$error":"#N/A"},{"$error":"#N/A"},{"$error":"#N/A"},{"$error":"#N/A"},{"$f":"IF(ISNUMBER(SUM(COUNTIF(INDIRECT(CR67):INDIRECT(CS67),2),COUNTIF(INDIRECT(CR67):INDIRECT(CS67),1),COUNTIF(INDIRECT(CR67):INDIRECT(CS67),0))),SUM(COUNTIF(INDIRECT(CR67):INDIRECT(CS67),2),COUNTIF(INDIRECT(CR67):INDIRECT(CS67),1),COUNTIF(INDIRECT(CR67):INDIRECT(CS67),0)),\"\")","v":""},{"$f":"IF(ISNUMBER(SUM(COUNTIF(INDIRECT(CR67):INDIRECT(CT67),2),COUNTIF(INDIRECT(CR67):INDIRECT(CT67),1),COUNTIF(INDIRECT(CR67):INDIRECT(CT67),0))),SUM(COUNTIF(INDIRECT(CR67):INDIRECT(CT67),2),COUNTIF(INDIRECT(CR67):INDIRECT(CT67),1),COUNTIF(INDIRECT(CR67):INDIRECT(CT67),0)),\"\")","v":""},{"$f":"IF(ISNUMBER(SUM(COUNTIF(INDIRECT(CR67):INDIRECT(CU67),1),COUNTIF(INDIRECT(CR67):INDIRECT(CU67),0))),SUM(COUNTIF(INDIRECT(CR67):INDIRECT(CU67),1),COUNTIF(INDIRECT(CR67):INDIRECT(CU67),0)),\"\")","v":""},{"$f":"SUM(INDIRECT(CR67):INDIRECT(CS67))","v":{"$error":"#N/A"}},{"$f":"SUM(INDIRECT(CR67):INDIRECT(CT67))","v":{"$error":"#N/A"}},{"$f":"SUM(INDIRECT(CR67):INDIRECT(CU67))","v":{"$error":"#N/A"}}]
[null,null,1,{"$f":"IF(Modifications!$C$43=2,\"N\",\"\")","v":""},"",{"$f":"IF(ISBLANK('Month 1'!$F$68),\"\",'Month 1'!$F$68)","v":""},null,null,null,null,null,null,null,null,null,null,null,null,null,null,null,null,null,null,null,null,null,null,null,null,null,null,null,null,null,null,null,null,null,null,null,null,null,null,null,null,null,null,null,null,null,null,null,null,null,null,null,null,null,0,"@","@","@","@","@","@","@","@","@","@","@","@","@","@","@","@","@","@","@","@","@","@","@","@","@","@","@","@","@","@","@",{"$f":"'Month 6'!BL68","v":"@"},{"$f":"'Month 6'!BK68","v":"@"},{"$f":"'Month 6'!BJ68","v":"@"},{"$f":"'Month 6'!BI68","v":"@"},{"$error":"#N/A"},{"$error":"#N/A"},{"$error":"#N/A"},{"$error":"#N/A"},{"$f":"IF(ISNUMBER(SUM(COUNTIF(INDIRECT(CR68):INDIRECT(CS68),2),COUNTIF(INDIRECT(CR68):INDIRECT(CS68),1),COUNTIF(INDIRECT(CR68):INDIRECT(CS68),0))),SUM(COUNTIF(INDIRECT(CR68):INDIRECT(CS68),2),COUNTIF(INDIRECT(CR68):INDIRECT(CS68),1),COUNTIF(INDIRECT(CR68):INDIRECT(CS68),0)),\"\")","v":""},{"$f":"IF(ISNUMBER(SUM(COUNTIF(INDIRECT(CR68):INDIRECT(CT68),2),COUNTIF(INDIRECT(CR68):INDIRECT(CT68),1),COUNTIF(INDIRECT(CR68):INDIRECT(CT68),0))),SUM(COUNTIF(INDIRECT(CR68):INDIRECT(CT68),2),COUNTIF(INDIRECT(CR68):INDIRECT(CT68),1),COUNTIF(INDIRECT(CR68):INDIRECT(CT68),0)),\"\")","v":""},{"$f":"IF(ISNUMBER(SUM(COUNTIF(INDIRECT(CR68):INDIRECT(CU68),1),COUNTIF(INDIRECT(CR68):INDIRECT(CU68),0))),SUM(COUNTIF(INDIRECT(CR68):INDIRECT(CU68),1),COUNTIF(INDIRECT(CR68):INDIRECT(CU68),0)),\"\")","v":""},{"$f":"SUM(INDIRECT(CR68):INDIRECT(CS68))","v":{"$error":"#N/A"}},{"$f":"SUM(INDIRECT(CR68):INDIRECT(CT68))","v":{"$error":"#N/A"}},{"$f":"SUM(INDIRECT(CR68):INDIRECT(CU68))","v":{"$error":"#N/A"}}]
[null,null,1,{"$f":"IF(Modifications!$C$44=2,\"N\",\"\")","v":""},"",{"$f":"IF(ISBLANK('Month 1'!$F$69),\"\",'Month 1'!$F$69)","v":""},null,null,null,null,null,null,null,null,null,null,null,null,null,null,null,null,null,null,null,null,null,null,null,null,null,null,null,null,null,null,null,null,null,null,null,null,null,null,null,null,null,null,null,null,null,null,null,null,null,null,null,null,null,0,"@","@","@","@","@","@","@","@","@","@","@","@","@","@","@","@","@","@","@","@","@","@","@","@","@","@","@","@","@","@","@",{"$f":"'Month 6'!BL69","v":"@"},{"$f":"'Month 6'!BK69","v":"@"},{"$f":"'Month 6'!BJ69","v":"@"},{"$f":"'Month 6'!BI69","v":"@"},{"$error":"#N/A"},{"$error":"#N/A"},{"$error":"#N/A"},{"$error":"#N/A"},{"$f":"IF(ISNUMBER(SUM(COUNTIF(INDIRECT(CR69):INDIRECT(CS69),2),COUNTIF(INDIRECT(CR69):INDIRECT(CS69),1),COUNTIF(INDIRECT(CR69):INDIRECT(CS69),0))),SUM(COUNTIF(INDIRECT(CR69):INDIRECT(CS69),2),COUNTIF(INDIRECT(CR69):INDIRECT(CS69),1),COUNTIF(INDIRECT(CR69):INDIRECT(CS69),0)),\"\")","v":""},{"$f":"IF(ISNUMBER(SUM(COUNTIF(INDIRECT(CR69):INDIRECT(CT69),2),COUNTIF(INDIRECT(CR69):INDIRECT(CT69),1),COUNTIF(INDIRECT(CR69):INDIRECT(CT69),0))),SUM(COUNTIF(INDIRECT(CR69):INDIRECT(CT69),2),COUNTIF(INDIRECT(CR69):INDIRECT(CT69),1),COUNTIF(INDIRECT(CR69):INDIRECT(CT69),0)),\"\")","v":""},{"$f":"IF(ISNUMBER(SUM(COUNTIF(INDIRECT(CR69):INDIRECT(CU69),1),COUNTIF(INDIRECT(CR69):INDIRECT(CU69),0))),SUM(COUNTIF(INDIRECT(CR69):INDIRECT(CU69),1),COUNTIF(INDIRECT(CR69):INDIRECT(CU69),0)),\"\")","v":""},{"$f":"SUM(INDIRECT(CR69):INDIRECT(CS69))","v":{"$error":"#N/A"}},{"$f":"SUM(INDIRECT(CR69):INDIRECT(CT69))","v":{"$error":"#N/A"}},{"$f":"SUM(INDIRECT(CR69):INDIRECT(CU69))","v":{"$error":"#N/A"}}]
[null,null,1,{"$f":"IF(Modifications!$C$45=2,\"N\",\"\")","v":""},"",{"$f":"IF(ISBLANK('Month 1'!$F$70),\"\",'Month 1'!$F$70)","v":""},null,null,null,null,null,null,null,null,null,null,null,null,null,null,null,null,null,null,null,null,null,null,null,null,null,null,null,null,null,null,null,null,null,null,null,null,null,null,null,null,null,null,null,null,null,null,null,null,null,null,null,null,null,0,"@","@","@","@","@","@","@","@","@","@","@","@","@","@","@","@","@","@","@","@","@","@","@","@","@","@","@","@","@","@","@",{"$f":"'Month 6'!BL70","v":"@"},{"$f":"'Month 6'!BK70","v":"@"},{"$f":"'Month 6'!BJ70","v":"@"},{"$f":"'Month 6'!BI70","v":"@"},{"$error":"#N/A"},{"$error":"#N/A"},{"$error":"#N/A"},{"$error":"#N/A"},{"$f":"IF(ISNUMBER(SUM(COUNTIF(INDIRECT(CR70):INDIRECT(CS70),2),COUNTIF(INDIRECT(CR70):INDIRECT(CS70),1),COUNTIF(INDIRECT(CR70):INDIRECT(CS70),0))),SUM(COUNTIF(INDIRECT(CR70):INDIRECT(CS70),2),COUNTIF(INDIRECT(CR70):INDIRECT(CS70),1),COUNTIF(INDIRECT(CR70):INDIRECT(CS70),0)),\"\")","v":""},{"$f":"IF(ISNUMBER(SUM(COUNTIF(INDIRECT(CR70):INDIRECT(CT70),2),COUNTIF(INDIRECT(CR70):INDIRECT(CT70),1),COUNTIF(INDIRECT(CR70):INDIRECT(CT70),0))),SUM(COUNTIF(INDIRECT(CR70):INDIRECT(CT70),2),COUNTIF(INDIRECT(CR70):INDIRECT(CT70),1),COUNTIF(INDIRECT(CR70):INDIRECT(CT70),0)),\"\")","v":""},{"$f":"IF(ISNUMBER(SUM(COUNTIF(INDIRECT(CR70):INDIRECT(CU70),1),COUNTIF(INDIRECT(CR70):INDIRECT(CU70),0))),SUM(COUNTIF(INDIRECT(CR70):INDIRECT(CU70),1),COUNTIF(INDIRECT(CR70):INDIRECT(CU70),0)),\"\")","v":""},{"$f":"SUM(INDIRECT(CR70):INDIRECT(CS70))","v":{"$error":"#N/A"}},{"$f":"SUM(INDIRECT(CR70):INDIRECT(CT70))","v":{"$error":"#N/A"}},{"$f":"SUM(INDIRECT(CR70):INDIRECT(CU70))","v":{"$error":"#N/A"}}]
[null,null,1,{"$f":"IF(Modifications!$C$46=2,\"N\",\"\")","v":""},"",{"$f":"IF(ISBLANK('Month 1'!$F$71),\"\",'Month 1'!$F$71)","v":""},null,null,null,null,null,null,null,null,null,null,null,null,null,null,null,null,null,null,null,null,null,null,null,null,null,null,null,null,null,null,null,null,null,null,null,null,null,null,null,null,null,null,null,null,null,null,null,null,null,null,null,null,null,0,"@","@","@","@","@","@","@","@","@","@","@","@","@","@","@","@","@","@","@","@","@","@","@","@","@","@","@","@","@","@","@",{"$f":"'Month 6'!BL71","v":"@"},{"$f":"'Month 6'!BK71","v":"@"},{"$f":"'Month 6'!BJ71","v":"@"},{"$f":"'Month 6'!BI71","v":"@"},{"$error":"#N/A"},{"$error":"#N/A"},{"$error":"#N/A"},{"$error":"#N/A"},{"$f":"IF(ISNUMBER(SUM(COUNTIF(INDIRECT(CR71):INDIRECT(CS71),2),COUNTIF(INDIRECT(CR71):INDIRECT(CS71),1),COUNTIF(INDIRECT(CR71):INDIRECT(CS71),0))),SUM(COUNTIF(INDIRECT(CR71):INDIRECT(CS71),2),COUNTIF(INDIRECT(CR71):INDIRECT(CS71),1),COUNTIF(INDIRECT(CR71):INDIRECT(CS71),0)),\"\")","v":""},{"$f":"IF(ISNUMBER(SUM(COUNTIF(INDIRECT(CR71):INDIRECT(CT71),2),COUNTIF(INDIRECT(CR71):INDIRECT(CT71),1),COUNTIF(INDIRECT(CR71):INDIRECT(CT71),0))),SUM(COUNTIF(INDIRECT(CR71):INDIRECT(CT71),2),COUNTIF(INDIRECT(CR71):INDIRECT(CT71),1),COUNTIF(INDIRECT(CR71):INDIRECT(CT71),0)),\"\")","v":""},{"$f":"IF(ISNUMBER(SUM(COUNTIF(INDIRECT(CR71):INDIRECT(CU71),1),COUNTIF(INDIRECT(CR71):INDIRECT(CU71),0))),SUM(COUNTIF(INDIRECT(CR71):INDIRECT(CU71),1),COUNTIF(INDIRECT(CR71):INDIRECT(CU71),0)),\"\")","v":""},{"$f":"SUM(INDIRECT(CR71):INDIRECT(CS71))","v":{"$error":"#N/A"}},{"$f":"SUM(INDIRECT(CR71):INDIRECT(CT71))","v":{"$error":"#N/A"}},{"$f":"SUM(INDIRECT(CR71):INDIRECT(CU71))","v":{"$error":"#N/A"}}]
[null,null,1,{"$f":"IF(Modifications!$C$47=2,\"N\",\"\")","v":""},"",{"$f":"IF(ISBLANK('Month 1'!$F$72),\"\",'Month 1'!$F$72)","v":""},null,null,null,null,null,null,null,null,null,null,null,null,null,null,null,null,null,null,null,null,null,null,null,null,null,null,null,null,null,null,null,null,null,null,null,null,null,null,null,null,null,null,null,null,null,null,null,null,null,null,null,null,null,0,"@","@","@","@","@","@","@","@","@","@","@","@","@","@","@","@","@","@","@","@","@","@","@","@","@","@","@","@","@","@","@",{"$f":"'Month 6'!BL72","v":"@"},{"$f":"'Month 6'!BK72","v":"@"},{"$f":"'Month 6'!BJ72","v":"@"},{"$f":"'Month 6'!BI72","v":"@"},{"$error":"#N/A"},{"$error":"#N/A"},{"$error":"#N/A"},{"$error":"#N/A"},{"$f":"IF(ISNUMBER(SUM(COUNTIF(INDIRECT(CR72):INDIRECT(CS72),2),COUNTIF(INDIRECT(CR72):INDIRECT(CS72),1),COUNTIF(INDIRECT(CR72):INDIRECT(CS72),0))),SUM(COUNTIF(INDIRECT(CR72):INDIRECT(CS72),2),COUNTIF(INDIRECT(CR72):INDIRECT(CS72),1),COUNTIF(INDIRECT(CR72):INDIRECT(CS72),0)),\"\")","v":""},{"$f":"IF(ISNUMBER(SUM(COUNTIF(INDIRECT(CR72):INDIRECT(CT72),2),COUNTIF(INDIRECT(CR72):INDIRECT(CT72),1),COUNTIF(INDIRECT(CR72):INDIRECT(CT72),0))),SUM(COUNTIF(INDIRECT(CR72):INDIRECT(CT72),2),COUNTIF(INDIRECT(CR72):INDIRECT(CT72),1),COUNTIF(INDIRECT(CR72):INDIRECT(CT72),0)),\"\")","v":""},{"$f":"IF(ISNUMBER(SUM(COUNTIF(INDIRECT(CR72):INDIRECT(CU72),1),COUNTIF(INDIRECT(CR72):INDIRECT(CU72),0))),SUM(COUNTIF(INDIRECT(CR72):INDIRECT(CU72),1),COUNTIF(INDIRECT(CR72):INDIRECT(CU72),0)),\"\")","v":""},{"$f":"SUM(INDIRECT(CR72):INDIRECT(CS72))","v":{"$error":"#N/A"}},{"$f":"SUM(INDIRECT(CR72):INDIRECT(CT72))","v":{"$error":"#N/A"}},{"$f":"SUM(INDIRECT(CR72):INDIRECT(CU72))","v":{"$error":"#N/A"}}]
[null,null,1,{"$f":"IF(Modifications!$C$48=2,\"N\",\"\")","v":""},"",{"$f":"IF(ISBLANK('Month 1'!$F$73),\"\",'Month 1'!$F$73)","v":""},null,null,null,null,null,null,null,null,null,null,null,null,null,null,null,null,null,null,null,null,null,null,null,null,null,null,null,null,null,null,null,null,null,null,null,null,null,null,null,null,null,null,null,null,null,null,null,null,null,null,null,null,null,0,"@","@","@","@","@","@","@","@","@","@","@","@","@","@","@","@","@","@","@","@","@","@","@","@","@","@","@","@","@","@","@",{"$f":"'Month 6'!BL73","v":"@"},{"$f":"'Month 6'!BK73","v":"@"},{"$f":"'Month 6'!BJ73","v":"@"},{"$f":"'Month 6'!BI73","v":"@"},{"$error":"#N/A"},{"$error":"#N/A"},{"$error":"#N/A"},{"$error":"#N/A"},{"$f":"IF(ISNUMBER(SUM(COUNTIF(INDIRECT(CR73):INDIRECT(CS73),2),COUNTIF(INDIRECT(CR73):INDIRECT(CS73),1),COUNTIF(INDIRECT(CR73):INDIRECT(CS73),0))),SUM(COUNTIF(INDIRECT(CR73):INDIRECT(CS73),2),COUNTIF(INDIRECT(CR73):INDIRECT(CS73),1),COUNTIF(INDIRECT(CR73):INDIRECT(CS73),0)),\"\")","v":""},{"$f":"IF(ISNUMBER(SUM(COUNTIF(INDIRECT(CR73):INDIRECT(CT73),2),COUNTIF(INDIRECT(CR73):INDIRECT(CT73),1),COUNTIF(INDIRECT(CR73):INDIRECT(CT73),0))),SUM(COUNTIF(INDIRECT(CR73):INDIRECT(CT73),2),COUNTIF(INDIRECT(CR73):INDIRECT(CT73),1),COUNTIF(INDIRECT(CR73):INDIRECT(CT73),0)),\"\")","v":""},{"$f":"IF(ISNUMBER(SUM(COUNTIF(INDIRECT(CR73):INDIRECT(CU73),1),COUNTIF(INDIRECT(CR73):INDIRECT(CU73),0))),SUM(COUNTIF(INDIRECT(CR73):INDIRECT(CU73),1),COUNTIF(INDIRECT(CR73):INDIRECT(CU73),0)),\"\")","v":""},{"$f":"SUM(INDIRECT(CR73):INDIRECT(CS73))","v":{"$error":"#N/A"}},{"$f":"SUM(INDIRECT(CR73):INDIRECT(CT73))","v":{"$error":"#N/A"}},{"$f":"SUM(INDIRECT(CR73):INDIRECT(CU73))","v":{"$error":"#N/A"}}]
[null,null,1,{"$f":"IF(Modifications!$C$49=2,\"N\",\"\")","v":""},"",{"$f":"IF(ISBLANK('Month 1'!$F$74),\"\",'Month 1'!$F$74)","v":""},null,null,null,null,null,null,null,null,null,null,null,null,null,null,null,null,null,null,null,null,null,null,null,null,null,null,null,null,null,null,null,null,null,null,null,null,null,null,null,null,null,null,null,null,null,null,null,null,null,null,null,null,null,0,"@","@","@","@","@","@","@","@","@","@","@","@","@","@","@","@","@","@","@","@","@","@","@","@","@","@","@","@","@","@","@",{"$f":"'Month 6'!BL74","v":"@"},{"$f":"'Month 6'!BK74","v":"@"},{"$f":"'Month 6'!BJ74","v":"@"},{"$f":"'Month 6'!BI74","v":"@"},{"$error":"#N/A"},{"$error":"#N/A"},{"$error":"#N/A"},{"$error":"#N/A"},{"$f":"IF(ISNUMBER(SUM(COUNTIF(INDIRECT(CR74):INDIRECT(CS74),2),COUNTIF(INDIRECT(CR74):INDIRECT(CS74),1),COUNTIF(INDIRECT(CR74):INDIRECT(CS74),0))),SUM(COUNTIF(INDIRECT(CR74):INDIRECT(CS74),2),COUNTIF(INDIRECT(CR74):INDIRECT(CS74),1),COUNTIF(INDIRECT(CR74):INDIRECT(CS74),0)),\"\")","v":""},{"$f":"IF(ISNUMBER(SUM(COUNTIF(INDIRECT(CR74):INDIRECT(CT74),2),COUNTIF(INDIRECT(CR74):INDIRECT(CT74),1),COUNTIF(INDIRECT(CR74):INDIRECT(CT74),0))),SUM(COUNTIF(INDIRECT(CR74):INDIRECT(CT74),2),COUNTIF(INDIRECT(CR74):INDIRECT(CT74),1),COUNTIF(INDIRECT(CR74):INDIRECT(CT74),0)),\"\")","v":""},{"$f":"IF(ISNUMBER(SUM(COUNTIF(INDIRECT(CR74):INDIRECT(CU74),1),COUNTIF(INDIRECT(CR74):INDIRECT(CU74),0))),SUM(COUNTIF(INDIRECT(CR74):INDIRECT(CU74),1),COUNTIF(INDIRECT(CR74):INDIRECT(CU74),0)),\"\")","v":""},{"$f":"SUM(INDIRECT(CR74):INDIRECT(CS74))","v":{"$error":"#N/A"}},{"$f":"SUM(INDIRECT(CR74):INDIRECT(CT74))","v":{"$error":"#N/A"}},{"$f":"SUM(INDIRECT(CR74):INDIRECT(CU74))","v":{"$error":"#N/A"}}]
[null,null,1,{"$f":"IF(Modifications!$C$50=2,\"N\",\"\")","v":""},"",{"$f":"IF(ISBLANK('Month 1'!$F$75),\"\",'Month 1'!$F$75)","v":""},null,null,null,null,null,null,null,null,null,null,null,null,null,null,null,null,null,null,null,null,null,null,null,null,null,null,null,null,null,null,null,null,null,null,null,null,null,null,null,null,null,null,null,null,null,null,null,null,null,null,null,null,null,0,"@","@","@","@","@","@","@","@","@","@","@","@","@","@","@","@","@","@","@","@","@","@","@","@","@","@","@","@","@","@","@",{"$f":"'Month 6'!BL75","v":"@"},{"$f":"'Month 6'!BK75","v":"@"},{"$f":"'Month 6'!BJ75","v":"@"},{"$f":"'Month 6'!BI75","v":"@"},{"$error":"#N/A"},{"$error":"#N/A"},{"$error":"#N/A"},{"$error":"#N/A"},{"$f":"IF(ISNUMBER(SUM(COUNTIF(INDIRECT(CR75):INDIRECT(CS75),2),COUNTIF(INDIRECT(CR75):INDIRECT(CS75),1),COUNTIF(INDIRECT(CR75):INDIRECT(CS75),0))),SUM(COUNTIF(INDIRECT(CR75):INDIRECT(CS75),2),COUNTIF(INDIRECT(CR75):INDIRECT(CS75),1),COUNTIF(INDIRECT(CR75):INDIRECT(CS75),0)),\"\")","v":""},{"$f":"IF(ISNUMBER(SUM(COUNTIF(INDIRECT(CR75):INDIRECT(CT75),2),COUNTIF(INDIRECT(CR75):INDIRECT(CT75),1),COUNTIF(INDIRECT(CR75):INDIRECT(CT75),0))),SUM(COUNTIF(INDIRECT(CR75):INDIRECT(CT75),2),COUNTIF(INDIRECT(CR75):INDIRECT(CT75),1),COUNTIF(INDIRECT(CR75):INDIRECT(CT75),0)),\"\")","v":""},{"$f":"IF(ISNUMBER(SUM(COUNTIF(INDIRECT(CR75):INDIRECT(CU75),1),COUNTIF(INDIRECT(CR75):INDIRECT(CU75),0))),SUM(COUNTIF(INDIRECT(CR75):INDIRECT(CU75),1),COUNTIF(INDIRECT(CR75):INDIRECT(CU75),0)),\"\")","v":""},{"$f":"SUM(INDIRECT(CR75):INDIRECT(CS75))","v":{"$error":"#N/A"}},{"$f":"SUM(INDIRECT(CR75):INDIRECT(CT75))","v":{"$error":"#N/A"}},{"$f":"SUM(INDIRECT(CR75):INDIRECT(CU75))","v":{"$error":"#N/A"}}]
[null,null,1,{"$f":"IF(Modifications!$C$51=2,\"N\",\"\")","v":""},"",{"$f":"IF(ISBLANK('Month 1'!$F$76),\"\",'Month 1'!$F$76)","v":""},null,null,null,null,null,null,null,null,null,null,null,null,null,null,null,null,null,null,null,null,null,null,null,null,null,null,null,null,null,null,null,null,null,null,null,null,null,null,null,null,null,null,null,null,null,null,null,null,null,null,null,null,null,0,"@","@","@","@","@","@","@","@","@","@","@","@","@","@","@","@","@","@","@","@","@","@","@","@","@","@","@","@","@","@","@",{"$f":"'Month 6'!BL76","v":"@"},{"$f":"'Month 6'!BK76","v":"@"},{"$f":"'Month 6'!BJ76","v":"@"},{"$f":"'Month 6'!BI76","v":"@"},{"$error":"#N/A"},{"$error":"#N/A"},{"$error":"#N/A"},{"$error":"#N/A"},{"$f":"IF(ISNUMBER(SUM(COUNTIF(INDIRECT(CR76):INDIRECT(CS76),2),COUNTIF(INDIRECT(CR76):INDIRECT(CS76),1),COUNTIF(INDIRECT(CR76):INDIRECT(CS76),0))),SUM(COUNTIF(INDIRECT(CR76):INDIRECT(CS76),2),COUNTIF(INDIRECT(CR76):INDIRECT(CS76),1),COUNTIF(INDIRECT(CR76):INDIRECT(CS76),0)),\"\")","v":""},{"$f":"IF(ISNUMBER(SUM(COUNTIF(INDIRECT(CR76):INDIRECT(CT76),2),COUNTIF(INDIRECT(CR76):INDIRECT(CT76),1),COUNTIF(INDIRECT(CR76):INDIRECT(CT76),0))),SUM(COUNTIF(INDIRECT(CR76):INDIRECT(CT76),2),COUNTIF(INDIRECT(CR76):INDIRECT(CT76),1),COUNTIF(INDIRECT(CR76):INDIRECT(CT76),0)),\"\")","v":""},{"$f":"IF(ISNUMBER(SUM(COUNTIF(INDIRECT(CR76):INDIRECT(CU76),1),COUNTIF(INDIRECT(CR76):INDIRECT(CU76),0))),SUM(COUNTIF(INDIRECT(CR76):INDIRECT(CU76),1),COUNTIF(INDIRECT(CR76):INDIRECT(CU76),0)),\"\")","v":""},{"$f":"SUM(INDIRECT(CR76):INDIRECT(CS76))","v":{"$error":"#N/A"}},{"$f":"SUM(INDIRECT(CR76):INDIRECT(CT76))","v":{"$error":"#N/A"}},{"$f":"SUM(INDIRECT(CR76):INDIRECT(CU76))","v":{"$error":"#N/A"}}]
[null,null,null,null,null,null,null,null,null,null,null,null,null,null,null,null,null,null,null,null,null,null,null,null,null,null,null,null,null,null,null,null,null,null,null,null,null,null,null,null,null,null,null,null,null,null,null,null,null,null,null,null,null,null,null,null,null,null,null,0,"@","@","@","@","@","@","@","@","@","@","@","@","@","@","@","@","@","@","@","@","@","@","@","@","@","@","@","@","@","@","@",{"$f":"'Month 6'!BL77","v":"@"},{"$f":"'Month 6'!BK77","v":"@"},{"$f":"'Month 6'!BJ77","v":"@"},{"$f":"'Month 6'!BI77","v":"@"},{"$error":"#N/A"},{"$error":"#N/A"},{"$error":"#N/A"},{"$error":"#N/A"},{"$f":"IF(ISNUMBER(SUM(COUNTIF(INDIRECT(CR77):INDIRECT(CS77),2),COUNTIF(INDIRECT(CR77):INDIRECT(CS77),1),COUNTIF(INDIRECT(CR77):INDIRECT(CS77),0))),SUM(COUNTIF(INDIRECT(CR77):INDIRECT(CS77),2),COUNTIF(INDIRECT(CR77):INDIRECT(CS77),1),COUNTIF(INDIRECT(CR77):INDIRECT(CS77),0)),\"\")","v":""},{"$f":"IF(ISNUMBER(SUM(COUNTIF(INDIRECT(CR77):INDIRECT(CT77),2),COUNTIF(INDIRECT(CR77):INDIRECT(CT77),1),COUNTIF(INDIRECT(CR77):INDIRECT(CT77),0))),SUM(COUNTIF(INDIRECT(CR77):INDIRECT(CT77),2),COUNTIF(INDIRECT(CR77):INDIRECT(CT77),1),COUNTIF(INDIRECT(CR77):INDIRECT(CT77),0)),\"\")","v":""},{"$f":"IF(ISNUMBER(SUM(COUNTIF(INDIRECT(CR77):INDIRECT(CU77),1),COUNTIF(INDIRECT(CR77):INDIRECT(CU77),0))),SUM(COUNTIF(INDIRECT(CR77):INDIRECT(CU77),1),COUNTIF(INDIRECT(CR77):INDIRECT(CU77),0)),\"\")","v":""},{"$f":"SUM(INDIRECT(CR77):INDIRECT(CS77))","v":{"$error":"#N/A"}},{"$f":"SUM(INDIRECT(CR77):INDIRECT(CT77))","v":{"$error":"#N/A"}},{"$f":"SUM(INDIRECT(CR77):INDIRECT(CU77))","v":{"$error":"#N/A"}}]
[null,null,null,null,null,null,null,null,null,null,null,null,null,null,null,null,null,null,null,null,null,null,null,null,null,null,null,null,null,null,null,null,null,null,null,null,null,null,null,null,null,null,null,null,null,null,null,null,null,null,null,null,null,null,null,null,null,null,null,0,"@","@","@","@","@","@","@","@","@","@","@","@","@","@","@","@","@","@","@","@","@","@","@","@","@","@","@","@","@","@","@",{"$f":"'Month 6'!BL78","v":"@"},{"$f":"'Month 6'!BK78","v":"@"},{"$f":"'Month 6'!BJ78","v":"@"},{"$f":"'Month 6'!BI78","v":"@"},{"$error":"#N/A"},{"$error":"#N/A"},{"$error":"#N/A"},{"$error":"#N/A"},{"$f":"IF(ISNUMBER(SUM(COUNTIF(INDIRECT(CR78):INDIRECT(CS78),2),COUNTIF(INDIRECT(CR78):INDIRECT(CS78),1),COUNTIF(INDIRECT(CR78):INDIRECT(CS78),0))),SUM(COUNTIF(INDIRECT(CR78):INDIRECT(CS78),2),COUNTIF(INDIRECT(CR78):INDIRECT(CS78),1),COUNTIF(INDIRECT(CR78):INDIRECT(CS78),0)),\"\")","v":""},{"$f":"IF(ISNUMBER(SUM(COUNTIF(INDIRECT(CR78):INDIRECT(CT78),2),COUNTIF(INDIRECT(CR78):INDIRECT(CT78),1),COUNTIF(INDIRECT(CR78):INDIRECT(CT78),0))),SUM(COUNTIF(INDIRECT(CR78):INDIRECT(CT78),2),COUNTIF(INDIRECT(CR78):INDIRECT(CT78),1),COUNTIF(INDIRECT(CR78):INDIRECT(CT78),0)),\"\")","v":""},{"$f":"IF(ISNUMBER(SUM(COUNTIF(INDIRECT(CR78):INDIRECT(CU78),1),COUNTIF(INDIRECT(CR78):INDIRECT(CU78),0))),SUM(COUNTIF(INDIRECT(CR78):INDIRECT(CU78),1),COUNTIF(INDIRECT(CR78):INDIRECT(CU78),0)),\"\")","v":""},{"$f":"SUM(INDIRECT(CR78):INDIRECT(CS78))","v":{"$error":"#N/A"}},{"$f":"SUM(INDIRECT(CR78):INDIRECT(CT78))","v":{"$error":"#N/A"}},{"$f":"SUM(INDIRECT(CR78):INDIRECT(CU78))","v":{"$error":"#N/A"}}]
[null,null,null,null,null,null,{"$f":"IF(ISBLANK(G26),\"\",G26)","v":""},"","","","","","","","","","","","","","","","","","","","","","","","","","","","","","",null,null,null,null,null,null,null,null,null,null,null,null,null,null,null,null,null,null,null,null,null,null,0,"@","@","@","@","@","@","@","@","@","@","@","@","@","@","@","@","@","@","@","@","@","@","@","@","@","@","@","@","@","@","@",{"$f":"'Month 6'!BL79","v":"@"},{"$f":"'Month 6'!BK79","v":"@"},{"$f":"'Month 6'!BJ79","v":"@"},{"$f":"'Month 6'!BI79","v":"@"},{"$error":"#N/A"},{"$error":"#N/A"},{"$error":"#N/A"},{"$error":"#N/A"},{"$f":"IF(ISNUMBER(SUM(COUNTIF(INDIRECT(CR79):INDIRECT(CS79),2),COUNTIF(INDIRECT(CR79):INDIRECT(CS79),1),COUNTIF(INDIRECT(CR79):INDIRECT(CS79),0))),SUM(COUNTIF(INDIRECT(CR79):INDIRECT(CS79),2),COUNTIF(INDIRECT(CR79):INDIRECT(CS79),1),COUNTIF(INDIRECT(CR79):INDIRECT(CS79),0)),\"\")","v":""},{"$f":"IF(ISNUMBER(SUM(COUNTIF(INDIRECT(CR79):INDIRECT(CT79),2),COUNTIF(INDIRECT(CR79):INDIRECT(CT79),1),COUNTIF(INDIRECT(CR79):INDIRECT(CT79),0))),SUM(COUNTIF(INDIRECT(CR79):INDIRECT(CT79),2),COUNTIF(INDIRECT(CR79):INDIRECT(CT79),1),COUNTIF(INDIRECT(CR79):INDIRECT(CT79),0)),\"\")","v":""},{"$f":"IF(ISNUMBER(SUM(COUNTIF(INDIRECT(CR79):INDIRECT(CU79),1),COUNTIF(INDIRECT(CR79):INDIRECT(CU79),0))),SUM(COUNTIF(INDIRECT(CR79):INDIRECT(CU79),1),COUNTIF(INDIRECT(CR79):INDIRECT(CU79),0)),\"\")","v":""},{"$f":"SUM(INDIRECT(CR79):INDIRECT(CS79))","v":{"$error":"#N/A"}},{"$f":"SUM(INDIRECT(CR79):INDIRECT(CT79))","v":{"$error":"#N/A"}},{"$f":"SUM(INDIRECT(CR79):INDIRECT(CU79))","v":{"$error":"#N/A"}}]
[null,null,null,null,null,null,{"$f":"IF(G24=\"\",NA(),G24)","v":{"$error":"#N/A"}},{"$error":"#N/A"},{"$error":"#N/A"},{"$error":"#N/A"},{"$error":"#N/A"},{"$error":"#N/A"},{"$error":"#N/A"},{"$error":"#N/A"},{"$error":"#N/A"},{"$error":"#N/A"},{"$error":"#N/A"},{"$error":"#N/A"},{"$error":"#N/A"},{"$error":"#N/A"},{"$error":"#N/A"},{"$error":"#N/A"},{"$error":"#N/A"},{"$error":"#N/A"},{"$error":"#N/A"},{"$error":"#N/A"},{"$error":"#N/A"},{"$error":"#N/A"},{"$error":"#N/A"},{"$error":"#N/A"},{"$error":"#N/A"},{"$error":"#N/A"},{"$error":"#N/A"},{"$error":"#N/A"},{"$error":"#N/A"},{"$error":"#N/A"},{"$error":"#N/A"},null,null,null,null,null,null,null,null,null,null,null,null,null,null,null,null,null,null,null,null,null,null,{"$f":"SUM(COUNTIF(BI80:CM80,1),COUNTIF(BI80:CM80,0))","v":0},"@","@","@","@","@","@","@","@","@","@","@","@","@","@","@","@","@","@","@","@","@","@","@","@","@","@","@","@","@","@","@",{"$f":"'Month 6'!BL80","v":"@"},{"$f":"'Month 6'!BK80","v":"@"},{"$f":"'Month 6'!BJ80","v":"@"},{"$f":"'Month 6'!BI80","v":"@"},{"$error":"#N/A"},{"$error":"#N/A"},{"$error":"#N/A"},{"$error":"#N/A"},{"$f":"IF(ISNUMBER(SUM(COUNTIF(INDIRECT(CR80):INDIRECT(CS80),2),COUNTIF(INDIRECT(CR80):INDIRECT(CS80),1),COUNTIF(INDIRECT(CR80):INDIRECT(CS80),0))),SUM(COUNTIF(INDIRECT(CR80):INDIRECT(CS80),2),COUNTIF(INDIRECT(CR80):INDIRECT(CS80),1),COUNTIF(INDIRECT(CR80):INDIRECT(CS80),0)),\"\")","v":""},{"$f":"IF(ISNUMBER(SUM(COUNTIF(INDIRECT(CR80):INDIRECT(CT80),2),COUNTIF(INDIRECT(CR80):INDIRECT(CT80),1),COUNTIF(INDIRECT(CR80):INDIRECT(CT80),0))),SUM(COUNTIF(INDIRECT(CR80):INDIRECT(CT80),2),COUNTIF(INDIRECT(CR80):INDIRECT(CT80),1),COUNTIF(INDIRECT(CR80):INDIRECT(CT80),0)),\"\")","v":""},{"$f":"IF(ISNUMBER(SUM(COUNTIF(INDIRECT(CR80):INDIRECT(CU80),1),COUNTIF(INDIRECT(CR80):INDIRECT(CU80),0))),SUM(COUNTIF(INDIRECT(CR80):INDIRECT(CU80),1),COUNTIF(INDIRECT(CR80):INDIRECT(CU80),0)),\"\")","v":""},{"$f":"SUM(INDIRECT(CR80):INDIRECT(CS80))","v":{"$error":"#N/A"}},{"$f":"SUM(INDIRECT(CR80):INDIRECT(CT80))","v":{"$error":"#N/A"}},{"$f":"SUM(INDIRECT(CR80):INDIRECT(CU80))","v":{"$error":"#N/A"}}]
[null,null,null,null,null,null,null,null,null,null,null,null,null,null,null,null,null,null,null,null,null,null,null,null,null,null,null,null,null,null,null,null,null,null,null,null,null,null,null,null,null,null,null,null,null,null,null,null,null,null,null,null,null,null,null,null,null,null,null,0,"@","@","@","@","@","@","@","@","@","@","@","@","@","@","@","@","@","@","@","@","@","@","@","@","@","@","@","@","@","@","@",{"$f":"'Month 6'!BL81","v":"@"},{"$f":"'Month 6'!BK81","v":"@"},{"$f":"'Month 6'!BJ81","v":"@"},{"$f":"'Month 6'!BI81","v":"@"},{"$error":"#N/A"},{"$error":"#N/A"},{"$error":"#N/A"},{"$error":"#N/A"},{"$f":"IF(ISNUMBER(SUM(COUNTIF(INDIRECT(CR81):INDIRECT(CS81),2),COUNTIF(INDIRECT(CR81):INDIRECT(CS81),1),COUNTIF(INDIRECT(CR81):INDIRECT(CS81),0))),SUM(COUNTIF(INDIRECT(CR81):INDIRECT(CS81),2),COUNTIF(INDIRECT(CR81):INDIRECT(CS81),1),COUNTIF(INDIRECT(CR81):INDIRECT(CS81),0)),\"\")","v":""},{"$f":"IF(ISNUMBER(SUM(COUNTIF(INDIRECT(CR81):INDIRECT(CT81),2),COUNTIF(INDIRECT(CR81):INDIRECT(CT81),1),COUNTIF(INDIRECT(CR81):INDIRECT(CT81),0))),SUM(COUNTIF(INDIRECT(CR81):INDIRECT(CT81),2),COUNTIF(INDIRECT(CR81):INDIRECT(CT81),1),COUNTIF(INDIRECT(CR81):INDIRECT(CT81),0)),\"\")","v":""},{"$f":"IF(ISNUMBER(SUM(COUNTIF(INDIRECT(CR81):INDIRECT(CU81),1),COUNTIF(INDIRECT(CR81):INDIRECT(CU81),0))),SUM(COUNTIF(INDIRECT(CR81):INDIRECT(CU81),1),COUNTIF(INDIRECT(CR81):INDIRECT(CU81),0)),\"\")","v":""},{"$f":"SUM(INDIRECT(CR81):INDIRECT(CS81))","v":{"$error":"#N/A"}},{"$f":"SUM(INDIRECT(CR81):INDIRECT(CT81))","v":{"$error":"#N/A"}},{"$f":"SUM(INDIRECT(CR81):INDIRECT(CU81))","v":{"$error":"#N/A"}}]
[null,null,null,null,null,null,null,null,null,null,null,null,null,null,null,null,null,null,null,null,null,null,null,null,null,null,null,null,null,null,null,null,null,null,null,null,null,null,null,null,null,null,null,null,null,null,null,null,null,null,null,null,null,null,null,null,null,null,null,0,"@","@","@","@","@","@","@","@","@","@","@","@","@","@","@","@","@","@","@","@","@","@","@","@","@","@","@","@","@","@","@",{"$f":"'Month 6'!BL82","v":"@"},{"$f":"'Month 6'!BK82","v":"@"},{"$f":"'Month 6'!BJ82","v":"@"},{"$f":"'Month 6'!BI82","v":"@"},{"$error":"#N/A"},{"$error":"#N/A"},{"$error":"#N/A"},{"$error":"#N/A"},{"$f":"IF(ISNUMBER(SUM(COUNTIF(INDIRECT(CR82):INDIRECT(CS82),2),COUNTIF(INDIRECT(CR82):INDIRECT(CS82),1),COUNTIF(INDIRECT(CR82):INDIRECT(CS82),0))),SUM(COUNTIF(INDIRECT(CR82):INDIRECT(CS82),2),COUNTIF(INDIRECT(CR82):INDIRECT(CS82),1),COUNTIF(INDIRECT(CR82):INDIRECT(CS82),0)),\"\")","v":""},{"$f":"IF(ISNUMBER(SUM(COUNTIF(INDIRECT(CR82):INDIRECT(CT82),2),COUNTIF(INDIRECT(CR82):INDIRECT(CT82),1),COUNTIF(INDIRECT(CR82):INDIRECT(CT82),0))),SUM(COUNTIF(INDIRECT(CR82):INDIRECT(CT82),2),COUNTIF(INDIRECT(CR82):INDIRECT(CT82),1),COUNTIF(INDIRECT(CR82):INDIRECT(CT82),0)),\"\")","v":""},{"$f":"IF(ISNUMBER(SUM(COUNTIF(INDIRECT(CR82):INDIRECT(CU82),1),COUNTIF(INDIRECT(CR82):INDIRECT(CU82),0))),SUM(COUNTIF(INDIRECT(CR82):INDIRECT(CU82),1),COUNTIF(INDIRECT(CR82):INDIRECT(CU82),0)),\"\")","v":""},{"$f":"SUM(INDIRECT(CR82):INDIRECT(CS82))","v":{"$error":"#N/A"}},{"$f":"SUM(INDIRECT(CR82):INDIRECT(CT82))","v":{"$error":"#N/A"}},{"$f":"SUM(INDIRECT(CR82):INDIRECT(CU82))","v":{"$error":"#N/A"}}]
[null,null,null,null,null,null,null,null,null,null,null,null,null,null,null,null,null,null,null,null,null,null,null,null,null,null,null,null,null,null,null,null,null,null,null,null,null,null,null,null,null,null,null,null,null,null,null,null,null,null,null,null,null,null,null,null,null,null,null,0,"@","@","@","@","@","@","@","@","@","@","@","@","@","@","@","@","@","@","@","@","@","@","@","@","@","@","@","@","@","@","@",{"$f":"'Month 6'!BL83","v":"@"},{"$f":"'Month 6'!BK83","v":"@"},{"$f":"'Month 6'!BJ83","v":"@"},{"$f":"'Month 6'!BI83","v":"@"},{"$error":"#N/A"},{"$error":"#N/A"},{"$error":"#N/A"},{"$error":"#N/A"},{"$f":"IF(ISNUMBER(SUM(COUNTIF(INDIRECT(CR83):INDIRECT(CS83),2),COUNTIF(INDIRECT(CR83):INDIRECT(CS83),1),COUNTIF(INDIRECT(CR83):INDIRECT(CS83),0))),SUM(COUNTIF(INDIRECT(CR83):INDIRECT(CS83),2),COUNTIF(INDIRECT(CR83):INDIRECT(CS83),1),COUNTIF(INDIRECT(CR83):INDIRECT(CS83),0)),\"\")","v":""},{"$f":"IF(ISNUMBER(SUM(COUNTIF(INDIRECT(CR83):INDIRECT(CT83),2),COUNTIF(INDIRECT(CR83):INDIRECT(CT83),1),COUNTIF(INDIRECT(CR83):INDIRECT(CT83),0))),SUM(COUNTIF(INDIRECT(CR83):INDIRECT(CT83),2),COUNTIF(INDIRECT(CR83):INDIRECT(CT83),1),COUNTIF(INDIRECT(CR83):INDIRECT(CT83),0)),\"\")","v":""},{"$f":"IF(ISNUMBER(SUM(COUNTIF(INDIRECT(CR83):INDIRECT(CU83),1),COUNTIF(INDIRECT(CR83):INDIRECT(CU83),0))),SUM(COUNTIF(INDIRECT(CR83):INDIRECT(CU83),1),COUNTIF(INDIRECT(CR83):INDIRECT(CU83),0)),\"\")","v":""},{"$f":"SUM(INDIRECT(CR83):INDIRECT(CS83))","v":{"$error":"#N/A"}},{"$f":"SUM(INDIRECT(CR83):INDIRECT(CT83))","v":{"$error":"#N/A"}},{"$f":"SUM(INDIRECT(CR83):INDIRECT(CU83))","v":{"$error":"#N/A"}}]
[null,null,null,null,null,null,null,null,null,null,null,null,null,null,null,null,null,null,null,null,null,null,null,null,null,null,null,null,null,null,null,null,null,null,null,null,null,null,null,null,null,null,null,null,null,null,null,null,null,null,null,null,null,null,null,null,null,null,null,0,"@","@","@","@","@","@","@","@","@","@","@","@","@","@","@","@","@","@","@","@","@","@","@","@","@","@","@","@","@","@","@",{"$f":"'Month 6'!BL84","v":"@"},{"$f":"'Month 6'!BK84","v":"@"},{"$f":"'Month 6'!BJ84","v":"@"},{"$f":"'Month 6'!BI84","v":"@"},{"$error":"#N/A"},{"$error":"#N/A"},{"$error":"#N/A"},{"$error":"#N/A"},{"$f":"IF(ISNUMBER(SUM(COUNTIF(INDIRECT(CR84):INDIRECT(CS84),2),COUNTIF(INDIRECT(CR84):INDIRECT(CS84),1),COUNTIF(INDIRECT(CR84):INDIRECT(CS84),0))),SUM(COUNTIF(INDIRECT(CR84):INDIRECT(CS84),2),COUNTIF(INDIRECT(CR84):INDIRECT(CS84),1),COUNTIF(INDIRECT(CR84):INDIRECT(CS84),0)),\"\")","v":""},{"$f":"IF(ISNUMBER(SUM(COUNTIF(INDIRECT(CR84):INDIRECT(CT84),2),COUNTIF(INDIRECT(CR84):INDIRECT(CT84),1),COUNTIF(INDIRECT(CR84):INDIRECT(CT84),0))),SUM(COUNTIF(INDIRECT(CR84):INDIRECT(CT84),2),COUNTIF(INDIRECT(CR84):INDIRECT(CT84),1),COUNTIF(INDIRECT(CR84):INDIRECT(CT84),0)),\"\")","v":""},{"$f":"IF(ISNUMBER(SUM(COUNTIF(INDIRECT(CR84):INDIRECT(CU84),1),COUNTIF(INDIRECT(CR84):INDIRECT(CU84),0))),SUM(COUNTIF(INDIRECT(CR84):INDIRECT(CU84),1),COUNTIF(INDIRECT(CR84):INDIRECT(CU84),0)),\"\")","v":""},{"$f":"SUM(INDIRECT(CR84):INDIRECT(CS84))","v":{"$error":"#N/A"}},{"$f":"SUM(INDIRECT(CR84):INDIRECT(CT84))","v":{"$error":"#N/A"}},{"$f":"SUM(INDIRECT(CR84):INDIRECT(CU84))","v":{"$error":"#N/A"}}]
[null,null,null,null,null,null,null,null,null,null,null,null,null,null,null,null,null,null,null,null,null,null,null,null,null,null,null,null,null,null,null,null,null,null,null,null,null,null,null,null,null,null,null,null,null,null,null,null,null,null,null,null,null,null,null,null,null,null,null,0,"@","@","@","@","@","@","@","@","@","@","@","@","@","@","@","@","@","@","@","@","@","@","@","@","@","@","@","@","@","@","@",{"$f":"'Month 6'!BL85","v":"@"},{"$f":"'Month 6'!BK85","v":"@"},{"$f":"'Month 6'!BJ85","v":"@"},{"$f":"'Month 6'!BI85","v":"@"},{"$error":"#N/A"},{"$error":"#N/A"},{"$error":"#N/A"},{"$error":"#N/A"},{"$f":"IF(ISNUMBER(SUM(COUNTIF(INDIRECT(CR85):INDIRECT(CS85),2),COUNTIF(INDIRECT(CR85):INDIRECT(CS85),1),COUNTIF(INDIRECT(CR85):INDIRECT(CS85),0))),SUM(COUNTIF(INDIRECT(CR85):INDIRECT(CS85),2),COUNTIF(INDIRECT(CR85):INDIRECT(CS85),1),COUNTIF(INDIRECT(CR85):INDIRECT(CS85),0)),\"\")","v":""},{"$f":"IF(ISNUMBER(SUM(COUNTIF(INDIRECT(CR85):INDIRECT(CT85),2),COUNTIF(INDIRECT(CR85):INDIRECT(CT85),1),COUNTIF(INDIRECT(CR85):INDIRECT(CT85),0))),SUM(COUNTIF(INDIRECT(CR85):INDIRECT(CT85),2),COUNTIF(INDIRECT(CR85):INDIRECT(CT85),1),COUNTIF(INDIRECT(CR85):INDIRECT(CT85),0)),\"\")","v":""},{"$f":"IF(ISNUMBER(SUM(COUNTIF(INDIRECT(CR85):INDIRECT(CU85),1),COUNTIF(INDIRECT(CR85):INDIRECT(CU85),0))),SUM(COUNTIF(INDIRECT(CR85):INDIRECT(CU85),1),COUNTIF(INDIRECT(CR85):INDIRECT(CU85),0)),\"\")","v":""},{"$f":"SUM(INDIRECT(CR85):INDIRECT(CS85))","v":{"$error":"#N/A"}},{"$f":"SUM(INDIRECT(CR85):INDIRECT(CT85))","v":{"$error":"#N/A"}},{"$f":"SUM(INDIRECT(CR85):INDIRECT(CU85))","v":{"$error":"#N/A"}}]
[null,null,null,null,null,null,null,null,null,null,null,null,null,null,null,null,null,null,null,null,null,null,null,null,null,null,null,null,null,null,null,null,null,null,null,null,null,null,null,null,null,null,null,null,null,null,null,null,null,null,null,null,null,null,null,null,null,null,null,0,"@","@","@","@","@","@","@","@","@","@","@","@","@","@","@","@","@","@","@","@","@","@","@","@","@","@","@","@","@","@","@",{"$f":"'Month 6'!BL86","v":"@"},{"$f":"'Month 6'!BK86","v":"@"},{"$f":"'Month 6'!BJ86","v":"@"},{"$f":"'Month 6'!BI86","v":"@"},{"$error":"#N/A"},{"$error":"#N/A"},{"$error":"#N/A"},{"$error":"#N/A"},{"$f":"IF(ISNUMBER(SUM(COUNTIF(INDIRECT(CR86):INDIRECT(CS86),2),COUNTIF(INDIRECT(CR86):INDIRECT(CS86),1),COUNTIF(INDIRECT(CR86):INDIRECT(CS86),0))),SUM(COUNTIF(INDIRECT(CR86):INDIRECT(CS86),2),COUNTIF(INDIRECT(CR86):INDIRECT(CS86),1),COUNTIF(INDIRECT(CR86):INDIRECT(CS86),0)),\"\")","v":""},{"$f":"IF(ISNUMBER(SUM(COUNTIF(INDIRECT(CR86):INDIRECT(CT86),2),COUNTIF(INDIRECT(CR86):INDIRECT(CT86),1),COUNTIF(INDIRECT(CR86):INDIRECT(CT86),0))),SUM(COUNTIF(INDIRECT(CR86):INDIRECT(CT86),2),COUNTIF(INDIRECT(CR86):INDIRECT(CT86),1),COUNTIF(INDIRECT(CR86):INDIRECT(CT86),0)),\"\")","v":""},{"$f":"IF(ISNUMBER(SUM(COUNTIF(INDIRECT(CR86):INDIRECT(CU86),1),COUNTIF(INDIRECT(CR86):INDIRECT(CU86),0))),SUM(COUNTIF(INDIRECT(CR86):INDIRECT(CU86),1),COUNTIF(INDIRECT(CR86):INDIRECT(CU86),0)),\"\")","v":""},{"$f":"SUM(INDIRECT(CR86):INDIRECT(CS86))","v":{"$error":"#N/A"}},{"$f":"SUM(INDIRECT(CR86):INDIRECT(CT86))","v":{"$error":"#N/A"}},{"$f":"SUM(INDIRECT(CR86):INDIRECT(CU86))","v":{"$error":"#N/A"}}]
[null,null,null,null,null,null,null,null,null,null,null,null,null,null,null,null,null,null,null,null,null,null,null,null,null,null,null,null,null,null,null,null,null,null,null,null,null,null,null,null,null,null,null,null,null,null,null,null,null,null,null,null,null,null,null,null,null,null,null,0,{"$f":"IF(OR(AK59=\"+\",AK59=\"Y\",AK59=2),1,IF(OR(AK59=\"-\",AK59=\"N\",AK59=1),0,IF(OR(BJ87=1,BJ87=0),\"#\",\"@\")))","v":"@"},{"$f":"IF(OR(AJ59=\"+\",AJ59=\"Y\",AJ59=2),1,IF(OR(AJ59=\"-\",AJ59=\"N\",AJ59=1),0,IF(OR(BK87=1,BK87=0),\"#\",\"@\")))","v":"@"},{"$f":"IF(OR(AI59=\"+\",AI59=\"Y\",AI59=2),1,IF(OR(AI59=\"-\",AI59=\"N\",AI59=1),0,IF(OR(BL87=1,BL87=0),\"#\",\"@\")))","v":"@"},{"$f":"IF(OR(AH59=\"+\",AH59=\"Y\",AH59=2),1,IF(OR(AH59=\"-\",AH59=\"N\",AH59=1),0,IF(OR(BM87=1,BM87=0),\"#\",\"@\")))","v":"@"},{"$f":"IF(OR(AG59=\"+\",AG59=\"Y\",AG59=2),1,IF(OR(AG59=\"-\",AG59=\"N\",AG59=1),0,IF(OR(BN87=1,BN87=0),\"#\",\"@\")))","v":"@"},{"$f":"IF(OR(AF59=\"+\",AF59=\"Y\",AF59=2),1,IF(OR(AF59=\"-\",AF59=\"N\",AF59=1),0,IF(OR(BO87=1,BO87=0),\"#\",\"@\")))","v":"@"},{"$f":"IF(OR(AE59=\"+\",AE59=\"Y\",AE59=2),1,IF(OR(AE59=\"-\",AE59=\"N\",AE59=1),0,IF(OR(BP87=1,BP87=0),\"#\",\"@\")))","v":"@"},{"$f":"IF(OR(AD59=\"+\",AD59=\"Y\",AD59=2),1,IF(OR(AD59=\"-\",AD59=\"N\",AD59=1),0,IF(OR(BQ87=1,BQ87=0),\"#\",\"@\")))","v":"@"},{"$f":"IF(OR(AC59=\"+\",AC59=\"Y\",AC59=2),1,IF(OR(AC59=\"-\",AC59=\"N\",AC59=1),0,IF(OR(BR87=1,BR87=0),\"#\",\"@\")))","v":"@"},{"$f":"IF(OR(AB59=\"+\",AB59=\"Y\",AB59=2),1,IF(OR(AB59=\"-\",AB59=\"N\",AB59=1),0,IF(OR(BS87=1,BS87=0),\"#\",\"@\")))","v":"@"},{"$f":"IF(OR(AA59=\"+\",AA59=\"Y\",AA59=2),1,IF(OR(AA59=\"-\",AA59=\"N\",AA59=1),0,IF(OR(BT87=1,BT87=0),\"#\",\"@\")))","v":"@"},{"$f":"IF(OR(Z59=\"+\",Z59=\"Y\",Z59=2),1,IF(OR(Z59=\"-\",Z59=\"N\",Z59=1),0,IF(OR(BU87=1,BU87=0),\"#\",\"@\")))","v":"@"},{"$f":"IF(OR(Y59=\"+\",Y59=\"Y\",Y59=2),1,IF(OR(Y59=\"-\",Y59=\"N\",Y59=1),0,IF(OR(BV87=1,BV87=0),\"#\",\"@\")))","v":"@"},{"$f":"IF(OR(X59=\"+\",X59=\"Y\",X59=2),1,IF(OR(X59=\"-\",X59=\"N\",X59=1),0,IF(OR(BW87=1,BW87=0),\"#\",\"@\")))","v":"@"},{"$f":"IF(OR(W59=\"+\",W59=\"Y\",W59=2),1,IF(OR(W59=\"-\",W59=\"N\",W59=1),0,IF(OR(BX87=1,BX87=0),\"#\",\"@\")))","v":"@"},{"$f":"IF(OR(V59=\"+\",V59=\"Y\",V59=2),1,IF(OR(V59=\"-\",V59=\"N\",V59=1),0,IF(OR(BY87=1,BY87=0),\"#\",\"@\")))","v":"@"},{"$f":"IF(OR(U59=\"+\",U59=\"Y\",U59=2),1,IF(OR(U59=\"-\",U59=\"N\",U59=1),0,IF(OR(BZ87=1,BZ87=0),\"#\",\"@\")))","v":"@"},{"$f":"IF(OR(T59=\"+\",T59=\"Y\",T59=2),1,IF(OR(T59=\"-\",T59=\"N\",T59=1),0,IF(OR(CA87=1,CA87=0),\"#\",\"@\")))","v":"@"},{"$f":"IF(OR(S59=\"+\",S59=\"Y\",S59=2),1,IF(OR(S59=\"-\",S59=\"N\",S59=1),0,IF(OR(CB87=1,CB87=0),\"#\",\"@\")))","v":"@"},{"$f":"IF(OR(R59=\"+\",R59=\"Y\",R59=2),1,IF(OR(R59=\"-\",R59=\"N\",R59=1),0,IF(OR(CC87=1,CC87=0),\"#\",\"@\")))","v":"@"},{"$f":"IF(OR(Q59=\"+\",Q59=\"Y\",Q59=2),1,IF(OR(Q59=\"-\",Q59=\"N\",Q59=1),0,IF(OR(CD87=1,CD87=0),\"#\",\"@\")))","v":"@"},{"$f":"IF(OR(P59=\"+\",P59=\"Y\",P59=2),1,IF(OR(P59=\"-\",P59=\"N\",P59=1),0,IF(OR(CE87=1,CE87=0),\"#\",\"@\")))","v":"@"},{"$f":"IF(OR(O59=\"+\",O59=\"Y\",O59=2),1,IF(OR(O59=\"-\",O59=\"N\",O59=1),0,IF(OR(CF87=1,CF87=0),\"#\",\"@\")))","v":"@"},{"$f":"IF(OR(N59=\"+\",N59=\"Y\",N59=2),1,IF(OR(N59=\"-\",N59=\"N\",N59=1),0,IF(OR(CG87=1,CG87=0),\"#\",\"@\")))","v":"@"},{"$f":"IF(OR(M59=\"+\",M59=\"Y\",M59=2),1,IF(OR(M59=\"-\",M59=\"N\",M59=1),0,IF(OR(CH87=1,CH87=0),\"#\",\"@\")))","v":"@"},{"$f":"IF(OR(L59=\"+\",L59=\"Y\",L59=2),1,IF(OR(L59=\"-\",L59=\"N\",L59=1),0,IF(OR(CI87=1,CI87=0),\"#\",\"@\")))","v":"@"},{"$f":"IF(OR(K59=\"+\",K59=\"Y\",K59=2),1,IF(OR(K59=\"-\",K59=\"N\",K59=1),0,IF(OR(CJ87=1,CJ87=0),\"#\",\"@\")))","v":"@"},{"$f":"IF(OR(J59=\"+\",J59=\"Y\",J59=2),1,IF(OR(J59=\"-\",J59=\"N\",J59=1),0,IF(OR(CK87=1,CK87=0),\"#\",\"@\")))","v":"@"},{"$f":"IF(OR(I59=\"+\",I59=\"Y\",I59=2),1,IF(OR(I59=\"-\",I59=\"N\",I59=1),0,IF(OR(CL87=1,CL87=0),\"#\",\"@\")))","v":"@"},{"$f":"IF(OR(H59=\"+\",H59=\"Y\",H59=2),1,IF(OR(H59=\"-\",H59=\"N\",H59=1),0,IF(OR(CM87=1,CM87=0),\"#\",\"@\")))","v":"@"},{"$f":"IF(OR(G59=\"+\",G59=\"Y\",G59=2),1,IF(OR(G59=\"-\",G59=\"N\",G59=1),0,\"@\"))","v":"@"},{"$f":"'Month 6'!BL87","v":"@"},{"$f":"'Month 6'!BK87","v":"@"},{"$f":"'Month 6'!BJ87","v":"@"},{"$f":"'Month 6'!BI87","v":"@"},{"$f":"ADDRESS(ROW(BH87),(MATCH(\"#\",BI87:CM87,0)+61))","v":{"$error":"#N/A"}},{"$f":"ADDRESS(ROW(BH87),(MATCH(\"#\",BI87:CM87,0)+65))","v":{"$error":"#N/A"}},{"$f":"ADDRESS(ROW(BH87),(MATCH(\"#\",BI87:CM87,0)+64))","v":{"$error":"#N/A"}},{"$f":"ADDRESS(ROW(BH87),(MATCH(\"#\",BI87:CM87,0)+63))","v":{"$error":"#N/A"}},{"$f":"IF(ISNUMBER(SUM(COUNTIF(INDIRECT(CR87):INDIRECT(CS87),2),COUNTIF(INDIRECT(CR87):INDIRECT(CS87),1),COUNTIF(INDIRECT(CR87):INDIRECT(CS87),0))),SUM(COUNTIF(INDIRECT(CR87):INDIRECT(CS87),2),COUNTIF(INDIRECT(CR87):INDIRECT(CS87),1),COUNTIF(INDIRECT(CR87):INDIRECT(CS87),0)),\"\")","v":""},{"$f":"IF(ISNUMBER(SUM(COUNTIF(INDIRECT(CR87):INDIRECT(CT87),2),COUNTIF(INDIRECT(CR87):INDIRECT(CT87),1),COUNTIF(INDIRECT(CR87):INDIRECT(CT87),0))),SUM(COUNTIF(INDIRECT(CR87):INDIRECT(CT87),2),COUNTIF(INDIRECT(CR87):INDIRECT(CT87),1),COUNTIF(INDIRECT(CR87):INDIRECT(CT87),0)),\"\")","v":""},{"$f":"IF(ISNUMBER(SUM(COUNTIF(INDIRECT(CR87):INDIRECT(CU87),1),COUNTIF(INDIRECT(CR87):INDIRECT(CU87),0))),SUM(COUNTIF(INDIRECT(CR87):INDIRECT(CU87),1),COUNTIF(INDIRECT(CR87):INDIRECT(CU87),0)),\"\")","v":""},{"$f":"SUM(INDIRECT(CR87):INDIRECT(CS87))","v":{"$error":"#N/A"}},{"$f":"SUM(INDIRECT(CR87):INDIRECT(CT87))","v":{"$error":"#N/A"}},{"$f":"SUM(INDIRECT(CR87):INDIRECT(CU87))","v":{"$error":"#N/A"}}]
[null,null,null,null,null,null,null,null,null,null,null,null,null,null,null,null,null,null,null,null,null,null,null,null,null,null,null,null,null,null,null,null,null,null,null,null,null,null,null,null,null,null,null,null,null,null,null,null,null,null,null,null,null,null,null,null,null,null,null,0,"@","@","@","@","@","@","@","@","@","@","@","@","@","@","@","@","@","@","@","@","@","@","@","@","@","@","@","@","@","@","@",{"$f":"'Month 6'!BL88","v":"@"},{"$f":"'Month 6'!BK88","v":"@"},{"$f":"'Month 6'!BJ88","v":"@"},{"$f":"'Month 6'!BI88","v":"@"},{"$error":"#N/A"},{"$error":"#N/A"},{"$error":"#N/A"},{"$error":"#N/A"},{"$f":"IF(ISNUMBER(SUM(COUNTIF(INDIRECT(CR88):INDIRECT(CS88),2),COUNTIF(INDIRECT(CR88):INDIRECT(CS88),1),COUNTIF(INDIRECT(CR88):INDIRECT(CS88),0))),SUM(COUNTIF(INDIRECT(CR88):INDIRECT(CS88),2),COUNTIF(INDIRECT(CR88):INDIRECT(CS88),1),COUNTIF(INDIRECT(CR88):INDIRECT(CS88),0)),\"\")","v":""},{"$f":"IF(ISNUMBER(SUM(COUNTIF(INDIRECT(CR88):INDIRECT(CT88),2),COUNTIF(INDIRECT(CR88):INDIRECT(CT88),1),COUNTIF(INDIRECT(CR88):INDIRECT(CT88),0))),SUM(COUNTIF(INDIRECT(CR88):INDIRECT(CT88),2),COUNTIF(INDIRECT(CR88):INDIRECT(CT88),1),COUNTIF(INDIRECT(CR88):INDIRECT(CT88),0)),\"\")","v":""},{"$f":"IF(ISNUMBER(SUM(COUNTIF(INDIRECT(CR88):INDIRECT(CU88),1),COUNTIF(INDIRECT(CR88):INDIRECT(CU88),0))),SUM(COUNTIF(INDIRECT(CR88):INDIRECT(CU88),1),COUNTIF(INDIRECT(CR88):INDIRECT(CU88),0)),\"\")","v":""},{"$f":"SUM(INDIRECT(CR88):INDIRECT(CS88))","v":{"$error":"#N/A"}},{"$f":"SUM(INDIRECT(CR88):INDIRECT(CT88))","v":{"$error":"#N/A"}},{"$f":"SUM(INDIRECT(CR88):INDIRECT(CU88))","v":{"$error":"#N/A"}}]
[null,null,null,null,null,null,null,null,null,null,null,null,null,null,null,null,null,null,null,null,null,null,null,null,null,null,null,null,null,null,null,null,null,null,null,null,null,null,null,null,null,null,null,null,null,null,null,null,null,null,null,null,null,null,null,null,null,null,null,0,"@","@","@","@","@","@","@","@","@","@","@","@","@","@","@","@","@","@","@","@","@","@","@","@","@","@","@","@","@","@","@",{"$f":"'Month 6'!BL89","v":"@"},{"$f":"'Month 6'!BK89","v":"@"},{"$f":"'Month 6'!BJ89","v":"@"},{"$f":"'Month 6'!BI89","v":"@"},{"$error":"#N/A"},{"$error":"#N/A"},{"$error":"#N/A"},{"$error":"#N/A"},{"$f":"IF(ISNUMBER(SUM(COUNTIF(INDIRECT(CR89):INDIRECT(CS89),2),COUNTIF(INDIRECT(CR89):INDIRECT(CS89),1),COUNTIF(INDIRECT(CR89):INDIRECT(CS89),0))),SUM(COUNTIF(INDIRECT(CR89):INDIRECT(CS89),2),COUNTIF(INDIRECT(CR89):INDIRECT(CS89),1),COUNTIF(INDIRECT(CR89):INDIRECT(CS89),0)),\"\")","v":""},{"$f":"IF(ISNUMBER(SUM(COUNTIF(INDIRECT(CR89):INDIRECT(CT89),2),COUNTIF(INDIRECT(CR89):INDIRECT(CT89),1),COUNTIF(INDIRECT(CR89):INDIRECT(CT89),0))),SUM(COUNTIF(INDIRECT(CR89):INDIRECT(CT89),2),COUNTIF(INDIRECT(CR89):INDIRECT(CT89),1),COUNTIF(INDIRECT(CR89):INDIRECT(CT89),0)),\"\")","v":""},{"$f":"IF(ISNUMBER(SUM(COUNTIF(INDIRECT(CR89):INDIRECT(CU89),1),COUNTIF(INDIRECT(CR89):INDIRECT(CU89),0))),SUM(COUNTIF(INDIRECT(CR89):INDIRECT(CU89),1),COUNTIF(INDIRECT(CR89):INDIRECT(CU89),0)),\"\")","v":""},{"$f":"SUM(INDIRECT(CR89):INDIRECT(CS89))","v":{"$error":"#N/A"}},{"$f":"SUM(INDIRECT(CR89):INDIRECT(CT89))","v":{"$error":"#N/A"}},{"$f":"SUM(INDIRECT(CR89):INDIRECT(CU89))","v":{"$error":"#N/A"}}]
[null,null,null,null,null,null,null,null,null,null,null,null,null,null,null,null,null,null,null,null,null,null,null,null,null,null,null,null,null,null,null,null,null,null,null,null,null,null,null,null,null,null,null,null,null,null,null,null,null,null,null,null,null,null,null,null,null,null,null,0,"@","@","@","@","@","@","@","@","@","@","@","@","@","@","@","@","@","@","@","@","@","@","@","@","@","@","@","@","@","@","@",{"$f":"'Month 6'!BL90","v":"@"},{"$f":"'Month 6'!BK90","v":"@"},{"$f":"'Month 6'!BJ90","v":"@"},{"$f":"'Month 6'!BI90","v":"@"},{"$error":"#N/A"},{"$error":"#N/A"},{"$error":"#N/A"},{"$error":"#N/A"},{"$f":"IF(ISNUMBER(SUM(COUNTIF(INDIRECT(CR90):INDIRECT(CS90),2),COUNTIF(INDIRECT(CR90):INDIRECT(CS90),1),COUNTIF(INDIRECT(CR90):INDIRECT(CS90),0))),SUM(COUNTIF(INDIRECT(CR90):INDIRECT(CS90),2),COUNTIF(INDIRECT(CR90):INDIRECT(CS90),1),COUNTIF(INDIRECT(CR90):INDIRECT(CS90),0)),\"\")","v":""},{"$f":"IF(ISNUMBER(SUM(COUNTIF(INDIRECT(CR90):INDIRECT(CT90),2),COUNTIF(INDIRECT(CR90):INDIRECT(CT90),1),COUNTIF(INDIRECT(CR90):INDIRECT(CT90),0))),SUM(COUNTIF(INDIRECT(CR90):INDIRECT(CT90),2),COUNTIF(INDIRECT(CR90):INDIRECT(CT90),1),COUNTIF(INDIRECT(CR90):INDIRECT(CT90),0)),\"\")","v":""},{"$f":"IF(ISNUMBER(SUM(COUNTIF(INDIRECT(CR90):INDIRECT(CU90),1),COUNTIF(INDIRECT(CR90):INDIRECT(CU90),0))),SUM(COUNTIF(INDIRECT(CR90):INDIRECT(CU90),1),COUNTIF(INDIRECT(CR90):INDIRECT(CU90),0)),\"\")","v":""},{"$f":"SUM(INDIRECT(CR90):INDIRECT(CS90))","v":{"$error":"#N/A"}},{"$f":"SUM(INDIRECT(CR90):INDIRECT(CT90))","v":{"$error":"#N/A"}},{"$f":"SUM(INDIRECT(CR90):INDIRECT(CU90))","v":{"$error":"#N/A"}}]
[null,null,null,null,null,null,null,null,null,null,null,null,null,null,null,null,null,null,null,null,null,null,null,null,null,null,null,null,null,null,null,null,null,null,null,null,null,null,null,null,null,null,null,null,null,null,null,null,null,null,null,null,null,null,null,null,null,null,null,0,"@","@","@","@","@","@","@","@","@","@","@","@","@","@","@","@","@","@","@","@","@","@","@","@","@","@","@","@","@","@","@",{"$f":"'Month 6'!BL91","v":"@"},{"$f":"'Month 6'!BK91","v":"@"},{"$f":"'Month 6'!BJ91","v":"@"},{"$f":"'Month 6'!BI91","v":"@"},{"$error":"#N/A"},{"$error":"#N/A"},{"$error":"#N/A"},{"$error":"#N/A"},{"$f":"IF(ISNUMBER(SUM(COUNTIF(INDIRECT(CR91):INDIRECT(CS91),2),COUNTIF(INDIRECT(CR91):INDIRECT(CS91),1),COUNTIF(INDIRECT(CR91):INDIRECT(CS91),0))),SUM(COUNTIF(INDIRECT(CR91):INDIRECT(CS91),2),COUNTIF(INDIRECT(CR91):INDIRECT(CS91),1),COUNTIF(INDIRECT(CR91):INDIRECT(CS91),0)),\"\")","v":""},{"$f":"IF(ISNUMBER(SUM(COUNTIF(INDIRECT(CR91):INDIRECT(CT91),2),COUNTIF(INDIRECT(CR91):INDIRECT(CT91),1),COUNTIF(INDIRECT(CR91):INDIRECT(CT91),0))),SUM(COUNTIF(INDIRECT(CR91):INDIRECT(CT91),2),COUNTIF(INDIRECT(CR91):INDIRECT(CT91),1),COUNTIF(INDIRECT(CR91):INDIRECT(CT91),0)),\"\")","v":""},{"$f":"IF(ISNUMBER(SUM(COUNTIF(INDIRECT(CR91):INDIRECT(CU91),1),COUNTIF(INDIRECT(CR91):INDIRECT(CU91),0))),SUM(COUNTIF(INDIRECT(CR91):INDIRECT(CU91),1),COUNTIF(INDIRECT(CR91):INDIRECT(CU91),0)),\"\")","v":""},{"$f":"SUM(INDIRECT(CR91):INDIRECT(CS91))","v":{"$error":"#N/A"}},{"$f":"SUM(INDIRECT(CR91):INDIRECT(CT91))","v":{"$error":"#N/A"}},{"$f":"SUM(INDIRECT(CR91):INDIRECT(CU91))","v":{"$error":"#N/A"}}]
[null,null,null,null,null,null,null,null,null,null,null,null,null,null,null,null,null,null,null,null,null,null,null,null,null,null,null,null,null,null,null,null,null,null,null,null,null,null,null,null,null,null,null,null,null,null,null,null,null,null,null,null,null,null,null,null,null,null,null,0,"@","@","@","@","@","@","@","@","@","@","@","@","@","@","@","@","@","@","@","@","@","@","@","@","@","@","@","@","@","@","@",{"$f":"'Month 6'!BL92","v":"@"},{"$f":"'Month 6'!BK92","v":"@"},{"$f":"'Month 6'!BJ92","v":"@"},{"$f":"'Month 6'!BI92","v":"@"},{"$error":"#N/A"},{"$error":"#N/A"},{"$error":"#N/A"},{"$error":"#N/A"},{"$f":"IF(ISNUMBER(SUM(COUNTIF(INDIRECT(CR92):INDIRECT(CS92),2),COUNTIF(INDIRECT(CR92):INDIRECT(CS92),1),COUNTIF(INDIRECT(CR92):INDIRECT(CS92),0))),SUM(COUNTIF(INDIRECT(CR92):INDIRECT(CS92),2),COUNTIF(INDIRECT(CR92):INDIRECT(CS92),1),COUNTIF(INDIRECT(CR92):INDIRECT(CS92),0)),\"\")","v":""},{"$f":"IF(ISNUMBER(SUM(COUNTIF(INDIRECT(CR92):INDIRECT(CT92),2),COUNTIF(INDIRECT(CR92):INDIRECT(CT92),1),COUNTIF(INDIRECT(CR92):INDIRECT(CT92),0))),SUM(COUNTIF(INDIRECT(CR92):INDIRECT(CT92),2),COUNTIF(INDIRECT(CR92):INDIRECT(CT92),1),COUNTIF(INDIRECT(CR92):INDIRECT(CT92),0)),\"\")","v":""},{"$f":"IF(ISNUMBER(SUM(COUNTIF(INDIRECT(CR92):INDIRECT(CU92),1),COUNTIF(INDIRECT(CR92):INDIRECT(CU92),0))),SUM(COUNTIF(INDIRECT(CR92):INDIRECT(CU92),1),COUNTIF(INDIRECT(CR92):INDIRECT(CU92),0)),\"\")","v":""},{"$f":"SUM(INDIRECT(CR92):INDIRECT(CS92))","v":{"$error":"#N/A"}},{"$f":"SUM(INDIRECT(CR92):INDIRECT(CT92))","v":{"$error":"#N/A"}},{"$f":"SUM(INDIRECT(CR92):INDIRECT(CU92))","v":{"$error":"#N/A"}}]
[null,null,null,null,null,null,null,null,null,null,null,null,null,null,null,null,null,null,null,null,null,null,null,null,null,null,null,null,null,null,null,null,null,null,null,null,null,null,null,null,null,null,null,null,null,null,null,null,null,null,null,null,null,null,null,null,null,null,null,0,"@","@","@","@","@","@","@","@","@","@","@","@","@","@","@","@","@","@","@","@","@","@","@","@","@","@","@","@","@","@","@",{"$f":"'Month 6'!BL93","v":"@"},{"$f":"'Month 6'!BK93","v":"@"},{"$f":"'Month 6'!BJ93","v":"@"},{"$f":"'Month 6'!BI93","v":"@"},{"$error":"#N/A"},{"$error":"#N/A"},{"$error":"#N/A"},{"$error":"#N/A"},{"$f":"IF(ISNUMBER(SUM(COUNTIF(INDIRECT(CR93):INDIRECT(CS93),2),COUNTIF(INDIRECT(CR93):INDIRECT(CS93),1),COUNTIF(INDIRECT(CR93):INDIRECT(CS93),0))),SUM(COUNTIF(INDIRECT(CR93):INDIRECT(CS93),2),COUNTIF(INDIRECT(CR93):INDIRECT(CS93),1),COUNTIF(INDIRECT(CR93):INDIRECT(CS93),0)),\"\")","v":""},{"$f":"IF(ISNUMBER(SUM(COUNTIF(INDIRECT(CR93):INDIRECT(CT93),2),COUNTIF(INDIRECT(CR93):INDIRECT(CT93),1),COUNTIF(INDIRECT(CR93):INDIRECT(CT93),0))),SUM(COUNTIF(INDIRECT(CR93):INDIRECT(CT93),2),COUNTIF(INDIRECT(CR93):INDIRECT(CT93),1),COUNTIF(INDIRECT(CR93):INDIRECT(CT93),0)),\"\")","v":""},{"$f":"IF(ISNUMBER(SUM(COUNTIF(INDIRECT(CR93):INDIRECT(CU93),1),COUNTIF(INDIRECT(CR93):INDIRECT(CU93),0))),SUM(COUNTIF(INDIRECT(CR93):INDIRECT(CU93),1),COUNTIF(INDIRECT(CR93):INDIRECT(CU93),0)),\"\")","v":""},{"$f":"SUM(INDIRECT(CR93):INDIRECT(CS93))","v":{"$error":"#N/A"}},{"$f":"SUM(INDIRECT(CR93):INDIRECT(CT93))","v":{"$error":"#N/A"}},{"$f":"SUM(INDIRECT(CR93):INDIRECT(CU93))","v":{"$error":"#N/A"}}]
[null,null,null,null,null,null,null,null,null,null,null,null,null,null,null,null,null,null,null,null,null,null,null,null,null,null,null,null,null,null,null,null,null,null,null,null,null,null,null,null,null,null,null,null,null,null,null,null,null,null,null,null,null,null,null,null,null,null,null,0,"@","@","@","@","@","@","@","@","@","@","@","@","@","@","@","@","@","@","@","@","@","@","@","@","@","@","@","@","@","@","@",{"$f":"'Month 6'!BL94","v":"@"},{"$f":"'Month 6'!BK94","v":"@"},{"$f":"'Month 6'!BJ94","v":"@"},{"$f":"'Month 6'!BI94","v":"@"},{"$error":"#N/A"},{"$error":"#N/A"},{"$error":"#N/A"},{"$error":"#N/A"},{"$f":"IF(ISNUMBER(SUM(COUNTIF(INDIRECT(CR94):INDIRECT(CS94),2),COUNTIF(INDIRECT(CR94):INDIRECT(CS94),1),COUNTIF(INDIRECT(CR94):INDIRECT(CS94),0))),SUM(COUNTIF(INDIRECT(CR94):INDIRECT(CS94),2),COUNTIF(INDIRECT(CR94):INDIRECT(CS94),1),COUNTIF(INDIRECT(CR94):INDIRECT(CS94),0)),\"\")","v":""},{"$f":"IF(ISNUMBER(SUM(COUNTIF(INDIRECT(CR94):INDIRECT(CT94),2),COUNTIF(INDIRECT(CR94):INDIRECT(CT94),1),COUNTIF(INDIRECT(CR94):INDIRECT(CT94),0))),SUM(COUNTIF(INDIRECT(CR94):INDIRECT(CT94),2),COUNTIF(INDIRECT(CR94):INDIRECT(CT94),1),COUNTIF(INDIRECT(CR94):INDIRECT(CT94),0)),\"\")","v":""},{"$f":"IF(ISNUMBER(SUM(COUNTIF(INDIRECT(CR94):INDIRECT(CU94),1),COUNTIF(INDIRECT(CR94):INDIRECT(CU94),0))),SUM(COUNTIF(INDIRECT(CR94):INDIRECT(CU94),1),COUNTIF(INDIRECT(CR94):INDIRECT(CU94),0)),\"\")","v":""},{"$f":"SUM(INDIRECT(CR94):INDIRECT(CS94))","v":{"$error":"#N/A"}},{"$f":"SUM(INDIRECT(CR94):INDIRECT(CT94))","v":{"$error":"#N/A"}},{"$f":"SUM(INDIRECT(CR94):INDIRECT(CU94))","v":{"$error":"#N/A"}}]
[null,null,null,null,null,null,null,null,null,null,null,null,null,null,null,null,null,null,null,null,null,null,null,null,null,null,null,null,null,null,null,null,null,null,null,null,null,null,null,null,null,null,null,null,null,null,null,null,null,null,null,null,null,null,null,null,null,null,null,0,"@","@","@","@","@","@","@","@","@","@","@","@","@","@","@","@","@","@","@","@","@","@","@","@","@","@","@","@","@","@","@",{"$f":"'Month 6'!BL95","v":"@"},{"$f":"'Month 6'!BK95","v":"@"},{"$f":"'Month 6'!BJ95","v":"@"},{"$f":"'Month 6'!BI95","v":"@"},{"$error":"#N/A"},{"$error":"#N/A"},{"$error":"#N/A"},{"$error":"#N/A"},{"$f":"IF(ISNUMBER(SUM(COUNTIF(INDIRECT(CR95):INDIRECT(CS95),2),COUNTIF(INDIRECT(CR95):INDIRECT(CS95),1),COUNTIF(INDIRECT(CR95):INDIRECT(CS95),0))),SUM(COUNTIF(INDIRECT(CR95):INDIRECT(CS95),2),COUNTIF(INDIRECT(CR95):INDIRECT(CS95),1),COUNTIF(INDIRECT(CR95):INDIRECT(CS95),0)),\"\")","v":""},{"$f":"IF(ISNUMBER(SUM(COUNTIF(INDIRECT(CR95):INDIRECT(CT95),2),COUNTIF(INDIRECT(CR95):INDIRECT(CT95),1),COUNTIF(INDIRECT(CR95):INDIRECT(CT95),0))),SUM(COUNTIF(INDIRECT(CR95):INDIRECT(CT95),2),COUNTIF(INDIRECT(CR95):INDIRECT(CT95),1),COUNTIF(INDIRECT(CR95):INDIRECT(CT95),0)),\"\")","v":""},{"$f":"IF(ISNUMBER(SUM(COUNTIF(INDIRECT(CR95):INDIRECT(CU95),1),COUNTIF(INDIRECT(CR95):INDIRECT(CU95),0))),SUM(COUNTIF(INDIRECT(CR95):INDIRECT(CU95),1),COUNTIF(INDIRECT(CR95):INDIRECT(CU95),0)),\"\")","v":""},{"$f":"SUM(INDIRECT(CR95):INDIRECT(CS95))","v":{"$error":"#N/A"}},{"$f":"SUM(INDIRECT(CR95):INDIRECT(CT95))","v":{"$error":"#N/A"}},{"$f":"SUM(INDIRECT(CR95):INDIRECT(CU95))","v":{"$error":"#N/A"}}]
[null,null,null,null,null,null,null,null,null,null,null,null,null,null,null,null,null,null,null,null,null,null,null,null,null,null,null,null,null,null,null,null,null,null,null,null,null,null,null,null,null,null,null,null,null,null,null,null,null,null,null,null,null,null,null,null,null,null,null,0,"@","@","@","@","@","@","@","@","@","@","@","@","@","@","@","@","@","@","@","@","@","@","@","@","@","@","@","@","@","@","@",{"$f":"'Month 6'!BL96","v":"@"},{"$f":"'Month 6'!BK96","v":"@"},{"$f":"'Month 6'!BJ96","v":"@"},{"$f":"'Month 6'!BI96","v":"@"},{"$error":"#N/A"},{"$error":"#N/A"},{"$error":"#N/A"},{"$error":"#N/A"},{"$f":"IF(ISNUMBER(SUM(COUNTIF(INDIRECT(CR96):INDIRECT(CS96),2),COUNTIF(INDIRECT(CR96):INDIRECT(CS96),1),COUNTIF(INDIRECT(CR96):INDIRECT(CS96),0))),SUM(COUNTIF(INDIRECT(CR96):INDIRECT(CS96),2),COUNTIF(INDIRECT(CR96):INDIRECT(CS96),1),COUNTIF(INDIRECT(CR96):INDIRECT(CS96),0)),\"\")","v":""},{"$f":"IF(ISNUMBER(SUM(COUNTIF(INDIRECT(CR96):INDIRECT(CT96),2),COUNTIF(INDIRECT(CR96):INDIRECT(CT96),1),COUNTIF(INDIRECT(CR96):INDIRECT(CT96),0))),SUM(COUNTIF(INDIRECT(CR96):INDIRECT(CT96),2),COUNTIF(INDIRECT(CR96):INDIRECT(CT96),1),COUNTIF(INDIRECT(CR96):INDIRECT(CT96),0)),\"\")","v":""},{"$f":"IF(ISNUMBER(SUM(COUNTIF(INDIRECT(CR96):INDIRECT(CU96),1),COUNTIF(INDIRECT(CR96):INDIRECT(CU96),0))),SUM(COUNTIF(INDIRECT(CR96):INDIRECT(CU96),1),COUNTIF(INDIRECT(CR96):INDIRECT(CU96),0)),\"\")","v":""},{"$f":"SUM(INDIRECT(CR96):INDIRECT(CS96))","v":{"$error":"#N/A"}},{"$f":"SUM(INDIRECT(CR96):INDIRECT(CT96))","v":{"$error":"#N/A"}},{"$f":"SUM(INDIRECT(CR96):INDIRECT(CU96))","v":{"$error":"#N/A"}}]
[null,null,null,null,null,null,null,null,null,null,null,null,null,null,null,null,null,null,null,null,null,null,null,null,null,null,null,null,null,null,null,null,null,null,null,null,null,null,null,null,null,null,null,null,null,null,null,null,null,null,null,null,null,null,null,null,null,null,null,0,"@","@","@","@","@","@","@","@","@","@","@","@","@","@","@","@","@","@","@","@","@","@","@","@","@","@","@","@","@","@","@",{"$f":"'Month 6'!BL97","v":"@"},{"$f":"'Month 6'!BK97","v":"@"},{"$f":"'Month 6'!BJ97","v":"@"},{"$f":"'Month 6'!BI97","v":"@"},{"$error":"#N/A"},{"$error":"#N/A"},{"$error":"#N/A"},{"$error":"#N/A"},{"$f":"IF(ISNUMBER(SUM(COUNTIF(INDIRECT(CR97):INDIRECT(CS97),2),COUNTIF(INDIRECT(CR97):INDIRECT(CS97),1),COUNTIF(INDIRECT(CR97):INDIRECT(CS97),0))),SUM(COUNTIF(INDIRECT(CR97):INDIRECT(CS97),2),COUNTIF(INDIRECT(CR97):INDIRECT(CS97),1),COUNTIF(INDIRECT(CR97):INDIRECT(CS97),0)),\"\")","v":""},{"$f":"IF(ISNUMBER(SUM(COUNTIF(INDIRECT(CR97):INDIRECT(CT97),2),COUNTIF(INDIRECT(CR97):INDIRECT(CT97),1),COUNTIF(INDIRECT(CR97):INDIRECT(CT97),0))),SUM(COUNTIF(INDIRECT(CR97):INDIRECT(CT97),2),COUNTIF(INDIRECT(CR97):INDIRECT(CT97),1),COUNTIF(INDIRECT(CR97):INDIRECT(CT97),0)),\"\")","v":""},{"$f":"IF(ISNUMBER(SUM(COUNTIF(INDIRECT(CR97):INDIRECT(CU97),1),COUNTIF(INDIRECT(CR97):INDIRECT(CU97),0))),SUM(COUNTIF(INDIRECT(CR97):INDIRECT(CU97),1),COUNTIF(INDIRECT(CR97):INDIRECT(CU97),0)),\"\")","v":""},{"$f":"SUM(INDIRECT(CR97):INDIRECT(CS97))","v":{"$error":"#N/A"}},{"$f":"SUM(INDIRECT(CR97):INDIRECT(CT97))","v":{"$error":"#N/A"}},{"$f":"SUM(INDIRECT(CR97):INDIRECT(CU97))","v":{"$error":"#N/A"}}]
[null,null,null,null,null,null,null,null,null,null,null,null,null,null,null,null,null,null,null,null,null,null,null,null,null,null,null,null,null,null,null,null,null,null,null,null,null,null,null,null,null,null,null,null,null,null,null,null,null,null,null,null,null,null,null,null,null,null,null,0,"@","@","@","@","@","@","@","@","@","@","@","@","@","@","@","@","@","@","@","@","@","@","@","@","@","@","@","@","@","@","@",{"$f":"'Month 6'!BL98","v":"@"},{"$f":"'Month 6'!BK98","v":"@"},{"$f":"'Month 6'!BJ98","v":"@"},{"$f":"'Month 6'!BI98","v":"@"},{"$error":"#N/A"},{"$error":"#N/A"},{"$error":"#N/A"},{"$error":"#N/A"},{"$f":"IF(ISNUMBER(SUM(COUNTIF(INDIRECT(CR98):INDIRECT(CS98),2),COUNTIF(INDIRECT(CR98):INDIRECT(CS98),1),COUNTIF(INDIRECT(CR98):INDIRECT(CS98),0))),SUM(COUNTIF(INDIRECT(CR98):INDIRECT(CS98),2),COUNTIF(INDIRECT(CR98):INDIRECT(CS98),1),COUNTIF(INDIRECT(CR98):INDIRECT(CS98),0)),\"\")","v":""},{"$f":"IF(ISNUMBER(SUM(COUNTIF(INDIRECT(CR98):INDIRECT(CT98),2),COUNTIF(INDIRECT(CR98):INDIRECT(CT98),1),COUNTIF(INDIRECT(CR98):INDIRECT(CT98),0))),SUM(COUNTIF(INDIRECT(CR98):INDIRECT(CT98),2),COUNTIF(INDIRECT(CR98):INDIRECT(CT98),1),COUNTIF(INDIRECT(CR98):INDIRECT(CT98),0)),\"\")","v":""},{"$f":"IF(ISNUMBER(SUM(COUNTIF(INDIRECT(CR98):INDIRECT(CU98),1),COUNTIF(INDIRECT(CR98):INDIRECT(CU98),0))),SUM(COUNTIF(INDIRECT(CR98):INDIRECT(CU98),1),COUNTIF(INDIRECT(CR98):INDIRECT(CU98),0)),\"\")","v":""},{"$f":"SUM(INDIRECT(CR98):INDIRECT(CS98))","v":{"$error":"#N/A"}},{"$f":"SUM(INDIRECT(CR98):INDIRECT(CT98))","v":{"$error":"#N/A"}},{"$f":"SUM(INDIRECT(CR98):INDIRECT(CU98))","v":{"$error":"#N/A"}}]
[null,null,null,null,null,null,null,null,null,null,null,null,null,null,null,null,null,null,null,null,null,null,null,null,null,null,null,null,null,null,null,null,null,null,null,null,null,null,null,null,null,null,null,null,null,null,null,null,null,null,null,null,null,null,null,null,null,null,null,0,"@","@","@","@","@","@","@","@","@","@","@","@","@","@","@","@","@","@","@","@","@","@","@","@","@","@","@","@","@","@","@",{"$f":"'Month 6'!BL99","v":"@"},{"$f":"'Month 6'!BK99","v":"@"},{"$f":"'Month 6'!BJ99","v":"@"},{"$f":"'Month 6'!BI99","v":"@"},{"$error":"#N/A"},{"$error":"#N/A"},{"$error":"#N/A"},{"$error":"#N/A"},{"$f":"IF(ISNUMBER(SUM(COUNTIF(INDIRECT(CR99):INDIRECT(CS99),2),COUNTIF(INDIRECT(CR99):INDIRECT(CS99),1),COUNTIF(INDIRECT(CR99):INDIRECT(CS99),0))),SUM(COUNTIF(INDIRECT(CR99):INDIRECT(CS99),2),COUNTIF(INDIRECT(CR99):INDIRECT(CS99),1),COUNTIF(INDIRECT(CR99):INDIRECT(CS99),0)),\"\")","v":""},{"$f":"IF(ISNUMBER(SUM(COUNTIF(INDIRECT(CR99):INDIRECT(CT99),2),COUNTIF(INDIRECT(CR99):INDIRECT(CT99),1),COUNTIF(INDIRECT(CR99):INDIRECT(CT99),0))),SUM(COUNTIF(INDIRECT(CR99):INDIRECT(CT99),2),COUNTIF(INDIRECT(CR99):INDIRECT(CT99),1),COUNTIF(INDIRECT(CR99):INDIRECT(CT99),0)),\"\")","v":""},{"$f":"IF(ISNUMBER(SUM(COUNTIF(INDIRECT(CR99):INDIRECT(CU99),1),COUNTIF(INDIRECT(CR99):INDIRECT(CU99),0))),SUM(COUNTIF(INDIRECT(CR99):INDIRECT(CU99),1),COUNTIF(INDIRECT(CR99):INDIRECT(CU99),0)),\"\")","v":""},{"$f":"SUM(INDIRECT(CR99):INDIRECT(CS99))","v":{"$error":"#N/A"}},{"$f":"SUM(INDIRECT(CR99):INDIRECT(CT99))","v":{"$error":"#N/A"}},{"$f":"SUM(INDIRECT(CR99):INDIRECT(CU99))","v":{"$error":"#N/A"}}]
[null,null,null,null,null,null,null,null,null,null,null,null,null,null,null,null,null,null,null,null,null,null,null,null,null,null,null,null,null,null,null,null,null,null,null,null,null,null,null,null,null,null,null,null,null,null,null,null,null,null,null,null,null,null,null,null,null,null,null,0,"@","@","@","@","@","@","@","@","@","@","@","@","@","@","@","@","@","@","@","@","@","@","@","@","@","@","@","@","@","@","@",{"$f":"'Month 6'!BL100","v":"@"},{"$f":"'Month 6'!BK100","v":"@"},{"$f":"'Month 6'!BJ100","v":"@"},{"$f":"'Month 6'!BI100","v":"@"},{"$error":"#N/A"},{"$error":"#N/A"},{"$error":"#N/A"},{"$error":"#N/A"},{"$f":"IF(ISNUMBER(SUM(COUNTIF(INDIRECT(CR100):INDIRECT(CS100),2),COUNTIF(INDIRECT(CR100):INDIRECT(CS100),1),COUNTIF(INDIRECT(CR100):INDIRECT(CS100),0))),SUM(COUNTIF(INDIRECT(CR100):INDIRECT(CS100),2),COUNTIF(INDIRECT(CR100):INDIRECT(CS100),1),COUNTIF(INDIRECT(CR100):INDIRECT(CS100),0)),\"\")","v":""},{"$f":"IF(ISNUMBER(SUM(COUNTIF(INDIRECT(CR100):INDIRECT(CT100),2),COUNTIF(INDIRECT(CR100):INDIRECT(CT100),1),COUNTIF(INDIRECT(CR100):INDIRECT(CT100),0))),SUM(COUNTIF(INDIRECT(CR100):INDIRECT(CT100),2),COUNTIF(INDIRECT(CR100):INDIRECT(CT100),1),COUNTIF(INDIRECT(CR100):INDIRECT(CT100),0)),\"\")","v":""},{"$f":"IF(ISNUMBER(SUM(COUNTIF(INDIRECT(CR100):INDIRECT(CU100),1),COUNTIF(INDIRECT(CR100):INDIRECT(CU100),0))),SUM(COUNTIF(INDIRECT(CR100):INDIRECT(CU100),1),COUNTIF(INDIRECT(CR100):INDIRECT(CU100),0)),\"\")","v":""},{"$f":"SUM(INDIRECT(CR100):INDIRECT(CS100))","v":{"$error":"#N/A"}},{"$f":"SUM(INDIRECT(CR100):INDIRECT(CT100))","v":{"$error":"#N/A"}},{"$f":"SUM(INDIRECT(CR100):INDIRECT(CU100))","v":{"$error":"#N/A"}}]
[null,null,null,null,null,null,null,null,null,null,null,null,null,null,null,null,null,null,null,null,null,null,null,null,null,null,null,null,null,null,null,null,null,null,null,null,null,null,null,null,null,null,null,null,null,null,null,null,null,null,null,null,null,null,null,null,null,null,null,0,"@","@","@","@","@","@","@","@","@","@","@","@","@","@","@","@","@","@","@","@","@","@","@","@","@","@","@","@","@","@","@",{"$f":"'Month 6'!BL101","v":"@"},{"$f":"'Month 6'!BK101","v":"@"},{"$f":"'Month 6'!BJ101","v":"@"},{"$f":"'Month 6'!BI101","v":"@"},{"$error":"#N/A"},{"$error":"#N/A"},{"$error":"#N/A"},{"$error":"#N/A"},{"$f":"IF(ISNUMBER(SUM(COUNTIF(INDIRECT(CR101):INDIRECT(CS101),2),COUNTIF(INDIRECT(CR101):INDIRECT(CS101),1),COUNTIF(INDIRECT(CR101):INDIRECT(CS101),0))),SUM(COUNTIF(INDIRECT(CR101):INDIRECT(CS101),2),COUNTIF(INDIRECT(CR101):INDIRECT(CS101),1),COUNTIF(INDIRECT(CR101):INDIRECT(CS101),0)),\"\")","v":""},{"$f":"IF(ISNUMBER(SUM(COUNTIF(INDIRECT(CR101):INDIRECT(CT101),2),COUNTIF(INDIRECT(CR101):INDIRECT(CT101),1),COUNTIF(INDIRECT(CR101):INDIRECT(CT101),0))),SUM(COUNTIF(INDIRECT(CR101):INDIRECT(CT101),2),COUNTIF(INDIRECT(CR101):INDIRECT(CT101),1),COUNTIF(INDIRECT(CR101):INDIRECT(CT101),0)),\"\")","v":""},{"$f":"IF(ISNUMBER(SUM(COUNTIF(INDIRECT(CR101):INDIRECT(CU101),1),COUNTIF(INDIRECT(CR101):INDIRECT(CU101),0))),SUM(COUNTIF(INDIRECT(CR101):INDIRECT(CU101),1),COUNTIF(INDIRECT(CR101):INDIRECT(CU101),0)),\"\")","v":""},{"$f":"SUM(INDIRECT(CR101):INDIRECT(CS101))","v":{"$error":"#N/A"}},{"$f":"SUM(INDIRECT(CR101):INDIRECT(CT101))","v":{"$error":"#N/A"}},{"$f":"SUM(INDIRECT(CR101):INDIRECT(CU101))","v":{"$error":"#N/A"}}]
[null,null,null,null,null,null,null,null,null,null,null,null,null,null,null,null,null,null,null,null,null,null,null,null,null,null,null,null,null,null,null,null,null,null,null,null,null,null,null,null,null,null,null,null,null,null,null,null,null,null,null,null,null,null,null,null,null,null,null,0,"@","@","@","@","@","@","@","@","@","@","@","@","@","@","@","@","@","@","@","@","@","@","@","@","@","@","@","@","@","@","@",{"$f":"'Month 6'!BL102","v":"@"},{"$f":"'Month 6'!BK102","v":"@"},{"$f":"'Month 6'!BJ102","v":"@"},{"$f":"'Month 6'!BI102","v":"@"},{"$error":"#N/A"},{"$error":"#N/A"},{"$error":"#N/A"},{"$error":"#N/A"},{"$f":"IF(ISNUMBER(SUM(COUNTIF(INDIRECT(CR102):INDIRECT(CS102),2),COUNTIF(INDIRECT(CR102):INDIRECT(CS102),1),COUNTIF(INDIRECT(CR102):INDIRECT(CS102),0))),SUM(COUNTIF(INDIRECT(CR102):INDIRECT(CS102),2),COUNTIF(INDIRECT(CR102):INDIRECT(CS102),1),COUNTIF(INDIRECT(CR102):INDIRECT(CS102),0)),\"\")","v":""},{"$f":"IF(ISNUMBER(SUM(COUNTIF(INDIRECT(CR102):INDIRECT(CT102),2),COUNTIF(INDIRECT(CR102):INDIRECT(CT102),1),COUNTIF(INDIRECT(CR102):INDIRECT(CT102),0))),SUM(COUNTIF(INDIRECT(CR102):INDIRECT(CT102),2),COUNTIF(INDIRECT(CR102):INDIRECT(CT102),1),COUNTIF(INDIRECT(CR102):INDIRECT(CT102),0)),\"\")","v":""},{"$f":"IF(ISNUMBER(SUM(COUNTIF(INDIRECT(CR102):INDIRECT(CU102),1),COUNTIF(INDIRECT(CR102):INDIRECT(CU102),0))),SUM(COUNTIF(INDIRECT(CR102):INDIRECT(CU102),1),COUNTIF(INDIRECT(CR102):INDIRECT(CU102),0)),\"\")","v":""},{"$f":"SUM(INDIRECT(CR102):INDIRECT(CS102))","v":{"$error":"#N/A"}},{"$f":"SUM(INDIRECT(CR102):INDIRECT(CT102))","v":{"$error":"#N/A"}},{"$f":"SUM(INDIRECT(CR102):INDIRECT(CU102))","v":{"$error":"#N/A"}}]
[null,null,null,null,null,null,null,null,null,null,null,null,null,null,null,null,null,null,null,null,null,null,null,null,null,null,null,null,null,null,null,null,null,null,null,null,null,null,null,null,null,null,null,null,null,null,null,null,null,null,null,null,null,null,null,null,null,null,null,0,"@","@","@","@","@","@","@","@","@","@","@","@","@","@","@","@","@","@","@","@","@","@","@","@","@","@","@","@","@","@","@",{"$f":"'Month 6'!BL103","v":"@"},{"$f":"'Month 6'!BK103","v":"@"},{"$f":"'Month 6'!BJ103","v":"@"},{"$f":"'Month 6'!BI103","v":"@"},{"$error":"#N/A"},{"$error":"#N/A"},{"$error":"#N/A"},{"$error":"#N/A"},{"$f":"IF(ISNUMBER(SUM(COUNTIF(INDIRECT(CR103):INDIRECT(CS103),2),COUNTIF(INDIRECT(CR103):INDIRECT(CS103),1),COUNTIF(INDIRECT(CR103):INDIRECT(CS103),0))),SUM(COUNTIF(INDIRECT(CR103):INDIRECT(CS103),2),COUNTIF(INDIRECT(CR103):INDIRECT(CS103),1),COUNTIF(INDIRECT(CR103):INDIRECT(CS103),0)),\"\")","v":""},{"$f":"IF(ISNUMBER(SUM(COUNTIF(INDIRECT(CR103):INDIRECT(CT103),2),COUNTIF(INDIRECT(CR103):INDIRECT(CT103),1),COUNTIF(INDIRECT(CR103):INDIRECT(CT103),0))),SUM(COUNTIF(INDIRECT(CR103):INDIRECT(CT103),2),COUNTIF(INDIRECT(CR103):INDIRECT(CT103),1),COUNTIF(INDIRECT(CR103):INDIRECT(CT103),0)),\"\")","v":""},{"$f":"IF(ISNUMBER(SUM(COUNTIF(INDIRECT(CR103):INDIRECT(CU103),1),COUNTIF(INDIRECT(CR103):INDIRECT(CU103),0))),SUM(COUNTIF(INDIRECT(CR103):INDIRECT(CU103),1),COUNTIF(INDIRECT(CR103):INDIRECT(CU103),0)),\"\")","v":""},{"$f":"SUM(INDIRECT(CR103):INDIRECT(CS103))","v":{"$error":"#N/A"}},{"$f":"SUM(INDIRECT(CR103):INDIRECT(CT103))","v":{"$error":"#N/A"}},{"$f":"SUM(INDIRECT(CR103):INDIRECT(CU103))","v":{"$error":"#N/A"}}]
[null,null,null,null,null,null,null,null,null,null,null,null,null,null,null,null,null,null,null,null,null,null,null,null,null,null,null,null,null,null,null,null,null,null,null,null,null,null,null,null,null,null,null,null,null,null,null,null,null,null,null,null,null,null,null,null,null,null,null,0,"@","@","@","@","@","@","@","@","@","@","@","@","@","@","@","@","@","@","@","@","@","@","@","@","@","@","@","@","@","@","@",{"$f":"'Month 6'!BL104","v":"@"},{"$f":"'Month 6'!BK104","v":"@"},{"$f":"'Month 6'!BJ104","v":"@"},{"$f":"'Month 6'!BI104","v":"@"},{"$error":"#N/A"},{"$error":"#N/A"},{"$error":"#N/A"},{"$error":"#N/A"},{"$f":"IF(ISNUMBER(SUM(COUNTIF(INDIRECT(CR104):INDIRECT(CS104),2),COUNTIF(INDIRECT(CR104):INDIRECT(CS104),1),COUNTIF(INDIRECT(CR104):INDIRECT(CS104),0))),SUM(COUNTIF(INDIRECT(CR104):INDIRECT(CS104),2),COUNTIF(INDIRECT(CR104):INDIRECT(CS104),1),COUNTIF(INDIRECT(CR104):INDIRECT(CS104),0)),\"\")","v":""},{"$f":"IF(ISNUMBER(SUM(COUNTIF(INDIRECT(CR104):INDIRECT(CT104),2),COUNTIF(INDIRECT(CR104):INDIRECT(CT104),1),COUNTIF(INDIRECT(CR104):INDIRECT(CT104),0))),SUM(COUNTIF(INDIRECT(CR104):INDIRECT(CT104),2),COUNTIF(INDIRECT(CR104):INDIRECT(CT104),1),COUNTIF(INDIRECT(CR104):INDIRECT(CT104),0)),\"\")","v":""},{"$f":"IF(ISNUMBER(SUM(COUNTIF(INDIRECT(CR104):INDIRECT(CU104),1),COUNTIF(INDIRECT(CR104):INDIRECT(CU104),0))),SUM(COUNTIF(INDIRECT(CR104):INDIRECT(CU104),1),COUNTIF(INDIRECT(CR104):INDIRECT(CU104),0)),\"\")","v":""},{"$f":"SUM(INDIRECT(CR104):INDIRECT(CS104))","v":{"$error":"#N/A"}},{"$f":"SUM(INDIRECT(CR104):INDIRECT(CT104))","v":{"$error":"#N/A"}},{"$f":"SUM(INDIRECT(CR104):INDIRECT(CU104))","v":{"$error":"#N/A"}}]

{"sheet":"Month 8","index":12,"n_rows":104,"n_cols":105,"rows_kept":104,"cut":false,"hidden":false,"merged":[[53,95,53,98],[53,99,53,101],[53,102,53,104],[6,23,20,35],[13,5,20,8]]}
[]
[]
[]
[]
[]
[null,null,null,null,"Student Name:",{"$f":"IF(ISTEXT('Month 1'!F6),'Month 1'!F6,\"\")","v":""},null,null,null,null,null,null,null,null,null,null,null,null,null,null,null,null,null,"General Notes:"]
["Go To:"]
[{"$f":"IF(ISBLANK('Month 1'!$F$12),\"Month 1\",'Month 1'!$F$12)","v":"--"},null,null,null,"Skill Title:",{"$f":"IF(ISTEXT('Month 1'!F8),'Month 1'!F8,\"\")","v":""}]
[{"$f":"IF(ISBLANK('Month 2'!$F$12),\"Month 2\",'Month 2'!$F$12)","v":"--"}]
[{"$f":"IF(ISBLANK('Month 3'!$F$12),\"Month 3\",'Month 3'!$F$12)","v":"--"},null,null,null,"Skill Type:",{"$f":"IF(ISBLANK('Month 1'!F10),\"\",'Month 1'!F10)","v":""}]
[{"$f":"IF(ISBLANK('Month 4'!$F$12),\"Month 4\",'Month 4'!$F$12)","v":"--"}]
[{"$f":"IF(ISBLANK('Month 5'!$F$12),\"Month 5\",'Month 5'!$F$12)","v":"--"},null,null,null,"Date Range:","--"]
[{"$f":"IF(ISBLANK('Month 6'!$F$12),\"Month 6\",'Month 6'!$F$12)","v":"--"}]
[{"$f":"IF(ISBLANK('Month 7'!$F$12),\"Month 7\",'Month 7'!$F$12)","v":"--"},null,null,null,"Objective:",{"$f":"IF(ISBLANK('Month 1'!$F$14),\"\",'Month 1'!$F$14)","v":""}]
[{"$f":"IF(ISBLANK('Month 8'!$F$12),\"Month 8\",'Month 8'!$F$12)","v":"--"}]
[{"$f":"IF(ISBLANK('Month 9'!$F$12),\"Month 9\",'Month 9'!$F$12)","v":"--"}]
[{"$f":"IF(ISBLANK('Month 10'!$F$12),\"Month 10\",'Month 10'!$F$12)","v":"--"}]
[{"$f":"IF(ISBLANK('Month 11'!$F$12),\"Month 11\",'Month 11'!$F$12)","v":"--"}]
[{"$f":"IF(ISBLANK('Month 12'!$F$12),\"Month 12\",'Month 12'!$F$12)","v":"--"}]
[]
[]
[]
[null,null,null,null,null,null,{"$f":"SUM(COUNTIF(G27:G76,\"+\"),COUNTIF(G27:G76,\"-\"),COUNTIF(G27:G76,\"y\"),COUNTIF(G27:G76,\"n\"),COUNTIF(G27:G76,1),COUNTIF(G27:G76,2))","v":0},0,0,0,0,0,0,0,0,0,0,0,0,0,0,0,0,0,0,0,0,0,0,0,0,0,0,0,0,0,0,{"$f":"SUM(G23:AK23)","v":0}]
[null,null,null,null,null,"Total Number Correct   à",{"$f":"IF(G23>0,SUM(CM55:CM104),\"\")","v":""},{"$f":"IF(H23>0,SUM(CL55:CL104),\"\")","v":""},{"$f":"IF(I23>0,SUM(CK55:CK104),\"\")","v":""},{"$f":"IF(J23>0,SUM(CJ55:CJ104),\"\")","v":""},{"$f":"IF(K23>0,SUM(CI55:CI104),\"\")","v":""},{"$f":"IF(L23>0,SUM(CH55:CH104),\"\")","v":""},{"$f":"IF(M23>0,SUM(CG55:CG104),\"\")","v":""},{"$f":"IF(N23>0,SUM(CF55:CF104),\"\")","v":""},{"$f":"IF(O23>0,SUM(CE55:CE104),\"\")","v":""},{"$f":"IF(P23>0,SUM(CD55:CD104),\"\")","v":""},{"$f":"IF(Q23>0,SUM(CC55:CC104),\"\")","v":""},{"$f":"IF(R23>0,SUM(CB55:CB104),\"\")","v":""},{"$f":"IF(S23>0,SUM(CA55:CA104),\"\")","v":""},{"$f":"IF(T23>0,SUM(BZ55:BZ104),\"\")","v":""},{"$f":"IF(U23>0,SUM(BY55:BY104),\"\")","v":""},{"$f":"IF(V23>0,SUM(BX55:BX104),\"\")","v":""},{"$f":"IF(W23>0,SUM(BW55:BW104),\"\")","v":""},{"$f":"IF(X23>0,SUM(BV55:BV104),\"\")","v":""},{"$f":"IF(Y23>0,SUM(BU55:BU104),\"\")","v":""},{"$f":"IF(Z23>0,SUM(BT55:BT104),\"\")","v":""},{"$f":"IF(AA23>0,SUM(BS55:BS104),\"\")","v":""},{"$f":"IF(AB23>0,SUM(BR55:BR104),\"\")","v":""},{"$f":"IF(AC23>0,SUM(BQ55:BQ104),\"\")","v":""},{"$f":"IF(AD23>0,SUM(BP55:BP104),\"\")","v":""},{"$f":"IF(AE23>0,SUM(BO55:BO104),\"\")","v":""},{"$f":"IF(AF23>0,SUM(BN55:BN104),\"\")","v":""},{"$f":"IF(AG23>0,SUM(BM55:BM104),\"\")","v":""},{"$f":"IF(AH23>0,SUM(BL55:BL104),\"\")","v":""},{"$f":"IF(AI23>0,SUM(BK55:BK104),\"\")","v":""},{"$f":"IF(AJ23>0,SUM(BJ55:BJ104),\"\")","v":""},{"$f":"IF(AK23>0,SUM(BI55:BI104),\"\")","v":""}]
[null,null,{"$f":"50-SUM(C27:C76)","v":0},"Note",null,"Initials   à"]
[null,null,0,"â",null,"Date   à"]
[null,null,{"$f":"IF(F27=\"\",1,0)","v":1},{"$f":"IF(Modifications!$C$2=2,\"N\",\"\")","v":""},{"$f":"IF(AND(BH55>0,$F$10=\"\"),\"Choose Skill Type\",IF(CX55=\"\",\"\",IF(AND(DA55=3,$F$10=\"Multi-Step (Task Analysis)\"),\"Add Next Step\",IF(AND(DA55=3,$F$10=\"Multi-Stimulus (Different Sd's)\"),\"Continue\",IF(OR(AND(CV55=5,CY55<=1),AND(CW55=4,CZ55=0)),\"Intervene\",IF(OR(AND(CV55=5,CY55<=2),AND(CW55=4,CZ55<=1),AND(CX55=3,DA55=0)),\"Check\",\"Continue\"))))))","v":""},{"$f":"IF(ISBLANK('Month 1'!$F$27),\"\",'Month 1'!$F$27)","v":""}]
[null,null,{"$f":"IF(F28=\"\",1,0)","v":1},{"$f":"IF(Modifications!$C$3=2,\"N\",\"\")","v":""},"",{"$f":"IF(ISBLANK('Month 1'!$F$28),\"\",'Month 1'!$F$28)","v":""}]
[null,null,1,{"$f":"IF(Modifications!$C$4=2,\"N\",\"\")","v":""},"",{"$f":"IF(ISBLANK('Month 1'!$F$29),\"\",'Month 1'!$F$29)","v":""}]
[null,null,1,{"$f":"IF(Modifications!$C$5=2,\"N\",\"\")","v":""},"",{"$f":"IF(ISBLANK('Month 1'!$F$30),\"\",'Month 1'!$F$30)","v":""}]
[null,null,1,{"$f":"IF(Modifications!$C$6=2,\"N\",\"\")","v":""},"",{"$f":"IF(ISBLANK('Month 1'!$F$31),\"\",'Month 1'!$F$31)","v":""}]
[null,null,1,{"$f":"IF(Modifications!$C$7=2,\"N\",\"\")","v":""},"",{"$f":"IF(ISBLANK('Month 1'!$F$32),\"\",'Month 1'!$F$32)","v":""}]
[null,null,1,{"$f":"IF(Modifications!$C$8=2,\"N\",\"\")","v":""},"",{"$f":"IF(ISBLANK('Month 1'!$F$33),\"\",'Month 1'!$F$33)","v":""}]
[null,null,1,{"$f":"IF(Modifications!$C$9=2,\"N\",\"\")","v":""},"",{"$f":"IF(ISBLANK('Month 1'!$F$34),\"\",'Month 1'!$F$34)","v":""}]
[null,null,1,{"$f":"IF(Modifications!$C$10=2,\"N\",\"\")","v":""},"",{"$f":"IF(ISBLANK('Month 1'!$F$35),\"\",'Month 1'!$F$35)","v":""}]
[null,null,1,{"$f":"IF(Modifications!$C$11=2,\"N\",\"\")","v":""},"",{"$f":"IF(ISBLANK('Month 1'!$F$36),\"\",'Month 1'!$F$36)","v":""}]
[null,null,1,{"$f":"IF(Modifications!$C$12=2,\"N\",\"\")","v":""},"",{"$f":"IF(ISBLANK('Month 1'!$F$37),\"\",'Month 1'!$F$37)","v":""}]
[null,null,1,{"$f":"IF(Modifications!$C$13=2,\"N\",\"\")","v":""},"",{"$f":"IF(ISBLANK('Month 1'!$F$38),\"\",'Month 1'!$F$38)","v":""}]
[null,null,1,{"$f":"IF(Modifications!$C$14=2,\"N\",\"\")","v":""},"",{"$f":"IF(ISBLANK('Month 1'!$F$39),\"\",'Month 1'!$F$39)","v":""}]
[null,null,1,{"$f":"IF(Modifications!$C$15=2,\"N\",\"\")","v":""},"",{"$f":"IF(ISBLANK('Month 1'!$F$40),\"\",'Month 1'!$F$40)","v":""}]
[null,null,1,{"$f":"IF(Modifications!$C$16=2,\"N\",\"\")","v":""},"",{"$f":"IF(ISBLANK('Month 1'!$F$41),\"\",'Month 1'!$F$41)","v":""}]
[null,null,1,{"$f":"IF(Modifications!$C$17=2,\"N\",\"\")","v":""},"",{"$f":"IF(ISBLANK('Month 1'!$F$42),\"\",'Month 1'!$F$42)","v":""}]
[null,null,1,{"$f":"IF(Modifications!$C$18=2,\"N\",\"\")","v":""},"",{"$f":"IF(ISBLANK('Month 1'!$F$43),\"\",'Month 1'!$F$43)","v":""}]
[null,null,1,{"$f":"IF(Modifications!$C$19=2,\"N\",\"\")","v":""},"",{"$f":"IF(ISBLANK('Month 1'!$F$44),\"\",'Month 1'!$F$44)","v":""}]
[null,null,1,{"$f":"IF(Modifications!$C$20=2,\"N\",\"\")","v":""},"",{"$f":"IF(ISBLANK('Month 1'!$F$45),\"\",'Month 1'!$F$45)","v":""}]
[null,null,1,{"$f":"IF(Modifications!$C$21=2,\"N\",\"\")","v":""},"",{"$f":"IF(ISBLANK('Month 1'!$F$46),\"\",'Month 1'!$F$46)","v":""}]
[null,null,1,{"$f":"IF(Modifications!$C$22=2,\"N\",\"\")","v":""},"",{"$f":"IF(ISBLANK('Month 1'!$F$47),\"\",'Month 1'!$F$47)","v":""}]
[null,null,1,{"$f":"IF(Modifications!$C$23=2,\"N\",\"\")","v":""},"",{"$f":"IF(ISBLANK('Month 1'!$F$48),\"\",'Month 1'!$F$48)","v":""}]
[null,null,1,{"$f":"IF(Modifications!$C$24=2,\"N\",\"\")","v":""},"",{"$f":"IF(ISBLANK('Month 1'!$F$49),\"\",'Month 1'!$F$49)","v":""}]
[null,null,1,{"$f":"IF(Modifications!$C$25=2,\"N\",\"\")","v":""},"",{"$f":"IF(ISBLANK('Month 1'!$F$50),\"\",'Month 1'!$F$50)","v":""}]
[null,null,1,{"$f":"IF(Modifications!$C$26=2,\"N\",\"\")","v":""},"",{"$f":"IF(ISBLANK('Month 1'!$F$51),\"\",'Month 1'!$F$51)","v":""}]
[null,null,1,{"$f":"IF(Modifications!$C$27=2,\"N\",\"\")","v":""},"",{"$f":"IF(ISBLANK('Month 1'!$F$52),\"\",'Month 1'!$F$52)","v":""}]
[null,null,1,{"$f":"IF(Modifications!$C$28=2,\"N\",\"\")","v":""},"",{"$f":"IF(ISBLANK('Month 1'!$F$53),\"\",'Month 1'!$F$53)","v":""}]
[null,null,1,{"$f":"IF(Modifications!$C$29=2,\"N\",\"\")","v":""},"",{"$f":"IF(ISBLANK('Month 1'!$F$54),\"\",'Month 1'!$F$54)","v":""},null,null,null,null,null,null,null,null,null,null,null,null,null,null,null,null,null,null,null,null,null,null,null,null,null,null,null,null,null,null,null,null,null,null,null,null,null,null,null,null,null,null,null,null,null,null,null,null,null,null,null,null,null,null,null,null,null,null,null,null,null,null,null,null,null,null,null,null,null,null,null,null,null,null,null,null,null,null,null,null,null,null,null,null,null,null,null,null,null,"Locations (start,5,4,3)",null,null,null,"Are they in a row? (5,4,3)",null,null,"Sum of items in row (5,4,3)"]
[null,null,1,{"$f":"IF(Modifications!$C$30=2,\"N\",\"\")","v":""},"",{"$f":"IF(ISBLANK('Month 1'!$F$55),\"\",'Month 1'!$F$55)","v":""},null,null,null,null,null,null,null,null,null,null,null,null,null,null,null,null,null,null,null,null,null,null,null,null,null,null,null,null,null,null,null,null,null,null,null,null,null,null,null,null,null,null,null,null,null,null,null,null,null,null,null,null,null,{"$f":"SUM(COUNTIF(BI55:CM55,1),COUNTIF(BI55:CM55,0))","v":0},{"$f":"IF(OR(AK27=\"+\",AK27=\"Y\",AK27=2),1,IF(OR(AK27=\"-\",AK27=\"N\",AK27=1),0,IF(OR(BJ55=1,BJ55=0),\"#\",\"@\")))","v":"@"},{"$f":"IF(OR(AJ27=\"+\",AJ27=\"Y\",AJ27=2),1,IF(OR(AJ27=\"-\",AJ27=\"N\",AJ27=1),0,IF(OR(BK55=1,BK55=0),\"#\",\"@\")))","v":"@"},{"$f":"IF(OR(AI27=\"+\",AI27=\"Y\",AI27=2),1,IF(OR(AI27=\"-\",AI27=\"N\",AI27=1),0,IF(OR(BL55=1,BL55=0),\"#\",\"@\")))","v":"@"},{"$f":"IF(OR(AH27=\"+\",AH27=\"Y\",AH27=2),1,IF(OR(AH27=\"-\",AH27=\"N\",AH27=1),0,IF(OR(BM55=1,BM55=0),\"#\",\"@\")))","v":"@"},{"$f":"IF(OR(AG27=\"+\",AG27=\"Y\",AG27=2),1,IF(OR(AG27=\"-\",AG27=\"N\",AG27=1),0,IF(OR(BN55=1,BN55=0),\"#\",\"@\")))","v":"@"},{"$f":"IF(OR(AF27=\"+\",AF27=\"Y\",AF27=2),1,IF(OR(AF27=\"-\",AF27=\"N\",AF27=1),0,IF(OR(BO55=1,BO55=0),\"#\",\"@\")))","v":"@"},{"$f":"IF(OR(AE27=\"+\",AE27=\"Y\",AE27=2),1,IF(OR(AE27=\"-\",AE27=\"N\",AE27=1),0,IF(OR(BP55=1,BP55=0),\"#\",\"@\")))","v":"@"},{"$f":"IF(OR(AD27=\"+\",AD27=\"Y\",AD27=2),1,IF(OR(AD27=\"-\",AD27=\"N\",AD27=1),0,IF(OR(BQ55=1,BQ55=0),\"#\",\"@\")))","v":"@"},{"$f":"IF(OR(AC27=\"+\",AC27=\"Y\",AC27=2),1,IF(OR(AC27=\"-\",AC27=\"N\",AC27=1),0,IF(OR(BR55=1,BR55=0),\"#\",\"@\")))","v":"@"},{"$f":"IF(OR(AB27=\"+\",AB27=\"Y\",AB27=2),1,IF(OR(AB27=\"-\",AB27=\"N\",AB27=1),0,IF(OR(BS55=1,BS55=0),\"#\",\"@\")))","v":"@"},{"$f":"IF(OR(AA27=\"+\",AA27=\"Y\",AA27=2),1,IF(OR(AA27=\"-\",AA27=\"N\",AA27=1),0,IF(OR(BT55=1,BT55=0),\"#\",\"@\")))","v":"@"},{"$f":"IF(OR(Z27=\"+\",Z27=\"Y\",Z27=2),1,IF(OR(Z27=\"-\",Z27=\"N\",Z27=1),0,IF(OR(BU55=1,BU55=0),\"#\",\"@\")))","v":"@"},{"$f":"IF(OR(Y27=\"+\",Y27=\"Y\",Y27=2),1,IF(OR(Y27=\"-\",Y27=\"N\",Y27=1),0,IF(OR(BV55=1,BV55=0),\"#\",\"@\")))","v":"@"},{"$f":"IF(OR(X27=\"+\",X27=\"Y\",X27=2),1,IF(OR(X27=\"-\",X27=\"N\",X27=1),0,IF(OR(BW55=1,BW55=0),\"#\",\"@\")))","v":"@"},{"$f":"IF(OR(W27=\"+\",W27=\"Y\",W27=2),1,IF(OR(W27=\"-\",W27=\"N\",W27=1),0,IF(OR(BX55=1,BX55=0),\"#\",\"@\")))","v":"@"},{"$f":"IF(OR(V27=\"+\",V27=\"Y\",V27=2),1,IF(OR(V27=\"-\",V27=\"N\",V27=1),0,IF(OR(BY55=1,BY55=0),\"#\",\"@\")))","v":"@"},{"$f":"IF(OR(U27=\"+\",U27=\"Y\",U27=2),1,IF(OR(U27=\"-\",U27=\"N\",U27=1),0,IF(OR(BZ55=1,BZ55=0),\"#\",\"@\")))","v":"@"},{"$f":"IF(OR(T27=\"+\",T27=\"Y\",T27=2),1,IF(OR(T27=\"-\",T27=\"N\",T27=1),0,IF(OR(CA55=1,CA55=0),\"#\",\"@\")))","v":"@"},{"$f":"IF(OR(S27=\"+\",S27=\"Y\",S27=2),1,IF(OR(S27=\"-\",S27=\"N\",S27=1),0,IF(OR(CB55=1,CB55=0),\"#\",\"@\")))","v":"@"},{"$f":"IF(OR(R27=\"+\",R27=\"Y\",R27=2),1,IF(OR(R27=\"-\",R27=\"N\",R27=1),0,IF(OR(CC55=1,CC55=0),\"#\",\"@\")))","v":"@"},{"$f":"IF(OR(Q27=\"+\",Q27=\"Y\",Q27=2),1,IF(OR(Q27=\"-\",Q27=\"N\",Q27=1),0,IF(OR(CD55=1,CD55=0),\"#\",\"@\")))","v":"@"},{"$f":"IF(OR(P27=\"+\",P27=\"Y\",P27=2),1,IF(OR(P27=\"-\",P27=\"N\",P27=1),0,IF(OR(CE55=1,CE55=0),\"#\",\"@\")))","v":"@"},{"$f":"IF(OR(O27=\"+\",O27=\"Y\",O27=2),1,IF(OR(O27=\"-\",O27=\"N\",O27=1),0,IF(OR(CF55=1,CF55=0),\"#\",\"@\")))","v":"@"},{"$f":"IF(OR(N27=\"+\",N27=\"Y\",N27=2),1,IF(OR(N27=\"-\",N27=\"N\",N27=1),0,IF(OR(CG55=1,CG55=0),\"#\",\"@\")))","v":"@"},{"$f":"IF(OR(M27=\"+\",M27=\"Y\",M27=2),1,IF(OR(M27=\"-\",M27=\"N\",M27=1),0,IF(OR(CH55=1,CH55=0),\"#\",\"@\")))","v":"@"},{"$f":"IF(OR(L27=\"+\",L27=\"Y\",L27=2),1,IF(OR(L27=\"-\",L27=\"N\",L27=1),0,IF(OR(CI55=1,CI55=0),\"#\",\"@\")))","v":"@"},{"$f":"IF(OR(K27=\"+\",K27=\"Y\",K27=2),1,IF(OR(K27=\"-\",K27=\"N\",K27=1),0,IF(OR(CJ55=1,CJ55=0),\"#\",\"@\")))","v":"@"},{"$f":"IF(OR(J27=\"+\",J27=\"Y\",J27=2),1,IF(OR(J27=\"-\",J27=\"N\",J27=1),0,IF(OR(CK55=1,CK55=0),\"#\",\"@\")))","v":"@"},{"$f":"IF(OR(I27=\"+\",I27=\"Y\",I27=2),1,IF(OR(I27=\"-\",I27=\"N\",I27=1),0,IF(OR(CL55=1,CL55=0),\"#\",\"@\")))","v":"@"},{"$f":"IF(OR(H27=\"+\",H27=\"Y\",H27=2),1,IF(OR(H27=\"-\",H27=\"N\",H27=1),0,IF(OR(CM55=1,CM55=0),\"#\",\"@\")))","v":"@"},{"$f":"IF(OR(G27=\"+\",G27=\"Y\",G27=2),1,IF(OR(G27=\"-\",G27=\"N\",G27=1),0,\"@\"))","v":"@"},{"$f":"'Month 7'!BL55","v":"@"},{"$f":"'Month 7'!BK55","v":"@"},{"$f":"'Month 7'!BJ55","v":"@"},{"$f":"'Month 7'!BI55","v":"@"},{"$f":"ADDRESS(ROW(BH55),(MATCH(\"#\",BI55:CM55,0)+61))","v":{"$error":"#N/A"}},{"$f":"ADDRESS(ROW(BH55),(MATCH(\"#\",BI55:CM55,0)+65))","v":{"$error":"#N/A"}},{"$f":"ADDRESS(ROW(BH55),(MATCH(\"#\",BI55:CM55,0)+64))","v":{"$error":"#N/A"}},{"$f":"ADDRESS(ROW(BH55),(MATCH(\"#\",BI55:CM55,0)+63))","v":{"$error":"#N/A"}},{"$f":"IF(ISNUMBER(SUM(COUNTIF(INDIRECT(CR55):INDIRECT(CS55),2),COUNTIF(INDIRECT(CR55):INDIRECT(CS55),1),COUNTIF(INDIRECT(CR55):INDIRECT(CS55),0))),SUM(COUNTIF(INDIRECT(CR55):INDIRECT(CS55),2),COUNTIF(INDIRECT(CR55):INDIRECT(CS55),1),COUNTIF(INDIRECT(CR55):INDIRECT(CS55),0)),\"\")","v":""},{"$f":"IF(ISNUMBER(SUM(COUNTIF(INDIRECT(CR55):INDIRECT(CT55),2),COUNTIF(INDIRECT(CR55):INDIRECT(CT55),1),COUNTIF(INDIRECT(CR55):INDIRECT(CT55),0))),SUM(COUNTIF(INDIRECT(CR55):INDIRECT(CT55),2),COUNTIF(INDIRECT(CR55):INDIRECT(CT55),1),COUNTIF(INDIRECT(CR55):INDIRECT(CT55),0)),\"\")","v":""},{"$f":"IF(ISNUMBER(SUM(COUNTIF(INDIRECT(CR55):INDIRECT(CU55),1),COUNTIF(INDIRECT(CR55):INDIRECT(CU55),0))),SUM(COUNTIF(INDIRECT(CR55):INDIRECT(CU55),1),COUNTIF(INDIRECT(CR55):INDIRECT(CU55),0)),\"\")","v":""},{"$f":"SUM(INDIRECT(CR55):INDIRECT(CS55))","v":{"$error":"#N/A"}},{"$f":"SUM(INDIRECT(CR55):INDIRECT(CT55))","v":{"$error":"#N/A"}},{"$f":"SUM(INDIRECT(CR55):INDIRECT(CU55))","v":{"$error":"#N/A"}}]
[null,null,1,{"$f":"IF(Modifications!$C$31=2,\"N\",\"\")","v":""},"",{"$f":"IF(ISBLANK('Month 1'!$F$56),\"\",'Month 1'!$F$56)","v":""},null,null,null,null,null,null,null,null,null,null,null,null,null,null,null,null,null,null,null,null,null,null,null,null,null,null,null,null,null,null,null,null,null,null,null,null,null,null,null,null,null,null,null,null,null,null,null,null,null,null,null,null,null,0,"@","@","@","@","@","@","@","@","@","@","@","@","@","@","@","@","@","@","@","@","@","@","@","@","@","@","@","@","@","@","@",{"$f":"'Month 7'!BL56","v":"@"},{"$f":"'Month 7'!BK56","v":"@"},{"$f":"'Month 7'!BJ56","v":"@"},{"$f":"'Month 7'!BI56","v":"@"},{"$error":"#N/A"},{"$error":"#N/A"},{"$error":"#N/A"},{"$error":"#N/A"},{"$f":"IF(ISNUMBER(SUM(COUNTIF(INDIRECT(CR56):INDIRECT(CS56),2),COUNTIF(INDIRECT(CR56):INDIRECT(CS56),1),COUNTIF(INDIRECT(CR56):INDIRECT(CS56),0))),SUM(COUNTIF(INDIRECT(CR56):INDIRECT(CS56),2),COUNTIF(INDIRECT(CR56):INDIRECT(CS56),1),COUNTIF(INDIRECT(CR56):INDIRECT(CS56),0)),\"\")","v":""},{"$f":"IF(ISNUMBER(SUM(COUNTIF(INDIRECT(CR56):INDIRECT(CT56),2),COUNTIF(INDIRECT(CR56):INDIRECT(CT56),1),COUNTIF(INDIRECT(CR56):INDIRECT(CT56),0))),SUM(COUNTIF(INDIRECT(CR56):INDIRECT(CT56),2),COUNTIF(INDIRECT(CR56):INDIRECT(CT56),1),COUNTIF(INDIRECT(CR56):INDIRECT(CT56),0)),\"\")","v":""},{"$f":"IF(ISNUMBER(SUM(COUNTIF(INDIRECT(CR56):INDIRECT(CU56),1),COUNTIF(INDIRECT(CR56):INDIRECT(CU56),0))),SUM(COUNTIF(INDIRECT(CR56):INDIRECT(CU56),1),COUNTIF(INDIRECT(CR56):INDIRECT(CU56),0)),\"\")","v":""},{"$f":"SUM(INDIRECT(CR56):INDIRECT(CS56))","v":{"$error":"#N/A"}},{"$f":"SUM(INDIRECT(CR56):INDIRECT(CT56))","v":{"$error":"#N/A"}},{"$f":"SUM(INDIRECT(CR56):INDIRECT(CU56))","v":{"$error":"#N/A"}}]
[null,null,1,{"$f":"IF(Modifications!$C$32=2,\"N\",\"\")","v":""},"",{"$f":"IF(ISBLANK('Month 1'!$F$57),\"\",'Month 1'!$F$57)","v":""},null,null,null,null,null,null,null,null,null,null,null,null,null,null,null,null,null,null,null,null,null,null,null,null,null,null,null,null,null,null,null,null,null,null,null,null,null,null,null,null,null,null,null,null,null,null,null,null,null,null,null,null,null,0,"@","@","@","@","@","@","@","@","@","@","@","@","@","@","@","@","@","@","@","@","@","@","@","@","@","@","@","@","@","@","@",{"$f":"'Month 7'!BL57","v":"@"},{"$f":"'Month 7'!BK57","v":"@"},{"$f":"'Month 7'!BJ57","v":"@"},{"$f":"'Month 7'!BI57","v":"@"},{"$error":"#N/A"},{"$error":"#N/A"},{"$error":"#N/A"},{"$error":"#N/A"},{"$f":"IF(ISNUMBER(SUM(COUNTIF(INDIRECT(CR57):INDIRECT(CS57),2),COUNTIF(INDIRECT(CR57):INDIRECT(CS57),1),COUNTIF(INDIRECT(CR57):INDIRECT(CS57),0))),SUM(COUNTIF(INDIRECT(CR57):INDIRECT(CS57),2),COUNTIF(INDIRECT(CR57):INDIRECT(CS57),1),COUNTIF(INDIRECT(CR57):INDIRECT(CS57),0)),\"\")","v":""},{"$f":"IF(ISNUMBER(SUM(COUNTIF(INDIRECT(CR57):INDIRECT(CT57),2),COUNTIF(INDIRECT(CR57):INDIRECT(CT57),1),COUNTIF(INDIRECT(CR57):INDIRECT(CT57),0))),SUM(COUNTIF(INDIRECT(CR57):INDIRECT(CT57),2),COUNTIF(INDIRECT(CR57):INDIRECT(CT57),1),COUNTIF(INDIRECT(CR57):INDIRECT(CT57),0)),\"\")","v":""},{"$f":"IF(ISNUMBER(SUM(COUNTIF(INDIRECT(CR57):INDIRECT(CU57),1),COUNTIF(INDIRECT(CR57):INDIRECT(CU57),0))),SUM(COUNTIF(INDIRECT(CR57):INDIRECT(CU57),1),COUNTIF(INDIRECT(CR57):INDIRECT(CU57),0)),\"\")","v":""},{"$f":"SUM(INDIRECT(CR57):INDIRECT(CS57))","v":{"$error":"#N/A"}},{"$f":"SUM(INDIRECT(CR57):INDIRECT(CT57))","v":{"$error":"#N/A"}},{"$f":"SUM(INDIRECT(CR57):INDIRECT(CU57))","v":{"$error":"#N/A"}}]
[null,null,1,{"$f":"IF(Modifications!$C$33=2,\"N\",\"\")","v":""},"",{"$f":"IF(ISBLANK('Month 1'!$F$58),\"\",'Month 1'!$F$58)","v":""},null,null,null,null,null,null,null,null,null,null,null,null,null,null,null,null,null,null,null,null,null,null,null,null,null,null,null,null,null,null,null,null,null,null,null,null,null,null,null,null,null,null,null,null,null,null,null,null,null,null,null,null,null,0,"@","@","@","@","@","@","@","@","@","@","@","@","@","@","@","@","@","@","@","@","@","@","@","@","@","@","@","@","@","@","@",{"$f":"'Month 7'!BL58","v":"@"},{"$f":"'Month 7'!BK58","v":"@"},{"$f":"'Month 7'!BJ58","v":"@"},{"$f":"'Month 7'!BI58","v":"@"},{"$error":"#N/A"},{"$error":"#N/A"},{"$error":"#N/A"},{"$error":"#N/A"},{"$f":"IF(ISNUMBER(SUM(COUNTIF(INDIRECT(CR58):INDIRECT(CS58),2),COUNTIF(INDIRECT(CR58):INDIRECT(CS58),1),COUNTIF(INDIRECT(CR58):INDIRECT(CS58),0))),SUM(COUNTIF(INDIRECT(CR58):INDIRECT(CS58),2),COUNTIF(INDIRECT(CR58):INDIRECT(CS58),1),COUNTIF(INDIRECT(CR58):INDIRECT(CS58),0)),\"\")","v":""},{"$f":"IF(ISNUMBER(SUM(COUNTIF(INDIRECT(CR58):INDIRECT(CT58),2),COUNTIF(INDIRECT(CR58):INDIRECT(CT58),1),COUNTIF(INDIRECT(CR58):INDIRECT(CT58),0))),SUM(COUNTIF(INDIRECT(CR58):INDIRECT(CT58),2),COUNTIF(INDIRECT(CR58):INDIRECT(CT58),1),COUNTIF(INDIRECT(CR58):INDIRECT(CT58),0)),\"\")","v":""},{"$f":"IF(ISNUMBER(SUM(COUNTIF(INDIRECT(CR58):INDIRECT(CU58),1),COUNTIF(INDIRECT(CR58):INDIRECT(CU58),0))),SUM(COUNTIF(INDIRECT(CR58):INDIRECT(CU58),1),COUNTIF(INDIRECT(CR58):INDIRECT(CU58),0)),\"\")","v":""},{"$f":"SUM(INDIRECT(CR58):INDIRECT(CS58))","v":{"$error":"#N/A"}},{"$f":"SUM(INDIRECT(CR58):INDIRECT(CT58))","v":{"$error":"#N/A"}},{"$f":"SUM(INDIRECT(CR58):INDIRECT(CU58))","v":{"$error":"#N/A"}}]
[null,null,1,{"$f":"IF(Modifications!$C$34=2,\"N\",\"\")","v":""},{"$f":"IF(AND(BH87>0,$F$10=\"\"),\"Choose Skill Type\",IF(CX87=\"\",\"\",IF(AND(DA87=3,$F$10=\"Multi-Step (Task Analysis)\"),\"Add Next Step\",IF(AND(DA87=3,$F$10=\"Multi-Stimulus (Different Sd's)\"),\"Continue\",IF(OR(AND(CV87=5,CY87<=1),AND(CW87=4,CZ87=0)),\"Intervene\",IF(OR(AND(CV87=5,CY87<=2),AND(CW87=4,CZ87<=1),AND(CX87=3,DA87=0)),\"Check\",\"Continue\"))))))","v":""},{"$f":"IF(ISBLANK('Month 1'!$F$59),\"\",'Month 1'!$F$59)","v":""},null,null,null,null,null,null,null,null,null,null,null,null,null,null,null,null,null,null,null,null,null,null,null,null,null,null,null,null,null,null,null,null,null,null,null,null,null,null,null,null,null,null,null,null,null,null,null,null,null,null,null,null,null,0,"@","@","@","@","@","@","@","@","@","@","@","@","@","@","@","@","@","@","@","@","@","@","@","@","@","@","@","@","@","@","@",{"$f":"'Month 7'!BL59","v":"@"},{"$f":"'Month 7'!BK59","v":"@"},{"$f":"'Month 7'!BJ59","v":"@"},{"$f":"'Month 7'!BI59","v":"@"},{"$error":"#N/A"},{"$error":"#N/A"},{"$error":"#N/A"},{"$error":"#N/A"},{"$f":"IF(ISNUMBER(SUM(COUNTIF(INDIRECT(CR59):INDIRECT(CS59),2),COUNTIF(INDIRECT(CR59):INDIRECT(CS59),1),COUNTIF(INDIRECT(CR59):INDIRECT(CS59),0))),SUM(COUNTIF(INDIRECT(CR59):INDIRECT(CS59),2),COUNTIF(INDIRECT(CR59):INDIRECT(CS59),1),COUNTIF(INDIRECT(CR59):INDIRECT(CS59),0)),\"\")","v":""},{"$f":"IF(ISNUMBER(SUM(COUNTIF(INDIRECT(CR59):INDIRECT(CT59),2),COUNTIF(INDIRECT(CR59):INDIRECT(CT59),1),COUNTIF(INDIRECT(CR59):INDIRECT(CT59),0))),SUM(COUNTIF(INDIRECT(CR59):INDIRECT(CT59),2),COUNTIF(INDIRECT(CR59):INDIRECT(CT59),1),COUNTIF(INDIRECT(CR59):INDIRECT(CT59),0)),\"\")","v":""},{"$f":"IF(ISNUMBER(SUM(COUNTIF(INDIRECT(CR59):INDIRECT(CU59),1),COUNTIF(INDIRECT(CR59):INDIRECT(CU59),0))),SUM(COUNTIF(INDIRECT(CR59):INDIRECT(CU59),1),COUNTIF(INDIRECT(CR59):INDIRECT(CU59),0)),\"\")","v":""},{"$f":"SUM(INDIRECT(CR59):INDIRECT(CS59))","v":{"$error":"#N/A"}},{"$f":"SUM(INDIRECT(CR59):INDIRECT(CT59))","v":{"$error":"#N/A"}},{"$f":"SUM(INDIRECT(CR59):INDIRECT(CU59))","v":{"$error":"#N/A"}}]
[null,null,1,{"$f":"IF(Modifications!$C$35=2,\"N\",\"\")","v":""},"",{"$f":"IF(ISBLANK('Month 1'!$F$60),\"\",'Month 1'!$F$60)","v":""},null,null,null,null,null,null,null,null,null,null,null,null,null,null,null,null,null,null,null,null,null,null,null,null,null,null,null,null,null,null,null,null,null,null,null,null,null,null,null,null,null,null,null,null,null,null,null,null,null,null,null,null,null,0,"@","@","@","@","@","@","@","@","@","@","@","@","@","@","@","@","@","@","@","@","@","@","@","@","@","@","@","@","@","@","@",{"$f":"'Month 7'!BL60","v":"@"},{"$f":"'Month 7'!BK60","v":"@"},{"$f":"'Month 7'!BJ60","v":"@"},{"$f":"'Month 7'!BI60","v":"@"},{"$error":"#N/A"},{"$error":"#N/A"},{"$error":"#N/A"},{"$error":"#N/A"},{"$f":"IF(ISNUMBER(SUM(COUNTIF(INDIRECT(CR60):INDIRECT(CS60),2),COUNTIF(INDIRECT(CR60):INDIRECT(CS60),1),COUNTIF(INDIRECT(CR60):INDIRECT(CS60),0))),SUM(COUNTIF(INDIRECT(CR60):INDIRECT(CS60),2),COUNTIF(INDIRECT(CR60):INDIRECT(CS60),1),COUNTIF(INDIRECT(CR60):INDIRECT(CS60),0)),\"\")","v":""},{"$f":"IF(ISNUMBER(SUM(COUNTIF(INDIRECT(CR60):INDIRECT(CT60),2),COUNTIF(INDIRECT(CR60):INDIRECT(CT60),1),COUNTIF(INDIRECT(CR60):INDIRECT(CT60),0))),SUM(COUNTIF(INDIRECT(CR60):INDIRECT(CT60),2),COUNTIF(INDIRECT(CR60):INDIRECT(CT60),1),COUNTIF(INDIRECT(CR60):INDIRECT(CT60),0)),\"\")","v":""},{"$f":"IF(ISNUMBER(SUM(COUNTIF(INDIRECT(CR60):INDIRECT(CU60),1),COUNTIF(INDIRECT(CR60):INDIRECT(CU60),0))),SUM(COUNTIF(INDIRECT(CR60):INDIRECT(CU60),1),COUNTIF(INDIRECT(CR60):INDIRECT(CU60),0)),\"\")","v":""},{"$f":"SUM(INDIRECT(CR60):INDIRECT(CS60))","v":{"$error":"#N/A"}},{"$f":"SUM(INDIRECT(CR60):INDIRECT(CT60))","v":{"$error":"#N/A"}},{"$f":"SUM(INDIRECT(CR60):INDIRECT(CU60))","v":{"$error":"#N/A"}}]
[null,null,1,{"$f":"IF(Modifications!$C$36=2,\"N\",\"\")","v":""},"",{"$f":"IF(ISBLANK('Month 1'!$F$61),\"\",'Month 1'!$F$61)","v":""},null,null,null,null,null,null,null,null,null,null,null,null,null,null,null,null,null,null,null,null,null,null,null,null,null,null,null,null,null,null,null,null,null,null,null,null,null,null,null,null,null,null,null,null,null,null,null,null,null,null,null,null,null,0,"@","@","@","@","@","@","@","@","@","@","@","@","@","@","@","@","@","@","@","@","@","@","@","@","@","@","@","@","@","@","@",{"$f":"'Month 7'!BL61","v":"@"},{"$f":"'Month 7'!BK61","v":"@"},{"$f":"'Month 7'!BJ61","v":"@"},{"$f":"'Month 7'!BI61","v":"@"},{"$error":"#N/A"},{"$error":"#N/A"},{"$error":"#N/A"},{"$error":"#N/A"},{"$f":"IF(ISNUMBER(SUM(COUNTIF(INDIRECT(CR61):INDIRECT(CS61),2),COUNTIF(INDIRECT(CR61):INDIRECT(CS61),1),COUNTIF(INDIRECT(CR61):INDIRECT(CS61),0))),SUM(COUNTIF(INDIRECT(CR61):INDIRECT(CS61),2),COUNTIF(INDIRECT(CR61):INDIRECT(CS61),1),COUNTIF(INDIRECT(CR61):INDIRECT(CS61),0)),\"\")","v":""},{"$f":"IF(ISNUMBER(SUM(COUNTIF(INDIRECT(CR61):INDIRECT(CT61),2),COUNTIF(INDIRECT(CR61):INDIRECT(CT61),1),COUNTIF(INDIRECT(CR61):INDIRECT(CT61),0))),SUM(COUNTIF(INDIRECT(CR61):INDIRECT(CT61),2),COUNTIF(INDIRECT(CR61):INDIRECT(CT61),1),COUNTIF(INDIRECT(CR61):INDIRECT(CT61),0)),\"\")","v":""},{"$f":"IF(ISNUMBER(SUM(COUNTIF(INDIRECT(CR61):INDIRECT(CU61),1),COUNTIF(INDIRECT(CR61):INDIRECT(CU61),0))),SUM(COUNTIF(INDIRECT(CR61):INDIRECT(CU61),1),COUNTIF(INDIRECT(CR61):INDIRECT(CU61),0)),\"\")","v":""},{"$f":"SUM(INDIRECT(CR61):INDIRECT(CS61))","v":{"$error":"#N/A"}},{"$f":"SUM(INDIRECT(CR61):INDIRECT(CT61))","v":{"$error":"#N/A"}},{"$f":"SUM(INDIRECT(CR61):INDIRECT(CU61))","v":{"$error":"#N/A"}}]
[null,null,1,{"$f":"IF(Modifications!$C$37=2,\"N\",\"\")","v":""},"",{"$f":"IF(ISBLANK('Month 1'!$F$62),\"\",'Month 1'!$F$62)","v":""},null,null,null,null,null,null,null,null,null,null,null,null,null,null,null,null,null,null,null,null,null,null,null,null,null,null,null,null,null,null,null,null,null,null,null,null,null,null,null,null,null,null,null,null,null,null,null,null,null,null,null,null,null,0,"@","@","@","@","@","@","@","@","@","@","@","@","@","@","@","@","@","@","@","@","@","@","@","@","@","@","@","@","@","@","@",{"$f":"'Month 7'!BL62","v":"@"},{"$f":"'Month 7'!BK62","v":"@"},{"$f":"'Month 7'!BJ62","v":"@"},{"$f":"'Month 7'!BI62","v":"@"},{"$error":"#N/A"},{"$error":"#N/A"},{"$error":"#N/A"},{"$error":"#N/A"},{"$f":"IF(ISNUMBER(SUM(COUNTIF(INDIRECT(CR62):INDIRECT(CS62),2),COUNTIF(INDIRECT(CR62):INDIRECT(CS62),1),COUNTIF(INDIRECT(CR62):INDIRECT(CS62),0))),SUM(COUNTIF(INDIRECT(CR62):INDIRECT(CS62),2),COUNTIF(INDIRECT(CR62):INDIRECT(CS62),1),COUNTIF(INDIRECT(CR62):INDIRECT(CS62),0)),\"\")","v":""},{"$f":"IF(ISNUMBER(SUM(COUNTIF(INDIRECT(CR62):INDIRECT(CT62),2),COUNTIF(INDIRECT(CR62):INDIRECT(CT62),1),COUNTIF(INDIRECT(CR62):INDIRECT(CT62),0))),SUM(COUNTIF(INDIRECT(CR62):INDIRECT(CT62),2),COUNTIF(INDIRECT(CR62):INDIRECT(CT62),1),COUNTIF(INDIRECT(CR62):INDIRECT(CT62),0)),\"\")","v":""},{"$f":"IF(ISNUMBER(SUM(COUNTIF(INDIRECT(CR62):INDIRECT(CU62),1),COUNTIF(INDIRECT(CR62):INDIRECT(CU62),0))),SUM(COUNTIF(INDIRECT(CR62):INDIRECT(CU62),1),COUNTIF(INDIRECT(CR62):INDIRECT(CU62),0)),\"\")","v":""},{"$f":"SUM(INDIRECT(CR62):INDIRECT(CS62))","v":{"$error":"#N/A"}},{"$f":"SUM(INDIRECT(CR62):INDIRECT(CT62))","v":{"$error":"#N/A"}},{"$f":"SUM(INDIRECT(CR62):INDIRECT(CU62))","v":{"$error":"#N/A"}}]
[null,null,1,{"$f":"IF(Modifications!$C$38=2,\"N\",\"\")","v":""},"",{"$f":"IF(ISBLANK('Month 1'!$F$63),\"\",'Month 1'!$F$63)","v":""},null,null,null,null,null,null,null,null,null,null,null,null,null,null,null,null,null,null,null,null,null,null,null,null,null,null,null,null,null,null,null,null,null,null,null,null,null,null,null,null,null,null,null,null,null,null,null,null,null,null,null,null,null,0,"@","@","@","@","@","@","@","@","@","@","@","@","@","@","@","@","@","@","@","@","@","@","@","@","@","@","@","@","@","@","@",{"$f":"'Month 7'!BL63","v":"@"},{"$f":"'Month 7'!BK63","v":"@"},{"$f":"'Month 7'!BJ63","v":"@"},{"$f":"'Month 7'!BI63","v":"@"},{"$error":"#N/A"},{"$error":"#N/A"},{"$error":"#N/A"},{"$error":"#N/A"},{"$f":"IF(ISNUMBER(SUM(COUNTIF(INDIRECT(CR63):INDIRECT(CS63),2),COUNTIF(INDIRECT(CR63):INDIRECT(CS63),1),COUNTIF(INDIRECT(CR63):INDIRECT(CS63),0))),SUM(COUNTIF(INDIRECT(CR63):INDIRECT(CS63),2),COUNTIF(INDIRECT(CR63):INDIRECT(CS63),1),COUNTIF(INDIRECT(CR63):INDIRECT(CS63),0)),\"\")","v":""},{"$f":"IF(ISNUMBER(SUM(COUNTIF(INDIRECT(CR63):INDIRECT(CT63),2),COUNTIF(INDIRECT(CR63):INDIRECT(CT63),1),COUNTIF(INDIRECT(CR63):INDIRECT(CT63),0))),SUM(COUNTIF(INDIRECT(CR63):INDIRECT(CT63),2),COUNTIF(INDIRECT(CR63):INDIRECT(CT63),1),COUNTIF(INDIRECT(CR63):INDIRECT(CT63),0)),\"\")","v":""},{"$f":"IF(ISNUMBER(SUM(COUNTIF(INDIRECT(CR63):INDIRECT(CU63),1),COUNTIF(INDIRECT(CR63):INDIRECT(CU63),0))),SUM(COUNTIF(INDIRECT(CR63):INDIRECT(CU63),1),COUNTIF(INDIRECT(CR63):INDIRECT(CU63),0)),\"\")","v":""},{"$f":"SUM(INDIRECT(CR63):INDIRECT(CS63))","v":{"$error":"#N/A"}},{"$f":"SUM(INDIRECT(CR63):INDIRECT(CT63))","v":{"$error":"#N/A"}},{"$f":"SUM(INDIRECT(CR63):INDIRECT(CU63))","v":{"$error":"#N/A"}}]
[null,null,1,{"$f":"IF(Modifications!$C$39=2,\"N\",\"\")","v":""},"",{"$f":"IF(ISBLANK('Month 1'!$F$64),\"\",'Month 1'!$F$64)","v":""},null,null,null,null,null,null,null,null,null,null,null,null,null,null,null,null,null,null,null,null,null,null,null,null,null,null,null,null,null,null,null,null,null,null,null,null,null,null,null,null,null,null,null,null,null,null,null,null,null,null,null,null,null,0,"@","@","@","@","@","@","@","@","@","@","@","@","@","@","@","@","@","@","@","@","@","@","@","@","@","@","@","@","@","@","@",{"$f":"'Month 7'!BL64","v":"@"},{"$f":"'Month 7'!BK64","v":"@"},{"$f":"'Month 7'!BJ64","v":"@"},{"$f":"'Month 7'!BI64","v":"@"},{"$error":"#N/A"},{"$error":"#N/A"},{"$error":"#N/A"},{"$error":"#N/A"},{"$f":"IF(ISNUMBER(SUM(COUNTIF(INDIRECT(CR64):INDIRECT(CS64),2),COUNTIF(INDIRECT(CR64):INDIRECT(CS64),1),COUNTIF(INDIRECT(CR64):INDIRECT(CS64),0))),SUM(COUNTIF(INDIRECT(CR64):INDIRECT(CS64),2),COUNTIF(INDIRECT(CR64):INDIRECT(CS64),1),COUNTIF(INDIRECT(CR64):INDIRECT(CS64),0)),\"\")","v":""},{"$f":"IF(ISNUMBER(SUM(COUNTIF(INDIRECT(CR64):INDIRECT(CT64),2),COUNTIF(INDIRECT(CR64):INDIRECT(CT64),1),COUNTIF(INDIRECT(CR64):INDIRECT(CT64),0))),SUM(COUNTIF(INDIRECT(CR64):INDIRECT(CT64),2),COUNTIF(INDIRECT(CR64):INDIRECT(CT64),1),COUNTIF(INDIRECT(CR64):INDIRECT(CT64),0)),\"\")","v":""},{"$f":"IF(ISNUMBER(SUM(COUNTIF(INDIRECT(CR64):INDIRECT(CU64),1),COUNTIF(INDIRECT(CR64):INDIRECT(CU64),0))),SUM(COUNTIF(INDIRECT(CR64):INDIRECT(CU64),1),COUNTIF(INDIRECT(CR64):INDIRECT(CU64),0)),\"\")","v":""},{"$f":"SUM(INDIRECT(CR64):INDIRECT(CS64))","v":{"$error":"#N/A"}},{"$f":"SUM(INDIRECT(CR64):INDIRECT(CT64))","v":{"$error":"#N/A"}},{"$f":"SUM(INDIRECT(CR64):INDIRECT(CU64))","v":{"$error":"#N/A"}}]
[null,null,1,{"$f":"IF(Modifications!$C$40=2,\"N\",\"\")","v":""},"",{"$f":"IF(ISBLANK('Month 1'!$F$65),\"\",'Month 1'!$F$65)","v":""},null,null,null,null,null,null,null,null,null,null,null,null,null,null,null,null,null,null,null,null,null,null,null,null,null,null,null,null,null,null,null,null,null,null,null,null,null,null,null,null,null,null,null,null,null,null,null,null,null,null,null,null,null,0,"@","@","@","@","@","@","@","@","@","@","@","@","@","@","@","@","@","@","@","@","@","@","@","@","@","@","@","@","@","@","@",{"$f":"'Month 7'!BL65","v":"@"},{"$f":"'Month 7'!BK65","v":"@"},{"$f":"'Month 7'!BJ65","v":"@"},{"$f":"'Month 7'!BI65","v":"@"},{"$error":"#N/A"},{"$error":"#N/A"},{"$error":"#N/A"},{"$error":"#N/A"},{"$f":"IF(ISNUMBER(SUM(COUNTIF(INDIRECT(CR65):INDIRECT(CS65),2),COUNTIF(INDIRECT(CR65):INDIRECT(CS65),1),COUNTIF(INDIRECT(CR65):INDIRECT(CS65),0))),SUM(COUNTIF(INDIRECT(CR65):INDIRECT(CS65),2),COUNTIF(INDIRECT(CR65):INDIRECT(CS65),1),COUNTIF(INDIRECT(CR65):INDIRECT(CS65),0)),\"\")","v":""},{"$f":"IF(ISNUMBER(SUM(COUNTIF(INDIRECT(CR65):INDIRECT(CT65),2),COUNTIF(INDIRECT(CR65):INDIRECT(CT65),1),COUNTIF(INDIRECT(CR65):INDIRECT(CT65),0))),SUM(COUNTIF(INDIRECT(CR65):INDIRECT(CT65),2),COUNTIF(INDIRECT(CR65):INDIRECT(CT65),1),COUNTIF(INDIRECT(CR65):INDIRECT(CT65),0)),\"\")","v":""},{"$f":"IF(ISNUMBER(SUM(COUNTIF(INDIRECT(CR65):INDIRECT(CU65),1),COUNTIF(INDIRECT(CR65):INDIRECT(CU65),0))),SUM(COUNTIF(INDIRECT(CR65):INDIRECT(CU65),1),COUNTIF(INDIRECT(CR65):INDIRECT(CU65),0)),\"\")","v":""},{"$f":"SUM(INDIRECT(CR65):INDIRECT(CS65))","v":{"$error":"#N/A"}},{"$f":"SUM(INDIRECT(CR65):INDIRECT(CT65))","v":{"$error":"#N/A"}},{"$f":"SUM(INDIRECT(CR65):INDIRECT(CU65))","v":{"$error":"#N/A"}}]
[null,null,1,{"$f":"IF(Modifications!$C$41=2,\"N\",\"\")","v":""},"",{"$f":"IF(ISBLANK('Month 1'!$F$66),\"\",'Month 1'!$F$66)","v":""},null,null,null,null,null,null,null,null,null,null,null,null,null,null,null,null,null,null,null,null,null,null,null,null,null,null,null,null,null,null,null,null,null,null,null,null,null,null,null,null,null,null,null,null,null,null,null,null,null,null,null,null,null,0,"@","@","@","@","@","@","@","@","@","@","@","@","@","@","@","@","@","@","@","@","@","@","@","@","@","@","@","@","@","@","@",{"$f":"'Month 7'!BL66","v":"@"},{"$f":"'Month 7'!BK66","v":"@"},{"$f":"'Month 7'!BJ66","v":"@"},{"$f":"'Month 7'!BI66","v":"@"},{"$error":"#N/A"},{"$error":"#N/A"},{"$error":"#N/A"},{"$error":"#N/A"},{"$f":"IF(ISNUMBER(SUM(COUNTIF(INDIRECT(CR66):INDIRECT(CS66),2),COUNTIF(INDIRECT(CR66):INDIRECT(CS66),1),COUNTIF(INDIRECT(CR66):INDIRECT(CS66),0))),SUM(COUNTIF(INDIRECT(CR66):INDIRECT(CS66),2),COUNTIF(INDIRECT(CR66):INDIRECT(CS66),1),COUNTIF(INDIRECT(CR66):INDIRECT(CS66),0)),\"\")","v":""},{"$f":"IF(ISNUMBER(SUM(COUNTIF(INDIRECT(CR66):INDIRECT(CT66),2),COUNTIF(INDIRECT(CR66):INDIRECT(CT66),1),COUNTIF(INDIRECT(CR66):INDIRECT(CT66),0))),SUM(COUNTIF(INDIRECT(CR66):INDIRECT(CT66),2),COUNTIF(INDIRECT(CR66):INDIRECT(CT66),1),COUNTIF(INDIRECT(CR66):INDIRECT(CT66),0)),\"\")","v":""},{"$f":"IF(ISNUMBER(SUM(COUNTIF(INDIRECT(CR66):INDIRECT(CU66),1),COUNTIF(INDIRECT(CR66):INDIRECT(CU66),0))),SUM(COUNTIF(INDIRECT(CR66):INDIRECT(CU66),1),COUNTIF(INDIRECT(CR66):INDIRECT(CU66),0)),\"\")","v":""},{"$f":"SUM(INDIRECT(CR66):INDIRECT(CS66))","v":{"$error":"#N/A"}},{"$f":"SUM(INDIRECT(CR66):INDIRECT(CT66))","v":{"$error":"#N/A"}},{"$f":"SUM(INDIRECT(CR66):INDIRECT(CU66))","v":{"$error":"#N/A"}}]
[null,null,1,{"$f":"IF(Modifications!$C$42=2,\"N\",\"\")","v":""},"",{"$f":"IF(ISBLANK('Month 1'!$F$67),\"\",'Month 1'!$F$67)","v":""},null,null,null,null,null,null,null,null,null,null,null,null,null,null,null,null,null,null,null,null,null,null,null,null,null,null,null,null,null,null,null,null,null,null,null,null,null,null,null,null,null,null,null,null,null,null,null,null,null,null,null,null,null,0,"@","@","@","@","@","@","@","@","@","@","@","@","@","@","@","@","@","@","@","@","@","@","@","@","@","@","@","@","@","@","@",{"$f":"'Month 7'!BL67","v":"@"},{"$f":"'Month 7'!BK67","v":"@"},{"$f":"'Month 7'!BJ67","v":"@"},{"$f":"'Month 7'!BI67","v":"@"},{"$error":"#N/A"},{"$error":"#N/A"},{"$error":"#N/A"},{"$error":"#N/A"},{"$f":"IF(ISNUMBER(SUM(COUNTIF(INDIRECT(CR67):INDIRECT(CS67),2),COUNTIF(INDIRECT(CR67):INDIRECT(CS67),1),COUNTIF(INDIRECT(CR67):INDIRECT(CS67),0))),SUM(COUNTIF(INDIRECT(CR67):INDIRECT(CS67),2),COUNTIF(INDIRECT(CR67):INDIRECT(CS67),1),COUNTIF(INDIRECT(CR67):INDIRECT(CS67),0)),\"\")","v":""},{"$f":"IF(ISNUMBER(SUM(COUNTIF(INDIRECT(CR67):INDIRECT(CT67),2),COUNTIF(INDIRECT(CR67):INDIRECT(CT67),1),COUNTIF(INDIRECT(CR67):INDIRECT(CT67),0))),SUM(COUNTIF(INDIRECT(CR67):INDIRECT(CT67),2),COUNTIF(INDIRECT(CR67):INDIRECT(CT67),1),COUNTIF(INDIRECT(CR67):INDIRECT(CT67),0)),\"\")","v":""},{"$f":"IF(ISNUMBER(SUM(COUNTIF(INDIRECT(CR67):INDIRECT(CU67),1),COUNTIF(INDIRECT(CR67):INDIRECT(CU67),0))),SUM(COUNTIF(INDIRECT(CR67):INDIRECT(CU67),1),COUNTIF(INDIRECT(CR67):INDIRECT(CU67),0)),\"\")","v":""},{"$f":"SUM(INDIRECT(CR67):INDIRECT(CS67))","v":{"$error":"#N/A"}},{"$f":"SUM(INDIRECT(CR67):INDIRECT(CT67))","v":{"$error":"#N/A"}},{"$f":"SUM(INDIRECT(CR67):INDIRECT(CU67))","v":{"$error":"#N/A"}}]
[null,null,1,{"$f":"IF(Modifications!$C$43=2,\"N\",\"\")","v":""},"",{"$f":"IF(ISBLANK('Month 1'!$F$68),\"\",'Month 1'!$F$68)","v":""},null,null,null,null,null,null,null,null,null,null,null,null,null,null,null,null,null,null,null,null,null,null,null,null,null,null,null,null,null,null,null,null,null,null,null,null,null,null,null,null,null,null,null,null,null,null,null,null,null,null,null,null,null,0,"@","@","@","@","@","@","@","@","@","@","@","@","@","@","@","@","@","@","@","@","@","@","@","@","@","@","@","@","@","@","@",{"$f":"'Month 7'!BL68","v":"@"},{"$f":"'Month 7'!BK68","v":"@"},{"$f":"'Month 7'!BJ68","v":"@"},{"$f":"'Month 7'!BI68","v":"@"},{"$error":"#N/A"},{"$error":"#N/A"},{"$error":"#N/A"},{"$error":"#N/A"},{"$f":"IF(ISNUMBER(SUM(COUNTIF(INDIRECT(CR68):INDIRECT(CS68),2),COUNTIF(INDIRECT(CR68):INDIRECT(CS68),1),COUNTIF(INDIRECT(CR68):INDIRECT(CS68),0))),SUM(COUNTIF(INDIRECT(CR68):INDIRECT(CS68),2),COUNTIF(INDIRECT(CR68):INDIRECT(CS68),1),COUNTIF(INDIRECT(CR68):INDIRECT(CS68),0)),\"\")","v":""},{"$f":"IF(ISNUMBER(SUM(COUNTIF(INDIRECT(CR68):INDIRECT(CT68),2),COUNTIF(INDIRECT(CR68):INDIRECT(CT68),1),COUNTIF(INDIRECT(CR68):INDIRECT(CT68),0))),SUM(COUNTIF(INDIRECT(CR68):INDIRECT(CT68),2),COUNTIF(INDIRECT(CR68):INDIRECT(CT68),1),COUNTIF(INDIRECT(CR68):INDIRECT(CT68),0)),\"\")","v":""},{"$f":"IF(ISNUMBER(SUM(COUNTIF(INDIRECT(CR68):INDIRECT(CU68),1),COUNTIF(INDIRECT(CR68):INDIRECT(CU68),0))),SUM(COUNTIF(INDIRECT(CR68):INDIRECT(CU68),1),COUNTIF(INDIRECT(CR68):INDIRECT(CU68),0)),\"\")","v":""},{"$f":"SUM(INDIRECT(CR68):INDIRECT(CS68))","v":{"$error":"#N/A"}},{"$f":"SUM(INDIRECT(CR68):INDIRECT(CT68))","v":{"$error":"#N/A"}},{"$f":"SUM(INDIRECT(CR68):INDIRECT(CU68))","v":{"$error":"#N/A"}}]
[null,null,1,{"$f":"IF(Modifications!$C$44=2,\"N\",\"\")","v":""},"",{"$f":"IF(ISBLANK('Month 1'!$F$69),\"\",'Month 1'!$F$69)","v":""},null,null,null,null,null,null,null,null,null,null,null,null,null,null,null,null,null,null,null,null,null,null,null,null,null,null,null,null,null,null,null,null,null,null,null,null,null,null,null,null,null,null,null,null,null,null,null,null,null,null,null,null,null,0,"@","@","@","@","@","@","@","@","@","@","@","@","@","@","@","@","@","@","@","@","@","@","@","@","@","@","@","@","@","@","@",{"$f":"'Month 7'!BL69","v":"@"},{"$f":"'Month 7'!BK69","v":"@"},{"$f":"'Month 7'!BJ69","v":"@"},{"$f":"'Month 7'!BI69","v":"@"},{"$error":"#N/A"},{"$error":"#N/A"},{"$error":"#N/A"},{"$error":"#N/A"},{"$f":"IF(ISNUMBER(SUM(COUNTIF(INDIRECT(CR69):INDIRECT(CS69),2),COUNTIF(INDIRECT(CR69):INDIRECT(CS69),1),COUNTIF(INDIRECT(CR69):INDIRECT(CS69),0))),SUM(COUNTIF(INDIRECT(CR69):INDIRECT(CS69),2),COUNTIF(INDIRECT(CR69):INDIRECT(CS69),1),COUNTIF(INDIRECT(CR69):INDIRECT(CS69),0)),\"\")","v":""},{"$f":"IF(ISNUMBER(SUM(COUNTIF(INDIRECT(CR69):INDIRECT(CT69),2),COUNTIF(INDIRECT(CR69):INDIRECT(CT69),1),COUNTIF(INDIRECT(CR69):INDIRECT(CT69),0))),SUM(COUNTIF(INDIRECT(CR69):INDIRECT(CT69),2),COUNTIF(INDIRECT(CR69):INDIRECT(CT69),1),COUNTIF(INDIRECT(CR69):INDIRECT(CT69),0)),\"\")","v":""},{"$f":"IF(ISNUMBER(SUM(COUNTIF(INDIRECT(CR69):INDIRECT(CU69),1),COUNTIF(INDIRECT(CR69):INDIRECT(CU69),0))),SUM(COUNTIF(INDIRECT(CR69):INDIRECT(CU69),1),COUNTIF(INDIRECT(CR69):INDIRECT(CU69),0)),\"\")","v":""},{"$f":"SUM(INDIRECT(CR69):INDIRECT(CS69))","v":{"$error":"#N/A"}},{"$f":"SUM(INDIRECT(CR69):INDIRECT(CT69))","v":{"$error":"#N/A"}},{"$f":"SUM(INDIRECT(CR69):INDIRECT(CU69))","v":{"$error":"#N/A"}}]
[null,null,1,{"$f":"IF(Modifications!$C$45=2,\"N\",\"\")","v":""},"",{"$f":"IF(ISBLANK('Month 1'!$F$70),\"\",'Month 1'!$F$70)","v":""},null,null,null,null,null,null,null,null,null,null,null,null,null,null,null,null,null,null,null,null,null,null,null,null,null,null,null,null,null,null,null,null,null,null,null,null,null,null,null,null,null,null,null,null,null,null,null,null,null,null,null,null,null,0,"@","@","@","@","@","@","@","@","@","@","@","@","@","@","@","@","@","@","@","@","@","@","@","@","@","@","@","@","@","@","@",{"$f":"'Month 7'!BL70","v":"@"},{"$f":"'Month 7'!BK70","v":"@"},{"$f":"'Month 7'!BJ70","v":"@"},{"$f":"'Month 7'!BI70","v":"@"},{"$error":"#N/A"},{"$error":"#N/A"},{"$error":"#N/A"},{"$error":"#N/A"},{"$f":"IF(ISNUMBER(SUM(COUNTIF(INDIRECT(CR70):INDIRECT(CS70),2),COUNTIF(INDIRECT(CR70):INDIRECT(CS70),1),COUNTIF(INDIRECT(CR70):INDIRECT(CS70),0))),SUM(COUNTIF(INDIRECT(CR70):INDIRECT(CS70),2),COUNTIF(INDIRECT(CR70):INDIRECT(CS70),1),COUNTIF(INDIRECT(CR70):INDIRECT(CS70),0)),\"\")","v":""},{"$f":"IF(ISNUMBER(SUM(COUNTIF(INDIRECT(CR70):INDIRECT(CT70),2),COUNTIF(INDIRECT(CR70):INDIRECT(CT70),1),COUNTIF(INDIRECT(CR70):INDIRECT(CT70),0))),SUM(COUNTIF(INDIRECT(CR70):INDIRECT(CT70),2),COUNTIF(INDIRECT(CR70):INDIRECT(CT70),1),COUNTIF(INDIRECT(CR70):INDIRECT(CT70),0)),\"\")","v":""},{"$f":"IF(ISNUMBER(SUM(COUNTIF(INDIRECT(CR70):INDIRECT(CU70),1),COUNTIF(INDIRECT(CR70):INDIRECT(CU70),0))),SUM(COUNTIF(INDIRECT(CR70):INDIRECT(CU70),1),COUNTIF(INDIRECT(CR70):INDIRECT(CU70),0)),\"\")","v":""},{"$f":"SUM(INDIRECT(CR70):INDIRECT(CS70))","v":{"$error":"#N/A"}},{"$f":"SUM(INDIRECT(CR70):INDIRECT(CT70))","v":{"$error":"#N/A"}},{"$f":"SUM(INDIRECT(CR70):INDIRECT(CU70))","v":{"$error":"#N/A"}}]
[null,null,1,{"$f":"IF(Modifications!$C$46=2,\"N\",\"\")","v":""},"",{"$f":"IF(ISBLANK('Month 1'!$F$71),\"\",'Month 1'!$F$71)","v":""},null,null,null,null,null,null,null,null,null,null,null,null,null,null,null,null,null,null,null,null,null,null,null,null,null,null,null,null,null,null,null,null,null,null,null,null,null,null,null,null,null,null,null,null,null,null,null,null,null,null,null,null,null,0,"@","@","@","@","@","@","@","@","@","@","@","@","@","@","@","@","@","@","@","@","@","@","@","@","@","@","@","@","@","@","@",{"$f":"'Month 7'!BL71","v":"@"},{"$f":"'Month 7'!BK71","v":"@"},{"$f":"'Month 7'!BJ71","v":"@"},{"$f":"'Month 7'!BI71","v":"@"},{"$error":"#N/A"},{"$error":"#N/A"},{"$error":"#N/A"},{"$error":"#N/A"},{"$f":"IF(ISNUMBER(SUM(COUNTIF(INDIRECT(CR71):INDIRECT(CS71),2),COUNTIF(INDIRECT(CR71):INDIRECT(CS71),1),COUNTIF(INDIRECT(CR71):INDIRECT(CS71),0))),SUM(COUNTIF(INDIRECT(CR71):INDIRECT(CS71),2),COUNTIF(INDIRECT(CR71):INDIRECT(CS71),1),COUNTIF(INDIRECT(CR71):INDIRECT(CS71),0)),\"\")","v":""},{"$f":"IF(ISNUMBER(SUM(COUNTIF(INDIRECT(CR71):INDIRECT(CT71),2),COUNTIF(INDIRECT(CR71):INDIRECT(CT71),1),COUNTIF(INDIRECT(CR71):INDIRECT(CT71),0))),SUM(COUNTIF(INDIRECT(CR71):INDIRECT(CT71),2),COUNTIF(INDIRECT(CR71):INDIRECT(CT71),1),COUNTIF(INDIRECT(CR71):INDIRECT(CT71),0)),\"\")","v":""},{"$f":"IF(ISNUMBER(SUM(COUNTIF(INDIRECT(CR71):INDIRECT(CU71),1),COUNTIF(INDIRECT(CR71):INDIRECT(CU71),0))),SUM(COUNTIF(INDIRECT(CR71):INDIRECT(CU71),1),COUNTIF(INDIRECT(CR71):INDIRECT(CU71),0)),\"\")","v":""},{"$f":"SUM(INDIRECT(CR71):INDIRECT(CS71))","v":{"$error":"#N/A"}},{"$f":"SUM(INDIRECT(CR71):INDIRECT(CT71))","v":{"$error":"#N/A"}},{"$f":"SUM(INDIRECT(CR71):INDIRECT(CU71))","v":{"$error":"#N/A"}}]
[null,null,1,{"$f":"IF(Modifications!$C$47=2,\"N\",\"\")","v":""},"",{"$f":"IF(ISBLANK('Month 1'!$F$72),\"\",'Month 1'!$F$72)","v":""},null,null,null,null,null,null,null,null,null,null,null,null,null,null,null,null,null,null,null,null,null,null,null,null,null,null,null,null,null,null,null,null,null,null,null,null,null,null,null,null,null,null,null,null,null,null,null,null,null,null,null,null,null,0,"@","@","@","@","@","@","@","@","@","@","@","@","@","@","@","@","@","@","@","@","@","@","@","@","@","@","@","@","@","@","@",{"$f":"'Month 7'!BL72","v":"@"},{"$f":"'Month 7'!BK72","v":"@"},{"$f":"'Month 7'!BJ72","v":"@"},{"$f":"'Month 7'!BI72","v":"@"},{"$error":"#N/A"},{"$error":"#N/A"},{"$error":"#N/A"},{"$error":"#N/A"},{"$f":"IF(ISNUMBER(SUM(COUNTIF(INDIRECT(CR72):INDIRECT(CS72),2),COUNTIF(INDIRECT(CR72):INDIRECT(CS72),1),COUNTIF(INDIRECT(CR72):INDIRECT(CS72),0))),SUM(COUNTIF(INDIRECT(CR72):INDIRECT(CS72),2),COUNTIF(INDIRECT(CR72):INDIRECT(CS72),1),COUNTIF(INDIRECT(CR72):INDIRECT(CS72),0)),\"\")","v":""},{"$f":"IF(ISNUMBER(SUM(COUNTIF(INDIRECT(CR72):INDIRECT(CT72),2),COUNTIF(INDIRECT(CR72):INDIRECT(CT72),1),COUNTIF(INDIRECT(CR72):INDIRECT(CT72),0))),SUM(COUNTIF(INDIRECT(CR72):INDIRECT(CT72),2),COUNTIF(INDIRECT(CR72):INDIRECT(CT72),1),COUNTIF(INDIRECT(CR72):INDIRECT(CT72),0)),\"\")","v":""},{"$f":"IF(ISNUMBER(SUM(COUNTIF(INDIRECT(CR72):INDIRECT(CU72),1),COUNTIF(INDIRECT(CR72):INDIRECT(CU72),0))),SUM(COUNTIF(INDIRECT(CR72):INDIRECT(CU72),1),COUNTIF(INDIRECT(CR72):INDIRECT(CU72),0)),\"\")","v":""},{"$f":"SUM(INDIRECT(CR72):INDIRECT(CS72))","v":{"$error":"#N/A"}},{"$f":"SUM(INDIRECT(CR72):INDIRECT(CT72))","v":{"$error":"#N/A"}},{"$f":"SUM(INDIRECT(CR72):INDIRECT(CU72))","v":{"$error":"#N/A"}}]
[null,null,1,{"$f":"IF(Modifications!$C$48=2,\"N\",\"\")","v":""},"",{"$f":"IF(ISBLANK('Month 1'!$F$73),\"\",'Month 1'!$F$73)","v":""},null,null,null,null,null,null,null,null,null,null,null,null,null,null,null,null,null,null,null,null,null,null,null,null,null,null,null,null,null,null,null,null,null,null,null,null,null,null,null,null,null,null,null,null,null,null,null,null,null,null,null,null,null,0,"@","@","@","@","@","@","@","@","@","@","@","@","@","@","@","@","@","@","@","@","@","@","@","@","@","@","@","@","@","@","@",{"$f":"'Month 7'!BL73","v":"@"},{"$f":"'Month 7'!BK73","v":"@"},{"$f":"'Month 7'!BJ73","v":"@"},{"$f":"'Month 7'!BI73","v":"@"},{"$error":"#N/A"},{"$error":"#N/A"},{"$error":"#N/A"},{"$error":"#N/A"},{"$f":"IF(ISNUMBER(SUM(COUNTIF(INDIRECT(CR73):INDIRECT(CS73),2),COUNTIF(INDIRECT(CR73):INDIRECT(CS73),1),COUNTIF(INDIRECT(CR73):INDIRECT(CS73),0))),SUM(COUNTIF(INDIRECT(CR73):INDIRECT(CS73),2),COUNTIF(INDIRECT(CR73):INDIRECT(CS73),1),COUNTIF(INDIRECT(CR73):INDIRECT(CS73),0)),\"\")","v":""},{"$f":"IF(ISNUMBER(SUM(COUNTIF(INDIRECT(CR73):INDIRECT(CT73),2),COUNTIF(INDIRECT(CR73):INDIRECT(CT73),1),COUNTIF(INDIRECT(CR73):INDIRECT(CT73),0))),SUM(COUNTIF(INDIRECT(CR73):INDIRECT(CT73),2),COUNTIF(INDIRECT(CR73):INDIRECT(CT73),1),COUNTIF(INDIRECT(CR73):INDIRECT(CT73),0)),\"\")","v":""},{"$f":"IF(ISNUMBER(SUM(COUNTIF(INDIRECT(CR73):INDIRECT(CU73),1),COUNTIF(INDIRECT(CR73):INDIRECT(CU73),0))),SUM(COUNTIF(INDIRECT(CR73):INDIRECT(CU73),1),COUNTIF(INDIRECT(CR73):INDIRECT(CU73),0)),\"\")","v":""},{"$f":"SUM(INDIRECT(CR73):INDIRECT(CS73))","v":{"$error":"#N/A"}},{"$f":"SUM(INDIRECT(CR73):INDIRECT(CT73))","v":{"$error":"#N/A"}},{"$f":"SUM(INDIRECT(CR73):INDIRECT(CU73))","v":{"$error":"#N/A"}}]
[null,null,1,{"$f":"IF(Modifications!$C$49=2,\"N\",\"\")","v":""},"",{"$f":"IF(ISBLANK('Month 1'!$F$74),\"\",'Month 1'!$F$74)","v":""},null,null,null,null,null,null,null,null,null,null,null,null,null,null,null,null,null,null,null,null,null,null,null,null,null,null,null,null,null,null,null,null,null,null,null,null,null,null,null,null,null,null,null,null,null,null,null,null,null,null,null,null,null,0,"@","@","@","@","@","@","@","@","@","@","@","@","@","@","@","@","@","@","@","@","@","@","@","@","@","@","@","@","@","@","@",{"$f":"'Month 7'!BL74","v":"@"},{"$f":"'Month 7'!BK74","v":"@"},{"$f":"'Month 7'!BJ74","v":"@"},{"$f":"'Month 7'!BI74","v":"@"},{"$error":"#N/A"},{"$error":"#N/A"},{"$error":"#N/A"},{"$error":"#N/A"},{"$f":"IF(ISNUMBER(SUM(COUNTIF(INDIRECT(CR74):INDIRECT(CS74),2),COUNTIF(INDIRECT(CR74):INDIRECT(CS74),1),COUNTIF(INDIRECT(CR74):INDIRECT(CS74),0))),SUM(COUNTIF(INDIRECT(CR74):INDIRECT(CS74),2),COUNTIF(INDIRECT(CR74):INDIRECT(CS74),1),COUNTIF(INDIRECT(CR74):INDIRECT(CS74),0)),\"\")","v":""},{"$f":"IF(ISNUMBER(SUM(COUNTIF(INDIRECT(CR74):INDIRECT(CT74),2),COUNTIF(INDIRECT(CR74):INDIRECT(CT74),1),COUNTIF(INDIRECT(CR74):INDIRECT(CT74),0))),SUM(COUNTIF(INDIRECT(CR74):INDIRECT(CT74),2),COUNTIF(INDIRECT(CR74):INDIRECT(CT74),1),COUNTIF(INDIRECT(CR74):INDIRECT(CT74),0)),\"\")","v":""},{"$f":"IF(ISNUMBER(SUM(COUNTIF(INDIRECT(CR74):INDIRECT(CU74),1),COUNTIF(INDIRECT(CR74):INDIRECT(CU74),0))),SUM(COUNTIF(INDIRECT(CR74):INDIRECT(CU74),1),COUNTIF(INDIRECT(CR74):INDIRECT(CU74),0)),\"\")","v":""},{"$f":"SUM(INDIRECT(CR74):INDIRECT(CS74))","v":{"$error":"#N/A"}},{"$f":"SUM(INDIRECT(CR74):INDIRECT(CT74))","v":{"$error":"#N/A"}},{"$f":"SUM(INDIRECT(CR74):INDIRECT(CU74))","v":{"$error":"#N/A"}}]
[null,null,1,{"$f":"IF(Modifications!$C$50=2,\"N\",\"\")","v":""},"",{"$f":"IF(ISBLANK('Month 1'!$F$75),\"\",'Month 1'!$F$75)","v":""},null,null,null,null,null,null,null,null,null,null,null,null,null,null,null,null,null,null,null,null,null,null,null,null,null,null,null,null,null,null,null,null,null,null,null,null,null,null,null,null,null,null,null,null,null,null,null,null,null,null,null,null,null,0,"@","@","@","@","@","@","@","@","@","@","@","@","@","@","@","@","@","@","@","@","@","@","@","@","@","@","@","@","@","@","@",{"$f":"'Month 7'!BL75","v":"@"},{"$f":"'Month 7'!BK75","v":"@"},{"$f":"'Month 7'!BJ75","v":"@"},{"$f":"'Month 7'!BI75","v":"@"},{"$error":"#N/A"},{"$error":"#N/A"},{"$error":"#N/A"},{"$error":"#N/A"},{"$f":"IF(ISNUMBER(SUM(COUNTIF(INDIRECT(CR75):INDIRECT(CS75),2),COUNTIF(INDIRECT(CR75):INDIRECT(CS75),1),COUNTIF(INDIRECT(CR75):INDIRECT(CS75),0))),SUM(COUNTIF(INDIRECT(CR75):INDIRECT(CS75),2),COUNTIF(INDIRECT(CR75):INDIRECT(CS75),1),COUNTIF(INDIRECT(CR75):INDIRECT(CS75),0)),\"\")","v":""},{"$f":"IF(ISNUMBER(SUM(COUNTIF(INDIRECT(CR75):INDIRECT(CT75),2),COUNTIF(INDIRECT(CR75):INDIRECT(CT75),1),COUNTIF(INDIRECT(CR75):INDIRECT(CT75),0))),SUM(COUNTIF(INDIRECT(CR75):INDIRECT(CT75),2),COUNTIF(INDIRECT(CR75):INDIRECT(CT75),1),COUNTIF(INDIRECT(CR75):INDIRECT(CT75),0)),\"\")","v":""},{"$f":"IF(ISNUMBER(SUM(COUNTIF(INDIRECT(CR75):INDIRECT(CU75),1),COUNTIF(INDIRECT(CR75):INDIRECT(CU75),0))),SUM(COUNTIF(INDIRECT(CR75):INDIRECT(CU75),1),COUNTIF(INDIRECT(CR75):INDIRECT(CU75),0)),\"\")","v":""},{"$f":"SUM(INDIRECT(CR75):INDIRECT(CS75))","v":{"$error":"#N/A"}},{"$f":"SUM(INDIRECT(CR75):INDIRECT(CT75))","v":{"$error":"#N/A"}},{"$f":"SUM(INDIRECT(CR75):INDIRECT(CU75))","v":{"$error":"#N/A"}}]
[null,null,1,{"$f":"IF(Modifications!$C$51=2,\"N\",\"\")","v":""},"",{"$f":"IF(ISBLANK('Month 1'!$F$76),\"\",'Month 1'!$F$76)","v":""},null,null,null,null,null,null,null,null,null,null,null,null,null,null,null,null,null,null,null,null,null,null,null,null,null,null,null,null,null,null,null,null,null,null,null,null,null,null,null,null,null,null,null,null,null,null,null,null,null,null,null,null,null,0,"@","@","@","@","@","@","@","@","@","@","@","@","@","@","@","@","@","@","@","@","@","@","@","@","@","@","@","@","@","@","@",{"$f":"'Month 7'!BL76","v":"@"},{"$f":"'Month 7'!BK76","v":"@"},{"$f":"'Month 7'!BJ76","v":"@"},{"$f":"'Month 7'!BI76","v":"@"},{"$error":"#N/A"},{"$error":"#N/A"},{"$error":"#N/A"},{"$error":"#N/A"},{"$f":"IF(ISNUMBER(SUM(COUNTIF(INDIRECT(CR76):INDIRECT(CS76),2),COUNTIF(INDIRECT(CR76):INDIRECT(CS76),1),COUNTIF(INDIRECT(CR76):INDIRECT(CS76),0))),SUM(COUNTIF(INDIRECT(CR76):INDIRECT(CS76),2),COUNTIF(INDIRECT(CR76):INDIRECT(CS76),1),COUNTIF(INDIRECT(CR76):INDIRECT(CS76),0)),\"\")","v":""},{"$f":"IF(ISNUMBER(SUM(COUNTIF(INDIRECT(CR76):INDIRECT(CT76),2),COUNTIF(INDIRECT(CR76):INDIRECT(CT76),1),COUNTIF(INDIRECT(CR76):INDIRECT(CT76),0))),SUM(COUNTIF(INDIRECT(CR76):INDIRECT(CT76),2),COUNTIF(INDIRECT(CR76):INDIRECT(CT76),1),COUNTIF(INDIRECT(CR76):INDIRECT(CT76),0)),\"\")","v":""},{"$f":"IF(ISNUMBER(SUM(COUNTIF(INDIRECT(CR76):INDIRECT(CU76),1),COUNTIF(INDIRECT(CR76):INDIRECT(CU76),0))),SUM(COUNTIF(INDIRECT(CR76):INDIRECT(CU76),1),COUNTIF(INDIRECT(CR76):INDIRECT(CU76),0)),\"\")","v":""},{"$f":"SUM(INDIRECT(CR76):INDIRECT(CS76))","v":{"$error":"#N/A"}},{"$f":"SUM(INDIRECT(CR76):INDIRECT(CT76))","v":{"$error":"#N/A"}},{"$f":"SUM(INDIRECT(CR76):INDIRECT(CU76))","v":{"$error":"#N/A"}}]
[null,null,null,null,null,null,null,null,null,null,null,null,null,null,null,null,null,null,null,null,null,null,null,null,null,null,null,null,null,null,null,null,null,null,null,null,null,null,null,null,null,null,null,null,null,null,null,null,null,null,null,null,null,null,null,null,null,null,null,0,"@","@","@","@","@","@","@","@","@","@","@","@","@","@","@","@","@","@","@","@","@","@","@","@","@","@","@","@","@","@","@",{"$f":"'Month 7'!BL77","v":"@"},{"$f":"'Month 7'!BK77","v":"@"},{"$f":"'Month 7'!BJ77","v":"@"},{"$f":"'Month 7'!BI77","v":"@"},{"$error":"#N/A"},{"$error":"#N/A"},{"$error":"#N/A"},{"$error":"#N/A"},{"$f":"IF(ISNUMBER(SUM(COUNTIF(INDIRECT(CR77):INDIRECT(CS77),2),COUNTIF(INDIRECT(CR77):INDIRECT(CS77),1),COUNTIF(INDIRECT(CR77):INDIRECT(CS77),0))),SUM(COUNTIF(INDIRECT(CR77):INDIRECT(CS77),2),COUNTIF(INDIRECT(CR77):INDIRECT(CS77),1),COUNTIF(INDIRECT(CR77):INDIRECT(CS77),0)),\"\")","v":""},{"$f":"IF(ISNUMBER(SUM(COUNTIF(INDIRECT(CR77):INDIRECT(CT77),2),COUNTIF(INDIRECT(CR77):INDIRECT(CT77),1),COUNTIF(INDIRECT(CR77):INDIRECT(CT77),0))),SUM(COUNTIF(INDIRECT(CR77):INDIRECT(CT77),2),COUNTIF(INDIRECT(CR77):INDIRECT(CT77),1),COUNTIF(INDIRECT(CR77):INDIRECT(CT77),0)),\"\")","v":""},{"$f":"IF(ISNUMBER(SUM(COUNTIF(INDIRECT(CR77):INDIRECT(CU77),1),COUNTIF(INDIRECT(CR77):INDIRECT(CU77),0))),SUM(COUNTIF(INDIRECT(CR77):INDIRECT(CU77),1),COUNTIF(INDIRECT(CR77):INDIRECT(CU77),0)),\"\")","v":""},{"$f":"SUM(INDIRECT(CR77):INDIRECT(CS77))","v":{"$error":"#N/A"}},{"$f":"SUM(INDIRECT(CR77):INDIRECT(CT77))","v":{"$error":"#N/A"}},{"$f":"SUM(INDIRECT(CR77):INDIRECT(CU77))","v":{"$error":"#N/A"}}]
[null,null,null,null,null,null,null,null,null,null,null,null,null,null,null,null,null,null,null,null,null,null,null,null,null,null,null,null,null,null,null,null,null,null,null,null,null,null,null,null,null,null,null,null,null,null,null,null,null,null,null,null,null,null,null,null,null,null,null,0,"@","@","@","@","@","@","@","@","@","@","@","@","@","@","@","@","@","@","@","@","@","@","@","@","@","@","@","@","@","@","@",{"$f":"'Month 7'!BL78","v":"@"},{"$f":"'Month 7'!BK78","v":"@"},{"$f":"'Month 7'!BJ78","v":"@"},{"$f":"'Month 7'!BI78","v":"@"},{"$error":"#N/A"},{"$error":"#N/A"},{"$error":"#N/A"},{"$error":"#N/A"},{"$f":"IF(ISNUMBER(SUM(COUNTIF(INDIRECT(CR78):INDIRECT(CS78),2),COUNTIF(INDIRECT(CR78):INDIRECT(CS78),1),COUNTIF(INDIRECT(CR78):INDIRECT(CS78),0))),SUM(COUNTIF(INDIRECT(CR78):INDIRECT(CS78),2),COUNTIF(INDIRECT(CR78):INDIRECT(CS78),1),COUNTIF(INDIRECT(CR78):INDIRECT(CS78),0)),\"\")","v":""},{"$f":"IF(ISNUMBER(SUM(COUNTIF(INDIRECT(CR78):INDIRECT(CT78),2),COUNTIF(INDIRECT(CR78):INDIRECT(CT78),1),COUNTIF(INDIRECT(CR78):INDIRECT(CT78),0))),SUM(COUNTIF(INDIRECT(CR78):INDIRECT(CT78),2),COUNTIF(INDIRECT(CR78):INDIRECT(CT78),1),COUNTIF(INDIRECT(CR78):INDIRECT(CT78),0)),\"\")","v":""},{"$f":"IF(ISNUMBER(SUM(COUNTIF(INDIRECT(CR78):INDIRECT(CU78),1),COUNTIF(INDIRECT(CR78):INDIRECT(CU78),0))),SUM(COUNTIF(INDIRECT(CR78):INDIRECT(CU78),1),COUNTIF(INDIRECT(CR78):INDIRECT(CU78),0)),\"\")","v":""},{"$f":"SUM(INDIRECT(CR78):INDIRECT(CS78))","v":{"$error":"#N/A"}},{"$f":"SUM(INDIRECT(CR78):INDIRECT(CT78))","v":{"$error":"#N/A"}},{"$f":"SUM(INDIRECT(CR78):INDIRECT(CU78))","v":{"$error":"#N/A"}}]
[null,null,null,null,null,null,{"$f":"IF(ISBLANK(G26),\"\",G26)","v":""},"","","","","","","","","","","","","","","","","","","","","","","","","","","","","","",null,null,null,null,null,null,null,null,null,null,null,null,null,null,null,null,null,null,null,null,null,null,0,"@","@","@","@","@","@","@","@","@","@","@","@","@","@","@","@","@","@","@","@","@","@","@","@","@","@","@","@","@","@","@",{"$f":"'Month 7'!BL79","v":"@"},{"$f":"'Month 7'!BK79","v":"@"},{"$f":"'Month 7'!BJ79","v":"@"},{"$f":"'Month 7'!BI79","v":"@"},{"$error":"#N/A"},{"$error":"#N/A"},{"$error":"#N/A"},{"$error":"#N/A"},{"$f":"IF(ISNUMBER(SUM(COUNTIF(INDIRECT(CR79):INDIRECT(CS79),2),COUNTIF(INDIRECT(CR79):INDIRECT(CS79),1),COUNTIF(INDIRECT(CR79):INDIRECT(CS79),0))),SUM(COUNTIF(INDIRECT(CR79):INDIRECT(CS79),2),COUNTIF(INDIRECT(CR79):INDIRECT(CS79),1),COUNTIF(INDIRECT(CR79):INDIRECT(CS79),0)),\"\")","v":""},{"$f":"IF(ISNUMBER(SUM(COUNTIF(INDIRECT(CR79):INDIRECT(CT79),2),COUNTIF(INDIRECT(CR79):INDIRECT(CT79),1),COUNTIF(INDIRECT(CR79):INDIRECT(CT79),0))),SUM(COUNTIF(INDIRECT(CR79):INDIRECT(CT79),2),COUNTIF(INDIRECT(CR79):INDIRECT(CT79),1),COUNTIF(INDIRECT(CR79):INDIRECT(CT79),0)),\"\")","v":""},{"$f":"IF(ISNUMBER(SUM(COUNTIF(INDIRECT(CR79):INDIRECT(CU79),1),COUNTIF(INDIRECT(CR79):INDIRECT(CU79),0))),SUM(COUNTIF(INDIRECT(CR79):INDIRECT(CU79),1),COUNTIF(INDIRECT(CR79):INDIRECT(CU79),0)),\"\")","v":""},{"$f":"SUM(INDIRECT(CR79):INDIRECT(CS79))","v":{"$error":"#N/A"}},{"$f":"SUM(INDIRECT(CR79):INDIRECT(CT79))","v":{"$error":"#N/A"}},{"$f":"SUM(INDIRECT(CR79):INDIRECT(CU79))","v":{"$error":"#N/A"}}]
[null,null,null,null,null,null,{"$f":"IF(G24=\"\",NA(),G24)","v":{"$error":"#N/A"}},{"$error":"#N/A"},{"$error":"#N/A"},{"$error":"#N/A"},{"$error":"#N/A"},{"$error":"#N/A"},{"$error":"#N/A"},{"$error":"#N/A"},{"$error":"#N/A"},{"$error":"#N/A"},{"$error":"#N/A"},{"$error":"#N/A"},{"$error":"#N/A"},{"$error":"#N/A"},{"$error":"#N/A"},{"$error":"#N/A"},{"$error":"#N/A"},{"$error":"#N/A"},{"$error":"#N/A"},{"$error":"#N/A"},{"$error":"#N/A"},{"$error":"#N/A"},{"$error":"#N/A"},{"$error":"#N/A"},{"$error":"#N/A"},{"$error":"#N/A"},{"$error":"#N/A"},{"$error":"#N/A"},{"$error":"#N/A"},{"$error":"#N/A"},{"$error":"#N/A"},null,null,null,null,null,null,null,null,null,null,null,null,null,null,null,null,null,null,null,null,null,null,{"$f":"SUM(COUNTIF(BI80:CM80,1),COUNTIF(BI80:CM80,0))","v":0},"@","@","@","@","@","@","@","@","@","@","@","@","@","@","@","@","@","@","@","@","@","@","@","@","@","@","@","@","@","@","@",{"$f":"'Month 7'!BL80","v":"@"},{"$f":"'Month 7'!BK80","v":"@"},{"$f":"'Month 7'!BJ80","v":"@"},{"$f":"'Month 7'!BI80","v":"@"},{"$error":"#N/A"},{"$error":"#N/A"},{"$error":"#N/A"},{"$error":"#N/A"},{"$f":"IF(ISNUMBER(SUM(COUNTIF(INDIRECT(CR80):INDIRECT(CS80),2),COUNTIF(INDIRECT(CR80):INDIRECT(CS80),1),COUNTIF(INDIRECT(CR80):INDIRECT(CS80),0))),SUM(COUNTIF(INDIRECT(CR80):INDIRECT(CS80),2),COUNTIF(INDIRECT(CR80):INDIRECT(CS80),1),COUNTIF(INDIRECT(CR80):INDIRECT(CS80),0)),\"\")","v":""},{"$f":"IF(ISNUMBER(SUM(COUNTIF(INDIRECT(CR80):INDIRECT(CT80),2),COUNTIF(INDIRECT(CR80):INDIRECT(CT80),1),COUNTIF(INDIRECT(CR80):INDIRECT(CT80),0))),SUM(COUNTIF(INDIRECT(CR80):INDIRECT(CT80),2),COUNTIF(INDIRECT(CR80):INDIRECT(CT80),1),COUNTIF(INDIRECT(CR80):INDIRECT(CT80),0)),\"\")","v":""},{"$f":"IF(ISNUMBER(SUM(COUNTIF(INDIRECT(CR80):INDIRECT(CU80),1),COUNTIF(INDIRECT(CR80):INDIRECT(CU80),0))),SUM(COUNTIF(INDIRECT(CR80):INDIRECT(CU80),1),COUNTIF(INDIRECT(CR80):INDIRECT(CU80),0)),\"\")","v":""},{"$f":"SUM(INDIRECT(CR80):INDIRECT(CS80))","v":{"$error":"#N/A"}},{"$f":"SUM(INDIRECT(CR80):INDIRECT(CT80))","v":{"$error":"#N/A"}},{"$f":"SUM(INDIRECT(CR80):INDIRECT(CU80))","v":{"$error":"#N/A"}}]
[null,null,null,null,null,null,null,null,null,null,null,null,null,null,null,null,null,null,null,null,null,null,null,null,null,null,null,null,null,null,null,null,null,null,null,null,null,null,null,null,null,null,null,null,null,null,null,null,null,null,null,null,null,null,null,null,null,null,null,0,"@","@","@","@","@","@","@","@","@","@","@","@","@","@","@","@","@","@","@","@","@","@","@","@","@","@","@","@","@","@","@",{"$f":"'Month 7'!BL81","v":"@"},{"$f":"'Month 7'!BK81","v":"@"},{"$f":"'Month 7'!BJ81","v":"@"},{"$f":"'Month 7'!BI81","v":"@"},{"$error":"#N/A"},{"$error":"#N/A"},{"$error":"#N/A"},{"$error":"#N/A"},{"$f":"IF(ISNUMBER(SUM(COUNTIF(INDIRECT(CR81):INDIRECT(CS81),2),COUNTIF(INDIRECT(CR81):INDIRECT(CS81),1),COUNTIF(INDIRECT(CR81):INDIRECT(CS81),0))),SUM(COUNTIF(INDIRECT(CR81):INDIRECT(CS81),2),COUNTIF(INDIRECT(CR81):INDIRECT(CS81),1),COUNTIF(INDIRECT(CR81):INDIRECT(CS81),0)),\"\")","v":""},{"$f":"IF(ISNUMBER(SUM(COUNTIF(INDIRECT(CR81):INDIRECT(CT81),2),COUNTIF(INDIRECT(CR81):INDIRECT(CT81),1),COUNTIF(INDIRECT(CR81):INDIRECT(CT81),0))),SUM(COUNTIF(INDIRECT(CR81):INDIRECT(CT81),2),COUNTIF(INDIRECT(CR81):INDIRECT(CT81),1),COUNTIF(INDIRECT(CR81):INDIRECT(CT81),0)),\"\")","v":""},{"$f":"IF(ISNUMBER(SUM(COUNTIF(INDIRECT(CR81):INDIRECT(CU81),1),COUNTIF(INDIRECT(CR81):INDIRECT(CU81),0))),SUM(COUNTIF(INDIRECT(CR81):INDIRECT(CU81),1),COUNTIF(INDIRECT(CR81):INDIRECT(CU81),0)),\"\")","v":""},{"$f":"SUM(INDIRECT(CR81):INDIRECT(CS81))","v":{"$error":"#N/A"}},{"$f":"SUM(INDIRECT(CR81):INDIRECT(CT81))","v":{"$error":"#N/A"}},{"$f":"SUM(INDIRECT(CR81):INDIRECT(CU81))","v":{"$error":"#N/A"}}]
[null,null,null,null,null,null,null,null,null,null,null,null,null,null,null,null,null,null,null,null,null,null,null,null,null,null,null,null,null,null,null,null,null,null,null,null,null,null,null,null,null,null,null,null,null,null,null,null,null,null,null,null,null,null,null,null,null,null,null,0,"@","@","@","@","@","@","@","@","@","@","@","@","@","@","@","@","@","@","@","@","@","@","@","@","@","@","@","@","@","@","@",{"$f":"'Month 7'!BL82","v":"@"},{"$f":"'Month 7'!BK82","v":"@"},{"$f":"'Month 7'!BJ82","v":"@"},{"$f":"'Month 7'!BI82","v":"@"},{"$error":"#N/A"},{"$error":"#N/A"},{"$error":"#N/A"},{"$error":"#N/A"},{"$f":"IF(ISNUMBER(SUM(COUNTIF(INDIRECT(CR82):INDIRECT(CS82),2),COUNTIF(INDIRECT(CR82):INDIRECT(CS82),1),COUNTIF(INDIRECT(CR82):INDIRECT(CS82),0))),SUM(COUNTIF(INDIRECT(CR82):INDIRECT(CS82),2),COUNTIF(INDIRECT(CR82):INDIRECT(CS82),1),COUNTIF(INDIRECT(CR82):INDIRECT(CS82),0)),\"\")","v":""},{"$f":"IF(ISNUMBER(SUM(COUNTIF(INDIRECT(CR82):INDIRECT(CT82),2),COUNTIF(INDIRECT(CR82):INDIRECT(CT82),1),COUNTIF(INDIRECT(CR82):INDIRECT(CT82),0))),SUM(COUNTIF(INDIRECT(CR82):INDIRECT(CT82),2),COUNTIF(INDIRECT(CR82):INDIRECT(CT82),1),COUNTIF(INDIRECT(CR82):INDIRECT(CT82),0)),\"\")","v":""},{"$f":"IF(ISNUMBER(SUM(COUNTIF(INDIRECT(CR82):INDIRECT(CU82),1),COUNTIF(INDIRECT(CR82):INDIRECT(CU82),0))),SUM(COUNTIF(INDIRECT(CR82):INDIRECT(CU82),1),COUNTIF(INDIRECT(CR82):INDIRECT(CU82),0)),\"\")","v":""},{"$f":"SUM(INDIRECT(CR82):INDIRECT(CS82))","v":{"$error":"#N/A"}},{"$f":"SUM(INDIRECT(CR82):INDIRECT(CT82))","v":{"$error":"#N/A"}},{"$f":"SUM(INDIRECT(CR82):INDIRECT(CU82))","v":{"$error":"#N/A"}}]
[null,null,null,null,null,null,null,null,null,null,null,null,null,null,null,null,null,null,null,null,null,null,null,null,null,null,null,null,null,null,null,null,null,null,null,null,null,null,null,null,null,null,null,null,null,null,null,null,null,null,null,null,null,null,null,null,null,null,null,0,"@","@","@","@","@","@","@","@","@","@","@","@","@","@","@","@","@","@","@","@","@","@","@","@","@","@","@","@","@","@","@",{"$f":"'Month 7'!BL83","v":"@"},{"$f":"'Month 7'!BK83","v":"@"},{"$f":"'Month 7'!BJ83","v":"@"},{"$f":"'Month 7'!BI83","v":"@"},{"$error":"#N/A"},{"$error":"#N/A"},{"$error":"#N/A"},{"$error":"#N/A"},{"$f":"IF(ISNUMBER(SUM(COUNTIF(INDIRECT(CR83):INDIRECT(CS83),2),COUNTIF(INDIRECT(CR83):INDIRECT(CS83),1),COUNTIF(INDIRECT(CR83):INDIRECT(CS83),0))),SUM(COUNTIF(INDIRECT(CR83):INDIRECT(CS83),2),COUNTIF(INDIRECT(CR83):INDIRECT(CS83),1),COUNTIF(INDIRECT(CR83):INDIRECT(CS83),0)),\"\")","v":""},{"$f":"IF(ISNUMBER(SUM(COUNTIF(INDIRECT(CR83):INDIRECT(CT83),2),COUNTIF(INDIRECT(CR83):INDIRECT(CT83),1),COUNTIF(INDIRECT(CR83):INDIRECT(CT83),0))),SUM(COUNTIF(INDIRECT(CR83):INDIRECT(CT83),2),COUNTIF(INDIRECT(CR83):INDIRECT(CT83),1),COUNTIF(INDIRECT(CR83):INDIRECT(CT83),0)),\"\")","v":""},{"$f":"IF(ISNUMBER(SUM(COUNTIF(INDIRECT(CR83):INDIRECT(CU83),1),COUNTIF(INDIRECT(CR83):INDIRECT(CU83),0))),SUM(COUNTIF(INDIRECT(CR83):INDIRECT(CU83),1),COUNTIF(INDIRECT(CR83):INDIRECT(CU83),0)),\"\")","v":""},{"$f":"SUM(INDIRECT(CR83):INDIRECT(CS83))","v":{"$error":"#N/A"}},{"$f":"SUM(INDIRECT(CR83):INDIRECT(CT83))","v":{"$error":"#N/A"}},{"$f":"SUM(INDIRECT(CR83):INDIRECT(CU83))","v":{"$error":"#N/A"}}]
[null,null,null,null,null,null,null,null,null,null,null,null,null,null,null,null,null,null,null,null,null,null,null,null,null,null,null,null,null,null,null,null,null,null,null,null,null,null,null,null,null,null,null,null,null,null,null,null,null,null,null,null,null,null,null,null,null,null,null,0,"@","@","@","@","@","@","@","@","@","@","@","@","@","@","@","@","@","@","@","@","@","@","@","@","@","@","@","@","@","@","@",{"$f":"'Month 7'!BL84","v":"@"},{"$f":"'Month 7'!BK84","v":"@"},{"$f":"'Month 7'!BJ84","v":"@"},{"$f":"'Month 7'!BI84","v":"@"},{"$error":"#N/A"},{"$error":"#N/A"},{"$error":"#N/A"},{"$error":"#N/A"},{"$f":"IF(ISNUMBER(SUM(COUNTIF(INDIRECT(CR84):INDIRECT(CS84),2),COUNTIF(INDIRECT(CR84):INDIRECT(CS84),1),COUNTIF(INDIRECT(CR84):INDIRECT(CS84),0))),SUM(COUNTIF(INDIRECT(CR84):INDIRECT(CS84),2),COUNTIF(INDIRECT(CR84):INDIRECT(CS84),1),COUNTIF(INDIRECT(CR84):INDIRECT(CS84),0)),\"\")","v":""},{"$f":"IF(ISNUMBER(SUM(COUNTIF(INDIRECT(CR84):INDIRECT(CT84),2),COUNTIF(INDIRECT(CR84):INDIRECT(CT84),1),COUNTIF(INDIRECT(CR84):INDIRECT(CT84),0))),SUM(COUNTIF(INDIRECT(CR84):INDIRECT(CT84),2),COUNTIF(INDIRECT(CR84):INDIRECT(CT84),1),COUNTIF(INDIRECT(CR84):INDIRECT(CT84),0)),\"\")","v":""},{"$f":"IF(ISNUMBER(SUM(COUNTIF(INDIRECT(CR84):INDIRECT(CU84),1),COUNTIF(INDIRECT(CR84):INDIRECT(CU84),0))),SUM(COUNTIF(INDIRECT(CR84):INDIRECT(CU84),1),COUNTIF(INDIRECT(CR84):INDIRECT(CU84),0)),\"\")","v":""},{"$f":"SUM(INDIRECT(CR84):INDIRECT(CS84))","v":{"$error":"#N/A"}},{"$f":"SUM(INDIRECT(CR84):INDIRECT(CT84))","v":{"$error":"#N/A"}},{"$f":"SUM(INDIRECT(CR84):INDIRECT(CU84))","v":{"$error":"#N/A"}}]
[null,null,null,null,null,null,null,null,null,null,null,null,null,null,null,null,null,null,null,null,null,null,null,null,null,null,null,null,null,null,null,null,null,null,null,null,null,null,null,null,null,null,null,null,null,null,null,null,null,null,null,null,null,null,null,null,null,null,null,0,"@","@","@","@","@","@","@","@","@","@","@","@","@","@","@","@","@","@","@","@","@","@","@","@","@","@","@","@","@","@","@",{"$f":"'Month 7'!BL85","v":"@"},{"$f":"'Month 7'!BK85","v":"@"},{"$f":"'Month 7'!BJ85","v":"@"},{"$f":"'Month 7'!BI85","v":"@"},{"$error":"#N/A"},{"$error":"#N/A"},{"$error":"#N/A"},{"$error":"#N/A"},{"$f":"IF(ISNUMBER(SUM(COUNTIF(INDIRECT(CR85):INDIRECT(CS85),2),COUNTIF(INDIRECT(CR85):INDIRECT(CS85),1),COUNTIF(INDIRECT(CR85):INDIRECT(CS85),0))),SUM(COUNTIF(INDIRECT(CR85):INDIRECT(CS85),2),COUNTIF(INDIRECT(CR85):INDIRECT(CS85),1),COUNTIF(INDIRECT(CR85):INDIRECT(CS85),0)),\"\")","v":""},{"$f":"IF(ISNUMBER(SUM(COUNTIF(INDIRECT(CR85):INDIRECT(CT85),2),COUNTIF(INDIRECT(CR85):INDIRECT(CT85),1),COUNTIF(INDIRECT(CR85):INDIRECT(CT85),0))),SUM(COUNTIF(INDIRECT(CR85):INDIRECT(CT85),2),COUNTIF(INDIRECT(CR85):INDIRECT(CT85),1),COUNTIF(INDIRECT(CR85):INDIRECT(CT85),0)),\"\")","v":""},{"$f":"IF(ISNUMBER(SUM(COUNTIF(INDIRECT(CR85):INDIRECT(CU85),1),COUNTIF(INDIRECT(CR85):INDIRECT(CU85),0))),SUM(COUNTIF(INDIRECT(CR85):INDIRECT(CU85),1),COUNTIF(INDIRECT(CR85):INDIRECT(CU85),0)),\"\")","v":""},{"$f":"SUM(INDIRECT(CR85):INDIRECT(CS85))","v":{"$error":"#N/A"}},{"$f":"SUM(INDIRECT(CR85):INDIRECT(CT85))","v":{"$error":"#N/A"}},{"$f":"SUM(INDIRECT(CR85):INDIRECT(CU85))","v":{"$error":"#N/A"}}]
[null,null,null,null,null,null,null,null,null,null,null,null,null,null,null,null,null,null,null,null,null,null,null,null,null,null,null,null,null,null,null,null,null,null,null,null,null,null,null,null,null,null,null,null,null,null,null,null,null,null,null,null,null,null,null,null,null,null,null,0,"@","@","@","@","@","@","@","@","@","@","@","@","@","@","@","@","@","@","@","@","@","@","@","@","@","@","@","@","@","@","@",{"$f":"'Month 7'!BL86","v":"@"},{"$f":"'Month 7'!BK86","v":"@"},{"$f":"'Month 7'!BJ86","v":"@"},{"$f":"'Month 7'!BI86","v":"@"},{"$error":"#N/A"},{"$error":"#N/A"},{"$error":"#N/A"},{"$error":"#N/A"},{"$f":"IF(ISNUMBER(SUM(COUNTIF(INDIRECT(CR86):INDIRECT(CS86),2),COUNTIF(INDIRECT(CR86):INDIRECT(CS86),1),COUNTIF(INDIRECT(CR86):INDIRECT(CS86),0))),SUM(COUNTIF(INDIRECT(CR86):INDIRECT(CS86),2),COUNTIF(INDIRECT(CR86):INDIRECT(CS86),1),COUNTIF(INDIRECT(CR86):INDIRECT(CS86),0)),\"\")","v":""},{"$f":"IF(ISNUMBER(SUM(COUNTIF(INDIRECT(CR86):INDIRECT(CT86),2),COUNTIF(INDIRECT(CR86):INDIRECT(CT86),1),COUNTIF(INDIRECT(CR86):INDIRECT(CT86),0))),SUM(COUNTIF(INDIRECT(CR86):INDIRECT(CT86),2),COUNTIF(INDIRECT(CR86):INDIRECT(CT86),1),COUNTIF(INDIRECT(CR86):INDIRECT(CT86),0)),\"\")","v":""},{"$f":"IF(ISNUMBER(SUM(COUNTIF(INDIRECT(CR86):INDIRECT(CU86),1),COUNTIF(INDIRECT(CR86):INDIRECT(CU86),0))),SUM(COUNTIF(INDIRECT(CR86):INDIRECT(CU86),1),COUNTIF(INDIRECT(CR86):INDIRECT(CU86),0)),\"\")","v":""},{"$f":"SUM(INDIRECT(CR86):INDIRECT(CS86))","v":{"$error":"#N/A"}},{"$f":"SUM(INDIRECT(CR86):INDIRECT(CT86))","v":{"$error":"#N/A"}},{"$f":"SUM(INDIRECT(CR86):INDIRECT(CU86))","v":{"$error":"#N/A"}}]
[null,null,null,null,null,null,null,null,null,null,null,null,null,null,null,null,null,null,null,null,null,null,null,null,null,null,null,null,null,null,null,null,null,null,null,null,null,null,null,null,null,null,null,null,null,null,null,null,null,null,null,null,null,null,null,null,null,null,null,0,{"$f":"IF(OR(AK59=\"+\",AK59=\"Y\",AK59=2),1,IF(OR(AK59=\"-\",AK59=\"N\",AK59=1),0,IF(OR(BJ87=1,BJ87=0),\"#\",\"@\")))","v":"@"},{"$f":"IF(OR(AJ59=\"+\",AJ59=\"Y\",AJ59=2),1,IF(OR(AJ59=\"-\",AJ59=\"N\",AJ59=1),0,IF(OR(BK87=1,BK87=0),\"#\",\"@\")))","v":"@"},{"$f":"IF(OR(AI59=\"+\",AI59=\"Y\",AI59=2),1,IF(OR(AI59=\"-\",AI59=\"N\",AI59=1),0,IF(OR(BL87=1,BL87=0),\"#\",\"@\")))","v":"@"},{"$f":"IF(OR(AH59=\"+\",AH59=\"Y\",AH59=2),1,IF(OR(AH59=\"-\",AH59=\"N\",AH59=1),0,IF(OR(BM87=1,BM87=0),\"#\",\"@\")))","v":"@"},{"$f":"IF(OR(AG59=\"+\",AG59=\"Y\",AG59=2),1,IF(OR(AG59=\"-\",AG59=\"N\",AG59=1),0,IF(OR(BN87=1,BN87=0),\"#\",\"@\")))","v":"@"},{"$f":"IF(OR(AF59=\"+\",AF59=\"Y\",AF59=2),1,IF(OR(AF59=\"-\",AF59=\"N\",AF59=1),0,IF(OR(BO87=1,BO87=0),\"#\",\"@\")))","v":"@"},{"$f":"IF(OR(AE59=\"+\",AE59=\"Y\",AE59=2),1,IF(OR(AE59=\"-\",AE59=\"N\",AE59=1),0,IF(OR(BP87=1,BP87=0),\"#\",\"@\")))","v":"@"},{"$f":"IF(OR(AD59=\"+\",AD59=\"Y\",AD59=2),1,IF(OR(AD59=\"-\",AD59=\"N\",AD59=1),0,IF(OR(BQ87=1,BQ87=0),\"#\",\"@\")))","v":"@"},{"$f":"IF(OR(AC59=\"+\",AC59=\"Y\",AC59=2),1,IF(OR(AC59=\"-\",AC59=\"N\",AC59=1),0,IF(OR(BR87=1,BR87=0),\"#\",\"@\")))","v":"@"},{"$f":"IF(OR(AB59=\"+\",AB59=\"Y\",AB59=2),1,IF(OR(AB59=\"-\",AB59=\"N\",AB59=1),0,IF(OR(BS87=1,BS87=0),\"#\",\"@\")))","v":"@"},{"$f":"IF(OR(AA59=\"+\",AA59=\"Y\",AA59=2),1,IF(OR(AA59=\"-\",AA59=\"N\",AA59=1),0,IF(OR(BT87=1,BT87=0),\"#\",\"@\")))","v":"@"},{"$f":"IF(OR(Z59=\"+\",Z59=\"Y\",Z59=2),1,IF(OR(Z59=\"-\",Z59=\"N\",Z59=1),0,IF(OR(BU87=1,BU87=0),\"#\",\"@\")))","v":"@"},{"$f":"IF(OR(Y59=\"+\",Y59=\"Y\",Y59=2),1,IF(OR(Y59=\"-\",Y59=\"N\",Y59=1),0,IF(OR(BV87=1,BV87=0),\"#\",\"@\")))","v":"@"},{"$f":"IF(OR(X59=\"+\",X59=\"Y\",X59=2),1,IF(OR(X59=\"-\",X59=\"N\",X59=1),0,IF(OR(BW87=1,BW87=0),\"#\",\"@\")))","v":"@"},{"$f":"IF(OR(W59=\"+\",W59=\"Y\",W59=2),1,IF(OR(W59=\"-\",W59=\"N\",W59=1),0,IF(OR(BX87=1,BX87=0),\"#\",\"@\")))","v":"@"},{"$f":"IF(OR(V59=\"+\",V59=\"Y\",V59=2),1,IF(OR(V59=\"-\",V59=\"N\",V59=1),0,IF(OR(BY87=1,BY87=0),\"#\",\"@\")))","v":"@"},{"$f":"IF(OR(U59=\"+\",U59=\"Y\",U59=2),1,IF(OR(U59=\"-\",U59=\"N\",U59=1),0,IF(OR(BZ87=1,BZ87=0),\"#\",\"@\")))","v":"@"},{"$f":"IF(OR(T59=\"+\",T59=\"Y\",T59=2),1,IF(OR(T59=\"-\",T59=\"N\",T59=1),0,IF(OR(CA87=1,CA87=0),\"#\",\"@\")))","v":"@"},{"$f":"IF(OR(S59=\"+\",S59=\"Y\",S59=2),1,IF(OR(S59=\"-\",S59=\"N\",S59=1),0,IF(OR(CB87=1,CB87=0),\"#\",\"@\")))","v":"@"},{"$f":"IF(OR(R59=\"+\",R59=\"Y\",R59=2),1,IF(OR(R59=\"-\",R59=\"N\",R59=1),0,IF(OR(CC87=1,CC87=0),\"#\",\"@\")))","v":"@"},{"$f":"IF(OR(Q59=\"+\",Q59=\"Y\",Q59=2),1,IF(OR(Q59=\"-\",Q59=\"N\",Q59=1),0,IF(OR(CD87=1,CD87=0),\"#\",\"@\")))","v":"@"},{"$f":"IF(OR(P59=\"+\",P59=\"Y\",P59=2),1,IF(OR(P59=\"-\",P59=\"N\",P59=1),0,IF(OR(CE87=1,CE87=0),\"#\",\"@\")))","v":"@"},{"$f":"IF(OR(O59=\"+\",O59=\"Y\",O59=2),1,IF(OR(O59=\"-\",O59=\"N\",O59=1),0,IF(OR(CF87=1,CF87=0),\"#\",\"@\")))","v":"@"},{"$f":"IF(OR(N59=\"+\",N59=\"Y\",N59=2),1,IF(OR(N59=\"-\",N59=\"N\",N59=1),0,IF(OR(CG87=1,CG87=0),\"#\",\"@\")))","v":"@"},{"$f":"IF(OR(M59=\"+\",M59=\"Y\",M59=2),1,IF(OR(M59=\"-\",M59=\"N\",M59=1),0,IF(OR(CH87=1,CH87=0),\"#\",\"@\")))","v":"@"},{"$f":"IF(OR(L59=\"+\",L59=\"Y\",L59=2),1,IF(OR(L59=\"-\",L59=\"N\",L59=1),0,IF(OR(CI87=1,CI87=0),\"#\",\"@\")))","v":"@"},{"$f":"IF(OR(K59=\"+\",K59=\"Y\",K59=2),1,IF(OR(K59=\"-\",K59=\"N\",K59=1),0,IF(OR(CJ87=1,CJ87=0),\"#\",\"@\")))","v":"@"},{"$f":"IF(OR(J59=\"+\",J59=\"Y\",J59=2),1,IF(OR(J59=\"-\",J59=\"N\",J59=1),0,IF(OR(CK87=1,CK87=0),\"#\",\"@\")))","v":"@"},{"$f":"IF(OR(I59=\"+\",I59=\"Y\",I59=2),1,IF(OR(I59=\"-\",I59=\"N\",I59=1),0,IF(OR(CL87=1,CL87=0),\"#\",\"@\")))","v":"@"},{"$f":"IF(OR(H59=\"+\",H59=\"Y\",H59=2),1,IF(OR(H59=\"-\",H59=\"N\",H59=1),0,IF(OR(CM87=1,CM87=0),\"#\",\"@\")))","v":"@"},{"$f":"IF(OR(G59=\"+\",G59=\"Y\",G59=2),1,IF(OR(G59=\"-\",G59=\"N\",G59=1),0,\"@\"))","v":"@"},{"$f":"'Month 7'!BL87","v":"@"},{"$f":"'Month 7'!BK87","v":"@"},{"$f":"'Month 7'!BJ87","v":"@"},{"$f":"'Month 7'!BI87","v":"@"},{"$f":"ADDRESS(ROW(BH87),(MATCH(\"#\",BI87:CM87,0)+61))","v":{"$error":"#N/A"}},{"$f":"ADDRESS(ROW(BH87),(MATCH(\"#\",BI87:CM87,0)+65))","v":{"$error":"#N/A"}},{"$f":"ADDRESS(ROW(BH87),(MATCH(\"#\",BI87:CM87,0)+64))","v":{"$error":"#N/A"}},{"$f":"ADDRESS(ROW(BH87),(MATCH(\"#\",BI87:CM87,0)+63))","v":{"$error":"#N/A"}},{"$f":"IF(ISNUMBER(SUM(COUNTIF(INDIRECT(CR87):INDIRECT(CS87),2),COUNTIF(INDIRECT(CR87):INDIRECT(CS87),1),COUNTIF(INDIRECT(CR87):INDIRECT(CS87),0))),SUM(COUNTIF(INDIRECT(CR87):INDIRECT(CS87),2),COUNTIF(INDIRECT(CR87):INDIRECT(CS87),1),COUNTIF(INDIRECT(CR87):INDIRECT(CS87),0)),\"\")","v":""},{"$f":"IF(ISNUMBER(SUM(COUNTIF(INDIRECT(CR87):INDIRECT(CT87),2),COUNTIF(INDIRECT(CR87):INDIRECT(CT87),1),COUNTIF(INDIRECT(CR87):INDIRECT(CT87),0))),SUM(COUNTIF(INDIRECT(CR87):INDIRECT(CT87),2),COUNTIF(INDIRECT(CR87):INDIRECT(CT87),1),COUNTIF(INDIRECT(CR87):INDIRECT(CT87),0)),\"\")","v":""},{"$f":"IF(ISNUMBER(SUM(COUNTIF(INDIRECT(CR87):INDIRECT(CU87),1),COUNTIF(INDIRECT(CR87):INDIRECT(CU87),0))),SUM(COUNTIF(INDIRECT(CR87):INDIRECT(CU87),1),COUNTIF(INDIRECT(CR87):INDIRECT(CU87),0)),\"\")","v":""},{"$f":"SUM(INDIRECT(CR87):INDIRECT(CS87))","v":{"$error":"#N/A"}},{"$f":"SUM(INDIRECT(CR87):INDIRECT(CT87))","v":{"$error":"#N/A"}},{"$f":"SUM(INDIRECT(CR87):INDIRECT(CU87))","v":{"$error":"#N/A"}}]
[null,null,null,null,null,null,null,null,null,null,null,null,null,null,null,null,null,null,null,null,null,null,null,null,null,null,null,null,null,null,null,null,null,null,null,null,null,null,null,null,null,null,null,null,null,null,null,null,null,null,null,null,null,null,null,null,null,null,null,0,"@","@","@","@","@","@","@","@","@","@","@","@","@","@","@","@","@","@","@","@","@","@","@","@","@","@","@","@","@","@","@",{"$f":"'Month 7'!BL88","v":"@"},{"$f":"'Month 7'!BK88","v":"@"},{"$f":"'Month 7'!BJ88","v":"@"},{"$f":"'Month 7'!BI88","v":"@"},{"$error":"#N/A"},{"$error":"#N/A"},{"$error":"#N/A"},{"$error":"#N/A"},{"$f":"IF(ISNUMBER(SUM(COUNTIF(INDIRECT(CR88):INDIRECT(CS88),2),COUNTIF(INDIRECT(CR88):INDIRECT(CS88),1),COUNTIF(INDIRECT(CR88):INDIRECT(CS88),0))),SUM(COUNTIF(INDIRECT(CR88):INDIRECT(CS88),2),COUNTIF(INDIRECT(CR88):INDIRECT(CS88),1),COUNTIF(INDIRECT(CR88):INDIRECT(CS88),0)),\"\")","v":""},{"$f":"IF(ISNUMBER(SUM(COUNTIF(INDIRECT(CR88):INDIRECT(CT88),2),COUNTIF(INDIRECT(CR88):INDIRECT(CT88),1),COUNTIF(INDIRECT(CR88):INDIRECT(CT88),0))),SUM(COUNTIF(INDIRECT(CR88):INDIRECT(CT88),2),COUNTIF(INDIRECT(CR88):INDIRECT(CT88),1),COUNTIF(INDIRECT(CR88):INDIRECT(CT88),0)),\"\")","v":""},{"$f":"IF(ISNUMBER(SUM(COUNTIF(INDIRECT(CR88):INDIRECT(CU88),1),COUNTIF(INDIRECT(CR88):INDIRECT(CU88),0))),SUM(COUNTIF(INDIRECT(CR88):INDIRECT(CU88),1),COUNTIF(INDIRECT(CR88):INDIRECT(CU88),0)),\"\")","v":""},{"$f":"SUM(INDIRECT(CR88):INDIRECT(CS88))","v":{"$error":"#N/A"}},{"$f":"SUM(INDIRECT(CR88):INDIRECT(CT88))","v":{"$error":"#N/A"}},{"$f":"SUM(INDIRECT(CR88):INDIRECT(CU88))","v":{"$error":"#N/A"}}]
[null,null,null,null,null,null,null,null,null,null,null,null,null,null,null,null,null,null,null,null,null,null,null,null,null,null,null,null,null,null,null,null,null,null,null,null,null,null,null,null,null,null,null,null,null,null,null,null,null,null,null,null,null,null,null,null,null,null,null,0,"@","@","@","@","@","@","@","@","@","@","@","@","@","@","@","@","@","@","@","@","@","@","@","@","@","@","@","@","@","@","@",{"$f":"'Month 7'!BL89","v":"@"},{"$f":"'Month 7'!BK89","v":"@"},{"$f":"'Month 7'!BJ89","v":"@"},{"$f":"'Month 7'!BI89","v":"@"},{"$error":"#N/A"},{"$error":"#N/A"},{"$error":"#N/A"},{"$error":"#N/A"},{"$f":"IF(ISNUMBER(SUM(COUNTIF(INDIRECT(CR89):INDIRECT(CS89),2),COUNTIF(INDIRECT(CR89):INDIRECT(CS89),1),COUNTIF(INDIRECT(CR89):INDIRECT(CS89),0))),SUM(COUNTIF(INDIRECT(CR89):INDIRECT(CS89),2),COUNTIF(INDIRECT(CR89):INDIRECT(CS89),1),COUNTIF(INDIRECT(CR89):INDIRECT(CS89),0)),\"\")","v":""},{"$f":"IF(ISNUMBER(SUM(COUNTIF(INDIRECT(CR89):INDIRECT(CT89),2),COUNTIF(INDIRECT(CR89):INDIRECT(CT89),1),COUNTIF(INDIRECT(CR89):INDIRECT(CT89),0))),SUM(COUNTIF(INDIRECT(CR89):INDIRECT(CT89),2),COUNTIF(INDIRECT(CR89):INDIRECT(CT89),1),COUNTIF(INDIRECT(CR89):INDIRECT(CT89),0)),\"\")","v":""},{"$f":"IF(ISNUMBER(SUM(COUNTIF(INDIRECT(CR89):INDIRECT(CU89),1),COUNTIF(INDIRECT(CR89):INDIRECT(CU89),0))),SUM(COUNTIF(INDIRECT(CR89):INDIRECT(CU89),1),COUNTIF(INDIRECT(CR89):INDIRECT(CU89),0)),\"\")","v":""},{"$f":"SUM(INDIRECT(CR89):INDIRECT(CS89))","v":{"$error":"#N/A"}},{"$f":"SUM(INDIRECT(CR89):INDIRECT(CT89))","v":{"$error":"#N/A"}},{"$f":"SUM(INDIRECT(CR89):INDIRECT(CU89))","v":{"$error":"#N/A"}}]
[null,null,null,null,null,null,null,null,null,null,null,null,null,null,null,null,null,null,null,null,null,null,null,null,null,null,null,null,null,null,null,null,null,null,null,null,null,null,null,null,null,null,null,null,null,null,null,null,null,null,null,null,null,null,null,null,null,null,null,0,"@","@","@","@","@","@","@","@","@","@","@","@","@","@","@","@","@","@","@","@","@","@","@","@","@","@","@","@","@","@","@",{"$f":"'Month 7'!BL90","v":"@"},{"$f":"'Month 7'!BK90","v":"@"},{"$f":"'Month 7'!BJ90","v":"@"},{"$f":"'Month 7'!BI90","v":"@"},{"$error":"#N/A"},{"$error":"#N/A"},{"$error":"#N/A"},{"$error":"#N/A"},{"$f":"IF(ISNUMBER(SUM(COUNTIF(INDIRECT(CR90):INDIRECT(CS90),2),COUNTIF(INDIRECT(CR90):INDIRECT(CS90),1),COUNTIF(INDIRECT(CR90):INDIRECT(CS90),0))),SUM(COUNTIF(INDIRECT(CR90):INDIRECT(CS90),2),COUNTIF(INDIRECT(CR90):INDIRECT(CS90),1),COUNTIF(INDIRECT(CR90):INDIRECT(CS90),0)),\"\")","v":""},{"$f":"IF(ISNUMBER(SUM(COUNTIF(INDIRECT(CR90):INDIRECT(CT90),2),COUNTIF(INDIRECT(CR90):INDIRECT(CT90),1),COUNTIF(INDIRECT(CR90):INDIRECT(CT90),0))),SUM(COUNTIF(INDIRECT(CR90):INDIRECT(CT90),2),COUNTIF(INDIRECT(CR90):INDIRECT(CT90),1),COUNTIF(INDIRECT(CR90):INDIRECT(CT90),0)),\"\")","v":""},{"$f":"IF(ISNUMBER(SUM(COUNTIF(INDIRECT(CR90):INDIRECT(CU90),1),COUNTIF(INDIRECT(CR90):INDIRECT(CU90),0))),SUM(COUNTIF(INDIRECT(CR90):INDIRECT(CU90),1),COUNTIF(INDIRECT(CR90):INDIRECT(CU90),0)),\"\")","v":""},{"$f":"SUM(INDIRECT(CR90):INDIRECT(CS90))","v":{"$error":"#N/A"}},{"$f":"SUM(INDIRECT(CR90):INDIRECT(CT90))","v":{"$error":"#N/A"}},{"$f":"SUM(INDIRECT(CR90):INDIRECT(CU90))","v":{"$error":"#N/A"}}]
[null,null,null,null,null,null,null,null,null,null,null,null,null,null,null,null,null,null,null,null,null,null,null,null,null,null,null,null,null,null,null,null,null,null,null,null,null,null,null,null,null,null,null,null,null,null,null,null,null,null,null,null,null,null,null,null,null,null,null,0,"@","@","@","@","@","@","@","@","@","@","@","@","@","@","@","@","@","@","@","@","@","@","@","@","@","@","@","@","@","@","@",{"$f":"'Month 7'!BL91","v":"@"},{"$f":"'Month 7'!BK91","v":"@"},{"$f":"'Month 7'!BJ91","v":"@"},{"$f":"'Month 7'!BI91","v":"@"},{"$error":"#N/A"},{"$error":"#N/A"},{"$error":"#N/A"},{"$error":"#N/A"},{"$f":"IF(ISNUMBER(SUM(COUNTIF(INDIRECT(CR91):INDIRECT(CS91),2),COUNTIF(INDIRECT(CR91):INDIRECT(CS91),1),COUNTIF(INDIRECT(CR91):INDIRECT(CS91),0))),SUM(COUNTIF(INDIRECT(CR91):INDIRECT(CS91),2),COUNTIF(INDIRECT(CR91):INDIRECT(CS91),1),COUNTIF(INDIRECT(CR91):INDIRECT(CS91),0)),\"\")","v":""},{"$f":"IF(ISNUMBER(SUM(COUNTIF(INDIRECT(CR91):INDIRECT(CT91),2),COUNTIF(INDIRECT(CR91):INDIRECT(CT91),1),COUNTIF(INDIRECT(CR91):INDIRECT(CT91),0))),SUM(COUNTIF(INDIRECT(CR91):INDIRECT(CT91),2),COUNTIF(INDIRECT(CR91):INDIRECT(CT91),1),COUNTIF(INDIRECT(CR91):INDIRECT(CT91),0)),\"\")","v":""},{"$f":"IF(ISNUMBER(SUM(COUNTIF(INDIRECT(CR91):INDIRECT(CU91),1),COUNTIF(INDIRECT(CR91):INDIRECT(CU91),0))),SUM(COUNTIF(INDIRECT(CR91):INDIRECT(CU91),1),COUNTIF(INDIRECT(CR91):INDIRECT(CU91),0)),\"\")","v":""},{"$f":"SUM(INDIRECT(CR91):INDIRECT(CS91))","v":{"$error":"#N/A"}},{"$f":"SUM(INDIRECT(CR91):INDIRECT(CT91))","v":{"$error":"#N/A"}},{"$f":"SUM(INDIRECT(CR91):INDIRECT(CU91))","v":{"$error":"#N/A"}}]
[null,null,null,null,null,null,null,null,null,null,null,null,null,null,null,null,null,null,null,null,null,null,null,null,null,null,null,null,null,null,null,null,null,null,null,null,null,null,null,null,null,null,null,null,null,null,null,null,null,null,null,null,null,null,null,null,null,null,null,0,"@","@","@","@","@","@","@","@","@","@","@","@","@","@","@","@","@","@","@","@","@","@","@","@","@","@","@","@","@","@","@",{"$f":"'Month 7'!BL92","v":"@"},{"$f":"'Month 7'!BK92","v":"@"},{"$f":"'Month 7'!BJ92","v":"@"},{"$f":"'Month 7'!BI92","v":"@"},{"$error":"#N/A"},{"$error":"#N/A"},{"$error":"#N/A"},{"$error":"#N/A"},{"$f":"IF(ISNUMBER(SUM(COUNTIF(INDIRECT(CR92):INDIRECT(CS92),2),COUNTIF(INDIRECT(CR92):INDIRECT(CS92),1),COUNTIF(INDIRECT(CR92):INDIRECT(CS92),0))),SUM(COUNTIF(INDIRECT(CR92):INDIRECT(CS92),2),COUNTIF(INDIRECT(CR92):INDIRECT(CS92),1),COUNTIF(INDIRECT(CR92):INDIRECT(CS92),0)),\"\")","v":""},{"$f":"IF(ISNUMBER(SUM(COUNTIF(INDIRECT(CR92):INDIRECT(CT92),2),COUNTIF(INDIRECT(CR92):INDIRECT(CT92),1),COUNTIF(INDIRECT(CR92):INDIRECT(CT92),0))),SUM(COUNTIF(INDIRECT(CR92):INDIRECT(CT92),2),COUNTIF(INDIRECT(CR92):INDIRECT(CT92),1),COUNTIF(INDIRECT(CR92):INDIRECT(CT92),0)),\"\")","v":""},{"$f":"IF(ISNUMBER(SUM(COUNTIF(INDIRECT(CR92):INDIRECT(CU92),1),COUNTIF(INDIRECT(CR92):INDIRECT(CU92),0))),SUM(COUNTIF(INDIRECT(CR92):INDIRECT(CU92),1),COUNTIF(INDIRECT(CR92):INDIRECT(CU92),0)),\"\")","v":""},{"$f":"SUM(INDIRECT(CR92):INDIRECT(CS92))","v":{"$error":"#N/A"}},{"$f":"SUM(INDIRECT(CR92):INDIRECT(CT92))","v":{"$error":"#N/A"}},{"$f":"SUM(INDIRECT(CR92):INDIRECT(CU92))","v":{"$error":"#N/A"}}]
[null,null,null,null,null,null,null,null,null,null,null,null,null,null,null,null,null,null,null,null,null,null,null,null,null,null,null,null,null,null,null,null,null,null,null,null,null,null,null,null,null,null,null,null,null,null,null,null,null,null,null,null,null,null,null,null,null,null,null,0,"@","@","@","@","@","@","@","@","@","@","@","@","@","@","@","@","@","@","@","@","@","@","@","@","@","@","@","@","@","@","@",{"$f":"'Month 7'!BL93","v":"@"},{"$f":"'Month 7'!BK93","v":"@"},{"$f":"'Month 7'!BJ93","v":"@"},{"$f":"'Month 7'!BI93","v":"@"},{"$error":"#N/A"},{"$error":"#N/A"},{"$error":"#N/A"},{"$error":"#N/A"},{"$f":"IF(ISNUMBER(SUM(COUNTIF(INDIRECT(CR93):INDIRECT(CS93),2),COUNTIF(INDIRECT(CR93):INDIRECT(CS93),1),COUNTIF(INDIRECT(CR93):INDIRECT(CS93),0))),SUM(COUNTIF(INDIRECT(CR93):INDIRECT(CS93),2),COUNTIF(INDIRECT(CR93):INDIRECT(CS93),1),COUNTIF(INDIRECT(CR93):INDIRECT(CS93),0)),\"\")","v":""},{"$f":"IF(ISNUMBER(SUM(COUNTIF(INDIRECT(CR93):INDIRECT(CT93),2),COUNTIF(INDIRECT(CR93):INDIRECT(CT93),1),COUNTIF(INDIRECT(CR93):INDIRECT(CT93),0))),SUM(COUNTIF(INDIRECT(CR93):INDIRECT(CT93),2),COUNTIF(INDIRECT(CR93):INDIRECT(CT93),1),COUNTIF(INDIRECT(CR93):INDIRECT(CT93),0)),\"\")","v":""},{"$f":"IF(ISNUMBER(SUM(COUNTIF(INDIRECT(CR93):INDIRECT(CU93),1),COUNTIF(INDIRECT(CR93):INDIRECT(CU93),0))),SUM(COUNTIF(INDIRECT(CR93):INDIRECT(CU93),1),COUNTIF(INDIRECT(CR93):INDIRECT(CU93),0)),\"\")","v":""},{"$f":"SUM(INDIRECT(CR93):INDIRECT(CS93))","v":{"$error":"#N/A"}},{"$f":"SUM(INDIRECT(CR93):INDIRECT(CT93))","v":{"$error":"#N/A"}},{"$f":"SUM(INDIRECT(CR93):INDIRECT(CU93))","v":{"$error":"#N/A"}}]
[null,null,null,null,null,null,null,null,null,null,null,null,null,null,null,null,null,null,null,null,null,null,null,null,null,null,null,null,null,null,null,null,null,null,null,null,null,null,null,null,null,null,null,null,null,null,null,null,null,null,null,null,null,null,null,null,null,null,null,0,"@","@","@","@","@","@","@","@","@","@","@","@","@","@","@","@","@","@","@","@","@","@","@","@","@","@","@","@","@","@","@",{"$f":"'Month 7'!BL94","v":"@"},{"$f":"'Month 7'!BK94","v":"@"},{"$f":"'Month 7'!BJ94","v":"@"},{"$f":"'Month 7'!BI94","v":"@"},{"$error":"#N/A"},{"$error":"#N/A"},{"$error":"#N/A"},{"$error":"#N/A"},{"$f":"IF(ISNUMBER(SUM(COUNTIF(INDIRECT(CR94):INDIRECT(CS94),2),COUNTIF(INDIRECT(CR94):INDIRECT(CS94),1),COUNTIF(INDIRECT(CR94):INDIRECT(CS94),0))),SUM(COUNTIF(INDIRECT(CR94):INDIRECT(CS94),2),COUNTIF(INDIRECT(CR94):INDIRECT(CS94),1),COUNTIF(INDIRECT(CR94):INDIRECT(CS94),0)),\"\")","v":""},{"$f":"IF(ISNUMBER(SUM(COUNTIF(INDIRECT(CR94):INDIRECT(CT94),2),COUNTIF(INDIRECT(CR94):INDIRECT(CT94),1),COUNTIF(INDIRECT(CR94):INDIRECT(CT94),0))),SUM(COUNTIF(INDIRECT(CR94):INDIRECT(CT94),2),COUNTIF(INDIRECT(CR94):INDIRECT(CT94),1),COUNTIF(INDIRECT(CR94):INDIRECT(CT94),0)),\"\")","v":""},{"$f":"IF(ISNUMBER(SUM(COUNTIF(INDIRECT(CR94):INDIRECT(CU94),1),COUNTIF(INDIRECT(CR94):INDIRECT(CU94),0))),SUM(COUNTIF(INDIRECT(CR94):INDIRECT(CU94),1),COUNTIF(INDIRECT(CR94):INDIRECT(CU94),0)),\"\")","v":""},{"$f":"SUM(INDIRECT(CR94):INDIRECT(CS94))","v":{"$error":"#N/A"}},{"$f":"SUM(INDIRECT(CR94):INDIRECT(CT94))","v":{"$error":"#N/A"}},{"$f":"SUM(INDIRECT(CR94):INDIRECT(CU94))","v":{"$error":"#N/A"}}]
[null,null,null,null,null,null,null,null,null,null,null,null,null,null,null,null,null,null,null,null,null,null,null,null,null,null,null,null,null,null,null,null,null,null,null,null,null,null,null,null,null,null,null,null,null,null,null,null,null,null,null,null,null,null,null,null,null,null,null,0,"@","@","@","@","@","@","@","@","@","@","@","@","@","@","@","@","@","@","@","@","@","@","@","@","@","@","@","@","@","@","@",{"$f":"'Month 7'!BL95","v":"@"},{"$f":"'Month 7'!BK95","v":"@"},{"$f":"'Month 7'!BJ95","v":"@"},{"$f":"'Month 7'!BI95","v":"@"},{"$error":"#N/A"},{"$error":"#N/A"},{"$error":"#N/A"},{"$error":"#N/A"},{"$f":"IF(ISNUMBER(SUM(COUNTIF(INDIRECT(CR95):INDIRECT(CS95),2),COUNTIF(INDIRECT(CR95):INDIRECT(CS95),1),COUNTIF(INDIRECT(CR95):INDIRECT(CS95),0))),SUM(COUNTIF(INDIRECT(CR95):INDIRECT(CS95),2),COUNTIF(INDIRECT(CR95):INDIRECT(CS95),1),COUNTIF(INDIRECT(CR95):INDIRECT(CS95),0)),\"\")","v":""},{"$f":"IF(ISNUMBER(SUM(COUNTIF(INDIRECT(CR95):INDIRECT(CT95),2),COUNTIF(INDIRECT(CR95):INDIRECT(CT95),1),COUNTIF(INDIRECT(CR95):INDIRECT(CT95),0))),SUM(COUNTIF(INDIRECT(CR95):INDIRECT(CT95),2),COUNTIF(INDIRECT(CR95):INDIRECT(CT95),1),COUNTIF(INDIRECT(CR95):INDIRECT(CT95),0)),\"\")","v":""},{"$f":"IF(ISNUMBER(SUM(COUNTIF(INDIRECT(CR95):INDIRECT(CU95),1),COUNTIF(INDIRECT(CR95):INDIRECT(CU95),0))),SUM(COUNTIF(INDIRECT(CR95):INDIRECT(CU95),1),COUNTIF(INDIRECT(CR95):INDIRECT(CU95),0)),\"\")","v":""},{"$f":"SUM(INDIRECT(CR95):INDIRECT(CS95))","v":{"$error":"#N/A"}},{"$f":"SUM(INDIRECT(CR95):INDIRECT(CT95))","v":{"$error":"#N/A"}},{"$f":"SUM(INDIRECT(CR95):INDIRECT(CU95))","v":{"$error":"#N/A"}}]
[null,null,null,null,null,null,null,null,null,null,null,null,null,null,null,null,null,null,null,null,null,null,null,null,null,null,null,null,null,null,null,null,null,null,null,null,null,null,null,null,null,null,null,null,null,null,null,null,null,null,null,null,null,null,null,null,null,null,null,0,"@","@","@","@","@","@","@","@","@","@","@","@","@","@","@","@","@","@","@","@","@","@","@","@","@","@","@","@","@","@","@",{"$f":"'Month 7'!BL96","v":"@"},{"$f":"'Month 7'!BK96","v":"@"},{"$f":"'Month 7'!BJ96","v":"@"},{"$f":"'Month 7'!BI96","v":"@"},{"$error":"#N/A"},{"$error":"#N/A"},{"$error":"#N/A"},{"$error":"#N/A"},{"$f":"IF(ISNUMBER(SUM(COUNTIF(INDIRECT(CR96):INDIRECT(CS96),2),COUNTIF(INDIRECT(CR96):INDIRECT(CS96),1),COUNTIF(INDIRECT(CR96):INDIRECT(CS96),0))),SUM(COUNTIF(INDIRECT(CR96):INDIRECT(CS96),2),COUNTIF(INDIRECT(CR96):INDIRECT(CS96),1),COUNTIF(INDIRECT(CR96):INDIRECT(CS96),0)),\"\")","v":""},{"$f":"IF(ISNUMBER(SUM(COUNTIF(INDIRECT(CR96):INDIRECT(CT96),2),COUNTIF(INDIRECT(CR96):INDIRECT(CT96),1),COUNTIF(INDIRECT(CR96):INDIRECT(CT96),0))),SUM(COUNTIF(INDIRECT(CR96):INDIRECT(CT96),2),COUNTIF(INDIRECT(CR96):INDIRECT(CT96),1),COUNTIF(INDIRECT(CR96):INDIRECT(CT96),0)),\"\")","v":""},{"$f":"IF(ISNUMBER(SUM(COUNTIF(INDIRECT(CR96):INDIRECT(CU96),1),COUNTIF(INDIRECT(CR96):INDIRECT(CU96),0))),SUM(COUNTIF(INDIRECT(CR96):INDIRECT(CU96),1),COUNTIF(INDIRECT(CR96):INDIRECT(CU96),0)),\"\")","v":""},{"$f":"SUM(INDIRECT(CR96):INDIRECT(CS96))","v":{"$error":"#N/A"}},{"$f":"SUM(INDIRECT(CR96):INDIRECT(CT96))","v":{"$error":"#N/A"}},{"$f":"SUM(INDIRECT(CR96):INDIRECT(CU96))","v":{"$error":"#N/A"}}]
[null,null,null,null,null,null,null,null,null,null,null,null,null,null,null,null,null,null,null,null,null,null,null,null,null,null,null,null,null,null,null,null,null,null,null,null,null,null,null,null,null,null,null,null,null,null,null,null,null,null,null,null,null,null,null,null,null,null,null,0,"@","@","@","@","@","@","@","@","@","@","@","@","@","@","@","@","@","@","@","@","@","@","@","@","@","@","@","@","@","@","@",{"$f":"'Month 7'!BL97","v":"@"},{"$f":"'Month 7'!BK97","v":"@"},{"$f":"'Month 7'!BJ97","v":"@"},{"$f":"'Month 7'!BI97","v":"@"},{"$error":"#N/A"},{"$error":"#N/A"},{"$error":"#N/A"},{"$error":"#N/A"},{"$f":"IF(ISNUMBER(SUM(COUNTIF(INDIRECT(CR97):INDIRECT(CS97),2),COUNTIF(INDIRECT(CR97):INDIRECT(CS97),1),COUNTIF(INDIRECT(CR97):INDIRECT(CS97),0))),SUM(COUNTIF(INDIRECT(CR97):INDIRECT(CS97),2),COUNTIF(INDIRECT(CR97):INDIRECT(CS97),1),COUNTIF(INDIRECT(CR97):INDIRECT(CS97),0)),\"\")","v":""},{"$f":"IF(ISNUMBER(SUM(COUNTIF(INDIRECT(CR97):INDIRECT(CT97),2),COUNTIF(INDIRECT(CR97):INDIRECT(CT97),1),COUNTIF(INDIRECT(CR97):INDIRECT(CT97),0))),SUM(COUNTIF(INDIRECT(CR97):INDIRECT(CT97),2),COUNTIF(INDIRECT(CR97):INDIRECT(CT97),1),COUNTIF(INDIRECT(CR97):INDIRECT(CT97),0)),\"\")","v":""},{"$f":"IF(ISNUMBER(SUM(COUNTIF(INDIRECT(CR97):INDIRECT(CU97),1),COUNTIF(INDIRECT(CR97):INDIRECT(CU97),0))),SUM(COUNTIF(INDIRECT(CR97):INDIRECT(CU97),1),COUNTIF(INDIRECT(CR97):INDIRECT(CU97),0)),\"\")","v":""},{"$f":"SUM(INDIRECT(CR97):INDIRECT(CS97))","v":{"$error":"#N/A"}},{"$f":"SUM(INDIRECT(CR97):INDIRECT(CT97))","v":{"$error":"#N/A"}},{"$f":"SUM(INDIRECT(CR97):INDIRECT(CU97))","v":{"$error":"#N/A"}}]
[null,null,null,null,null,null,null,null,null,null,null,null,null,null,null,null,null,null,null,null,null,null,null,null,null,null,null,null,null,null,null,null,null,null,null,null,null,null,null,null,null,null,null,null,null,null,null,null,null,null,null,null,null,null,null,null,null,null,null,0,"@","@","@","@","@","@","@","@","@","@","@","@","@","@","@","@","@","@","@","@","@","@","@","@","@","@","@","@","@","@","@",{"$f":"'Month 7'!BL98","v":"@"},{"$f":"'Month 7'!BK98","v":"@"},{"$f":"'Month 7'!BJ98","v":"@"},{"$f":"'Month 7'!BI98","v":"@"},{"$error":"#N/A"},{"$error":"#N/A"},{"$error":"#N/A"},{"$error":"#N/A"},{"$f":"IF(ISNUMBER(SUM(COUNTIF(INDIRECT(CR98):INDIRECT(CS98),2),COUNTIF(INDIRECT(CR98):INDIRECT(CS98),1),COUNTIF(INDIRECT(CR98):INDIRECT(CS98),0))),SUM(COUNTIF(INDIRECT(CR98):INDIRECT(CS98),2),COUNTIF(INDIRECT(CR98):INDIRECT(CS98),1),COUNTIF(INDIRECT(CR98):INDIRECT(CS98),0)),\"\")","v":""},{"$f":"IF(ISNUMBER(SUM(COUNTIF(INDIRECT(CR98):INDIRECT(CT98),2),COUNTIF(INDIRECT(CR98):INDIRECT(CT98),1),COUNTIF(INDIRECT(CR98):INDIRECT(CT98),0))),SUM(COUNTIF(INDIRECT(CR98):INDIRECT(CT98),2),COUNTIF(INDIRECT(CR98):INDIRECT(CT98),1),COUNTIF(INDIRECT(CR98):INDIRECT(CT98),0)),\"\")","v":""},{"$f":"IF(ISNUMBER(SUM(COUNTIF(INDIRECT(CR98):INDIRECT(CU98),1),COUNTIF(INDIRECT(CR98):INDIRECT(CU98),0))),SUM(COUNTIF(INDIRECT(CR98):INDIRECT(CU98),1),COUNTIF(INDIRECT(CR98):INDIRECT(CU98),0)),\"\")","v":""},{"$f":"SUM(INDIRECT(CR98):INDIRECT(CS98))","v":{"$error":"#N/A"}},{"$f":"SUM(INDIRECT(CR98):INDIRECT(CT98))","v":{"$error":"#N/A"}},{"$f":"SUM(INDIRECT(CR98):INDIRECT(CU98))","v":{"$error":"#N/A"}}]
[null,null,null,null,null,null,null,null,null,null,null,null,null,null,null,null,null,null,null,null,null,null,null,null,null,null,null,null,null,null,null,null,null,null,null,null,null,null,null,null,null,null,null,null,null,null,null,null,null,null,null,null,null,null,null,null,null,null,null,0,"@","@","@","@","@","@","@","@","@","@","@","@","@","@","@","@","@","@","@","@","@","@","@","@","@","@","@","@","@","@","@",{"$f":"'Month 7'!BL99","v":"@"},{"$f":"'Month 7'!BK99","v":"@"},{"$f":"'Month 7'!BJ99","v":"@"},{"$f":"'Month 7'!BI99","v":"@"},{"$error":"#N/A"},{"$error":"#N/A"},{"$error":"#N/A"},{"$error":"#N/A"},{"$f":"IF(ISNUMBER(SUM(COUNTIF(INDIRECT(CR99):INDIRECT(CS99),2),COUNTIF(INDIRECT(CR99):INDIRECT(CS99),1),COUNTIF(INDIRECT(CR99):INDIRECT(CS99),0))),SUM(COUNTIF(INDIRECT(CR99):INDIRECT(CS99),2),COUNTIF(INDIRECT(CR99):INDIRECT(CS99),1),COUNTIF(INDIRECT(CR99):INDIRECT(CS99),0)),\"\")","v":""},{"$f":"IF(ISNUMBER(SUM(COUNTIF(INDIRECT(CR99):INDIRECT(CT99),2),COUNTIF(INDIRECT(CR99):INDIRECT(CT99),1),COUNTIF(INDIRECT(CR99):INDIRECT(CT99),0))),SUM(COUNTIF(INDIRECT(CR99):INDIRECT(CT99),2),COUNTIF(INDIRECT(CR99):INDIRECT(CT99),1),COUNTIF(INDIRECT(CR99):INDIRECT(CT99),0)),\"\")","v":""},{"$f":"IF(ISNUMBER(SUM(COUNTIF(INDIRECT(CR99):INDIRECT(CU99),1),COUNTIF(INDIRECT(CR99):INDIRECT(CU99),0))),SUM(COUNTIF(INDIRECT(CR99):INDIRECT(CU99),1),COUNTIF(INDIRECT(CR99):INDIRECT(CU99),0)),\"\")","v":""},{"$f":"SUM(INDIRECT(CR99):INDIRECT(CS99))","v":{"$error":"#N/A"}},{"$f":"SUM(INDIRECT(CR99):INDIRECT(CT99))","v":{"$error":"#N/A"}},{"$f":"SUM(INDIRECT(CR99):INDIRECT(CU99))","v":{"$error":"#N/A"}}]
[null,null,null,null,null,null,null,null,null,null,null,null,null,null,null,null,null,null,null,null,null,null,null,null,null,null,null,null,null,null,null,null,null,null,null,null,null,null,null,null,null,null,null,null,null,null,null,null,null,null,null,null,null,null,null,null,null,null,null,0,"@","@","@","@","@","@","@","@","@","@","@","@","@","@","@","@","@","@","@","@","@","@","@","@","@","@","@","@","@","@","@",{"$f":"'Month 7'!BL100","v":"@"},{"$f":"'Month 7'!BK100","v":"@"},{"$f":"'Month 7'!BJ100","v":"@"},{"$f":"'Month 7'!BI100","v":"@"},{"$error":"#N/A"},{"$error":"#N/A"},{"$error":"#N/A"},{"$error":"#N/A"},{"$f":"IF(ISNUMBER(SUM(COUNTIF(INDIRECT(CR100):INDIRECT(CS100),2),COUNTIF(INDIRECT(CR100):INDIRECT(CS100),1),COUNTIF(INDIRECT(CR100):INDIRECT(CS100),0))),SUM(COUNTIF(INDIRECT(CR100):INDIRECT(CS100),2),COUNTIF(INDIRECT(CR100):INDIRECT(CS100),1),COUNTIF(INDIRECT(CR100):INDIRECT(CS100),0)),\"\")","v":""},{"$f":"IF(ISNUMBER(SUM(COUNTIF(INDIRECT(CR100):INDIRECT(CT100),2),COUNTIF(INDIRECT(CR100):INDIRECT(CT100),1),COUNTIF(INDIRECT(CR100):INDIRECT(CT100),0))),SUM(COUNTIF(INDIRECT(CR100):INDIRECT(CT100),2),COUNTIF(INDIRECT(CR100):INDIRECT(CT100),1),COUNTIF(INDIRECT(CR100):INDIRECT(CT100),0)),\"\")","v":""},{"$f":"IF(ISNUMBER(SUM(COUNTIF(INDIRECT(CR100):INDIRECT(CU100),1),COUNTIF(INDIRECT(CR100):INDIRECT(CU100),0))),SUM(COUNTIF(INDIRECT(CR100):INDIRECT(CU100),1),COUNTIF(INDIRECT(CR100):INDIRECT(CU100),0)),\"\")","v":""},{"$f":"SUM(INDIRECT(CR100):INDIRECT(CS100))","v":{"$error":"#N/A"}},{"$f":"SUM(INDIRECT(CR100):INDIRECT(CT100))","v":{"$error":"#N/A"}},{"$f":"SUM(INDIRECT(CR100):INDIRECT(CU100))","v":{"$error":"#N/A"}}]
[null,null,null,null,null,null,null,null,null,null,null,null,null,null,null,null,null,null,null,null,null,null,null,null,null,null,null,null,null,null,null,null,null,null,null,null,null,null,null,null,null,null,null,null,null,null,null,null,null,null,null,null,null,null,null,null,null,null,null,0,"@","@","@","@","@","@","@","@","@","@","@","@","@","@","@","@","@","@","@","@","@","@","@","@","@","@","@","@","@","@","@",{"$f":"'Month 7'!BL101","v":"@"},{"$f":"'Month 7'!BK101","v":"@"},{"$f":"'Month 7'!BJ101","v":"@"},{"$f":"'Month 7'!BI101","v":"@"},{"$error":"#N/A"},{"$error":"#N/A"},{"$error":"#N/A"},{"$error":"#N/A"},{"$f":"IF(ISNUMBER(SUM(COUNTIF(INDIRECT(CR101):INDIRECT(CS101),2),COUNTIF(INDIRECT(CR101):INDIRECT(CS101),1),COUNTIF(INDIRECT(CR101):INDIRECT(CS101),0))),SUM(COUNTIF(INDIRECT(CR101):INDIRECT(CS101),2),COUNTIF(INDIRECT(CR101):INDIRECT(CS101),1),COUNTIF(INDIRECT(CR101):INDIRECT(CS101),0)),\"\")","v":""},{"$f":"IF(ISNUMBER(SUM(COUNTIF(INDIRECT(CR101):INDIRECT(CT101),2),COUNTIF(INDIRECT(CR101):INDIRECT(CT101),1),COUNTIF(INDIRECT(CR101):INDIRECT(CT101),0))),SUM(COUNTIF(INDIRECT(CR101):INDIRECT(CT101),2),COUNTIF(INDIRECT(CR101):INDIRECT(CT101),1),COUNTIF(INDIRECT(CR101):INDIRECT(CT101),0)),\"\")","v":""},{"$f":"IF(ISNUMBER(SUM(COUNTIF(INDIRECT(CR101):INDIRECT(CU101),1),COUNTIF(INDIRECT(CR101):INDIRECT(CU101),0))),SUM(COUNTIF(INDIRECT(CR101):INDIRECT(CU101),1),COUNTIF(INDIRECT(CR101):INDIRECT(CU101),0)),\"\")","v":""},{"$f":"SUM(INDIRECT(CR101):INDIRECT(CS101))","v":{"$error":"#N/A"}},{"$f":"SUM(INDIRECT(CR101):INDIRECT(CT101))","v":{"$error":"#N/A"}},{"$f":"SUM(INDIRECT(CR101):INDIRECT(CU101))","v":{"$error":"#N/A"}}]
[null,null,null,null,null,null,null,null,null,null,null,null,null,null,null,null,null,null,null,null,null,null,null,null,null,null,null,null,null,null,null,null,null,null,null,null,null,null,null,null,null,null,null,null,null,null,null,null,null,null,null,null,null,null,null,null,null,null,null,0,"@","@","@","@","@","@","@","@","@","@","@","@","@","@","@","@","@","@","@","@","@","@","@","@","@","@","@","@","@","@","@",{"$f":"'Month 7'!BL102","v":"@"},{"$f":"'Month 7'!BK102","v":"@"},{"$f":"'Month 7'!BJ102","v":"@"},{"$f":"'Month 7'!BI102","v":"@"},{"$error":"#N/A"},{"$error":"#N/A"},{"$error":"#N/A"},{"$error":"#N/A"},{"$f":"IF(ISNUMBER(SUM(COUNTIF(INDIRECT(CR102):INDIRECT(CS102),2),COUNTIF(INDIRECT(CR102):INDIRECT(CS102),1),COUNTIF(INDIRECT(CR102):INDIRECT(CS102),0))),SUM(COUNTIF(INDIRECT(CR102):INDIRECT(CS102),2),COUNTIF(INDIRECT(CR102):INDIRECT(CS102),1),COUNTIF(INDIRECT(CR102):INDIRECT(CS102),0)),\"\")","v":""},{"$f":"IF(ISNUMBER(SUM(COUNTIF(INDIRECT(CR102):INDIRECT(CT102),2),COUNTIF(INDIRECT(CR102):INDIRECT(CT102),1),COUNTIF(INDIRECT(CR102):INDIRECT(CT102),0))),SUM(COUNTIF(INDIRECT(CR102):INDIRECT(CT102),2),COUNTIF(INDIRECT(CR102):INDIRECT(CT102),1),COUNTIF(INDIRECT(CR102):INDIRECT(CT102),0)),\"\")","v":""},{"$f":"IF(ISNUMBER(SUM(COUNTIF(INDIRECT(CR102):INDIRECT(CU102),1),COUNTIF(INDIRECT(CR102):INDIRECT(CU102),0))),SUM(COUNTIF(INDIRECT(CR102):INDIRECT(CU102),1),COUNTIF(INDIRECT(CR102):INDIRECT(CU102),0)),\"\")","v":""},{"$f":"SUM(INDIRECT(CR102):INDIRECT(CS102))","v":{"$error":"#N/A"}},{"$f":"SUM(INDIRECT(CR102):INDIRECT(CT102))","v":{"$error":"#N/A"}},{"$f":"SUM(INDIRECT(CR102):INDIRECT(CU102))","v":{"$error":"#N/A"}}]
[null,null,null,null,null,null,null,null,null,null,null,null,null,null,null,null,null,null,null,null,null,null,null,null,null,null,null,null,null,null,null,null,null,null,null,null,null,null,null,null,null,null,null,null,null,null,null,null,null,null,null,null,null,null,null,null,null,null,null,0,"@","@","@","@","@","@","@","@","@","@","@","@","@","@","@","@","@","@","@","@","@","@","@","@","@","@","@","@","@","@","@",{"$f":"'Month 7'!BL103","v":"@"},{"$f":"'Month 7'!BK103","v":"@"},{"$f":"'Month 7'!BJ103","v":"@"},{"$f":"'Month 7'!BI103","v":"@"},{"$error":"#N/A"},{"$error":"#N/A"},{"$error":"#N/A"},{"$error":"#N/A"},{"$f":"IF(ISNUMBER(SUM(COUNTIF(INDIRECT(CR103):INDIRECT(CS103),2),COUNTIF(INDIRECT(CR103):INDIRECT(CS103),1),COUNTIF(INDIRECT(CR103):INDIRECT(CS103),0))),SUM(COUNTIF(INDIRECT(CR103):INDIRECT(CS103),2),COUNTIF(INDIRECT(CR103):INDIRECT(CS103),1),COUNTIF(INDIRECT(CR103):INDIRECT(CS103),0)),\"\")","v":""},{"$f":"IF(ISNUMBER(SUM(COUNTIF(INDIRECT(CR103):INDIRECT(CT103),2),COUNTIF(INDIRECT(CR103):INDIRECT(CT103),1),COUNTIF(INDIRECT(CR103):INDIRECT(CT103),0))),SUM(COUNTIF(INDIRECT(CR103):INDIRECT(CT103),2),COUNTIF(INDIRECT(CR103):INDIRECT(CT103),1),COUNTIF(INDIRECT(CR103):INDIRECT(CT103),0)),\"\")","v":""},{"$f":"IF(ISNUMBER(SUM(COUNTIF(INDIRECT(CR103):INDIRECT(CU103),1),COUNTIF(INDIRECT(CR103):INDIRECT(CU103),0))),SUM(COUNTIF(INDIRECT(CR103):INDIRECT(CU103),1),COUNTIF(INDIRECT(CR103):INDIRECT(CU103),0)),\"\")","v":""},{"$f":"SUM(INDIRECT(CR103):INDIRECT(CS103))","v":{"$error":"#N/A"}},{"$f":"SUM(INDIRECT(CR103):INDIRECT(CT103))","v":{"$error":"#N/A"}},{"$f":"SUM(INDIRECT(CR103):INDIRECT(CU103))","v":{"$error":"#N/A"}}]
[null,null,null,null,null,null,null,null,null,null,null,null,null,null,null,null,null,null,null,null,null,null,null,null,null,null,null,null,null,null,null,null,null,null,null,null,null,null,null,null,null,null,null,null,null,null,null,null,null,null,null,null,null,null,null,null,null,null,null,0,"@","@","@","@","@","@","@","@","@","@","@","@","@","@","@","@","@","@","@","@","@","@","@","@","@","@","@","@","@","@","@",{"$f":"'Month 7'!BL104","v":"@"},{"$f":"'Month 7'!BK104","v":"@"},{"$f":"'Month 7'!BJ104","v":"@"},{"$f":"'Month 7'!BI104","v":"@"},{"$error":"#N/A"},{"$error":"#N/A"},{"$error":"#N/A"},{"$error":"#N/A"},{"$f":"IF(ISNUMBER(SUM(COUNTIF(INDIRECT(CR104):INDIRECT(CS104),2),COUNTIF(INDIRECT(CR104):INDIRECT(CS104),1),COUNTIF(INDIRECT(CR104):INDIRECT(CS104),0))),SUM(COUNTIF(INDIRECT(CR104):INDIRECT(CS104),2),COUNTIF(INDIRECT(CR104):INDIRECT(CS104),1),COUNTIF(INDIRECT(CR104):INDIRECT(CS104),0)),\"\")","v":""},{"$f":"IF(ISNUMBER(SUM(COUNTIF(INDIRECT(CR104):INDIRECT(CT104),2),COUNTIF(INDIRECT(CR104):INDIRECT(CT104),1),COUNTIF(INDIRECT(CR104):INDIRECT(CT104),0))),SUM(COUNTIF(INDIRECT(CR104):INDIRECT(CT104),2),COUNTIF(INDIRECT(CR104):INDIRECT(CT104),1),COUNTIF(INDIRECT(CR104):INDIRECT(CT104),0)),\"\")","v":""},{"$f":"IF(ISNUMBER(SUM(COUNTIF(INDIRECT(CR104):INDIRECT(CU104),1),COUNTIF(INDIRECT(CR104):INDIRECT(CU104),0))),SUM(COUNTIF(INDIRECT(CR104):INDIRECT(CU104),1),COUNTIF(INDIRECT(CR104):INDIRECT(CU104),0)),\"\")","v":""},{"$f":"SUM(INDIRECT(CR104):INDIRECT(CS104))","v":{"$error":"#N/A"}},{"$f":"SUM(INDIRECT(CR104):INDIRECT(CT104))","v":{"$error":"#N/A"}},{"$f":"SUM(INDIRECT(CR104):INDIRECT(CU104))","v":{"$error":"#N/A"}}]

{"sheet":"Month 9","index":13,"n_rows":104,"n_cols":105,"rows_kept":104,"cut":false,"hidden":false,"merged":[[53,95,53,98],[53,99,53,101],[53,102,53,104],[6,23,20,35],[13,5,20,8]]}
[]
[]
[]
[]
[]
[null,null,null,null,"Student Name:",{"$f":"IF(ISTEXT('Month 1'!F6),'Month 1'!F6,\"\")","v":""},null,null,null,null,null,null,null,null,null,null,null,null,null,null,null,null,null,"General Notes:"]
["Go To:"]
[{"$f":"IF(ISBLANK('Month 1'!$F$12),\"Month 1\",'Month 1'!$F$12)","v":"--"},null,null,null,"Skill Title:",{"$f":"IF(ISTEXT('Month 1'!F8),'Month 1'!F8,\"\")","v":""}]
[{"$f":"IF(ISBLANK('Month 2'!$F$12),\"Month 2\",'Month 2'!$F$12)","v":"--"}]
[{"$f":"IF(ISBLANK('Month 3'!$F$12),\"Month 3\",'Month 3'!$F$12)","v":"--"},null,null,null,"Skill Type:",{"$f":"IF(ISBLANK('Month 1'!F10),\"\",'Month 1'!F10)","v":""}]
[{"$f":"IF(ISBLANK('Month 4'!$F$12),\"Month 4\",'Month 4'!$F$12)","v":"--"}]
[{"$f":"IF(ISBLANK('Month 5'!$F$12),\"Month 5\",'Month 5'!$F$12)","v":"--"},null,null,null,"Date Range:","--"]
[{"$f":"IF(ISBLANK('Month 6'!$F$12),\"Month 6\",'Month 6'!$F$12)","v":"--"}]
[{"$f":"IF(ISBLANK('Month 7'!$F$12),\"Month 7\",'Month 7'!$F$12)","v":"--"},null,null,null,"Objective:",{"$f":"IF(ISBLANK('Month 1'!$F$14),\"\",'Month 1'!$F$14)","v":""}]
[{"$f":"IF(ISBLANK('Month 8'!$F$12),\"Month 8\",'Month 8'!$F$12)","v":"--"}]
[{"$f":"IF(ISBLANK('Month 9'!$F$12),\"Month 9\",'Month 9'!$F$12)","v":"--"}]
[{"$f":"IF(ISBLANK('Month 10'!$F$12),\"Month 10\",'Month 10'!$F$12)","v":"--"}]
[{"$f":"IF(ISBLANK('Month 11'!$F$12),\"Month 11\",'Month 11'!$F$12)","v":"--"}]
[{"$f":"IF(ISBLANK('Month 12'!$F$12),\"Month 12\",'Month 12'!$F$12)","v":"--"}]
[]
[]
[]
[null,null,null,null,null,null,{"$f":"SUM(COUNTIF(G27:G76,\"+\"),COUNTIF(G27:G76,\"-\"),COUNTIF(G27:G76,\"y\"),COUNTIF(G27:G76,\"n\"),COUNTIF(G27:G76,1),COUNTIF(G27:G76,2))","v":0},0,0,0,0,0,0,0,0,0,0,0,0,0,0,0,0,0,0,0,0,0,0,0,0,0,0,0,0,0,0,{"$f":"SUM(G23:AK23)","v":0}]
[null,null,null,null,null,"Total Number Correct   à",{"$f":"IF(G23>0,SUM(CM55:CM104),\"\")","v":""},{"$f":"IF(H23>0,SUM(CL55:CL104),\"\")","v":""},{"$f":"IF(I23>0,SUM(CK55:CK104),\"\")","v":""},{"$f":"IF(J23>0,SUM(CJ55:CJ104),\"\")","v":""},{"$f":"IF(K23>0,SUM(CI55:CI104),\"\")","v":""},{"$f":"IF(L23>0,SUM(CH55:CH104),\"\")","v":""},{"$f":"IF(M23>0,SUM(CG55:CG104),\"\")","v":""},{"$f":"IF(N23>0,SUM(CF55:CF104),\"\")","v":""},{"$f":"IF(O23>0,SUM(CE55:CE104),\"\")","v":""},{"$f":"IF(P23>0,SUM(CD55:CD104),\"\")","v":""},{"$f":"IF(Q23>0,SUM(CC55:CC104),\"\")","v":""},{"$f":"IF(R23>0,SUM(CB55:CB104),\"\")","v":""},{"$f":"IF(S23>0,SUM(CA55:CA104),\"\")","v":""},{"$f":"IF(T23>0,SUM(BZ55:BZ104),\"\")","v":""},{"$f":"IF(U23>0,SUM(BY55:BY104),\"\")","v":""},{"$f":"IF(V23>0,SUM(BX55:BX104),\"\")","v":""},{"$f":"IF(W23>0,SUM(BW55:BW104),\"\")","v":""},{"$f":"IF(X23>0,SUM(BV55:BV104),\"\")","v":""},{"$f":"IF(Y23>0,SUM(BU55:BU104),\"\")","v":""},{"$f":"IF(Z23>0,SUM(BT55:BT104),\"\")","v":""},{"$f":"IF(AA23>0,SUM(BS55:BS104),\"\")","v":""},{"$f":"IF(AB23>0,SUM(BR55:BR104),\"\")","v":""},{"$f":"IF(AC23>0,SUM(BQ55:BQ104),\"\")","v":""},{"$f":"IF(AD23>0,SUM(BP55:BP104),\"\")","v":""},{"$f":"IF(AE23>0,SUM(BO55:BO104),\"\")","v":""},{"$f":"IF(AF23>0,SUM(BN55:BN104),\"\")","v":""},{"$f":"IF(AG23>0,SUM(BM55:BM104),\"\")","v":""},{"$f":"IF(AH23>0,SUM(BL55:BL104),\"\")","v":""},{"$f":"IF(AI23>0,SUM(BK55:BK104),\"\")","v":""},{"$f":"IF(AJ23>0,SUM(BJ55:BJ104),\"\")","v":""},{"$f":"IF(AK23>0,SUM(BI55:BI104),\"\")","v":""}]
[null,null,{"$f":"50-SUM(C27:C76)","v":0},"Note",null,"Initials   à"]
[null,null,0,"â",null,"Date   à"]
[null,null,{"$f":"IF(F27=\"\",1,0)","v":1},{"$f":"IF(Modifications!$C$2=2,\"N\",\"\")","v":""},{"$f":"IF(AND(BH55>0,$F$10=\"\"),\"Choose Skill Type\",IF(CX55=\"\",\"\",IF(AND(DA55=3,$F$10=\"Multi-Step (Task Analysis)\"),\"Add Next Step\",IF(AND(DA55=3,$F$10=\"Multi-Stimulus (Different Sd's)\"),\"Continue\",IF(OR(AND(CV55=5,CY55<=1),AND(CW55=4,CZ55=0)),\"Intervene\",IF(OR(AND(CV55=5,CY55<=2),AND(CW55=4,CZ55<=1),AND(CX55=3,DA55=0)),\"Check\",\"Continue\"))))))","v":""},{"$f":"IF(ISBLANK('Month 1'!$F$27),\"\",'Month 1'!$F$27)","v":""}]
[null,null,{"$f":"IF(F28=\"\",1,0)","v":1},{"$f":"IF(Modifications!$C$3=2,\"N\",\"\")","v":""},"",{"$f":"IF(ISBLANK('Month 1'!$F$28),\"\",'Month 1'!$F$28)","v":""}]
[null,null,1,{"$f":"IF(Modifications!$C$4=2,\"N\",\"\")","v":""},"",{"$f":"IF(ISBLANK('Month 1'!$F$29),\"\",'Month 1'!$F$29)","v":""}]
[null,null,1,{"$f":"IF(Modifications!$C$5=2,\"N\",\"\")","v":""},"",{"$f":"IF(ISBLANK('Month 1'!$F$30),\"\",'Month 1'!$F$30)","v":""}]
[null,null,1,{"$f":"IF(Modifications!$C$6=2,\"N\",\"\")","v":""},"",{"$f":"IF(ISBLANK('Month 1'!$F$31),\"\",'Month 1'!$F$31)","v":""}]
[null,null,1,{"$f":"IF(Modifications!$C$7=2,\"N\",\"\")","v":""},"",{"$f":"IF(ISBLANK('Month 1'!$F$32),\"\",'Month 1'!$F$32)","v":""}]
[null,null,1,{"$f":"IF(Modifications!$C$8=2,\"N\",\"\")","v":""},"",{"$f":"IF(ISBLANK('Month 1'!$F$33),\"\",'Month 1'!$F$33)","v":""}]
[null,null,1,{"$f":"IF(Modifications!$C$9=2,\"N\",\"\")","v":""},"",{"$f":"IF(ISBLANK('Month 1'!$F$34),\"\",'Month 1'!$F$34)","v":""}]
[null,null,1,{"$f":"IF(Modifications!$C$10=2,\"N\",\"\")","v":""},"",{"$f":"IF(ISBLANK('Month 1'!$F$35),\"\",'Month 1'!$F$35)","v":""}]
[null,null,1,{"$f":"IF(Modifications!$C$11=2,\"N\",\"\")","v":""},"",{"$f":"IF(ISBLANK('Month 1'!$F$36),\"\",'Month 1'!$F$36)","v":""}]
[null,null,1,{"$f":"IF(Modifications!$C$12=2,\"N\",\"\")","v":""},"",{"$f":"IF(ISBLANK('Month 1'!$F$37),\"\",'Month 1'!$F$37)","v":""}]
[null,null,1,{"$f":"IF(Modifications!$C$13=2,\"N\",\"\")","v":""},"",{"$f":"IF(ISBLANK('Month 1'!$F$38),\"\",'Month 1'!$F$38)","v":""}]
[null,null,1,{"$f":"IF(Modifications!$C$14=2,\"N\",\"\")","v":""},"",{"$f":"IF(ISBLANK('Month 1'!$F$39),\"\",'Month 1'!$F$39)","v":""}]
[null,null,1,{"$f":"IF(Modifications!$C$15=2,\"N\",\"\")","v":""},"",{"$f":"IF(ISBLANK('Month 1'!$F$40),\"\",'Month 1'!$F$40)","v":""}]
[null,null,1,{"$f":"IF(Modifications!$C$16=2,\"N\",\"\")","v":""},"",{"$f":"IF(ISBLANK('Month 1'!$F$41),\"\",'Month 1'!$F$41)","v":""}]
[null,null,1,{"$f":"IF(Modifications!$C$17=2,\"N\",\"\")","v":""},"",{"$f":"IF(ISBLANK('Month 1'!$F$42),\"\",'Month 1'!$F$42)","v":""}]
[null,null,1,{"$f":"IF(Modifications!$C$18=2,\"N\",\"\")","v":""},"",{"$f":"IF(ISBLANK('Month 1'!$F$43),\"\",'Month 1'!$F$43)","v":""}]
[null,null,1,{"$f":"IF(Modifications!$C$19=2,\"N\",\"\")","v":""},"",{"$f":"IF(ISBLANK('Month 1'!$F$44),\"\",'Month 1'!$F$44)","v":""}]
[null,null,1,{"$f":"IF(Modifications!$C$20=2,\"N\",\"\")","v":""},"",{"$f":"IF(ISBLANK('Month 1'!$F$45),\"\",'Month 1'!$F$45)","v":""}]
[null,null,1,{"$f":"IF(Modifications!$C$21=2,\"N\",\"\")","v":""},"",{"$f":"IF(ISBLANK('Month 1'!$F$46),\"\",'Month 1'!$F$46)","v":""}]
[null,null,1,{"$f":"IF(Modifications!$C$22=2,\"N\",\"\")","v":""},"",{"$f":"IF(ISBLANK('Month 1'!$F$47),\"\",'Month 1'!$F$47)","v":""}]
[null,null,1,{"$f":"IF(Modifications!$C$23=2,\"N\",\"\")","v":""},"",{"$f":"IF(ISBLANK('Month 1'!$F$48),\"\",'Month 1'!$F$48)","v":""}]
[null,null,1,{"$f":"IF(Modifications!$C$24=2,\"N\",\"\")","v":""},"",{"$f":"IF(ISBLANK('Month 1'!$F$49),\"\",'Month 1'!$F$49)","v":""}]
[null,null,1,{"$f":"IF(Modifications!$C$25=2,\"N\",\"\")","v":""},"",{"$f":"IF(ISBLANK('Month 1'!$F$50),\"\",'Month 1'!$F$50)","v":""}]
[null,null,1,{"$f":"IF(Modifications!$C$26=2,\"N\",\"\")","v":""},"",{"$f":"IF(ISBLANK('Month 1'!$F$51),\"\",'Month 1'!$F$51)","v":""}]
[null,null,1,{"$f":"IF(Modifications!$C$27=2,\"N\",\"\")","v":""},"",{"$f":"IF(ISBLANK('Month 1'!$F$52),\"\",'Month 1'!$F$52)","v":""}]
[null,null,1,{"$f":"IF(Modifications!$C$28=2,\"N\",\"\")","v":""},"",{"$f":"IF(ISBLANK('Month 1'!$F$53),\"\",'Month 1'!$F$53)","v":""}]
[null,null,1,{"$f":"IF(Modifications!$C$29=2,\"N\",\"\")","v":""},"",{"$f":"IF(ISBLANK('Month 1'!$F$54),\"\",'Month 1'!$F$54)","v":""},null,null,null,null,null,null,null,null,null,null,null,null,null,null,null,null,null,null,null,null,null,null,null,null,null,null,null,null,null,null,null,null,null,null,null,null,null,null,null,null,null,null,null,null,null,null,null,null,null,null,null,null,null,null,null,null,null,null,null,null,null,null,null,null,null,null,null,null,null,null,null,null,null,null,null,null,null,null,null,null,null,null,null,null,null,null,null,null,null,"Locations (start,5,4,3)",null,null,null,"Are they in a row? (5,4,3)",null,null,"Sum of items in row (5,4,3)"]
[null,null,1,{"$f":"IF(Modifications!$C$30=2,\"N\",\"\")","v":""},"",{"$f":"IF(ISBLANK('Month 1'!$F$55),\"\",'Month 1'!$F$55)","v":""},null,null,null,null,null,null,null,null,null,null,null,null,null,null,null,null,null,null,null,null,null,null,null,null,null,null,null,null,null,null,null,null,null,null,null,null,null,null,null,null,null,null,null,null,null,null,null,null,null,null,null,null,null,{"$f":"SUM(COUNTIF(BI55:CM55,1),COUNTIF(BI55:CM55,0))","v":0},{"$f":"IF(OR(AK27=\"+\",AK27=\"Y\",AK27=2),1,IF(OR(AK27=\"-\",AK27=\"N\",AK27=1),0,IF(OR(BJ55=1,BJ55=0),\"#\",\"@\")))","v":"@"},{"$f":"IF(OR(AJ27=\"+\",AJ27=\"Y\",AJ27=2),1,IF(OR(AJ27=\"-\",AJ27=\"N\",AJ27=1),0,IF(OR(BK55=1,BK55=0),\"#\",\"@\")))","v":"@"},{"$f":"IF(OR(AI27=\"+\",AI27=\"Y\",AI27=2),1,IF(OR(AI27=\"-\",AI27=\"N\",AI27=1),0,IF(OR(BL55=1,BL55=0),\"#\",\"@\")))","v":"@"},{"$f":"IF(OR(AH27=\"+\",AH27=\"Y\",AH27=2),1,IF(OR(AH27=\"-\",AH27=\"N\",AH27=1),0,IF(OR(BM55=1,BM55=0),\"#\",\"@\")))","v":"@"},{"$f":"IF(OR(AG27=\"+\",AG27=\"Y\",AG27=2),1,IF(OR(AG27=\"-\",AG27=\"N\",AG27=1),0,IF(OR(BN55=1,BN55=0),\"#\",\"@\")))","v":"@"},{"$f":"IF(OR(AF27=\"+\",AF27=\"Y\",AF27=2),1,IF(OR(AF27=\"-\",AF27=\"N\",AF27=1),0,IF(OR(BO55=1,BO55=0),\"#\",\"@\")))","v":"@"},{"$f":"IF(OR(AE27=\"+\",AE27=\"Y\",AE27=2),1,IF(OR(AE27=\"-\",AE27=\"N\",AE27=1),0,IF(OR(BP55=1,BP55=0),\"#\",\"@\")))","v":"@"},{"$f":"IF(OR(AD27=\"+\",AD27=\"Y\",AD27=2),1,IF(OR(AD27=\"-\",AD27=\"N\",AD27=1),0,IF(OR(BQ55=1,BQ55=0),\"#\",\"@\")))","v":"@"},{"$f":"IF(OR(AC27=\"+\",AC27=\"Y\",AC27=2),1,IF(OR(AC27=\"-\",AC27=\"N\",AC27=1),0,IF(OR(BR55=1,BR55=0),\"#\",\"@\")))","v":"@"},{"$f":"IF(OR(AB27=\"+\",AB27=\"Y\",AB27=2),1,IF(OR(AB27=\"-\",AB27=\"N\",AB27=1),0,IF(OR(BS55=1,BS55=0),\"#\",\"@\")))","v":"@"},{"$f":"IF(OR(AA27=\"+\",AA27=\"Y\",AA27=2),1,IF(OR(AA27=\"-\",AA27=\"N\",AA27=1),0,IF(OR(BT55=1,BT55=0),\"#\",\"@\")))","v":"@"},{"$f":"IF(OR(Z27=\"+\",Z27=\"Y\",Z27=2),1,IF(OR(Z27=\"-\",Z27=\"N\",Z27=1),0,IF(OR(BU55=1,BU55=0),\"#\",\"@\")))","v":"@"},{"$f":"IF(OR(Y27=\"+\",Y27=\"Y\",Y27=2),1,IF(OR(Y27=\"-\",Y27=\"N\",Y27=1),0,IF(OR(BV55=1,BV55=0),\"#\",\"@\")))","v":"@"},{"$f":"IF(OR(X27=\"+\",X27=\"Y\",X27=2),1,IF(OR(X27=\"-\",X27=\"N\",X27=1),0,IF(OR(BW55=1,BW55=0),\"#\",\"@\")))","v":"@"},{"$f":"IF(OR(W27=\"+\",W27=\"Y\",W27=2),1,IF(OR(W27=\"-\",W27=\"N\",W27=1),0,IF(OR(BX55=1,BX55=0),\"#\",\"@\")))","v":"@"},{"$f":"IF(OR(V27=\"+\",V27=\"Y\",V27=2),1,IF(OR(V27=\"-\",V27=\"N\",V27=1),0,IF(OR(BY55=1,BY55=0),\"#\",\"@\")))","v":"@"},{"$f":"IF(OR(U27=\"+\",U27=\"Y\",U27=2),1,IF(OR(U27=\"-\",U27=\"N\",U27=1),0,IF(OR(BZ55=1,BZ55=0),\"#\",\"@\")))","v":"@"},{"$f":"IF(OR(T27=\"+\",T27=\"Y\",T27=2),1,IF(OR(T27=\"-\",T27=\"N\",T27=1),0,IF(OR(CA55=1,CA55=0),\"#\",\"@\")))","v":"@"},{"$f":"IF(OR(S27=\"+\",S27=\"Y\",S27=2),1,IF(OR(S27=\"-\",S27=\"N\",S27=1),0,IF(OR(CB55=1,CB55=0),\"#\",\"@\")))","v":"@"},{"$f":"IF(OR(R27=\"+\",R27=\"Y\",R27=2),1,IF(OR(R27=\"-\",R27=\"N\",R27=1),0,IF(OR(CC55=1,CC55=0),\"#\",\"@\")))","v":"@"},{"$f":"IF(OR(Q27=\"+\",Q27=\"Y\",Q27=2),1,IF(OR(Q27=\"-\",Q27=\"N\",Q27=1),0,IF(OR(CD55=1,CD55=0),\"#\",\"@\")))","v":"@"},{"$f":"IF(OR(P27=\"+\",P27=\"Y\",P27=2),1,IF(OR(P27=\"-\",P27=\"N\",P27=1),0,IF(OR(CE55=1,CE55=0),\"#\",\"@\")))","v":"@"},{"$f":"IF(OR(O27=\"+\",O27=\"Y\",O27=2),1,IF(OR(O27=\"-\",O27=\"N\",O27=1),0,IF(OR(CF55=1,CF55=0),\"#\",\"@\")))","v":"@"},{"$f":"IF(OR(N27=\"+\",N27=\"Y\",N27=2),1,IF(OR(N27=\"-\",N27=\"N\",N27=1),0,IF(OR(CG55=1,CG55=0),\"#\",\"@\")))","v":"@"},{"$f":"IF(OR(M27=\"+\",M27=\"Y\",M27=2),1,IF(OR(M27=\"-\",M27=\"N\",M27=1),0,IF(OR(CH55=1,CH55=0),\"#\",\"@\")))","v":"@"},{"$f":"IF(OR(L27=\"+\",L27=\"Y\",L27=2),1,IF(OR(L27=\"-\",L27=\"N\",L27=1),0,IF(OR(CI55=1,CI55=0),\"#\",\"@\")))","v":"@"},{"$f":"IF(OR(K27=\"+\",K27=\"Y\",K27=2),1,IF(OR(K27=\"-\",K27=\"N\",K27=1),0,IF(OR(CJ55=1,CJ55=0),\"#\",\"@\")))","v":"@"},{"$f":"IF(OR(J27=\"+\",J27=\"Y\",J27=2),1,IF(OR(J27=\"-\",J27=\"N\",J27=1),0,IF(OR(CK55=1,CK55=0),\"#\",\"@\")))","v":"@"},{"$f":"IF(OR(I27=\"+\",I27=\"Y\",I27=2),1,IF(OR(I27=\"-\",I27=\"N\",I27=1),0,IF(OR(CL55=1,CL55=0),\"#\",\"@\")))","v":"@"},{"$f":"IF(OR(H27=\"+\",H27=\"Y\",H27=2),1,IF(OR(H27=\"-\",H27=\"N\",H27=1),0,IF(OR(CM55=1,CM55=0),\"#\",\"@\")))","v":"@"},{"$f":"IF(OR(G27=\"+\",G27=\"Y\",G27=2),1,IF(OR(G27=\"-\",G27=\"N\",G27=1),0,\"@\"))","v":"@"},{"$f":"'Month 8'!BL55","v":"@"},{"$f":"'Month 8'!BK55","v":"@"},{"$f":"'Month 8'!BJ55","v":"@"},{"$f":"'Month 8'!BI55","v":"@"},{"$f":"ADDRESS(ROW(BH55),(MATCH(\"#\",BI55:CM55,0)+61))","v":{"$error":"#N/A"}},{"$f":"ADDRESS(ROW(BH55),(MATCH(\"#\",BI55:CM55,0)+65))","v":{"$error":"#N/A"}},{"$f":"ADDRESS(ROW(BH55),(MATCH(\"#\",BI55:CM55,0)+64))","v":{"$error":"#N/A"}},{"$f":"ADDRESS(ROW(BH55),(MATCH(\"#\",BI55:CM55,0)+63))","v":{"$error":"#N/A"}},{"$f":"IF(ISNUMBER(SUM(COUNTIF(INDIRECT(CR55):INDIRECT(CS55),2),COUNTIF(INDIRECT(CR55):INDIRECT(CS55),1),COUNTIF(INDIRECT(CR55):INDIRECT(CS55),0))),SUM(COUNTIF(INDIRECT(CR55):INDIRECT(CS55),2),COUNTIF(INDIRECT(CR55):INDIRECT(CS55),1),COUNTIF(INDIRECT(CR55):INDIRECT(CS55),0)),\"\")","v":""},{"$f":"IF(ISNUMBER(SUM(COUNTIF(INDIRECT(CR55):INDIRECT(CT55),2),COUNTIF(INDIRECT(CR55):INDIRECT(CT55),1),COUNTIF(INDIRECT(CR55):INDIRECT(CT55),0))),SUM(COUNTIF(INDIRECT(CR55):INDIRECT(CT55),2),COUNTIF(INDIRECT(CR55):INDIRECT(CT55),1),COUNTIF(INDIRECT(CR55):INDIRECT(CT55),0)),\"\")","v":""},{"$f":"IF(ISNUMBER(SUM(COUNTIF(INDIRECT(CR55):INDIRECT(CU55),1),COUNTIF(INDIRECT(CR55):INDIRECT(CU55),0))),SUM(COUNTIF(INDIRECT(CR55):INDIRECT(CU55),1),COUNTIF(INDIRECT(CR55):INDIRECT(CU55),0)),\"\")","v":""},{"$f":"SUM(INDIRECT(CR55):INDIRECT(CS55))","v":{"$error":"#N/A"}},{"$f":"SUM(INDIRECT(CR55):INDIRECT(CT55))","v":{"$error":"#N/A"}},{"$f":"SUM(INDIRECT(CR55):INDIRECT(CU55))","v":{"$error":"#N/A"}}]
[null,null,1,{"$f":"IF(Modifications!$C$31=2,\"N\",\"\")","v":""},"",{"$f":"IF(ISBLANK('Month 1'!$F$56),\"\",'Month 1'!$F$56)","v":""},null,null,null,null,null,null,null,null,null,null,null,null,null,null,null,null,null,null,null,null,null,null,null,null,null,null,null,null,null,null,null,null,null,null,null,null,null,null,null,null,null,null,null,null,null,null,null,null,null,null,null,null,null,0,"@","@","@","@","@","@","@","@","@","@","@","@","@","@","@","@","@","@","@","@","@","@","@","@","@","@","@","@","@","@","@",{"$f":"'Month 8'!BL56","v":"@"},{"$f":"'Month 8'!BK56","v":"@"},{"$f":"'Month 8'!BJ56","v":"@"},{"$f":"'Month 8'!BI56","v":"@"},{"$error":"#N/A"},{"$error":"#N/A"},{"$error":"#N/A"},{"$error":"#N/A"},{"$f":"IF(ISNUMBER(SUM(COUNTIF(INDIRECT(CR56):INDIRECT(CS56),2),COUNTIF(INDIRECT(CR56):INDIRECT(CS56),1),COUNTIF(INDIRECT(CR56):INDIRECT(CS56),0))),SUM(COUNTIF(INDIRECT(CR56):INDIRECT(CS56),2),COUNTIF(INDIRECT(CR56):INDIRECT(CS56),1),COUNTIF(INDIRECT(CR56):INDIRECT(CS56),0)),\"\")","v":""},{"$f":"IF(ISNUMBER(SUM(COUNTIF(INDIRECT(CR56):INDIRECT(CT56),2),COUNTIF(INDIRECT(CR56):INDIRECT(CT56),1),COUNTIF(INDIRECT(CR56):INDIRECT(CT56),0))),SUM(COUNTIF(INDIRECT(CR56):INDIRECT(CT56),2),COUNTIF(INDIRECT(CR56):INDIRECT(CT56),1),COUNTIF(INDIRECT(CR56):INDIRECT(CT56),0)),\"\")","v":""},{"$f":"IF(ISNUMBER(SUM(COUNTIF(INDIRECT(CR56):INDIRECT(CU56),1),COUNTIF(INDIRECT(CR56):INDIRECT(CU56),0))),SUM(COUNTIF(INDIRECT(CR56):INDIRECT(CU56),1),COUNTIF(INDIRECT(CR56):INDIRECT(CU56),0)),\"\")","v":""},{"$f":"SUM(INDIRECT(CR56):INDIRECT(CS56))","v":{"$error":"#N/A"}},{"$f":"SUM(INDIRECT(CR56):INDIRECT(CT56))","v":{"$error":"#N/A"}},{"$f":"SUM(INDIRECT(CR56):INDIRECT(CU56))","v":{"$error":"#N/A"}}]
[null,null,1,{"$f":"IF(Modifications!$C$32=2,\"N\",\"\")","v":""},"",{"$f":"IF(ISBLANK('Month 1'!$F$57),\"\",'Month 1'!$F$57)","v":""},null,null,null,null,null,null,null,null,null,null,null,null,null,null,null,null,null,null,null,null,null,null,null,null,null,null,null,null,null,null,null,null,null,null,null,null,null,null,null,null,null,null,null,null,null,null,null,null,null,null,null,null,null,0,"@","@","@","@","@","@","@","@","@","@","@","@","@","@","@","@","@","@","@","@","@","@","@","@","@","@","@","@","@","@","@",{"$f":"'Month 8'!BL57","v":"@"},{"$f":"'Month 8'!BK57","v":"@"},{"$f":"'Month 8'!BJ57","v":"@"},{"$f":"'Month 8'!BI57","v":"@"},{"$error":"#N/A"},{"$error":"#N/A"},{"$error":"#N/A"},{"$error":"#N/A"},{"$f":"IF(ISNUMBER(SUM(COUNTIF(INDIRECT(CR57):INDIRECT(CS57),2),COUNTIF(INDIRECT(CR57):INDIRECT(CS57),1),COUNTIF(INDIRECT(CR57):INDIRECT(CS57),0))),SUM(COUNTIF(INDIRECT(CR57):INDIRECT(CS57),2),COUNTIF(INDIRECT(CR57):INDIRECT(CS57),1),COUNTIF(INDIRECT(CR57):INDIRECT(CS57),0)),\"\")","v":""},{"$f":"IF(ISNUMBER(SUM(COUNTIF(INDIRECT(CR57):INDIRECT(CT57),2),COUNTIF(INDIRECT(CR57):INDIRECT(CT57),1),COUNTIF(INDIRECT(CR57):INDIRECT(CT57),0))),SUM(COUNTIF(INDIRECT(CR57):INDIRECT(CT57),2),COUNTIF(INDIRECT(CR57):INDIRECT(CT57),1),COUNTIF(INDIRECT(CR57):INDIRECT(CT57),0)),\"\")","v":""},{"$f":"IF(ISNUMBER(SUM(COUNTIF(INDIRECT(CR57):INDIRECT(CU57),1),COUNTIF(INDIRECT(CR57):INDIRECT(CU57),0))),SUM(COUNTIF(INDIRECT(CR57):INDIRECT(CU57),1),COUNTIF(INDIRECT(CR57):INDIRECT(CU57),0)),\"\")","v":""},{"$f":"SUM(INDIRECT(CR57):INDIRECT(CS57))","v":{"$error":"#N/A"}},{"$f":"SUM(INDIRECT(CR57):INDIRECT(CT57))","v":{"$error":"#N/A"}},{"$f":"SUM(INDIRECT(CR57):INDIRECT(CU57))","v":{"$error":"#N/A"}}]
[null,null,1,{"$f":"IF(Modifications!$C$33=2,\"N\",\"\")","v":""},"",{"$f":"IF(ISBLANK('Month 1'!$F$58),\"\",'Month 1'!$F$58)","v":""},null,null,null,null,null,null,null,null,null,null,null,null,null,null,null,null,null,null,null,null,null,null,null,null,null,null,null,null,null,null,null,null,null,null,null,null,null,null,null,null,null,null,null,null,null,null,null,null,null,null,null,null,null,0,"@","@","@","@","@","@","@","@","@","@","@","@","@","@","@","@","@","@","@","@","@","@","@","@","@","@","@","@","@","@","@",{"$f":"'Month 8'!BL58","v":"@"},{"$f":"'Month 8'!BK58","v":"@"},{"$f":"'Month 8'!BJ58","v":"@"},{"$f":"'Month 8'!BI58","v":"@"},{"$error":"#N/A"},{"$error":"#N/A"},{"$error":"#N/A"},{"$error":"#N/A"},{"$f":"IF(ISNUMBER(SUM(COUNTIF(INDIRECT(CR58):INDIRECT(CS58),2),COUNTIF(INDIRECT(CR58):INDIRECT(CS58),1),COUNTIF(INDIRECT(CR58):INDIRECT(CS58),0))),SUM(COUNTIF(INDIRECT(CR58):INDIRECT(CS58),2),COUNTIF(INDIRECT(CR58):INDIRECT(CS58),1),COUNTIF(INDIRECT(CR58):INDIRECT(CS58),0)),\"\")","v":""},{"$f":"IF(ISNUMBER(SUM(COUNTIF(INDIRECT(CR58):INDIRECT(CT58),2),COUNTIF(INDIRECT(CR58):INDIRECT(CT58),1),COUNTIF(INDIRECT(CR58):INDIRECT(CT58),0))),SUM(COUNTIF(INDIRECT(CR58):INDIRECT(CT58),2),COUNTIF(INDIRECT(CR58):INDIRECT(CT58),1),COUNTIF(INDIRECT(CR58):INDIRECT(CT58),0)),\"\")","v":""},{"$f":"IF(ISNUMBER(SUM(COUNTIF(INDIRECT(CR58):INDIRECT(CU58),1),COUNTIF(INDIRECT(CR58):INDIRECT(CU58),0))),SUM(COUNTIF(INDIRECT(CR58):INDIRECT(CU58),1),COUNTIF(INDIRECT(CR58):INDIRECT(CU58),0)),\"\")","v":""},{"$f":"SUM(INDIRECT(CR58):INDIRECT(CS58))","v":{"$error":"#N/A"}},{"$f":"SUM(INDIRECT(CR58):INDIRECT(CT58))","v":{"$error":"#N/A"}},{"$f":"SUM(INDIRECT(CR58):INDIRECT(CU58))","v":{"$error":"#N/A"}}]
[null,null,1,{"$f":"IF(Modifications!$C$34=2,\"N\",\"\")","v":""},{"$f":"IF(AND(BH87>0,$F$10=\"\"),\"Choose Skill Type\",IF(CX87=\"\",\"\",IF(AND(DA87=3,$F$10=\"Multi-Step (Task Analysis)\"),\"Add Next Step\",IF(AND(DA87=3,$F$10=\"Multi-Stimulus (Different Sd's)\"),\"Continue\",IF(OR(AND(CV87=5,CY87<=1),AND(CW87=4,CZ87=0)),\"Intervene\",IF(OR(AND(CV87=5,CY87<=2),AND(CW87=4,CZ87<=1),AND(CX87=3,DA87=0)),\"Check\",\"Continue\"))))))","v":""},{"$f":"IF(ISBLANK('Month 1'!$F$59),\"\",'Month 1'!$F$59)","v":""},null,null,null,null,null,null,null,null,null,null,null,null,null,null,null,null,null,null,null,null,null,null,null,null,null,null,null,null,null,null,null,null,null,null,null,null,null,null,null,null,null,null,null,null,null,null,null,null,null,null,null,null,null,0,"@","@","@","@","@","@","@","@","@","@","@","@","@","@","@","@","@","@","@","@","@","@","@","@","@","@","@","@","@","@","@",{"$f":"'Month 8'!BL59","v":"@"},{"$f":"'Month 8'!BK59","v":"@"},{"$f":"'Month 8'!BJ59","v":"@"},{"$f":"'Month 8'!BI59","v":"@"},{"$error":"#N/A"},{"$error":"#N/A"},{"$error":"#N/A"},{"$error":"#N/A"},{"$f":"IF(ISNUMBER(SUM(COUNTIF(INDIRECT(CR59):INDIRECT(CS59),2),COUNTIF(INDIRECT(CR59):INDIRECT(CS59),1),COUNTIF(INDIRECT(CR59):INDIRECT(CS59),0))),SUM(COUNTIF(INDIRECT(CR59):INDIRECT(CS59),2),COUNTIF(INDIRECT(CR59):INDIRECT(CS59),1),COUNTIF(INDIRECT(CR59):INDIRECT(CS59),0)),\"\")","v":""},{"$f":"IF(ISNUMBER(SUM(COUNTIF(INDIRECT(CR59):INDIRECT(CT59),2),COUNTIF(INDIRECT(CR59):INDIRECT(CT59),1),COUNTIF(INDIRECT(CR59):INDIRECT(CT59),0))),SUM(COUNTIF(INDIRECT(CR59):INDIRECT(CT59),2),COUNTIF(INDIRECT(CR59):INDIRECT(CT59),1),COUNTIF(INDIRECT(CR59):INDIRECT(CT59),0)),\"\")","v":""},{"$f":"IF(ISNUMBER(SUM(COUNTIF(INDIRECT(CR59):INDIRECT(CU59),1),COUNTIF(INDIRECT(CR59):INDIRECT(CU59),0))),SUM(COUNTIF(INDIRECT(CR59):INDIRECT(CU59),1),COUNTIF(INDIRECT(CR59):INDIRECT(CU59),0)),\"\")","v":""},{"$f":"SUM(INDIRECT(CR59):INDIRECT(CS59))","v":{"$error":"#N/A"}},{"$f":"SUM(INDIRECT(CR59):INDIRECT(CT59))","v":{"$error":"#N/A"}},{"$f":"SUM(INDIRECT(CR59):INDIRECT(CU59))","v":{"$error":"#N/A"}}]
[null,null,1,{"$f":"IF(Modifications!$C$35=2,\"N\",\"\")","v":""},"",{"$f":"IF(ISBLANK('Month 1'!$F$60),\"\",'Month 1'!$F$60)","v":""},null,null,null,null,null,null,null,null,null,null,null,null,null,null,null,null,null,null,null,null,null,null,null,null,null,null,null,null,null,null,null,null,null,null,null,null,null,null,null,null,null,null,null,null,null,null,null,null,null,null,null,null,null,0,"@","@","@","@","@","@","@","@","@","@","@","@","@","@","@","@","@","@","@","@","@","@","@","@","@","@","@","@","@","@","@",{"$f":"'Month 8'!BL60","v":"@"},{"$f":"'Month 8'!BK60","v":"@"},{"$f":"'Month 8'!BJ60","v":"@"},{"$f":"'Month 8'!BI60","v":"@"},{"$error":"#N/A"},{"$error":"#N/A"},{"$error":"#N/A"},{"$error":"#N/A"},{"$f":"IF(ISNUMBER(SUM(COUNTIF(INDIRECT(CR60):INDIRECT(CS60),2),COUNTIF(INDIRECT(CR60):INDIRECT(CS60),1),COUNTIF(INDIRECT(CR60):INDIRECT(CS60),0))),SUM(COUNTIF(INDIRECT(CR60):INDIRECT(CS60),2),COUNTIF(INDIRECT(CR60):INDIRECT(CS60),1),COUNTIF(INDIRECT(CR60):INDIRECT(CS60),0)),\"\")","v":""},{"$f":"IF(ISNUMBER(SUM(COUNTIF(INDIRECT(CR60):INDIRECT(CT60),2),COUNTIF(INDIRECT(CR60):INDIRECT(CT60),1),COUNTIF(INDIRECT(CR60):INDIRECT(CT60),0))),SUM(COUNTIF(INDIRECT(CR60):INDIRECT(CT60),2),COUNTIF(INDIRECT(CR60):INDIRECT(CT60),1),COUNTIF(INDIRECT(CR60):INDIRECT(CT60),0)),\"\")","v":""},{"$f":"IF(ISNUMBER(SUM(COUNTIF(INDIRECT(CR60):INDIRECT(CU60),1),COUNTIF(INDIRECT(CR60):INDIRECT(CU60),0))),SUM(COUNTIF(INDIRECT(CR60):INDIRECT(CU60),1),COUNTIF(INDIRECT(CR60):INDIRECT(CU60),0)),\"\")","v":""},{"$f":"SUM(INDIRECT(CR60):INDIRECT(CS60))","v":{"$error":"#N/A"}},{"$f":"SUM(INDIRECT(CR60):INDIRECT(CT60))","v":{"$error":"#N/A"}},{"$f":"SUM(INDIRECT(CR60):INDIRECT(CU60))","v":{"$error":"#N/A"}}]
[null,null,1,{"$f":"IF(Modifications!$C$36=2,\"N\",\"\")","v":""},"",{"$f":"IF(ISBLANK('Month 1'!$F$61),\"\",'Month 1'!$F$61)","v":""},null,null,null,null,null,null,null,null,null,null,null,null,null,null,null,null,null,null,null,null,null,null,null,null,null,null,null,null,null,null,null,null,null,null,null,null,null,null,null,null,null,null,null,null,null,null,null,null,null,null,null,null,null,0,"@","@","@","@","@","@","@","@","@","@","@","@","@","@","@","@","@","@","@","@","@","@","@","@","@","@","@","@","@","@","@",{"$f":"'Month 8'!BL61","v":"@"},{"$f":"'Month 8'!BK61","v":"@"},{"$f":"'Month 8'!BJ61","v":"@"},{"$f":"'Month 8'!BI61","v":"@"},{"$error":"#N/A"},{"$error":"#N/A"},{"$error":"#N/A"},{"$error":"#N/A"},{"$f":"IF(ISNUMBER(SUM(COUNTIF(INDIRECT(CR61):INDIRECT(CS61),2),COUNTIF(INDIRECT(CR61):INDIRECT(CS61),1),COUNTIF(INDIRECT(CR61):INDIRECT(CS61),0))),SUM(COUNTIF(INDIRECT(CR61):INDIRECT(CS61),2),COUNTIF(INDIRECT(CR61):INDIRECT(CS61),1),COUNTIF(INDIRECT(CR61):INDIRECT(CS61),0)),\"\")","v":""},{"$f":"IF(ISNUMBER(SUM(COUNTIF(INDIRECT(CR61):INDIRECT(CT61),2),COUNTIF(INDIRECT(CR61):INDIRECT(CT61),1),COUNTIF(INDIRECT(CR61):INDIRECT(CT61),0))),SUM(COUNTIF(INDIRECT(CR61):INDIRECT(CT61),2),COUNTIF(INDIRECT(CR61):INDIRECT(CT61),1),COUNTIF(INDIRECT(CR61):INDIRECT(CT61),0)),\"\")","v":""},{"$f":"IF(ISNUMBER(SUM(COUNTIF(INDIRECT(CR61):INDIRECT(CU61),1),COUNTIF(INDIRECT(CR61):INDIRECT(CU61),0))),SUM(COUNTIF(INDIRECT(CR61):INDIRECT(CU61),1),COUNTIF(INDIRECT(CR61):INDIRECT(CU61),0)),\"\")","v":""},{"$f":"SUM(INDIRECT(CR61):INDIRECT(CS61))","v":{"$error":"#N/A"}},{"$f":"SUM(INDIRECT(CR61):INDIRECT(CT61))","v":{"$error":"#N/A"}},{"$f":"SUM(INDIRECT(CR61):INDIRECT(CU61))","v":{"$error":"#N/A"}}]
[null,null,1,{"$f":"IF(Modifications!$C$37=2,\"N\",\"\")","v":""},"",{"$f":"IF(ISBLANK('Month 1'!$F$62),\"\",'Month 1'!$F$62)","v":""},null,null,null,null,null,null,null,null,null,null,null,null,null,null,null,null,null,null,null,null,null,null,null,null,null,null,null,null,null,null,null,null,null,null,null,null,null,null,null,null,null,null,null,null,null,null,null,null,null,null,null,null,null,0,"@","@","@","@","@","@","@","@","@","@","@","@","@","@","@","@","@","@","@","@","@","@","@","@","@","@","@","@","@","@","@",{"$f":"'Month 8'!BL62","v":"@"},{"$f":"'Month 8'!BK62","v":"@"},{"$f":"'Month 8'!BJ62","v":"@"},{"$f":"'Month 8'!BI62","v":"@"},{"$error":"#N/A"},{"$error":"#N/A"},{"$error":"#N/A"},{"$error":"#N/A"},{"$f":"IF(ISNUMBER(SUM(COUNTIF(INDIRECT(CR62):INDIRECT(CS62),2),COUNTIF(INDIRECT(CR62):INDIRECT(CS62),1),COUNTIF(INDIRECT(CR62):INDIRECT(CS62),0))),SUM(COUNTIF(INDIRECT(CR62):INDIRECT(CS62),2),COUNTIF(INDIRECT(CR62):INDIRECT(CS62),1),COUNTIF(INDIRECT(CR62):INDIRECT(CS62),0)),\"\")","v":""},{"$f":"IF(ISNUMBER(SUM(COUNTIF(INDIRECT(CR62):INDIRECT(CT62),2),COUNTIF(INDIRECT(CR62):INDIRECT(CT62),1),COUNTIF(INDIRECT(CR62):INDIRECT(CT62),0))),SUM(COUNTIF(INDIRECT(CR62):INDIRECT(CT62),2),COUNTIF(INDIRECT(CR62):INDIRECT(CT62),1),COUNTIF(INDIRECT(CR62):INDIRECT(CT62),0)),\"\")","v":""},{"$f":"IF(ISNUMBER(SUM(COUNTIF(INDIRECT(CR62):INDIRECT(CU62),1),COUNTIF(INDIRECT(CR62):INDIRECT(CU62),0))),SUM(COUNTIF(INDIRECT(CR62):INDIRECT(CU62),1),COUNTIF(INDIRECT(CR62):INDIRECT(CU62),0)),\"\")","v":""},{"$f":"SUM(INDIRECT(CR62):INDIRECT(CS62))","v":{"$error":"#N/A"}},{"$f":"SUM(INDIRECT(CR62):INDIRECT(CT62))","v":{"$error":"#N/A"}},{"$f":"SUM(INDIRECT(CR62):INDIRECT(CU62))","v":{"$error":"#N/A"}}]
[null,null,1,{"$f":"IF(Modifications!$C$38=2,\"N\",\"\")","v":""},"",{"$f":"IF(ISBLANK('Month 1'!$F$63),\"\",'Month 1'!$F$63)","v":""},null,null,null,null,null,null,null,null,null,null,null,null,null,null,null,null,null,null,null,null,null,null,null,null,null,null,null,null,null,null,null,null,null,null,null,null,null,null,null,null,null,null,null,null,null,null,null,null,null,null,null,null,null,0,"@","@","@","@","@","@","@","@","@","@","@","@","@","@","@","@","@","@","@","@","@","@","@","@","@","@","@","@","@","@","@",{"$f":"'Month 8'!BL63","v":"@"},{"$f":"'Month 8'!BK63","v":"@"},{"$f":"'Month 8'!BJ63","v":"@"},{"$f":"'Month 8'!BI63","v":"@"},{"$error":"#N/A"},{"$error":"#N/A"},{"$error":"#N/A"},{"$error":"#N/A"},{"$f":"IF(ISNUMBER(SUM(COUNTIF(INDIRECT(CR63):INDIRECT(CS63),2),COUNTIF(INDIRECT(CR63):INDIRECT(CS63),1),COUNTIF(INDIRECT(CR63):INDIRECT(CS63),0))),SUM(COUNTIF(INDIRECT(CR63):INDIRECT(CS63),2),COUNTIF(INDIRECT(CR63):INDIRECT(CS63),1),COUNTIF(INDIRECT(CR63):INDIRECT(CS63),0)),\"\")","v":""},{"$f":"IF(ISNUMBER(SUM(COUNTIF(INDIRECT(CR63):INDIRECT(CT63),2),COUNTIF(INDIRECT(CR63):INDIRECT(CT63),1),COUNTIF(INDIRECT(CR63):INDIRECT(CT63),0))),SUM(COUNTIF(INDIRECT(CR63):INDIRECT(CT63),2),COUNTIF(INDIRECT(CR63):INDIRECT(CT63),1),COUNTIF(INDIRECT(CR63):INDIRECT(CT63),0)),\"\")","v":""},{"$f":"IF(ISNUMBER(SUM(COUNTIF(INDIRECT(CR63):INDIRECT(CU63),1),COUNTIF(INDIRECT(CR63):INDIRECT(CU63),0))),SUM(COUNTIF(INDIRECT(CR63):INDIRECT(CU63),1),COUNTIF(INDIRECT(CR63):INDIRECT(CU63),0)),\"\")","v":""},{"$f":"SUM(INDIRECT(CR63):INDIRECT(CS63))","v":{"$error":"#N/A"}},{"$f":"SUM(INDIRECT(CR63):INDIRECT(CT63))","v":{"$error":"#N/A"}},{"$f":"SUM(INDIRECT(CR63):INDIRECT(CU63))","v":{"$error":"#N/A"}}]
[null,null,1,{"$f":"IF(Modifications!$C$39=2,\"N\",\"\")","v":""},"",{"$f":"IF(ISBLANK('Month 1'!$F$64),\"\",'Month 1'!$F$64)","v":""},null,null,null,null,null,null,null,null,null,null,null,null,null,null,null,null,null,null,null,null,null,null,null,null,null,null,null,null,null,null,null,null,null,null,null,null,null,null,null,null,null,null,null,null,null,null,null,null,null,null,null,null,null,0,"@","@","@","@","@","@","@","@","@","@","@","@","@","@","@","@","@","@","@","@","@","@","@","@","@","@","@","@","@","@","@",{"$f":"'Month 8'!BL64","v":"@"},{"$f":"'Month 8'!BK64","v":"@"},{"$f":"'Month 8'!BJ64","v":"@"},{"$f":"'Month 8'!BI64","v":"@"},{"$error":"#N/A"},{"$error":"#N/A"},{"$error":"#N/A"},{"$error":"#N/A"},{"$f":"IF(ISNUMBER(SUM(COUNTIF(INDIRECT(CR64):INDIRECT(CS64),2),COUNTIF(INDIRECT(CR64):INDIRECT(CS64),1),COUNTIF(INDIRECT(CR64):INDIRECT(CS64),0))),SUM(COUNTIF(INDIRECT(CR64):INDIRECT(CS64),2),COUNTIF(INDIRECT(CR64):INDIRECT(CS64),1),COUNTIF(INDIRECT(CR64):INDIRECT(CS64),0)),\"\")","v":""},{"$f":"IF(ISNUMBER(SUM(COUNTIF(INDIRECT(CR64):INDIRECT(CT64),2),COUNTIF(INDIRECT(CR64):INDIRECT(CT64),1),COUNTIF(INDIRECT(CR64):INDIRECT(CT64),0))),SUM(COUNTIF(INDIRECT(CR64):INDIRECT(CT64),2),COUNTIF(INDIRECT(CR64):INDIRECT(CT64),1),COUNTIF(INDIRECT(CR64):INDIRECT(CT64),0)),\"\")","v":""},{"$f":"IF(ISNUMBER(SUM(COUNTIF(INDIRECT(CR64):INDIRECT(CU64),1),COUNTIF(INDIRECT(CR64):INDIRECT(CU64),0))),SUM(COUNTIF(INDIRECT(CR64):INDIRECT(CU64),1),COUNTIF(INDIRECT(CR64):INDIRECT(CU64),0)),\"\")","v":""},{"$f":"SUM(INDIRECT(CR64):INDIRECT(CS64))","v":{"$error":"#N/A"}},{"$f":"SUM(INDIRECT(CR64):INDIRECT(CT64))","v":{"$error":"#N/A"}},{"$f":"SUM(INDIRECT(CR64):INDIRECT(CU64))","v":{"$error":"#N/A"}}]
[null,null,1,{"$f":"IF(Modifications!$C$40=2,\"N\",\"\")","v":""},"",{"$f":"IF(ISBLANK('Month 1'!$F$65),\"\",'Month 1'!$F$65)","v":""},null,null,null,null,null,null,null,null,null,null,null,null,null,null,null,null,null,null,null,null,null,null,null,null,null,null,null,null,null,null,null,null,null,null,null,null,null,null,null,null,null,null,null,null,null,null,null,null,null,null,null,null,null,0,"@","@","@","@","@","@","@","@","@","@","@","@","@","@","@","@","@","@","@","@","@","@","@","@","@","@","@","@","@","@","@",{"$f":"'Month 8'!BL65","v":"@"},{"$f":"'Month 8'!BK65","v":"@"},{"$f":"'Month 8'!BJ65","v":"@"},{"$f":"'Month 8'!BI65","v":"@"},{"$error":"#N/A"},{"$error":"#N/A"},{"$error":"#N/A"},{"$error":"#N/A"},{"$f":"IF(ISNUMBER(SUM(COUNTIF(INDIRECT(CR65):INDIRECT(CS65),2),COUNTIF(INDIRECT(CR65):INDIRECT(CS65),1),COUNTIF(INDIRECT(CR65):INDIRECT(CS65),0))),SUM(COUNTIF(INDIRECT(CR65):INDIRECT(CS65),2),COUNTIF(INDIRECT(CR65):INDIRECT(CS65),1),COUNTIF(INDIRECT(CR65):INDIRECT(CS65),0)),\"\")","v":""},{"$f":"IF(ISNUMBER(SUM(COUNTIF(INDIRECT(CR65):INDIRECT(CT65),2),COUNTIF(INDIRECT(CR65):INDIRECT(CT65),1),COUNTIF(INDIRECT(CR65):INDIRECT(CT65),0))),SUM(COUNTIF(INDIRECT(CR65):INDIRECT(CT65),2),COUNTIF(INDIRECT(CR65):INDIRECT(CT65),1),COUNTIF(INDIRECT(CR65):INDIRECT(CT65),0)),\"\")","v":""},{"$f":"IF(ISNUMBER(SUM(COUNTIF(INDIRECT(CR65):INDIRECT(CU65),1),COUNTIF(INDIRECT(CR65):INDIRECT(CU65),0))),SUM(COUNTIF(INDIRECT(CR65):INDIRECT(CU65),1),COUNTIF(INDIRECT(CR65):INDIRECT(CU65),0)),\"\")","v":""},{"$f":"SUM(INDIRECT(CR65):INDIRECT(CS65))","v":{"$error":"#N/A"}},{"$f":"SUM(INDIRECT(CR65):INDIRECT(CT65))","v":{"$error":"#N/A"}},{"$f":"SUM(INDIRECT(CR65):INDIRECT(CU65))","v":{"$error":"#N/A"}}]
[null,null,1,{"$f":"IF(Modifications!$C$41=2,\"N\",\"\")","v":""},"",{"$f":"IF(ISBLANK('Month 1'!$F$66),\"\",'Month 1'!$F$66)","v":""},null,null,null,null,null,null,null,null,null,null,null,null,null,null,null,null,null,null,null,null,null,null,null,null,null,null,null,null,null,null,null,null,null,null,null,null,null,null,null,null,null,null,null,null,null,null,null,null,null,null,null,null,null,0,"@","@","@","@","@","@","@","@","@","@","@","@","@","@","@","@","@","@","@","@","@","@","@","@","@","@","@","@","@","@","@",{"$f":"'Month 8'!BL66","v":"@"},{"$f":"'Month 8'!BK66","v":"@"},{"$f":"'Month 8'!BJ66","v":"@"},{"$f":"'Month 8'!BI66","v":"@"},{"$error":"#N/A"},{"$error":"#N/A"},{"$error":"#N/A"},{"$error":"#N/A"},{"$f":"IF(ISNUMBER(SUM(COUNTIF(INDIRECT(CR66):INDIRECT(CS66),2),COUNTIF(INDIRECT(CR66):INDIRECT(CS66),1),COUNTIF(INDIRECT(CR66):INDIRECT(CS66),0))),SUM(COUNTIF(INDIRECT(CR66):INDIRECT(CS66),2),COUNTIF(INDIRECT(CR66):INDIRECT(CS66),1),COUNTIF(INDIRECT(CR66):INDIRECT(CS66),0)),\"\")","v":""},{"$f":"IF(ISNUMBER(SUM(COUNTIF(INDIRECT(CR66):INDIRECT(CT66),2),COUNTIF(INDIRECT(CR66):INDIRECT(CT66),1),COUNTIF(INDIRECT(CR66):INDIRECT(CT66),0))),SUM(COUNTIF(INDIRECT(CR66):INDIRECT(CT66),2),COUNTIF(INDIRECT(CR66):INDIRECT(CT66),1),COUNTIF(INDIRECT(CR66):INDIRECT(CT66),0)),\"\")","v":""},{"$f":"IF(ISNUMBER(SUM(COUNTIF(INDIRECT(CR66):INDIRECT(CU66),1),COUNTIF(INDIRECT(CR66):INDIRECT(CU66),0))),SUM(COUNTIF(INDIRECT(CR66):INDIRECT(CU66),1),COUNTIF(INDIRECT(CR66):INDIRECT(CU66),0)),\"\")","v":""},{"$f":"SUM(INDIRECT(CR66):INDIRECT(CS66))","v":{"$error":"#N/A"}},{"$f":"SUM(INDIRECT(CR66):INDIRECT(CT66))","v":{"$error":"#N/A"}},{"$f":"SUM(INDIRECT(CR66):INDIRECT(CU66))","v":{"$error":"#N/A"}}]
[null,null,1,{"$f":"IF(Modifications!$C$42=2,\"N\",\"\")","v":""},"",{"$f":"IF(ISBLANK('Month 1'!$F$67),\"\",'Month 1'!$F$67)","v":""},null,null,null,null,null,null,null,null,null,null,null,null,null,null,null,null,null,null,null,null,null,null,null,null,null,null,null,null,null,null,null,null,null,null,null,null,null,null,null,null,null,null,null,null,null,null,null,null,null,null,null,null,null,0,"@","@","@","@","@","@","@","@","@","@","@","@","@","@","@","@","@","@","@","@","@","@","@","@","@","@","@","@","@","@","@",{"$f":"'Month 8'!BL67","v":"@"},{"$f":"'Month 8'!BK67","v":"@"},{"$f":"'Month 8'!BJ67","v":"@"},{"$f":"'Month 8'!BI67","v":"@"},{"$error":"#N/A"},{"$error":"#N/A"},{"$error":"#N/A"},{"$error":"#N/A"},{"$f":"IF(ISNUMBER(SUM(COUNTIF(INDIRECT(CR67):INDIRECT(CS67),2),COUNTIF(INDIRECT(CR67):INDIRECT(CS67),1),COUNTIF(INDIRECT(CR67):INDIRECT(CS67),0))),SUM(COUNTIF(INDIRECT(CR67):INDIRECT(CS67),2),COUNTIF(INDIRECT(CR67):INDIRECT(CS67),1),COUNTIF(INDIRECT(CR67):INDIRECT(CS67),0)),\"\")","v":""},{"$f":"IF(ISNUMBER(SUM(COUNTIF(INDIRECT(CR67):INDIRECT(CT67),2),COUNTIF(INDIRECT(CR67):INDIRECT(CT67),1),COUNTIF(INDIRECT(CR67):INDIRECT(CT67),0))),SUM(COUNTIF(INDIRECT(CR67):INDIRECT(CT67),2),COUNTIF(INDIRECT(CR67):INDIRECT(CT67),1),COUNTIF(INDIRECT(CR67):INDIRECT(CT67),0)),\"\")","v":""},{"$f":"IF(ISNUMBER(SUM(COUNTIF(INDIRECT(CR67):INDIRECT(CU67),1),COUNTIF(INDIRECT(CR67):INDIRECT(CU67),0))),SUM(COUNTIF(INDIRECT(CR67):INDIRECT(CU67),1),COUNTIF(INDIRECT(CR67):INDIRECT(CU67),0)),\"\")","v":""},{"$f":"SUM(INDIRECT(CR67):INDIRECT(CS67))","v":{"$error":"#N/A"}},{"$f":"SUM(INDIRECT(CR67):INDIRECT(CT67))","v":{"$error":"#N/A"}},{"$f":"SUM(INDIRECT(CR67):INDIRECT(CU67))","v":{"$error":"#N/A"}}]
[null,null,1,{"$f":"IF(Modifications!$C$43=2,\"N\",\"\")","v":""},"",{"$f":"IF(ISBLANK('Month 1'!$F$68),\"\",'Month 1'!$F$68)","v":""},null,null,null,null,null,null,null,null,null,null,null,null,null,null,null,null,null,null,null,null,null,null,null,null,null,null,null,null,null,null,null,null,null,null,null,null,null,null,null,null,null,null,null,null,null,null,null,null,null,null,null,null,null,0,"@","@","@","@","@","@","@","@","@","@","@","@","@","@","@","@","@","@","@","@","@","@","@","@","@","@","@","@","@","@","@",{"$f":"'Month 8'!BL68","v":"@"},{"$f":"'Month 8'!BK68","v":"@"},{"$f":"'Month 8'!BJ68","v":"@"},{"$f":"'Month 8'!BI68","v":"@"},{"$error":"#N/A"},{"$error":"#N/A"},{"$error":"#N/A"},{"$error":"#N/A"},{"$f":"IF(ISNUMBER(SUM(COUNTIF(INDIRECT(CR68):INDIRECT(CS68),2),COUNTIF(INDIRECT(CR68):INDIRECT(CS68),1),COUNTIF(INDIRECT(CR68):INDIRECT(CS68),0))),SUM(COUNTIF(INDIRECT(CR68):INDIRECT(CS68),2),COUNTIF(INDIRECT(CR68):INDIRECT(CS68),1),COUNTIF(INDIRECT(CR68):INDIRECT(CS68),0)),\"\")","v":""},{"$f":"IF(ISNUMBER(SUM(COUNTIF(INDIRECT(CR68):INDIRECT(CT68),2),COUNTIF(INDIRECT(CR68):INDIRECT(CT68),1),COUNTIF(INDIRECT(CR68):INDIRECT(CT68),0))),SUM(COUNTIF(INDIRECT(CR68):INDIRECT(CT68),2),COUNTIF(INDIRECT(CR68):INDIRECT(CT68),1),COUNTIF(INDIRECT(CR68):INDIRECT(CT68),0)),\"\")","v":""},{"$f":"IF(ISNUMBER(SUM(COUNTIF(INDIRECT(CR68):INDIRECT(CU68),1),COUNTIF(INDIRECT(CR68):INDIRECT(CU68),0))),SUM(COUNTIF(INDIRECT(CR68):INDIRECT(CU68),1),COUNTIF(INDIRECT(CR68):INDIRECT(CU68),0)),\"\")","v":""},{"$f":"SUM(INDIRECT(CR68):INDIRECT(CS68))","v":{"$error":"#N/A"}},{"$f":"SUM(INDIRECT(CR68):INDIRECT(CT68))","v":{"$error":"#N/A"}},{"$f":"SUM(INDIRECT(CR68):INDIRECT(CU68))","v":{"$error":"#N/A"}}]
[null,null,1,{"$f":"IF(Modifications!$C$44=2,\"N\",\"\")","v":""},"",{"$f":"IF(ISBLANK('Month 1'!$F$69),\"\",'Month 1'!$F$69)","v":""},null,null,null,null,null,null,null,null,null,null,null,null,null,null,null,null,null,null,null,null,null,null,null,null,null,null,null,null,null,null,null,null,null,null,null,null,null,null,null,null,null,null,null,null,null,null,null,null,null,null,null,null,null,0,"@","@","@","@","@","@","@","@","@","@","@","@","@","@","@","@","@","@","@","@","@","@","@","@","@","@","@","@","@","@","@",{"$f":"'Month 8'!BL69","v":"@"},{"$f":"'Month 8'!BK69","v":"@"},{"$f":"'Month 8'!BJ69","v":"@"},{"$f":"'Month 8'!BI69","v":"@"},{"$error":"#N/A"},{"$error":"#N/A"},{"$error":"#N/A"},{"$error":"#N/A"},{"$f":"IF(ISNUMBER(SUM(COUNTIF(INDIRECT(CR69):INDIRECT(CS69),2),COUNTIF(INDIRECT(CR69):INDIRECT(CS69),1),COUNTIF(INDIRECT(CR69):INDIRECT(CS69),0))),SUM(COUNTIF(INDIRECT(CR69):INDIRECT(CS69),2),COUNTIF(INDIRECT(CR69):INDIRECT(CS69),1),COUNTIF(INDIRECT(CR69):INDIRECT(CS69),0)),\"\")","v":""},{"$f":"IF(ISNUMBER(SUM(COUNTIF(INDIRECT(CR69):INDIRECT(CT69),2),COUNTIF(INDIRECT(CR69):INDIRECT(CT69),1),COUNTIF(INDIRECT(CR69):INDIRECT(CT69),0))),SUM(COUNTIF(INDIRECT(CR69):INDIRECT(CT69),2),COUNTIF(INDIRECT(CR69):INDIRECT(CT69),1),COUNTIF(INDIRECT(CR69):INDIRECT(CT69),0)),\"\")","v":""},{"$f":"IF(ISNUMBER(SUM(COUNTIF(INDIRECT(CR69):INDIRECT(CU69),1),COUNTIF(INDIRECT(CR69):INDIRECT(CU69),0))),SUM(COUNTIF(INDIRECT(CR69):INDIRECT(CU69),1),COUNTIF(INDIRECT(CR69):INDIRECT(CU69),0)),\"\")","v":""},{"$f":"SUM(INDIRECT(CR69):INDIRECT(CS69))","v":{"$error":"#N/A"}},{"$f":"SUM(INDIRECT(CR69):INDIRECT(CT69))","v":{"$error":"#N/A"}},{"$f":"SUM(INDIRECT(CR69):INDIRECT(CU69))","v":{"$error":"#N/A"}}]
[null,null,1,{"$f":"IF(Modifications!$C$45=2,\"N\",\"\")","v":""},"",{"$f":"IF(ISBLANK('Month 1'!$F$70),\"\",'Month 1'!$F$70)","v":""},null,null,null,null,null,null,null,null,null,null,null,null,null,null,null,null,null,null,null,null,null,null,null,null,null,null,null,null,null,null,null,null,null,null,null,null,null,null,null,null,null,null,null,null,null,null,null,null,null,null,null,null,null,0,"@","@","@","@","@","@","@","@","@","@","@","@","@","@","@","@","@","@","@","@","@","@","@","@","@","@","@","@","@","@","@",{"$f":"'Month 8'!BL70","v":"@"},{"$f":"'Month 8'!BK70","v":"@"},{"$f":"'Month 8'!BJ70","v":"@"},{"$f":"'Month 8'!BI70","v":"@"},{"$error":"#N/A"},{"$error":"#N/A"},{"$error":"#N/A"},{"$error":"#N/A"},{"$f":"IF(ISNUMBER(SUM(COUNTIF(INDIRECT(CR70):INDIRECT(CS70),2),COUNTIF(INDIRECT(CR70):INDIRECT(CS70),1),COUNTIF(INDIRECT(CR70):INDIRECT(CS70),0))),SUM(COUNTIF(INDIRECT(CR70):INDIRECT(CS70),2),COUNTIF(INDIRECT(CR70):INDIRECT(CS70),1),COUNTIF(INDIRECT(CR70):INDIRECT(CS70),0)),\"\")","v":""},{"$f":"IF(ISNUMBER(SUM(COUNTIF(INDIRECT(CR70):INDIRECT(CT70),2),COUNTIF(INDIRECT(CR70):INDIRECT(CT70),1),COUNTIF(INDIRECT(CR70):INDIRECT(CT70),0))),SUM(COUNTIF(INDIRECT(CR70):INDIRECT(CT70),2),COUNTIF(INDIRECT(CR70):INDIRECT(CT70),1),COUNTIF(INDIRECT(CR70):INDIRECT(CT70),0)),\"\")","v":""},{"$f":"IF(ISNUMBER(SUM(COUNTIF(INDIRECT(CR70):INDIRECT(CU70),1),COUNTIF(INDIRECT(CR70):INDIRECT(CU70),0))),SUM(COUNTIF(INDIRECT(CR70):INDIRECT(CU70),1),COUNTIF(INDIRECT(CR70):INDIRECT(CU70),0)),\"\")","v":""},{"$f":"SUM(INDIRECT(CR70):INDIRECT(CS70))","v":{"$error":"#N/A"}},{"$f":"SUM(INDIRECT(CR70):INDIRECT(CT70))","v":{"$error":"#N/A"}},{"$f":"SUM(INDIRECT(CR70):INDIRECT(CU70))","v":{"$error":"#N/A"}}]
[null,null,1,{"$f":"IF(Modifications!$C$46=2,\"N\",\"\")","v":""},"",{"$f":"IF(ISBLANK('Month 1'!$F$71),\"\",'Month 1'!$F$71)","v":""},null,null,null,null,null,null,null,null,null,null,null,null,null,null,null,null,null,null,null,null,null,null,null,null,null,null,null,null,null,null,null,null,null,null,null,null,null,null,null,null,null,null,null,null,null,null,null,null,null,null,null,null,null,0,"@","@","@","@","@","@","@","@","@","@","@","@","@","@","@","@","@","@","@","@","@","@","@","@","@","@","@","@","@","@","@",{"$f":"'Month 8'!BL71","v":"@"},{"$f":"'Month 8'!BK71","v":"@"},{"$f":"'Month 8'!BJ71","v":"@"},{"$f":"'Month 8'!BI71","v":"@"},{"$error":"#N/A"},{"$error":"#N/A"},{"$error":"#N/A"},{"$error":"#N/A"},{"$f":"IF(ISNUMBER(SUM(COUNTIF(INDIRECT(CR71):INDIRECT(CS71),2),COUNTIF(INDIRECT(CR71):INDIRECT(CS71),1),COUNTIF(INDIRECT(CR71):INDIRECT(CS71),0))),SUM(COUNTIF(INDIRECT(CR71):INDIRECT(CS71),2),COUNTIF(INDIRECT(CR71):INDIRECT(CS71),1),COUNTIF(INDIRECT(CR71):INDIRECT(CS71),0)),\"\")","v":""},{"$f":"IF(ISNUMBER(SUM(COUNTIF(INDIRECT(CR71):INDIRECT(CT71),2),COUNTIF(INDIRECT(CR71):INDIRECT(CT71),1),COUNTIF(INDIRECT(CR71):INDIRECT(CT71),0))),SUM(COUNTIF(INDIRECT(CR71):INDIRECT(CT71),2),COUNTIF(INDIRECT(CR71):INDIRECT(CT71),1),COUNTIF(INDIRECT(CR71):INDIRECT(CT71),0)),\"\")","v":""},{"$f":"IF(ISNUMBER(SUM(COUNTIF(INDIRECT(CR71):INDIRECT(CU71),1),COUNTIF(INDIRECT(CR71):INDIRECT(CU71),0))),SUM(COUNTIF(INDIRECT(CR71):INDIRECT(CU71),1),COUNTIF(INDIRECT(CR71):INDIRECT(CU71),0)),\"\")","v":""},{"$f":"SUM(INDIRECT(CR71):INDIRECT(CS71))","v":{"$error":"#N/A"}},{"$f":"SUM(INDIRECT(CR71):INDIRECT(CT71))","v":{"$error":"#N/A"}},{"$f":"SUM(INDIRECT(CR71):INDIRECT(CU71))","v":{"$error":"#N/A"}}]
[null,null,1,{"$f":"IF(Modifications!$C$47=2,\"N\",\"\")","v":""},"",{"$f":"IF(ISBLANK('Month 1'!$F$72),\"\",'Month 1'!$F$72)","v":""},null,null,null,null,null,null,null,null,null,null,null,null,null,null,null,null,null,null,null,null,null,null,null,null,null,null,null,null,null,null,null,null,null,null,null,null,null,null,null,null,null,null,null,null,null,null,null,null,null,null,null,null,null,0,"@","@","@","@","@","@","@","@","@","@","@","@","@","@","@","@","@","@","@","@","@","@","@","@","@","@","@","@","@","@","@",{"$f":"'Month 8'!BL72","v":"@"},{"$f":"'Month 8'!BK72","v":"@"},{"$f":"'Month 8'!BJ72","v":"@"},{"$f":"'Month 8'!BI72","v":"@"},{"$error":"#N/A"},{"$error":"#N/A"},{"$error":"#N/A"},{"$error":"#N/A"},{"$f":"IF(ISNUMBER(SUM(COUNTIF(INDIRECT(CR72):INDIRECT(CS72),2),COUNTIF(INDIRECT(CR72):INDIRECT(CS72),1),COUNTIF(INDIRECT(CR72):INDIRECT(CS72),0))),SUM(COUNTIF(INDIRECT(CR72):INDIRECT(CS72),2),COUNTIF(INDIRECT(CR72):INDIRECT(CS72),1),COUNTIF(INDIRECT(CR72):INDIRECT(CS72),0)),\"\")","v":""},{"$f":"IF(ISNUMBER(SUM(COUNTIF(INDIRECT(CR72):INDIRECT(CT72),2),COUNTIF(INDIRECT(CR72):INDIRECT(CT72),1),COUNTIF(INDIRECT(CR72):INDIRECT(CT72),0))),SUM(COUNTIF(INDIRECT(CR72):INDIRECT(CT72),2),COUNTIF(INDIRECT(CR72):INDIRECT(CT72),1),COUNTIF(INDIRECT(CR72):INDIRECT(CT72),0)),\"\")","v":""},{"$f":"IF(ISNUMBER(SUM(COUNTIF(INDIRECT(CR72):INDIRECT(CU72),1),COUNTIF(INDIRECT(CR72):INDIRECT(CU72),0))),SUM(COUNTIF(INDIRECT(CR72):INDIRECT(CU72),1),COUNTIF(INDIRECT(CR72):INDIRECT(CU72),0)),\"\")","v":""},{"$f":"SUM(INDIRECT(CR72):INDIRECT(CS72))","v":{"$error":"#N/A"}},{"$f":"SUM(INDIRECT(CR72):INDIRECT(CT72))","v":{"$error":"#N/A"}},{"$f":"SUM(INDIRECT(CR72):INDIRECT(CU72))","v":{"$error":"#N/A"}}]
[null,null,1,{"$f":"IF(Modifications!$C$48=2,\"N\",\"\")","v":""},"",{"$f":"IF(ISBLANK('Month 1'!$F$73),\"\",'Month 1'!$F$73)","v":""},null,null,null,null,null,null,null,null,null,null,null,null,null,null,null,null,null,null,null,null,null,null,null,null,null,null,null,null,null,null,null,null,null,null,null,null,null,null,null,null,null,null,null,null,null,null,null,null,null,null,null,null,null,0,"@","@","@","@","@","@","@","@","@","@","@","@","@","@","@","@","@","@","@","@","@","@","@","@","@","@","@","@","@","@","@",{"$f":"'Month 8'!BL73","v":"@"},{"$f":"'Month 8'!BK73","v":"@"},{"$f":"'Month 8'!BJ73","v":"@"},{"$f":"'Month 8'!BI73","v":"@"},{"$error":"#N/A"},{"$error":"#N/A"},{"$error":"#N/A"},{"$error":"#N/A"},{"$f":"IF(ISNUMBER(SUM(COUNTIF(INDIRECT(CR73):INDIRECT(CS73),2),COUNTIF(INDIRECT(CR73):INDIRECT(CS73),1),COUNTIF(INDIRECT(CR73):INDIRECT(CS73),0))),SUM(COUNTIF(INDIRECT(CR73):INDIRECT(CS73),2),COUNTIF(INDIRECT(CR73):INDIRECT(CS73),1),COUNTIF(INDIRECT(CR73):INDIRECT(CS73),0)),\"\")","v":""},{"$f":"IF(ISNUMBER(SUM(COUNTIF(INDIRECT(CR73):INDIRECT(CT73),2),COUNTIF(INDIRECT(CR73):INDIRECT(CT73),1),COUNTIF(INDIRECT(CR73):INDIRECT(CT73),0))),SUM(COUNTIF(INDIRECT(CR73):INDIRECT(CT73),2),COUNTIF(INDIRECT(CR73):INDIRECT(CT73),1),COUNTIF(INDIRECT(CR73):INDIRECT(CT73),0)),\"\")","v":""},{"$f":"IF(ISNUMBER(SUM(COUNTIF(INDIRECT(CR73):INDIRECT(CU73),1),COUNTIF(INDIRECT(CR73):INDIRECT(CU73),0))),SUM(COUNTIF(INDIRECT(CR73):INDIRECT(CU73),1),COUNTIF(INDIRECT(CR73):INDIRECT(CU73),0)),\"\")","v":""},{"$f":"SUM(INDIRECT(CR73):INDIRECT(CS73))","v":{"$error":"#N/A"}},{"$f":"SUM(INDIRECT(CR73):INDIRECT(CT73))","v":{"$error":"#N/A"}},{"$f":"SUM(INDIRECT(CR73):INDIRECT(CU73))","v":{"$error":"#N/A"}}]
[null,null,1,{"$f":"IF(Modifications!$C$49=2,\"N\",\"\")","v":""},"",{"$f":"IF(ISBLANK('Month 1'!$F$74),\"\",'Month 1'!$F$74)","v":""},null,null,null,null,null,null,null,null,null,null,null,null,null,null,null,null,null,null,null,null,null,null,null,null,null,null,null,null,null,null,null,null,null,null,null,null,null,null,null,null,null,null,null,null,null,null,null,null,null,null,null,null,null,0,"@","@","@","@","@","@","@","@","@","@","@","@","@","@","@","@","@","@","@","@","@","@","@","@","@","@","@","@","@","@","@",{"$f":"'Month 8'!BL74","v":"@"},{"$f":"'Month 8'!BK74","v":"@"},{"$f":"'Month 8'!BJ74","v":"@"},{"$f":"'Month 8'!BI74","v":"@"},{"$error":"#N/A"},{"$error":"#N/A"},{"$error":"#N/A"},{"$error":"#N/A"},{"$f":"IF(ISNUMBER(SUM(COUNTIF(INDIRECT(CR74):INDIRECT(CS74),2),COUNTIF(INDIRECT(CR74):INDIRECT(CS74),1),COUNTIF(INDIRECT(CR74):INDIRECT(CS74),0))),SUM(COUNTIF(INDIRECT(CR74):INDIRECT(CS74),2),COUNTIF(INDIRECT(CR74):INDIRECT(CS74),1),COUNTIF(INDIRECT(CR74):INDIRECT(CS74),0)),\"\")","v":""},{"$f":"IF(ISNUMBER(SUM(COUNTIF(INDIRECT(CR74):INDIRECT(CT74),2),COUNTIF(INDIRECT(CR74):INDIRECT(CT74),1),COUNTIF(INDIRECT(CR74):INDIRECT(CT74),0))),SUM(COUNTIF(INDIRECT(CR74):INDIRECT(CT74),2),COUNTIF(INDIRECT(CR74):INDIRECT(CT74),1),COUNTIF(INDIRECT(CR74):INDIRECT(CT74),0)),\"\")","v":""},{"$f":"IF(ISNUMBER(SUM(COUNTIF(INDIRECT(CR74):INDIRECT(CU74),1),COUNTIF(INDIRECT(CR74):INDIRECT(CU74),0))),SUM(COUNTIF(INDIRECT(CR74):INDIRECT(CU74),1),COUNTIF(INDIRECT(CR74):INDIRECT(CU74),0)),\"\")","v":""},{"$f":"SUM(INDIRECT(CR74):INDIRECT(CS74))","v":{"$error":"#N/A"}},{"$f":"SUM(INDIRECT(CR74):INDIRECT(CT74))","v":{"$error":"#N/A"}},{"$f":"SUM(INDIRECT(CR74):INDIRECT(CU74))","v":{"$error":"#N/A"}}]
[null,null,1,{"$f":"IF(Modifications!$C$50=2,\"N\",\"\")","v":""},"",{"$f":"IF(ISBLANK('Month 1'!$F$75),\"\",'Month 1'!$F$75)","v":""},null,null,null,null,null,null,null,null,null,null,null,null,null,null,null,null,null,null,null,null,null,null,null,null,null,null,null,null,null,null,null,null,null,null,null,null,null,null,null,null,null,null,null,null,null,null,null,null,null,null,null,null,null,0,"@","@","@","@","@","@","@","@","@","@","@","@","@","@","@","@","@","@","@","@","@","@","@","@","@","@","@","@","@","@","@",{"$f":"'Month 8'!BL75","v":"@"},{"$f":"'Month 8'!BK75","v":"@"},{"$f":"'Month 8'!BJ75","v":"@"},{"$f":"'Month 8'!BI75","v":"@"},{"$error":"#N/A"},{"$error":"#N/A"},{"$error":"#N/A"},{"$error":"#N/A"},{"$f":"IF(ISNUMBER(SUM(COUNTIF(INDIRECT(CR75):INDIRECT(CS75),2),COUNTIF(INDIRECT(CR75):INDIRECT(CS75),1),COUNTIF(INDIRECT(CR75):INDIRECT(CS75),0))),SUM(COUNTIF(INDIRECT(CR75):INDIRECT(CS75),2),COUNTIF(INDIRECT(CR75):INDIRECT(CS75),1),COUNTIF(INDIRECT(CR75):INDIRECT(CS75),0)),\"\")","v":""},{"$f":"IF(ISNUMBER(SUM(COUNTIF(INDIRECT(CR75):INDIRECT(CT75),2),COUNTIF(INDIRECT(CR75):INDIRECT(CT75),1),COUNTIF(INDIRECT(CR75):INDIRECT(CT75),0))),SUM(COUNTIF(INDIRECT(CR75):INDIRECT(CT75),2),COUNTIF(INDIRECT(CR75):INDIRECT(CT75),1),COUNTIF(INDIRECT(CR75):INDIRECT(CT75),0)),\"\")","v":""},{"$f":"IF(ISNUMBER(SUM(COUNTIF(INDIRECT(CR75):INDIRECT(CU75),1),COUNTIF(INDIRECT(CR75):INDIRECT(CU75),0))),SUM(COUNTIF(INDIRECT(CR75):INDIRECT(CU75),1),COUNTIF(INDIRECT(CR75):INDIRECT(CU75),0)),\"\")","v":""},{"$f":"SUM(INDIRECT(CR75):INDIRECT(CS75))","v":{"$error":"#N/A"}},{"$f":"SUM(INDIRECT(CR75):INDIRECT(CT75))","v":{"$error":"#N/A"}},{"$f":"SUM(INDIRECT(CR75):INDIRECT(CU75))","v":{"$error":"#N/A"}}]
[null,null,1,{"$f":"IF(Modifications!$C$51=2,\"N\",\"\")","v":""},"",{"$f":"IF(ISBLANK('Month 1'!$F$76),\"\",'Month 1'!$F$76)","v":""},null,null,null,null,null,null,null,null,null,null,null,null,null,null,null,null,null,null,null,null,null,null,null,null,null,null,null,null,null,null,null,null,null,null,null,null,null,null,null,null,null,null,null,null,null,null,null,null,null,null,null,null,null,0,"@","@","@","@","@","@","@","@","@","@","@","@","@","@","@","@","@","@","@","@","@","@","@","@","@","@","@","@","@","@","@",{"$f":"'Month 8'!BL76","v":"@"},{"$f":"'Month 8'!BK76","v":"@"},{"$f":"'Month 8'!BJ76","v":"@"},{"$f":"'Month 8'!BI76","v":"@"},{"$error":"#N/A"},{"$error":"#N/A"},{"$error":"#N/A"},{"$error":"#N/A"},{"$f":"IF(ISNUMBER(SUM(COUNTIF(INDIRECT(CR76):INDIRECT(CS76),2),COUNTIF(INDIRECT(CR76):INDIRECT(CS76),1),COUNTIF(INDIRECT(CR76):INDIRECT(CS76),0))),SUM(COUNTIF(INDIRECT(CR76):INDIRECT(CS76),2),COUNTIF(INDIRECT(CR76):INDIRECT(CS76),1),COUNTIF(INDIRECT(CR76):INDIRECT(CS76),0)),\"\")","v":""},{"$f":"IF(ISNUMBER(SUM(COUNTIF(INDIRECT(CR76):INDIRECT(CT76),2),COUNTIF(INDIRECT(CR76):INDIRECT(CT76),1),COUNTIF(INDIRECT(CR76):INDIRECT(CT76),0))),SUM(COUNTIF(INDIRECT(CR76):INDIRECT(CT76),2),COUNTIF(INDIRECT(CR76):INDIRECT(CT76),1),COUNTIF(INDIRECT(CR76):INDIRECT(CT76),0)),\"\")","v":""},{"$f":"IF(ISNUMBER(SUM(COUNTIF(INDIRECT(CR76):INDIRECT(CU76),1),COUNTIF(INDIRECT(CR76):INDIRECT(CU76),0))),SUM(COUNTIF(INDIRECT(CR76):INDIRECT(CU76),1),COUNTIF(INDIRECT(CR76):INDIRECT(CU76),0)),\"\")","v":""},{"$f":"SUM(INDIRECT(CR76):INDIRECT(CS76))","v":{"$error":"#N/A"}},{"$f":"SUM(INDIRECT(CR76):INDIRECT(CT76))","v":{"$error":"#N/A"}},{"$f":"SUM(INDIRECT(CR76):INDIRECT(CU76))","v":{"$error":"#N/A"}}]
[null,null,null,null,null,null,null,null,null,null,null,null,null,null,null,null,null,null,null,null,null,null,null,null,null,null,null,null,null,null,null,null,null,null,null,null,null,null,null,null,null,null,null,null,null,null,null,null,null,null,null,null,null,null,null,null,null,null,null,0,"@","@","@","@","@","@","@","@","@","@","@","@","@","@","@","@","@","@","@","@","@","@","@","@","@","@","@","@","@","@","@",{"$f":"'Month 8'!BL77","v":"@"},{"$f":"'Month 8'!BK77","v":"@"},{"$f":"'Month 8'!BJ77","v":"@"},{"$f":"'Month 8'!BI77","v":"@"},{"$error":"#N/A"},{"$error":"#N/A"},{"$error":"#N/A"},{"$error":"#N/A"},{"$f":"IF(ISNUMBER(SUM(COUNTIF(INDIRECT(CR77):INDIRECT(CS77),2),COUNTIF(INDIRECT(CR77):INDIRECT(CS77),1),COUNTIF(INDIRECT(CR77):INDIRECT(CS77),0))),SUM(COUNTIF(INDIRECT(CR77):INDIRECT(CS77),2),COUNTIF(INDIRECT(CR77):INDIRECT(CS77),1),COUNTIF(INDIRECT(CR77):INDIRECT(CS77),0)),\"\")","v":""},{"$f":"IF(ISNUMBER(SUM(COUNTIF(INDIRECT(CR77):INDIRECT(CT77),2),COUNTIF(INDIRECT(CR77):INDIRECT(CT77),1),COUNTIF(INDIRECT(CR77):INDIRECT(CT77),0))),SUM(COUNTIF(INDIRECT(CR77):INDIRECT(CT77),2),COUNTIF(INDIRECT(CR77):INDIRECT(CT77),1),COUNTIF(INDIRECT(CR77):INDIRECT(CT77),0)),\"\")","v":""},{"$f":"IF(ISNUMBER(SUM(COUNTIF(INDIRECT(CR77):INDIRECT(CU77),1),COUNTIF(INDIRECT(CR77):INDIRECT(CU77),0))),SUM(COUNTIF(INDIRECT(CR77):INDIRECT(CU77),1),COUNTIF(INDIRECT(CR77):INDIRECT(CU77),0)),\"\")","v":""},{"$f":"SUM(INDIRECT(CR77):INDIRECT(CS77))","v":{"$error":"#N/A"}},{"$f":"SUM(INDIRECT(CR77):INDIRECT(CT77))","v":{"$error":"#N/A"}},{"$f":"SUM(INDIRECT(CR77):INDIRECT(CU77))","v":{"$error":"#N/A"}}]
[null,null,null,null,null,null,null,null,null,null,null,null,null,null,null,null,null,null,null,null,null,null,null,null,null,null,null,null,null,null,null,null,null,null,null,null,null,null,null,null,null,null,null,null,null,null,null,null,null,null,null,null,null,null,null,null,null,null,null,0,"@","@","@","@","@","@","@","@","@","@","@","@","@","@","@","@","@","@","@","@","@","@","@","@","@","@","@","@","@","@","@",{"$f":"'Month 8'!BL78","v":"@"},{"$f":"'Month 8'!BK78","v":"@"},{"$f":"'Month 8'!BJ78","v":"@"},{"$f":"'Month 8'!BI78","v":"@"},{"$error":"#N/A"},{"$error":"#N/A"},{"$error":"#N/A"},{"$error":"#N/A"},{"$f":"IF(ISNUMBER(SUM(COUNTIF(INDIRECT(CR78):INDIRECT(CS78),2),COUNTIF(INDIRECT(CR78):INDIRECT(CS78),1),COUNTIF(INDIRECT(CR78):INDIRECT(CS78),0))),SUM(COUNTIF(INDIRECT(CR78):INDIRECT(CS78),2),COUNTIF(INDIRECT(CR78):INDIRECT(CS78),1),COUNTIF(INDIRECT(CR78):INDIRECT(CS78),0)),\"\")","v":""},{"$f":"IF(ISNUMBER(SUM(COUNTIF(INDIRECT(CR78):INDIRECT(CT78),2),COUNTIF(INDIRECT(CR78):INDIRECT(CT78),1),COUNTIF(INDIRECT(CR78):INDIRECT(CT78),0))),SUM(COUNTIF(INDIRECT(CR78):INDIRECT(CT78),2),COUNTIF(INDIRECT(CR78):INDIRECT(CT78),1),COUNTIF(INDIRECT(CR78):INDIRECT(CT78),0)),\"\")","v":""},{"$f":"IF(ISNUMBER(SUM(COUNTIF(INDIRECT(CR78):INDIRECT(CU78),1),COUNTIF(INDIRECT(CR78):INDIRECT(CU78),0))),SUM(COUNTIF(INDIRECT(CR78):INDIRECT(CU78),1),COUNTIF(INDIRECT(CR78):INDIRECT(CU78),0)),\"\")","v":""},{"$f":"SUM(INDIRECT(CR78):INDIRECT(CS78))","v":{"$error":"#N/A"}},{"$f":"SUM(INDIRECT(CR78):INDIRECT(CT78))","v":{"$error":"#N/A"}},{"$f":"SUM(INDIRECT(CR78):INDIRECT(CU78))","v":{"$error":"#N/A"}}]
[null,null,null,null,null,null,{"$f":"IF(ISBLANK(G26),\"\",G26)","v":""},"","","","","","","","","","","","","","","","","","","","","","","","","","","","","","",null,null,null,null,null,null,null,null,null,null,null,null,null,null,null,null,null,null,null,null,null,null,0,"@","@","@","@","@","@","@","@","@","@","@","@","@","@","@","@","@","@","@","@","@","@","@","@","@","@","@","@","@","@","@",{"$f":"'Month 8'!BL79","v":"@"},{"$f":"'Month 8'!BK79","v":"@"},{"$f":"'Month 8'!BJ79","v":"@"},{"$f":"'Month 8'!BI79","v":"@"},{"$error":"#N/A"},{"$error":"#N/A"},{"$error":"#N/A"},{"$error":"#N/A"},{"$f":"IF(ISNUMBER(SUM(COUNTIF(INDIRECT(CR79):INDIRECT(CS79),2),COUNTIF(INDIRECT(CR79):INDIRECT(CS79),1),COUNTIF(INDIRECT(CR79):INDIRECT(CS79),0))),SUM(COUNTIF(INDIRECT(CR79):INDIRECT(CS79),2),COUNTIF(INDIRECT(CR79):INDIRECT(CS79),1),COUNTIF(INDIRECT(CR79):INDIRECT(CS79),0)),\"\")","v":""},{"$f":"IF(ISNUMBER(SUM(COUNTIF(INDIRECT(CR79):INDIRECT(CT79),2),COUNTIF(INDIRECT(CR79):INDIRECT(CT79),1),COUNTIF(INDIRECT(CR79):INDIRECT(CT79),0))),SUM(COUNTIF(INDIRECT(CR79):INDIRECT(CT79),2),COUNTIF(INDIRECT(CR79):INDIRECT(CT79),1),COUNTIF(INDIRECT(CR79):INDIRECT(CT79),0)),\"\")","v":""},{"$f":"IF(ISNUMBER(SUM(COUNTIF(INDIRECT(CR79):INDIRECT(CU79),1),COUNTIF(INDIRECT(CR79):INDIRECT(CU79),0))),SUM(COUNTIF(INDIRECT(CR79):INDIRECT(CU79),1),COUNTIF(INDIRECT(CR79):INDIRECT(CU79),0)),\"\")","v":""},{"$f":"SUM(INDIRECT(CR79):INDIRECT(CS79))","v":{"$error":"#N/A"}},{"$f":"SUM(INDIRECT(CR79):INDIRECT(CT79))","v":{"$error":"#N/A"}},{"$f":"SUM(INDIRECT(CR79):INDIRECT(CU79))","v":{"$error":"#N/A"}}]
[null,null,null,null,null,null,{"$f":"IF(G24=\"\",NA(),G24)","v":{"$error":"#N/A"}},{"$error":"#N/A"},{"$error":"#N/A"},{"$error":"#N/A"},{"$error":"#N/A"},{"$error":"#N/A"},{"$error":"#N/A"},{"$error":"#N/A"},{"$error":"#N/A"},{"$error":"#N/A"},{"$error":"#N/A"},{"$error":"#N/A"},{"$error":"#N/A"},{"$error":"#N/A"},{"$error":"#N/A"},{"$error":"#N/A"},{"$error":"#N/A"},{"$error":"#N/A"},{"$error":"#N/A"},{"$error":"#N/A"},{"$error":"#N/A"},{"$error":"#N/A"},{"$error":"#N/A"},{"$error":"#N/A"},{"$error":"#N/A"},{"$error":"#N/A"},{"$error":"#N/A"},{"$error":"#N/A"},{"$error":"#N/A"},{"$error":"#N/A"},{"$error":"#N/A"},null,null,null,null,null,null,null,null,null,null,null,null,null,null,null,null,null,null,null,null,null,null,{"$f":"SUM(COUNTIF(BI80:CM80,1),COUNTIF(BI80:CM80,0))","v":0},"@","@","@","@","@","@","@","@","@","@","@","@","@","@","@","@","@","@","@","@","@","@","@","@","@","@","@","@","@","@","@",{"$f":"'Month 8'!BL80","v":"@"},{"$f":"'Month 8'!BK80","v":"@"},{"$f":"'Month 8'!BJ80","v":"@"},{"$f":"'Month 8'!BI80","v":"@"},{"$error":"#N/A"},{"$error":"#N/A"},{"$error":"#N/A"},{"$error":"#N/A"},{"$f":"IF(ISNUMBER(SUM(COUNTIF(INDIRECT(CR80):INDIRECT(CS80),2),COUNTIF(INDIRECT(CR80):INDIRECT(CS80),1),COUNTIF(INDIRECT(CR80):INDIRECT(CS80),0))),SUM(COUNTIF(INDIRECT(CR80):INDIRECT(CS80),2),COUNTIF(INDIRECT(CR80):INDIRECT(CS80),1),COUNTIF(INDIRECT(CR80):INDIRECT(CS80),0)),\"\")","v":""},{"$f":"IF(ISNUMBER(SUM(COUNTIF(INDIRECT(CR80):INDIRECT(CT80),2),COUNTIF(INDIRECT(CR80):INDIRECT(CT80),1),COUNTIF(INDIRECT(CR80):INDIRECT(CT80),0))),SUM(COUNTIF(INDIRECT(CR80):INDIRECT(CT80),2),COUNTIF(INDIRECT(CR80):INDIRECT(CT80),1),COUNTIF(INDIRECT(CR80):INDIRECT(CT80),0)),\"\")","v":""},{"$f":"IF(ISNUMBER(SUM(COUNTIF(INDIRECT(CR80):INDIRECT(CU80),1),COUNTIF(INDIRECT(CR80):INDIRECT(CU80),0))),SUM(COUNTIF(INDIRECT(CR80):INDIRECT(CU80),1),COUNTIF(INDIRECT(CR80):INDIRECT(CU80),0)),\"\")","v":""},{"$f":"SUM(INDIRECT(CR80):INDIRECT(CS80))","v":{"$error":"#N/A"}},{"$f":"SUM(INDIRECT(CR80):INDIRECT(CT80))","v":{"$error":"#N/A"}},{"$f":"SUM(INDIRECT(CR80):INDIRECT(CU80))","v":{"$error":"#N/A"}}]
[null,null,null,null,null,null,null,null,null,null,null,null,null,null,null,null,null,null,null,null,null,null,null,null,null,null,null,null,null,null,null,null,null,null,null,null,null,null,null,null,null,null,null,null,null,null,null,null,null,null,null,null,null,null,null,null,null,null,null,0,"@","@","@","@","@","@","@","@","@","@","@","@","@","@","@","@","@","@","@","@","@","@","@","@","@","@","@","@","@","@","@",{"$f":"'Month 8'!BL81","v":"@"},{"$f":"'Month 8'!BK81","v":"@"},{"$f":"'Month 8'!BJ81","v":"@"},{"$f":"'Month 8'!BI81","v":"@"},{"$error":"#N/A"},{"$error":"#N/A"},{"$error":"#N/A"},{"$error":"#N/A"},{"$f":"IF(ISNUMBER(SUM(COUNTIF(INDIRECT(CR81):INDIRECT(CS81),2),COUNTIF(INDIRECT(CR81):INDIRECT(CS81),1),COUNTIF(INDIRECT(CR81):INDIRECT(CS81),0))),SUM(COUNTIF(INDIRECT(CR81):INDIRECT(CS81),2),COUNTIF(INDIRECT(CR81):INDIRECT(CS81),1),COUNTIF(INDIRECT(CR81):INDIRECT(CS81),0)),\"\")","v":""},{"$f":"IF(ISNUMBER(SUM(COUNTIF(INDIRECT(CR81):INDIRECT(CT81),2),COUNTIF(INDIRECT(CR81):INDIRECT(CT81),1),COUNTIF(INDIRECT(CR81):INDIRECT(CT81),0))),SUM(COUNTIF(INDIRECT(CR81):INDIRECT(CT81),2),COUNTIF(INDIRECT(CR81):INDIRECT(CT81),1),COUNTIF(INDIRECT(CR81):INDIRECT(CT81),0)),\"\")","v":""},{"$f":"IF(ISNUMBER(SUM(COUNTIF(INDIRECT(CR81):INDIRECT(CU81),1),COUNTIF(INDIRECT(CR81):INDIRECT(CU81),0))),SUM(COUNTIF(INDIRECT(CR81):INDIRECT(CU81),1),COUNTIF(INDIRECT(CR81):INDIRECT(CU81),0)),\"\")","v":""},{"$f":"SUM(INDIRECT(CR81):INDIRECT(CS81))","v":{"$error":"#N/A"}},{"$f":"SUM(INDIRECT(CR81):INDIRECT(CT81))","v":{"$error":"#N/A"}},{"$f":"SUM(INDIRECT(CR81):INDIRECT(CU81))","v":{"$error":"#N/A"}}]
[null,null,null,null,null,null,null,null,null,null,null,null,null,null,null,null,null,null,null,null,null,null,null,null,null,null,null,null,null,null,null,null,null,null,null,null,null,null,null,null,null,null,null,null,null,null,null,null,null,null,null,null,null,null,null,null,null,null,null,0,"@","@","@","@","@","@","@","@","@","@","@","@","@","@","@","@","@","@","@","@","@","@","@","@","@","@","@","@","@","@","@",{"$f":"'Month 8'!BL82","v":"@"},{"$f":"'Month 8'!BK82","v":"@"},{"$f":"'Month 8'!BJ82","v":"@"},{"$f":"'Month 8'!BI82","v":"@"},{"$error":"#N/A"},{"$error":"#N/A"},{"$error":"#N/A"},{"$error":"#N/A"},{"$f":"IF(ISNUMBER(SUM(COUNTIF(INDIRECT(CR82):INDIRECT(CS82),2),COUNTIF(INDIRECT(CR82):INDIRECT(CS82),1),COUNTIF(INDIRECT(CR82):INDIRECT(CS82),0))),SUM(COUNTIF(INDIRECT(CR82):INDIRECT(CS82),2),COUNTIF(INDIRECT(CR82):INDIRECT(CS82),1),COUNTIF(INDIRECT(CR82):INDIRECT(CS82),0)),\"\")","v":""},{"$f":"IF(ISNUMBER(SUM(COUNTIF(INDIRECT(CR82):INDIRECT(CT82),2),COUNTIF(INDIRECT(CR82):INDIRECT(CT82),1),COUNTIF(INDIRECT(CR82):INDIRECT(CT82),0))),SUM(COUNTIF(INDIRECT(CR82):INDIRECT(CT82),2),COUNTIF(INDIRECT(CR82):INDIRECT(CT82),1),COUNTIF(INDIRECT(CR82):INDIRECT(CT82),0)),\"\")","v":""},{"$f":"IF(ISNUMBER(SUM(COUNTIF(INDIRECT(CR82):INDIRECT(CU82),1),COUNTIF(INDIRECT(CR82):INDIRECT(CU82),0))),SUM(COUNTIF(INDIRECT(CR82):INDIRECT(CU82),1),COUNTIF(INDIRECT(CR82):INDIRECT(CU82),0)),\"\")","v":""},{"$f":"SUM(INDIRECT(CR82):INDIRECT(CS82))","v":{"$error":"#N/A"}},{"$f":"SUM(INDIRECT(CR82):INDIRECT(CT82))","v":{"$error":"#N/A"}},{"$f":"SUM(INDIRECT(CR82):INDIRECT(CU82))","v":{"$error":"#N/A"}}]
[null,null,null,null,null,null,null,null,null,null,null,null,null,null,null,null,null,null,null,null,null,null,null,null,null,null,null,null,null,null,null,null,null,null,null,null,null,null,null,null,null,null,null,null,null,null,null,null,null,null,null,null,null,null,null,null,null,null,null,0,"@","@","@","@","@","@","@","@","@","@","@","@","@","@","@","@","@","@","@","@","@","@","@","@","@","@","@","@","@","@","@",{"$f":"'Month 8'!BL83","v":"@"},{"$f":"'Month 8'!BK83","v":"@"},{"$f":"'Month 8'!BJ83","v":"@"},{"$f":"'Month 8'!BI83","v":"@"},{"$error":"#N/A"},{"$error":"#N/A"},{"$error":"#N/A"},{"$error":"#N/A"},{"$f":"IF(ISNUMBER(SUM(COUNTIF(INDIRECT(CR83):INDIRECT(CS83),2),COUNTIF(INDIRECT(CR83):INDIRECT(CS83),1),COUNTIF(INDIRECT(CR83):INDIRECT(CS83),0))),SUM(COUNTIF(INDIRECT(CR83):INDIRECT(CS83),2),COUNTIF(INDIRECT(CR83):INDIRECT(CS83),1),COUNTIF(INDIRECT(CR83):INDIRECT(CS83),0)),\"\")","v":""},{"$f":"IF(ISNUMBER(SUM(COUNTIF(INDIRECT(CR83):INDIRECT(CT83),2),COUNTIF(INDIRECT(CR83):INDIRECT(CT83),1),COUNTIF(INDIRECT(CR83):INDIRECT(CT83),0))),SUM(COUNTIF(INDIRECT(CR83):INDIRECT(CT83),2),COUNTIF(INDIRECT(CR83):INDIRECT(CT83),1),COUNTIF(INDIRECT(CR83):INDIRECT(CT83),0)),\"\")","v":""},{"$f":"IF(ISNUMBER(SUM(COUNTIF(INDIRECT(CR83):INDIRECT(CU83),1),COUNTIF(INDIRECT(CR83):INDIRECT(CU83),0))),SUM(COUNTIF(INDIRECT(CR83):INDIRECT(CU83),1),COUNTIF(INDIRECT(CR83):INDIRECT(CU83),0)),\"\")","v":""},{"$f":"SUM(INDIRECT(CR83):INDIRECT(CS83))","v":{"$error":"#N/A"}},{"$f":"SUM(INDIRECT(CR83):INDIRECT(CT83))","v":{"$error":"#N/A"}},{"$f":"SUM(INDIRECT(CR83):INDIRECT(CU83))","v":{"$error":"#N/A"}}]
[null,null,null,null,null,null,null,null,null,null,null,null,null,null,null,null,null,null,null,null,null,null,null,null,null,null,null,null,null,null,null,null,null,null,null,null,null,null,null,null,null,null,null,null,null,null,null,null,null,null,null,null,null,null,null,null,null,null,null,0,"@","@","@","@","@","@","@","@","@","@","@","@","@","@","@","@","@","@","@","@","@","@","@","@","@","@","@","@","@","@","@",{"$f":"'Month 8'!BL84","v":"@"},{"$f":"'Month 8'!BK84","v":"@"},{"$f":"'Month 8'!BJ84","v":"@"},{"$f":"'Month 8'!BI84","v":"@"},{"$error":"#N/A"},{"$error":"#N/A"},{"$error":"#N/A"},{"$error":"#N/A"},{"$f":"IF(ISNUMBER(SUM(COUNTIF(INDIRECT(CR84):INDIRECT(CS84),2),COUNTIF(INDIRECT(CR84):INDIRECT(CS84),1),COUNTIF(INDIRECT(CR84):INDIRECT(CS84),0))),SUM(COUNTIF(INDIRECT(CR84):INDIRECT(CS84),2),COUNTIF(INDIRECT(CR84):INDIRECT(CS84),1),COUNTIF(INDIRECT(CR84):INDIRECT(CS84),0)),\"\")","v":""},{"$f":"IF(ISNUMBER(SUM(COUNTIF(INDIRECT(CR84):INDIRECT(CT84),2),COUNTIF(INDIRECT(CR84):INDIRECT(CT84),1),COUNTIF(INDIRECT(CR84):INDIRECT(CT84),0))),SUM(COUNTIF(INDIRECT(CR84):INDIRECT(CT84),2),COUNTIF(INDIRECT(CR84):INDIRECT(CT84),1),COUNTIF(INDIRECT(CR84):INDIRECT(CT84),0)),\"\")","v":""},{"$f":"IF(ISNUMBER(SUM(COUNTIF(INDIRECT(CR84):INDIRECT(CU84),1),COUNTIF(INDIRECT(CR84):INDIRECT(CU84),0))),SUM(COUNTIF(INDIRECT(CR84):INDIRECT(CU84),1),COUNTIF(INDIRECT(CR84):INDIRECT(CU84),0)),\"\")","v":""},{"$f":"SUM(INDIRECT(CR84):INDIRECT(CS84))","v":{"$error":"#N/A"}},{"$f":"SUM(INDIRECT(CR84):INDIRECT(CT84))","v":{"$error":"#N/A"}},{"$f":"SUM(INDIRECT(CR84):INDIRECT(CU84))","v":{"$error":"#N/A"}}]
[null,null,null,null,null,null,null,null,null,null,null,null,null,null,null,null,null,null,null,null,null,null,null,null,null,null,null,null,null,null,null,null,null,null,null,null,null,null,null,null,null,null,null,null,null,null,null,null,null,null,null,null,null,null,null,null,null,null,null,0,"@","@","@","@","@","@","@","@","@","@","@","@","@","@","@","@","@","@","@","@","@","@","@","@","@","@","@","@","@","@","@",{"$f":"'Month 8'!BL85","v":"@"},{"$f":"'Month 8'!BK85","v":"@"},{"$f":"'Month 8'!BJ85","v":"@"},{"$f":"'Month 8'!BI85","v":"@"},{"$error":"#N/A"},{"$error":"#N/A"},{"$error":"#N/A"},{"$error":"#N/A"},{"$f":"IF(ISNUMBER(SUM(COUNTIF(INDIRECT(CR85):INDIRECT(CS85),2),COUNTIF(INDIRECT(CR85):INDIRECT(CS85),1),COUNTIF(INDIRECT(CR85):INDIRECT(CS85),0))),SUM(COUNTIF(INDIRECT(CR85):INDIRECT(CS85),2),COUNTIF(INDIRECT(CR85):INDIRECT(CS85),1),COUNTIF(INDIRECT(CR85):INDIRECT(CS85),0)),\"\")","v":""},{"$f":"IF(ISNUMBER(SUM(COUNTIF(INDIRECT(CR85):INDIRECT(CT85),2),COUNTIF(INDIRECT(CR85):INDIRECT(CT85),1),COUNTIF(INDIRECT(CR85):INDIRECT(CT85),0))),SUM(COUNTIF(INDIRECT(CR85):INDIRECT(CT85),2),COUNTIF(INDIRECT(CR85):INDIRECT(CT85),1),COUNTIF(INDIRECT(CR85):INDIRECT(CT85),0)),\"\")","v":""},{"$f":"IF(ISNUMBER(SUM(COUNTIF(INDIRECT(CR85):INDIRECT(CU85),1),COUNTIF(INDIRECT(CR85):INDIRECT(CU85),0))),SUM(COUNTIF(INDIRECT(CR85):INDIRECT(CU85),1),COUNTIF(INDIRECT(CR85):INDIRECT(CU85),0)),\"\")","v":""},{"$f":"SUM(INDIRECT(CR85):INDIRECT(CS85))","v":{"$error":"#N/A"}},{"$f":"SUM(INDIRECT(CR85):INDIRECT(CT85))","v":{"$error":"#N/A"}},{"$f":"SUM(INDIRECT(CR85):INDIRECT(CU85))","v":{"$error":"#N/A"}}]
[null,null,null,null,null,null,null,null,null,null,null,null,null,null,null,null,null,null,null,null,null,null,null,null,null,null,null,null,null,null,null,null,null,null,null,null,null,null,null,null,null,null,null,null,null,null,null,null,null,null,null,null,null,null,null,null,null,null,null,0,"@","@","@","@","@","@","@","@","@","@","@","@","@","@","@","@","@","@","@","@","@","@","@","@","@","@","@","@","@","@","@",{"$f":"'Month 8'!BL86","v":"@"},{"$f":"'Month 8'!BK86","v":"@"},{"$f":"'Month 8'!BJ86","v":"@"},{"$f":"'Month 8'!BI86","v":"@"},{"$error":"#N/A"},{"$error":"#N/A"},{"$error":"#N/A"},{"$error":"#N/A"},{"$f":"IF(ISNUMBER(SUM(COUNTIF(INDIRECT(CR86):INDIRECT(CS86),2),COUNTIF(INDIRECT(CR86):INDIRECT(CS86),1),COUNTIF(INDIRECT(CR86):INDIRECT(CS86),0))),SUM(COUNTIF(INDIRECT(CR86):INDIRECT(CS86),2),COUNTIF(INDIRECT(CR86):INDIRECT(CS86),1),COUNTIF(INDIRECT(CR86):INDIRECT(CS86),0)),\"\")","v":""},{"$f":"IF(ISNUMBER(SUM(COUNTIF(INDIRECT(CR86):INDIRECT(CT86),2),COUNTIF(INDIRECT(CR86):INDIRECT(CT86),1),COUNTIF(INDIRECT(CR86):INDIRECT(CT86),0))),SUM(COUNTIF(INDIRECT(CR86):INDIRECT(CT86),2),COUNTIF(INDIRECT(CR86):INDIRECT(CT86),1),COUNTIF(INDIRECT(CR86):INDIRECT(CT86),0)),\"\")","v":""},{"$f":"IF(ISNUMBER(SUM(COUNTIF(INDIRECT(CR86):INDIRECT(CU86),1),COUNTIF(INDIRECT(CR86):INDIRECT(CU86),0))),SUM(COUNTIF(INDIRECT(CR86):INDIRECT(CU86),1),COUNTIF(INDIRECT(CR86):INDIRECT(CU86),0)),\"\")","v":""},{"$f":"SUM(INDIRECT(CR86):INDIRECT(CS86))","v":{"$error":"#N/A"}},{"$f":"SUM(INDIRECT(CR86):INDIRECT(CT86))","v":{"$error":"#N/A"}},{"$f":"SUM(INDIRECT(CR86):INDIRECT(CU86))","v":{"$error":"#N/A"}}]
[null,null,null,null,null,null,null,null,null,null,null,null,null,null,null,null,null,null,null,null,null,null,null,null,null,null,null,null,null,null,null,null,null,null,null,null,null,null,null,null,null,null,null,null,null,null,null,null,null,null,null,null,null,null,null,null,null,null,null,0,{"$f":"IF(OR(AK59=\"+\",AK59=\"Y\",AK59=2),1,IF(OR(AK59=\"-\",AK59=\"N\",AK59=1),0,IF(OR(BJ87=1,BJ87=0),\"#\",\"@\")))","v":"@"},{"$f":"IF(OR(AJ59=\"+\",AJ59=\"Y\",AJ59=2),1,IF(OR(AJ59=\"-\",AJ59=\"N\",AJ59=1),0,IF(OR(BK87=1,BK87=0),\"#\",\"@\")))","v":"@"},{"$f":"IF(OR(AI59=\"+\",AI59=\"Y\",AI59=2),1,IF(OR(AI59=\"-\",AI59=\"N\",AI59=1),0,IF(OR(BL87=1,BL87=0),\"#\",\"@\")))","v":"@"},{"$f":"IF(OR(AH59=\"+\",AH59=\"Y\",AH59=2),1,IF(OR(AH59=\"-\",AH59=\"N\",AH59=1),0,IF(OR(BM87=1,BM87=0),\"#\",\"@\")))","v":"@"},{"$f":"IF(OR(AG59=\"+\",AG59=\"Y\",AG59=2),1,IF(OR(AG59=\"-\",AG59=\"N\",AG59=1),0,IF(OR(BN87=1,BN87=0),\"#\",\"@\")))","v":"@"},{"$f":"IF(OR(AF59=\"+\",AF59=\"Y\",AF59=2),1,IF(OR(AF59=\"-\",AF59=\"N\",AF59=1),0,IF(OR(BO87=1,BO87=0),\"#\",\"@\")))","v":"@"},{"$f":"IF(OR(AE59=\"+\",AE59=\"Y\",AE59=2),1,IF(OR(AE59=\"-\",AE59=\"N\",AE59=1),0,IF(OR(BP87=1,BP87=0),\"#\",\"@\")))","v":"@"},{"$f":"IF(OR(AD59=\"+\",AD59=\"Y\",AD59=2),1,IF(OR(AD59=\"-\",AD59=\"N\",AD59=1),0,IF(OR(BQ87=1,BQ87=0),\"#\",\"@\")))","v":"@"},{"$f":"IF(OR(AC59=\"+\",AC59=\"Y\",AC59=2),1,IF(OR(AC59=\"-\",AC59=\"N\",AC59=1),0,IF(OR(BR87=1,BR87=0),\"#\",\"@\")))","v":"@"},{"$f":"IF(OR(AB59=\"+\",AB59=\"Y\",AB59=2),1,IF(OR(AB59=\"-\",AB59=\"N\",AB59=1),0,IF(OR(BS87=1,BS87=0),\"#\",\"@\")))","v":"@"},{"$f":"IF(OR(AA59=\"+\",AA59=\"Y\",AA59=2),1,IF(OR(AA59=\"-\",AA59=\"N\",AA59=1),0,IF(OR(BT87=1,BT87=0),\"#\",\"@\")))","v":"@"},{"$f":"IF(OR(Z59=\"+\",Z59=\"Y\",Z59=2),1,IF(OR(Z59=\"-\",Z59=\"N\",Z59=1),0,IF(OR(BU87=1,BU87=0),\"#\",\"@\")))","v":"@"},{"$f":"IF(OR(Y59=\"+\",Y59=\"Y\",Y59=2),1,IF(OR(Y59=\"-\",Y59=\"N\",Y59=1),0,IF(OR(BV87=1,BV87=0),\"#\",\"@\")))","v":"@"},{"$f":"IF(OR(X59=\"+\",X59=\"Y\",X59=2),1,IF(OR(X59=\"-\",X59=\"N\",X59=1),0,IF(OR(BW87=1,BW87=0),\"#\",\"@\")))","v":"@"},{"$f":"IF(OR(W59=\"+\",W59=\"Y\",W59=2),1,IF(OR(W59=\"-\",W59=\"N\",W59=1),0,IF(OR(BX87=1,BX87=0),\"#\",\"@\")))","v":"@"},{"$f":"IF(OR(V59=\"+\",V59=\"Y\",V59=2),1,IF(OR(V59=\"-\",V59=\"N\",V59=1),0,IF(OR(BY87=1,BY87=0),\"#\",\"@\")))","v":"@"},{"$f":"IF(OR(U59=\"+\",U59=\"Y\",U59=2),1,IF(OR(U59=\"-\",U59=\"N\",U59=1),0,IF(OR(BZ87=1,BZ87=0),\"#\",\"@\")))","v":"@"},{"$f":"IF(OR(T59=\"+\",T59=\"Y\",T59=2),1,IF(OR(T59=\"-\",T59=\"N\",T59=1),0,IF(OR(CA87=1,CA87=0),\"#\",\"@\")))","v":"@"},{"$f":"IF(OR(S59=\"+\",S59=\"Y\",S59=2),1,IF(OR(S59=\"-\",S59=\"N\",S59=1),0,IF(OR(CB87=1,CB87=0),\"#\",\"@\")))","v":"@"},{"$f":"IF(OR(R59=\"+\",R59=\"Y\",R59=2),1,IF(OR(R59=\"-\",R59=\"N\",R59=1),0,IF(OR(CC87=1,CC87=0),\"#\",\"@\")))","v":"@"},{"$f":"IF(OR(Q59=\"+\",Q59=\"Y\",Q59=2),1,IF(OR(Q59=\"-\",Q59=\"N\",Q59=1),0,IF(OR(CD87=1,CD87=0),\"#\",\"@\")))","v":"@"},{"$f":"IF(OR(P59=\"+\",P59=\"Y\",P59=2),1,IF(OR(P59=\"-\",P59=\"N\",P59=1),0,IF(OR(CE87=1,CE87=0),\"#\",\"@\")))","v":"@"},{"$f":"IF(OR(O59=\"+\",O59=\"Y\",O59=2),1,IF(OR(O59=\"-\",O59=\"N\",O59=1),0,IF(OR(CF87=1,CF87=0),\"#\",\"@\")))","v":"@"},{"$f":"IF(OR(N59=\"+\",N59=\"Y\",N59=2),1,IF(OR(N59=\"-\",N59=\"N\",N59=1),0,IF(OR(CG87=1,CG87=0),\"#\",\"@\")))","v":"@"},{"$f":"IF(OR(M59=\"+\",M59=\"Y\",M59=2),1,IF(OR(M59=\"-\",M59=\"N\",M59=1),0,IF(OR(CH87=1,CH87=0),\"#\",\"@\")))","v":"@"},{"$f":"IF(OR(L59=\"+\",L59=\"Y\",L59=2),1,IF(OR(L59=\"-\",L59=\"N\",L59=1),0,IF(OR(CI87=1,CI87=0),\"#\",\"@\")))","v":"@"},{"$f":"IF(OR(K59=\"+\",K59=\"Y\",K59=2),1,IF(OR(K59=\"-\",K59=\"N\",K59=1),0,IF(OR(CJ87=1,CJ87=0),\"#\",\"@\")))","v":"@"},{"$f":"IF(OR(J59=\"+\",J59=\"Y\",J59=2),1,IF(OR(J59=\"-\",J59=\"N\",J59=1),0,IF(OR(CK87=1,CK87=0),\"#\",\"@\")))","v":"@"},{"$f":"IF(OR(I59=\"+\",I59=\"Y\",I59=2),1,IF(OR(I59=\"-\",I59=\"N\",I59=1),0,IF(OR(CL87=1,CL87=0),\"#\",\"@\")))","v":"@"},{"$f":"IF(OR(H59=\"+\",H59=\"Y\",H59=2),1,IF(OR(H59=\"-\",H59=\"N\",H59=1),0,IF(OR(CM87=1,CM87=0),\"#\",\"@\")))","v":"@"},{"$f":"IF(OR(G59=\"+\",G59=\"Y\",G59=2),1,IF(OR(G59=\"-\",G59=\"N\",G59=1),0,\"@\"))","v":"@"},{"$f":"'Month 8'!BL87","v":"@"},{"$f":"'Month 8'!BK87","v":"@"},{"$f":"'Month 8'!BJ87","v":"@"},{"$f":"'Month 8'!BI87","v":"@"},{"$f":"ADDRESS(ROW(BH87),(MATCH(\"#\",BI87:CM87,0)+61))","v":{"$error":"#N/A"}},{"$f":"ADDRESS(ROW(BH87),(MATCH(\"#\",BI87:CM87,0)+65))","v":{"$error":"#N/A"}},{"$f":"ADDRESS(ROW(BH87),(MATCH(\"#\",BI87:CM87,0)+64))","v":{"$error":"#N/A"}},{"$f":"ADDRESS(ROW(BH87),(MATCH(\"#\",BI87:CM87,0)+63))","v":{"$error":"#N/A"}},{"$f":"IF(ISNUMBER(SUM(COUNTIF(INDIRECT(CR87):INDIRECT(CS87),2),COUNTIF(INDIRECT(CR87):INDIRECT(CS87),1),COUNTIF(INDIRECT(CR87):INDIRECT(CS87),0))),SUM(COUNTIF(INDIRECT(CR87):INDIRECT(CS87),2),COUNTIF(INDIRECT(CR87):INDIRECT(CS87),1),COUNTIF(INDIRECT(CR87):INDIRECT(CS87),0)),\"\")","v":""},{"$f":"IF(ISNUMBER(SUM(COUNTIF(INDIRECT(CR87):INDIRECT(CT87),2),COUNTIF(INDIRECT(CR87):INDIRECT(CT87),1),COUNTIF(INDIRECT(CR87):INDIRECT(CT87),0))),SUM(COUNTIF(INDIRECT(CR87):INDIRECT(CT87),2),COUNTIF(INDIRECT(CR87):INDIRECT(CT87),1),COUNTIF(INDIRECT(CR87):INDIRECT(CT87),0)),\"\")","v":""},{"$f":"IF(ISNUMBER(SUM(COUNTIF(INDIRECT(CR87):INDIRECT(CU87),1),COUNTIF(INDIRECT(CR87):INDIRECT(CU87),0))),SUM(COUNTIF(INDIRECT(CR87):INDIRECT(CU87),1),COUNTIF(INDIRECT(CR87):INDIRECT(CU87),0)),\"\")","v":""},{"$f":"SUM(INDIRECT(CR87):INDIRECT(CS87))","v":{"$error":"#N/A"}},{"$f":"SUM(INDIRECT(CR87):INDIRECT(CT87))","v":{"$error":"#N/A"}},{"$f":"SUM(INDIRECT(CR87):INDIRECT(CU87))","v":{"$error":"#N/A"}}]
[null,null,null,null,null,null,null,null,null,null,null,null,null,null,null,null,null,null,null,null,null,null,null,null,null,null,null,null,null,null,null,null,null,null,null,null,null,null,null,null,null,null,null,null,null,null,null,null,null,null,null,null,null,null,null,null,null,null,null,0,"@","@","@","@","@","@","@","@","@","@","@","@","@","@","@","@","@","@","@","@","@","@","@","@","@","@","@","@","@","@","@",{"$f":"'Month 8'!BL88","v":"@"},{"$f":"'Month 8'!BK88","v":"@"},{"$f":"'Month 8'!BJ88","v":"@"},{"$f":"'Month 8'!BI88","v":"@"},{"$error":"#N/A"},{"$error":"#N/A"},{"$error":"#N/A"},{"$error":"#N/A"},{"$f":"IF(ISNUMBER(SUM(COUNTIF(INDIRECT(CR88):INDIRECT(CS88),2),COUNTIF(INDIRECT(CR88):INDIRECT(CS88),1),COUNTIF(INDIRECT(CR88):INDIRECT(CS88),0))),SUM(COUNTIF(INDIRECT(CR88):INDIRECT(CS88),2),COUNTIF(INDIRECT(CR88):INDIRECT(CS88),1),COUNTIF(INDIRECT(CR88):INDIRECT(CS88),0)),\"\")","v":""},{"$f":"IF(ISNUMBER(SUM(COUNTIF(INDIRECT(CR88):INDIRECT(CT88),2),COUNTIF(INDIRECT(CR88):INDIRECT(CT88),1),COUNTIF(INDIRECT(CR88):INDIRECT(CT88),0))),SUM(COUNTIF(INDIRECT(CR88):INDIRECT(CT88),2),COUNTIF(INDIRECT(CR88):INDIRECT(CT88),1),COUNTIF(INDIRECT(CR88):INDIRECT(CT88),0)),\"\")","v":""},{"$f":"IF(ISNUMBER(SUM(COUNTIF(INDIRECT(CR88):INDIRECT(CU88),1),COUNTIF(INDIRECT(CR88):INDIRECT(CU88),0))),SUM(COUNTIF(INDIRECT(CR88):INDIRECT(CU88),1),COUNTIF(INDIRECT(CR88):INDIRECT(CU88),0)),\"\")","v":""},{"$f":"SUM(INDIRECT(CR88):INDIRECT(CS88))","v":{"$error":"#N/A"}},{"$f":"SUM(INDIRECT(CR88):INDIRECT(CT88))","v":{"$error":"#N/A"}},{"$f":"SUM(INDIRECT(CR88):INDIRECT(CU88))","v":{"$error":"#N/A"}}]
[null,null,null,null,null,null,null,null,null,null,null,null,null,null,null,null,null,null,null,null,null,null,null,null,null,null,null,null,null,null,null,null,null,null,null,null,null,null,null,null,null,null,null,null,null,null,null,null,null,null,null,null,null,null,null,null,null,null,null,0,"@","@","@","@","@","@","@","@","@","@","@","@","@","@","@","@","@","@","@","@","@","@","@","@","@","@","@","@","@","@","@",{"$f":"'Month 8'!BL89","v":"@"},{"$f":"'Month 8'!BK89","v":"@"},{"$f":"'Month 8'!BJ89","v":"@"},{"$f":"'Month 8'!BI89","v":"@"},{"$error":"#N/A"},{"$error":"#N/A"},{"$error":"#N/A"},{"$error":"#N/A"},{"$f":"IF(ISNUMBER(SUM(COUNTIF(INDIRECT(CR89):INDIRECT(CS89),2),COUNTIF(INDIRECT(CR89):INDIRECT(CS89),1),COUNTIF(INDIRECT(CR89):INDIRECT(CS89),0))),SUM(COUNTIF(INDIRECT(CR89):INDIRECT(CS89),2),COUNTIF(INDIRECT(CR89):INDIRECT(CS89),1),COUNTIF(INDIRECT(CR89):INDIRECT(CS89),0)),\"\")","v":""},{"$f":"IF(ISNUMBER(SUM(COUNTIF(INDIRECT(CR89):INDIRECT(CT89),2),COUNTIF(INDIRECT(CR89):INDIRECT(CT89),1),COUNTIF(INDIRECT(CR89):INDIRECT(CT89),0))),SUM(COUNTIF(INDIRECT(CR89):INDIRECT(CT89),2),COUNTIF(INDIRECT(CR89):INDIRECT(CT89),1),COUNTIF(INDIRECT(CR89):INDIRECT(CT89),0)),\"\")","v":""},{"$f":"IF(ISNUMBER(SUM(COUNTIF(INDIRECT(CR89):INDIRECT(CU89),1),COUNTIF(INDIRECT(CR89):INDIRECT(CU89),0))),SUM(COUNTIF(INDIRECT(CR89):INDIRECT(CU89),1),COUNTIF(INDIRECT(CR89):INDIRECT(CU89),0)),\"\")","v":""},{"$f":"SUM(INDIRECT(CR89):INDIRECT(CS89))","v":{"$error":"#N/A"}},{"$f":"SUM(INDIRECT(CR89):INDIRECT(CT89))","v":{"$error":"#N/A"}},{"$f":"SUM(INDIRECT(CR89):INDIRECT(CU89))","v":{"$error":"#N/A"}}]
[null,null,null,null,null,null,null,null,null,null,null,null,null,null,null,null,null,null,null,null,null,null,null,null,null,null,null,null,null,null,null,null,null,null,null,null,null,null,null,null,null,null,null,null,null,null,null,null,null,null,null,null,null,null,null,null,null,null,null,0,"@","@","@","@","@","@","@","@","@","@","@","@","@","@","@","@","@","@","@","@","@","@","@","@","@","@","@","@","@","@","@",{"$f":"'Month 8'!BL90","v":"@"},{"$f":"'Month 8'!BK90","v":"@"},{"$f":"'Month 8'!BJ90","v":"@"},{"$f":"'Month 8'!BI90","v":"@"},{"$error":"#N/A"},{"$error":"#N/A"},{"$error":"#N/A"},{"$error":"#N/A"},{"$f":"IF(ISNUMBER(SUM(COUNTIF(INDIRECT(CR90):INDIRECT(CS90),2),COUNTIF(INDIRECT(CR90):INDIRECT(CS90),1),COUNTIF(INDIRECT(CR90):INDIRECT(CS90),0))),SUM(COUNTIF(INDIRECT(CR90):INDIRECT(CS90),2),COUNTIF(INDIRECT(CR90):INDIRECT(CS90),1),COUNTIF(INDIRECT(CR90):INDIRECT(CS90),0)),\"\")","v":""},{"$f":"IF(ISNUMBER(SUM(COUNTIF(INDIRECT(CR90):INDIRECT(CT90),2),COUNTIF(INDIRECT(CR90):INDIRECT(CT90),1),COUNTIF(INDIRECT(CR90):INDIRECT(CT90),0))),SUM(COUNTIF(INDIRECT(CR90):INDIRECT(CT90),2),COUNTIF(INDIRECT(CR90):INDIRECT(CT90),1),COUNTIF(INDIRECT(CR90):INDIRECT(CT90),0)),\"\")","v":""},{"$f":"IF(ISNUMBER(SUM(COUNTIF(INDIRECT(CR90):INDIRECT(CU90),1),COUNTIF(INDIRECT(CR90):INDIRECT(CU90),0))),SUM(COUNTIF(INDIRECT(CR90):INDIRECT(CU90),1),COUNTIF(INDIRECT(CR90):INDIRECT(CU90),0)),\"\")","v":""},{"$f":"SUM(INDIRECT(CR90):INDIRECT(CS90))","v":{"$error":"#N/A"}},{"$f":"SUM(INDIRECT(CR90):INDIRECT(CT90))","v":{"$error":"#N/A"}},{"$f":"SUM(INDIRECT(CR90):INDIRECT(CU90))","v":{"$error":"#N/A"}}]
[null,null,null,null,null,null,null,null,null,null,null,null,null,null,null,null,null,null,null,null,null,null,null,null,null,null,null,null,null,null,null,null,null,null,null,null,null,null,null,null,null,null,null,null,null,null,null,null,null,null,null,null,null,null,null,null,null,null,null,0,"@","@","@","@","@","@","@","@","@","@","@","@","@","@","@","@","@","@","@","@","@","@","@","@","@","@","@","@","@","@","@",{"$f":"'Month 8'!BL91","v":"@"},{"$f":"'Month 8'!BK91","v":"@"},{"$f":"'Month 8'!BJ91","v":"@"},{"$f":"'Month 8'!BI91","v":"@"},{"$error":"#N/A"},{"$error":"#N/A"},{"$error":"#N/A"},{"$error":"#N/A"},{"$f":"IF(ISNUMBER(SUM(COUNTIF(INDIRECT(CR91):INDIRECT(CS91),2),COUNTIF(INDIRECT(CR91):INDIRECT(CS91),1),COUNTIF(INDIRECT(CR91):INDIRECT(CS91),0))),SUM(COUNTIF(INDIRECT(CR91):INDIRECT(CS91),2),COUNTIF(INDIRECT(CR91):INDIRECT(CS91),1),COUNTIF(INDIRECT(CR91):INDIRECT(CS91),0)),\"\")","v":""},{"$f":"IF(ISNUMBER(SUM(COUNTIF(INDIRECT(CR91):INDIRECT(CT91),2),COUNTIF(INDIRECT(CR91):INDIRECT(CT91),1),COUNTIF(INDIRECT(CR91):INDIRECT(CT91),0))),SUM(COUNTIF(INDIRECT(CR91):INDIRECT(CT91),2),COUNTIF(INDIRECT(CR91):INDIRECT(CT91),1),COUNTIF(INDIRECT(CR91):INDIRECT(CT91),0)),\"\")","v":""},{"$f":"IF(ISNUMBER(SUM(COUNTIF(INDIRECT(CR91):INDIRECT(CU91),1),COUNTIF(INDIRECT(CR91):INDIRECT(CU91),0))),SUM(COUNTIF(INDIRECT(CR91):INDIRECT(CU91),1),COUNTIF(INDIRECT(CR91):INDIRECT(CU91),0)),\"\")","v":""},{"$f":"SUM(INDIRECT(CR91):INDIRECT(CS91))","v":{"$error":"#N/A"}},{"$f":"SUM(INDIRECT(CR91):INDIRECT(CT91))","v":{"$error":"#N/A"}},{"$f":"SUM(INDIRECT(CR91):INDIRECT(CU91))","v":{"$error":"#N/A"}}]
[null,null,null,null,null,null,null,null,null,null,null,null,null,null,null,null,null,null,null,null,null,null,null,null,null,null,null,null,null,null,null,null,null,null,null,null,null,null,null,null,null,null,null,null,null,null,null,null,null,null,null,null,null,null,null,null,null,null,null,0,"@","@","@","@","@","@","@","@","@","@","@","@","@","@","@","@","@","@","@","@","@","@","@","@","@","@","@","@","@","@","@",{"$f":"'Month 8'!BL92","v":"@"},{"$f":"'Month 8'!BK92","v":"@"},{"$f":"'Month 8'!BJ92","v":"@"},{"$f":"'Month 8'!BI92","v":"@"},{"$error":"#N/A"},{"$error":"#N/A"},{"$error":"#N/A"},{"$error":"#N/A"},{"$f":"IF(ISNUMBER(SUM(COUNTIF(INDIRECT(CR92):INDIRECT(CS92),2),COUNTIF(INDIRECT(CR92):INDIRECT(CS92),1),COUNTIF(INDIRECT(CR92):INDIRECT(CS92),0))),SUM(COUNTIF(INDIRECT(CR92):INDIRECT(CS92),2),COUNTIF(INDIRECT(CR92):INDIRECT(CS92),1),COUNTIF(INDIRECT(CR92):INDIRECT(CS92),0)),\"\")","v":""},{"$f":"IF(ISNUMBER(SUM(COUNTIF(INDIRECT(CR92):INDIRECT(CT92),2),COUNTIF(INDIRECT(CR92):INDIRECT(CT92),1),COUNTIF(INDIRECT(CR92):INDIRECT(CT92),0))),SUM(COUNTIF(INDIRECT(CR92):INDIRECT(CT92),2),COUNTIF(INDIRECT(CR92):INDIRECT(CT92),1),COUNTIF(INDIRECT(CR92):INDIRECT(CT92),0)),\"\")","v":""},{"$f":"IF(ISNUMBER(SUM(COUNTIF(INDIRECT(CR92):INDIRECT(CU92),1),COUNTIF(INDIRECT(CR92):INDIRECT(CU92),0))),SUM(COUNTIF(INDIRECT(CR92):INDIRECT(CU92),1),COUNTIF(INDIRECT(CR92):INDIRECT(CU92),0)),\"\")","v":""},{"$f":"SUM(INDIRECT(CR92):INDIRECT(CS92))","v":{"$error":"#N/A"}},{"$f":"SUM(INDIRECT(CR92):INDIRECT(CT92))","v":{"$error":"#N/A"}},{"$f":"SUM(INDIRECT(CR92):INDIRECT(CU92))","v":{"$error":"#N/A"}}]
[null,null,null,null,null,null,null,null,null,null,null,null,null,null,null,null,null,null,null,null,null,null,null,null,null,null,null,null,null,null,null,null,null,null,null,null,null,null,null,null,null,null,null,null,null,null,null,null,null,null,null,null,null,null,null,null,null,null,null,0,"@","@","@","@","@","@","@","@","@","@","@","@","@","@","@","@","@","@","@","@","@","@","@","@","@","@","@","@","@","@","@",{"$f":"'Month 8'!BL93","v":"@"},{"$f":"'Month 8'!BK93","v":"@"},{"$f":"'Month 8'!BJ93","v":"@"},{"$f":"'Month 8'!BI93","v":"@"},{"$error":"#N/A"},{"$error":"#N/A"},{"$error":"#N/A"},{"$error":"#N/A"},{"$f":"IF(ISNUMBER(SUM(COUNTIF(INDIRECT(CR93):INDIRECT(CS93),2),COUNTIF(INDIRECT(CR93):INDIRECT(CS93),1),COUNTIF(INDIRECT(CR93):INDIRECT(CS93),0))),SUM(COUNTIF(INDIRECT(CR93):INDIRECT(CS93),2),COUNTIF(INDIRECT(CR93):INDIRECT(CS93),1),COUNTIF(INDIRECT(CR93):INDIRECT(CS93),0)),\"\")","v":""},{"$f":"IF(ISNUMBER(SUM(COUNTIF(INDIRECT(CR93):INDIRECT(CT93),2),COUNTIF(INDIRECT(CR93):INDIRECT(CT93),1),COUNTIF(INDIRECT(CR93):INDIRECT(CT93),0))),SUM(COUNTIF(INDIRECT(CR93):INDIRECT(CT93),2),COUNTIF(INDIRECT(CR93):INDIRECT(CT93),1),COUNTIF(INDIRECT(CR93):INDIRECT(CT93),0)),\"\")","v":""},{"$f":"IF(ISNUMBER(SUM(COUNTIF(INDIRECT(CR93):INDIRECT(CU93),1),COUNTIF(INDIRECT(CR93):INDIRECT(CU93),0))),SUM(COUNTIF(INDIRECT(CR93):INDIRECT(CU93),1),COUNTIF(INDIRECT(CR93):INDIRECT(CU93),0)),\"\")","v":""},{"$f":"SUM(INDIRECT(CR93):INDIRECT(CS93))","v":{"$error":"#N/A"}},{"$f":"SUM(INDIRECT(CR93):INDIRECT(CT93))","v":{"$error":"#N/A"}},{"$f":"SUM(INDIRECT(CR93):INDIRECT(CU93))","v":{"$error":"#N/A"}}]
[null,null,null,null,null,null,null,null,null,null,null,null,null,null,null,null,null,null,null,null,null,null,null,null,null,null,null,null,null,null,null,null,null,null,null,null,null,null,null,null,null,null,null,null,null,null,null,null,null,null,null,null,null,null,null,null,null,null,null,0,"@","@","@","@","@","@","@","@","@","@","@","@","@","@","@","@","@","@","@","@","@","@","@","@","@","@","@","@","@","@","@",{"$f":"'Month 8'!BL94","v":"@"},{"$f":"'Month 8'!BK94","v":"@"},{"$f":"'Month 8'!BJ94","v":"@"},{"$f":"'Month 8'!BI94","v":"@"},{"$error":"#N/A"},{"$error":"#N/A"},{"$error":"#N/A"},{"$error":"#N/A"},{"$f":"IF(ISNUMBER(SUM(COUNTIF(INDIRECT(CR94):INDIRECT(CS94),2),COUNTIF(INDIRECT(CR94):INDIRECT(CS94),1),COUNTIF(INDIRECT(CR94):INDIRECT(CS94),0))),SUM(COUNTIF(INDIRECT(CR94):INDIRECT(CS94),2),COUNTIF(INDIRECT(CR94):INDIRECT(CS94),1),COUNTIF(INDIRECT(CR94):INDIRECT(CS94),0)),\"\")","v":""},{"$f":"IF(ISNUMBER(SUM(COUNTIF(INDIRECT(CR94):INDIRECT(CT94),2),COUNTIF(INDIRECT(CR94):INDIRECT(CT94),1),COUNTIF(INDIRECT(CR94):INDIRECT(CT94),0))),SUM(COUNTIF(INDIRECT(CR94):INDIRECT(CT94),2),COUNTIF(INDIRECT(CR94):INDIRECT(CT94),1),COUNTIF(INDIRECT(CR94):INDIRECT(CT94),0)),\"\")","v":""},{"$f":"IF(ISNUMBER(SUM(COUNTIF(INDIRECT(CR94):INDIRECT(CU94),1),COUNTIF(INDIRECT(CR94):INDIRECT(CU94),0))),SUM(COUNTIF(INDIRECT(CR94):INDIRECT(CU94),1),COUNTIF(INDIRECT(CR94):INDIRECT(CU94),0)),\"\")","v":""},{"$f":"SUM(INDIRECT(CR94):INDIRECT(CS94))","v":{"$error":"#N/A"}},{"$f":"SUM(INDIRECT(CR94):INDIRECT(CT94))","v":{"$error":"#N/A"}},{"$f":"SUM(INDIRECT(CR94):INDIRECT(CU94))","v":{"$error":"#N/A"}}]
[null,null,null,null,null,null,null,null,null,null,null,null,null,null,null,null,null,null,null,null,null,null,null,null,null,null,null,null,null,null,null,null,null,null,null,null,null,null,null,null,null,null,null,null,null,null,null,null,null,null,null,null,null,null,null,null,null,null,null,0,"@","@","@","@","@","@","@","@","@","@","@","@","@","@","@","@","@","@","@","@","@","@","@","@","@","@","@","@","@","@","@",{"$f":"'Month 8'!BL95","v":"@"},{"$f":"'Month 8'!BK95","v":"@"},{"$f":"'Month 8'!BJ95","v":"@"},{"$f":"'Month 8'!BI95","v":"@"},{"$error":"#N/A"},{"$error":"#N/A"},{"$error":"#N/A"},{"$error":"#N/A"},{"$f":"IF(ISNUMBER(SUM(COUNTIF(INDIRECT(CR95):INDIRECT(CS95),2),COUNTIF(INDIRECT(CR95):INDIRECT(CS95),1),COUNTIF(INDIRECT(CR95):INDIRECT(CS95),0))),SUM(COUNTIF(INDIRECT(CR95):INDIRECT(CS95),2),COUNTIF(INDIRECT(CR95):INDIRECT(CS95),1),COUNTIF(INDIRECT(CR95):INDIRECT(CS95),0)),\"\")","v":""},{"$f":"IF(ISNUMBER(SUM(COUNTIF(INDIRECT(CR95):INDIRECT(CT95),2),COUNTIF(INDIRECT(CR95):INDIRECT(CT95),1),COUNTIF(INDIRECT(CR95):INDIRECT(CT95),0))),SUM(COUNTIF(INDIRECT(CR95):INDIRECT(CT95),2),COUNTIF(INDIRECT(CR95):INDIRECT(CT95),1),COUNTIF(INDIRECT(CR95):INDIRECT(CT95),0)),\"\")","v":""},{"$f":"IF(ISNUMBER(SUM(COUNTIF(INDIRECT(CR95):INDIRECT(CU95),1),COUNTIF(INDIRECT(CR95):INDIRECT(CU95),0))),SUM(COUNTIF(INDIRECT(CR95):INDIRECT(CU95),1),COUNTIF(INDIRECT(CR95):INDIRECT(CU95),0)),\"\")","v":""},{"$f":"SUM(INDIRECT(CR95):INDIRECT(CS95))","v":{"$error":"#N/A"}},{"$f":"SUM(INDIRECT(CR95):INDIRECT(CT95))","v":{"$error":"#N/A"}},{"$f":"SUM(INDIRECT(CR95):INDIRECT(CU95))","v":{"$error":"#N/A"}}]
[null,null,null,null,null,null,null,null,null,null,null,null,null,null,null,null,null,null,null,null,null,null,null,null,null,null,null,null,null,null,null,null,null,null,null,null,null,null,null,null,null,null,null,null,null,null,null,null,null,null,null,null,null,null,null,null,null,null,null,0,"@","@","@","@","@","@","@","@","@","@","@","@","@","@","@","@","@","@","@","@","@","@","@","@","@","@","@","@","@","@","@",{"$f":"'Month 8'!BL96","v":"@"},{"$f":"'Month 8'!BK96","v":"@"},{"$f":"'Month 8'!BJ96","v":"@"},{"$f":"'Month 8'!BI96","v":"@"},{"$error":"#N/A"},{"$error":"#N/A"},{"$error":"#N/A"},{"$error":"#N/A"},{"$f":"IF(ISNUMBER(SUM(COUNTIF(INDIRECT(CR96):INDIRECT(CS96),2),COUNTIF(INDIRECT(CR96):INDIRECT(CS96),1),COUNTIF(INDIRECT(CR96):INDIRECT(CS96),0))),SUM(COUNTIF(INDIRECT(CR96):INDIRECT(CS96),2),COUNTIF(INDIRECT(CR96):INDIRECT(CS96),1),COUNTIF(INDIRECT(CR96):INDIRECT(CS96),0)),\"\")","v":""},{"$f":"IF(ISNUMBER(SUM(COUNTIF(INDIRECT(CR96):INDIRECT(CT96),2),COUNTIF(INDIRECT(CR96):INDIRECT(CT96),1),COUNTIF(INDIRECT(CR96):INDIRECT(CT96),0))),SUM(COUNTIF(INDIRECT(CR96):INDIRECT(CT96),2),COUNTIF(INDIRECT(CR96):INDIRECT(CT96),1),COUNTIF(INDIRECT(CR96):INDIRECT(CT96),0)),\"\")","v":""},{"$f":"IF(ISNUMBER(SUM(COUNTIF(INDIRECT(CR96):INDIRECT(CU96),1),COUNTIF(INDIRECT(CR96):INDIRECT(CU96),0))),SUM(COUNTIF(INDIRECT(CR96):INDIRECT(CU96),1),COUNTIF(INDIRECT(CR96):INDIRECT(CU96),0)),\"\")","v":""},{"$f":"SUM(INDIRECT(CR96):INDIRECT(CS96))","v":{"$error":"#N/A"}},{"$f":"SUM(INDIRECT(CR96):INDIRECT(CT96))","v":{"$error":"#N/A"}},{"$f":"SUM(INDIRECT(CR96):INDIRECT(CU96))","v":{"$error":"#N/A"}}]
[null,null,null,null,null,null,null,null,null,null,null,null,null,null,null,null,null,null,null,null,null,null,null,null,null,null,null,null,null,null,null,null,null,null,null,null,null,null,null,null,null,null,null,null,null,null,null,null,null,null,null,null,null,null,null,null,null,null,null,0,"@","@","@","@","@","@","@","@","@","@","@","@","@","@","@","@","@","@","@","@","@","@","@","@","@","@","@","@","@","@","@",{"$f":"'Month 8'!BL97","v":"@"},{"$f":"'Month 8'!BK97","v":"@"},{"$f":"'Month 8'!BJ97","v":"@"},{"$f":"'Month 8'!BI97","v":"@"},{"$error":"#N/A"},{"$error":"#N/A"},{"$error":"#N/A"},{"$error":"#N/A"},{"$f":"IF(ISNUMBER(SUM(COUNTIF(INDIRECT(CR97):INDIRECT(CS97),2),COUNTIF(INDIRECT(CR97):INDIRECT(CS97),1),COUNTIF(INDIRECT(CR97):INDIRECT(CS97),0))),SUM(COUNTIF(INDIRECT(CR97):INDIRECT(CS97),2),COUNTIF(INDIRECT(CR97):INDIRECT(CS97),1),COUNTIF(INDIRECT(CR97):INDIRECT(CS97),0)),\"\")","v":""},{"$f":"IF(ISNUMBER(SUM(COUNTIF(INDIRECT(CR97):INDIRECT(CT97),2),COUNTIF(INDIRECT(CR97):INDIRECT(CT97),1),COUNTIF(INDIRECT(CR97):INDIRECT(CT97),0))),SUM(COUNTIF(INDIRECT(CR97):INDIRECT(CT97),2),COUNTIF(INDIRECT(CR97):INDIRECT(CT97),1),COUNTIF(INDIRECT(CR97):INDIRECT(CT97),0)),\"\")","v":""},{"$f":"IF(ISNUMBER(SUM(COUNTIF(INDIRECT(CR97):INDIRECT(CU97),1),COUNTIF(INDIRECT(CR97):INDIRECT(CU97),0))),SUM(COUNTIF(INDIRECT(CR97):INDIRECT(CU97),1),COUNTIF(INDIRECT(CR97):INDIRECT(CU97),0)),\"\")","v":""},{"$f":"SUM(INDIRECT(CR97):INDIRECT(CS97))","v":{"$error":"#N/A"}},{"$f":"SUM(INDIRECT(CR97):INDIRECT(CT97))","v":{"$error":"#N/A"}},{"$f":"SUM(INDIRECT(CR97):INDIRECT(CU97))","v":{"$error":"#N/A"}}]
[null,null,null,null,null,null,null,null,null,null,null,null,null,null,null,null,null,null,null,null,null,null,null,null,null,null,null,null,null,null,null,null,null,null,null,null,null,null,null,null,null,null,null,null,null,null,null,null,null,null,null,null,null,null,null,null,null,null,null,0,"@","@","@","@","@","@","@","@","@","@","@","@","@","@","@","@","@","@","@","@","@","@","@","@","@","@","@","@","@","@","@",{"$f":"'Month 8'!BL98","v":"@"},{"$f":"'Month 8'!BK98","v":"@"},{"$f":"'Month 8'!BJ98","v":"@"},{"$f":"'Month 8'!BI98","v":"@"},{"$error":"#N/A"},{"$error":"#N/A"},{"$error":"#N/A"},{"$error":"#N/A"},{"$f":"IF(ISNUMBER(SUM(COUNTIF(INDIRECT(CR98):INDIRECT(CS98),2),COUNTIF(INDIRECT(CR98):INDIRECT(CS98),1),COUNTIF(INDIRECT(CR98):INDIRECT(CS98),0))),SUM(COUNTIF(INDIRECT(CR98):INDIRECT(CS98),2),COUNTIF(INDIRECT(CR98):INDIRECT(CS98),1),COUNTIF(INDIRECT(CR98):INDIRECT(CS98),0)),\"\")","v":""},{"$f":"IF(ISNUMBER(SUM(COUNTIF(INDIRECT(CR98):INDIRECT(CT98),2),COUNTIF(INDIRECT(CR98):INDIRECT(CT98),1),COUNTIF(INDIRECT(CR98):INDIRECT(CT98),0))),SUM(COUNTIF(INDIRECT(CR98):INDIRECT(CT98),2),COUNTIF(INDIRECT(CR98):INDIRECT(CT98),1),COUNTIF(INDIRECT(CR98):INDIRECT(CT98),0)),\"\")","v":""},{"$f":"IF(ISNUMBER(SUM(COUNTIF(INDIRECT(CR98):INDIRECT(CU98),1),COUNTIF(INDIRECT(CR98):INDIRECT(CU98),0))),SUM(COUNTIF(INDIRECT(CR98):INDIRECT(CU98),1),COUNTIF(INDIRECT(CR98):INDIRECT(CU98),0)),\"\")","v":""},{"$f":"SUM(INDIRECT(CR98):INDIRECT(CS98))","v":{"$error":"#N/A"}},{"$f":"SUM(INDIRECT(CR98):INDIRECT(CT98))","v":{"$error":"#N/A"}},{"$f":"SUM(INDIRECT(CR98):INDIRECT(CU98))","v":{"$error":"#N/A"}}]
[null,null,null,null,null,null,null,null,null,null,null,null,null,null,null,null,null,null,null,null,null,null,null,null,null,null,null,null,null,null,null,null,null,null,null,null,null,null,null,null,null,null,null,null,null,null,null,null,null,null,null,null,null,null,null,null,null,null,null,0,"@","@","@","@","@","@","@","@","@","@","@","@","@","@","@","@","@","@","@","@","@","@","@","@","@","@","@","@","@","@","@",{"$f":"'Month 8'!BL99","v":"@"},{"$f":"'Month 8'!BK99","v":"@"},{"$f":"'Month 8'!BJ99","v":"@"},{"$f":"'Month 8'!BI99","v":"@"},{"$error":"#N/A"},{"$error":"#N/A"},{"$error":"#N/A"},{"$error":"#N/A"},{"$f":"IF(ISNUMBER(SUM(COUNTIF(INDIRECT(CR99):INDIRECT(CS99),2),COUNTIF(INDIRECT(CR99):INDIRECT(CS99),1),COUNTIF(INDIRECT(CR99):INDIRECT(CS99),0))),SUM(COUNTIF(INDIRECT(CR99):INDIRECT(CS99),2),COUNTIF(INDIRECT(CR99):INDIRECT(CS99),1),COUNTIF(INDIRECT(CR99):INDIRECT(CS99),0)),\"\")","v":""},{"$f":"IF(ISNUMBER(SUM(COUNTIF(INDIRECT(CR99):INDIRECT(CT99),2),COUNTIF(INDIRECT(CR99):INDIRECT(CT99),1),COUNTIF(INDIRECT(CR99):INDIRECT(CT99),0))),SUM(COUNTIF(INDIRECT(CR99):INDIRECT(CT99),2),COUNTIF(INDIRECT(CR99):INDIRECT(CT99),1),COUNTIF(INDIRECT(CR99):INDIRECT(CT99),0)),\"\")","v":""},{"$f":"IF(ISNUMBER(SUM(COUNTIF(INDIRECT(CR99):INDIRECT(CU99),1),COUNTIF(INDIRECT(CR99):INDIRECT(CU99),0))),SUM(COUNTIF(INDIRECT(CR99):INDIRECT(CU99),1),COUNTIF(INDIRECT(CR99):INDIRECT(CU99),0)),\"\")","v":""},{"$f":"SUM(INDIRECT(CR99):INDIRECT(CS99))","v":{"$error":"#N/A"}},{"$f":"SUM(INDIRECT(CR99):INDIRECT(CT99))","v":{"$error":"#N/A"}},{"$f":"SUM(INDIRECT(CR99):INDIRECT(CU99))","v":{"$error":"#N/A"}}]
[null,null,null,null,null,null,null,null,null,null,null,null,null,null,null,null,null,null,null,null,null,null,null,null,null,null,null,null,null,null,null,null,null,null,null,null,null,null,null,null,null,null,null,null,null,null,null,null,null,null,null,null,null,null,null,null,null,null,null,0,"@","@","@","@","@","@","@","@","@","@","@","@","@","@","@","@","@","@","@","@","@","@","@","@","@","@","@","@","@","@","@",{"$f":"'Month 8'!BL100","v":"@"},{"$f":"'Month 8'!BK100","v":"@"},{"$f":"'Month 8'!BJ100","v":"@"},{"$f":"'Month 8'!BI100","v":"@"},{"$error":"#N/A"},{"$error":"#N/A"},{"$error":"#N/A"},{"$error":"#N/A"},{"$f":"IF(ISNUMBER(SUM(COUNTIF(INDIRECT(CR100):INDIRECT(CS100),2),COUNTIF(INDIRECT(CR100):INDIRECT(CS100),1),COUNTIF(INDIRECT(CR100):INDIRECT(CS100),0))),SUM(COUNTIF(INDIRECT(CR100):INDIRECT(CS100),2),COUNTIF(INDIRECT(CR100):INDIRECT(CS100),1),COUNTIF(INDIRECT(CR100):INDIRECT(CS100),0)),\"\")","v":""},{"$f":"IF(ISNUMBER(SUM(COUNTIF(INDIRECT(CR100):INDIRECT(CT100),2),COUNTIF(INDIRECT(CR100):INDIRECT(CT100),1),COUNTIF(INDIRECT(CR100):INDIRECT(CT100),0))),SUM(COUNTIF(INDIRECT(CR100):INDIRECT(CT100),2),COUNTIF(INDIRECT(CR100):INDIRECT(CT100),1),COUNTIF(INDIRECT(CR100):INDIRECT(CT100),0)),\"\")","v":""},{"$f":"IF(ISNUMBER(SUM(COUNTIF(INDIRECT(CR100):INDIRECT(CU100),1),COUNTIF(INDIRECT(CR100):INDIRECT(CU100),0))),SUM(COUNTIF(INDIRECT(CR100):INDIRECT(CU100),1),COUNTIF(INDIRECT(CR100):INDIRECT(CU100),0)),\"\")","v":""},{"$f":"SUM(INDIRECT(CR100):INDIRECT(CS100))","v":{"$error":"#N/A"}},{"$f":"SUM(INDIRECT(CR100):INDIRECT(CT100))","v":{"$error":"#N/A"}},{"$f":"SUM(INDIRECT(CR100):INDIRECT(CU100))","v":{"$error":"#N/A"}}]
[null,null,null,null,null,null,null,null,null,null,null,null,null,null,null,null,null,null,null,null,null,null,null,null,null,null,null,null,null,null,null,null,null,null,null,null,null,null,null,null,null,null,null,null,null,null,null,null,null,null,null,null,null,null,null,null,null,null,null,0,"@","@","@","@","@","@","@","@","@","@","@","@","@","@","@","@","@","@","@","@","@","@","@","@","@","@","@","@","@","@","@",{"$f":"'Month 8'!BL101","v":"@"},{"$f":"'Month 8'!BK101","v":"@"},{"$f":"'Month 8'!BJ101","v":"@"},{"$f":"'Month 8'!BI101","v":"@"},{"$error":"#N/A"},{"$error":"#N/A"},{"$error":"#N/A"},{"$error":"#N/A"},{"$f":"IF(ISNUMBER(SUM(COUNTIF(INDIRECT(CR101):INDIRECT(CS101),2),COUNTIF(INDIRECT(CR101):INDIRECT(CS101),1),COUNTIF(INDIRECT(CR101):INDIRECT(CS101),0))),SUM(COUNTIF(INDIRECT(CR101):INDIRECT(CS101),2),COUNTIF(INDIRECT(CR101):INDIRECT(CS101),1),COUNTIF(INDIRECT(CR101):INDIRECT(CS101),0)),\"\")","v":""},{"$f":"IF(ISNUMBER(SUM(COUNTIF(INDIRECT(CR101):INDIRECT(CT101),2),COUNTIF(INDIRECT(CR101):INDIRECT(CT101),1),COUNTIF(INDIRECT(CR101):INDIRECT(CT101),0))),SUM(COUNTIF(INDIRECT(CR101):INDIRECT(CT101),2),COUNTIF(INDIRECT(CR101):INDIRECT(CT101),1),COUNTIF(INDIRECT(CR101):INDIRECT(CT101),0)),\"\")","v":""},{"$f":"IF(ISNUMBER(SUM(COUNTIF(INDIRECT(CR101):INDIRECT(CU101),1),COUNTIF(INDIRECT(CR101):INDIRECT(CU101),0))),SUM(COUNTIF(INDIRECT(CR101):INDIRECT(CU101),1),COUNTIF(INDIRECT(CR101):INDIRECT(CU101),0)),\"\")","v":""},{"$f":"SUM(INDIRECT(CR101):INDIRECT(CS101))","v":{"$error":"#N/A"}},{"$f":"SUM(INDIRECT(CR101):INDIRECT(CT101))","v":{"$error":"#N/A"}},{"$f":"SUM(INDIRECT(CR101):INDIRECT(CU101))","v":{"$error":"#N/A"}}]
[null,null,null,null,null,null,null,null,null,null,null,null,null,null,null,null,null,null,null,null,null,null,null,null,null,null,null,null,null,null,null,null,null,null,null,null,null,null,null,null,null,null,null,null,null,null,null,null,null,null,null,null,null,null,null,null,null,null,null,0,"@","@","@","@","@","@","@","@","@","@","@","@","@","@","@","@","@","@","@","@","@","@","@","@","@","@","@","@","@","@","@",{"$f":"'Month 8'!BL102","v":"@"},{"$f":"'Month 8'!BK102","v":"@"},{"$f":"'Month 8'!BJ102","v":"@"},{"$f":"'Month 8'!BI102","v":"@"},{"$error":"#N/A"},{"$error":"#N/A"},{"$error":"#N/A"},{"$error":"#N/A"},{"$f":"IF(ISNUMBER(SUM(COUNTIF(INDIRECT(CR102):INDIRECT(CS102),2),COUNTIF(INDIRECT(CR102):INDIRECT(CS102),1),COUNTIF(INDIRECT(CR102):INDIRECT(CS102),0))),SUM(COUNTIF(INDIRECT(CR102):INDIRECT(CS102),2),COUNTIF(INDIRECT(CR102):INDIRECT(CS102),1),COUNTIF(INDIRECT(CR102):INDIRECT(CS102),0)),\"\")","v":""},{"$f":"IF(ISNUMBER(SUM(COUNTIF(INDIRECT(CR102):INDIRECT(CT102),2),COUNTIF(INDIRECT(CR102):INDIRECT(CT102),1),COUNTIF(INDIRECT(CR102):INDIRECT(CT102),0))),SUM(COUNTIF(INDIRECT(CR102):INDIRECT(CT102),2),COUNTIF(INDIRECT(CR102):INDIRECT(CT102),1),COUNTIF(INDIRECT(CR102):INDIRECT(CT102),0)),\"\")","v":""},{"$f":"IF(ISNUMBER(SUM(COUNTIF(INDIRECT(CR102):INDIRECT(CU102),1),COUNTIF(INDIRECT(CR102):INDIRECT(CU102),0))),SUM(COUNTIF(INDIRECT(CR102):INDIRECT(CU102),1),COUNTIF(INDIRECT(CR102):INDIRECT(CU102),0)),\"\")","v":""},{"$f":"SUM(INDIRECT(CR102):INDIRECT(CS102))","v":{"$error":"#N/A"}},{"$f":"SUM(INDIRECT(CR102):INDIRECT(CT102))","v":{"$error":"#N/A"}},{"$f":"SUM(INDIRECT(CR102):INDIRECT(CU102))","v":{"$error":"#N/A"}}]
[null,null,null,null,null,null,null,null,null,null,null,null,null,null,null,null,null,null,null,null,null,null,null,null,null,null,null,null,null,null,null,null,null,null,null,null,null,null,null,null,null,null,null,null,null,null,null,null,null,null,null,null,null,null,null,null,null,null,null,0,"@","@","@","@","@","@","@","@","@","@","@","@","@","@","@","@","@","@","@","@","@","@","@","@","@","@","@","@","@","@","@",{"$f":"'Month 8'!BL103","v":"@"},{"$f":"'Month 8'!BK103","v":"@"},{"$f":"'Month 8'!BJ103","v":"@"},{"$f":"'Month 8'!BI103","v":"@"},{"$error":"#N/A"},{"$error":"#N/A"},{"$error":"#N/A"},{"$error":"#N/A"},{"$f":"IF(ISNUMBER(SUM(COUNTIF(INDIRECT(CR103):INDIRECT(CS103),2),COUNTIF(INDIRECT(CR103):INDIRECT(CS103),1),COUNTIF(INDIRECT(CR103):INDIRECT(CS103),0))),SUM(COUNTIF(INDIRECT(CR103):INDIRECT(CS103),2),COUNTIF(INDIRECT(CR103):INDIRECT(CS103),1),COUNTIF(INDIRECT(CR103):INDIRECT(CS103),0)),\"\")","v":""},{"$f":"IF(ISNUMBER(SUM(COUNTIF(INDIRECT(CR103):INDIRECT(CT103),2),COUNTIF(INDIRECT(CR103):INDIRECT(CT103),1),COUNTIF(INDIRECT(CR103):INDIRECT(CT103),0))),SUM(COUNTIF(INDIRECT(CR103):INDIRECT(CT103),2),COUNTIF(INDIRECT(CR103):INDIRECT(CT103),1),COUNTIF(INDIRECT(CR103):INDIRECT(CT103),0)),\"\")","v":""},{"$f":"IF(ISNUMBER(SUM(COUNTIF(INDIRECT(CR103):INDIRECT(CU103),1),COUNTIF(INDIRECT(CR103):INDIRECT(CU103),0))),SUM(COUNTIF(INDIRECT(CR103):INDIRECT(CU103),1),COUNTIF(INDIRECT(CR103):INDIRECT(CU103),0)),\"\")","v":""},{"$f":"SUM(INDIRECT(CR103):INDIRECT(CS103))","v":{"$error":"#N/A"}},{"$f":"SUM(INDIRECT(CR103):INDIRECT(CT103))","v":{"$error":"#N/A"}},{"$f":"SUM(INDIRECT(CR103):INDIRECT(CU103))","v":{"$error":"#N/A"}}]
[null,null,null,null,null,null,null,null,null,null,null,null,null,null,null,null,null,null,null,null,null,null,null,null,null,null,null,null,null,null,null,null,null,null,null,null,null,null,null,null,null,null,null,null,null,null,null,null,null,null,null,null,null,null,null,null,null,null,null,0,"@","@","@","@","@","@","@","@","@","@","@","@","@","@","@","@","@","@","@","@","@","@","@","@","@","@","@","@","@","@","@",{"$f":"'Month 8'!BL104","v":"@"},{"$f":"'Month 8'!BK104","v":"@"},{"$f":"'Month 8'!BJ104","v":"@"},{"$f":"'Month 8'!BI104","v":"@"},{"$error":"#N/A"},{"$error":"#N/A"},{"$error":"#N/A"},{"$error":"#N/A"},{"$f":"IF(ISNUMBER(SUM(COUNTIF(INDIRECT(CR104):INDIRECT(CS104),2),COUNTIF(INDIRECT(CR104):INDIRECT(CS104),1),COUNTIF(INDIRECT(CR104):INDIRECT(CS104),0))),SUM(COUNTIF(INDIRECT(CR104):INDIRECT(CS104),2),COUNTIF(INDIRECT(CR104):INDIRECT(CS104),1),COUNTIF(INDIRECT(CR104):INDIRECT(CS104),0)),\"\")","v":""},{"$f":"IF(ISNUMBER(SUM(COUNTIF(INDIRECT(CR104):INDIRECT(CT104),2),COUNTIF(INDIRECT(CR104):INDIRECT(CT104),1),COUNTIF(INDIRECT(CR104):INDIRECT(CT104),0))),SUM(COUNTIF(INDIRECT(CR104):INDIRECT(CT104),2),COUNTIF(INDIRECT(CR104):INDIRECT(CT104),1),COUNTIF(INDIRECT(CR104):INDIRECT(CT104),0)),\"\")","v":""},{"$f":"IF(ISNUMBER(SUM(COUNTIF(INDIRECT(CR104):INDIRECT(CU104),1),COUNTIF(INDIRECT(CR104):INDIRECT(CU104),0))),SUM(COUNTIF(INDIRECT(CR104):INDIRECT(CU104),1),COUNTIF(INDIRECT(CR104):INDIRECT(CU104),0)),\"\")","v":""},{"$f":"SUM(INDIRECT(CR104):INDIRECT(CS104))","v":{"$error":"#N/A"}},{"$f":"SUM(INDIRECT(CR104):INDIRECT(CT104))","v":{"$error":"#N/A"}},{"$f":"SUM(INDIRECT(CR104):INDIRECT(CU104))","v":{"$error":"#N/A"}}]

{"sheet":"Month 10","index":14,"n_rows":104,"n_cols":105,"rows_kept":104,"cut":false,"hidden":false,"merged":[[53,95,53,98],[53,99,53,101],[53,102,53,104],[6,23,20,35],[13,5,20,8]]}
[]
[]
[]
[]
[]
[null,null,null,null,"Student Name:",{"$f":"IF(ISTEXT('Month 1'!F6),'Month 1'!F6,\"\")","v":""},null,null,null,null,null,null,null,null,null,null,null,null,null,null,null,null,null,"General Notes:"]
["Go To:"]
[{"$f":"IF(ISBLANK('Month 1'!$F$12),\"Month 1\",'Month 1'!$F$12)","v":"--"},null,null,null,"Skill Title:",{"$f":"IF(ISTEXT('Month 1'!F8),'Month 1'!F8,\"\")","v":""}]
[{"$f":"IF(ISBLANK('Month 2'!$F$12),\"Month 2\",'Month 2'!$F$12)","v":"--"}]
[{"$f":"IF(ISBLANK('Month 3'!$F$12),\"Month 3\",'Month 3'!$F$12)","v":"--"},null,null,null,"Skill Type:",{"$f":"IF(ISBLANK('Month 1'!F10),\"\",'Month 1'!F10)","v":""}]
[{"$f":"IF(ISBLANK('Month 4'!$F$12),\"Month 4\",'Month 4'!$F$12)","v":"--"}]
[{"$f":"IF(ISBLANK('Month 5'!$F$12),\"Month 5\",'Month 5'!$F$12)","v":"--"},null,null,null,"Date Range:","--"]
[{"$f":"IF(ISBLANK('Month 6'!$F$12),\"Month 6\",'Month 6'!$F$12)","v":"--"}]
[{"$f":"IF(ISBLANK('Month 7'!$F$12),\"Month 7\",'Month 7'!$F$12)","v":"--"},null,null,null,"Objective:",{"$f":"IF(ISBLANK('Month 1'!$F$14),\"\",'Month 1'!$F$14)","v":""}]
[{"$f":"IF(ISBLANK('Month 8'!$F$12),\"Month 8\",'Month 8'!$F$12)","v":"--"}]
[{"$f":"IF(ISBLANK('Month 9'!$F$12),\"Month 9\",'Month 9'!$F$12)","v":"--"}]
[{"$f":"IF(ISBLANK('Month 10'!$F$12),\"Month 10\",'Month 10'!$F$12)","v":"--"}]
[{"$f":"IF(ISBLANK('Month 11'!$F$12),\"Month 11\",'Month 11'!$F$12)","v":"--"}]
[{"$f":"IF(ISBLANK('Month 12'!$F$12),\"Month 12\",'Month 12'!$F$12)","v":"--"}]
[]
[]
[]
[null,null,null,null,null,null,{"$f":"SUM(COUNTIF(G27:G76,\"+\"),COUNTIF(G27:G76,\"-\"),COUNTIF(G27:G76,\"y\"),COUNTIF(G27:G76,\"n\"),COUNTIF(G27:G76,1),COUNTIF(G27:G76,2))","v":0},0,0,0,0,0,0,0,0,0,0,0,0,0,0,0,0,0,0,0,0,0,0,0,0,0,0,0,0,0,0,{"$f":"SUM(G23:AK23)","v":0}]
[null,null,null,null,null,"Total Number Correct   à",{"$f":"IF(G23>0,SUM(CM55:CM104),\"\")","v":""},{"$f":"IF(H23>0,SUM(CL55:CL104),\"\")","v":""},{"$f":"IF(I23>0,SUM(CK55:CK104),\"\")","v":""},{"$f":"IF(J23>0,SUM(CJ55:CJ104),\"\")","v":""},{"$f":"IF(K23>0,SUM(CI55:CI104),\"\")","v":""},{"$f":"IF(L23>0,SUM(CH55:CH104),\"\")","v":""},{"$f":"IF(M23>0,SUM(CG55:CG104),\"\")","v":""},{"$f":"IF(N23>0,SUM(CF55:CF104),\"\")","v":""},{"$f":"IF(O23>0,SUM(CE55:CE104),\"\")","v":""},{"$f":"IF(P23>0,SUM(CD55:CD104),\"\")","v":""},{"$f":"IF(Q23>0,SUM(CC55:CC104),\"\")","v":""},{"$f":"IF(R23>0,SUM(CB55:CB104),\"\")","v":""},{"$f":"IF(S23>0,SUM(CA55:CA104),\"\")","v":""},{"$f":"IF(T23>0,SUM(BZ55:BZ104),\"\")","v":""},{"$f":"IF(U23>0,SUM(BY55:BY104),\"\")","v":""},{"$f":"IF(V23>0,SUM(BX55:BX104),\"\")","v":""},{"$f":"IF(W23>0,SUM(BW55:BW104),\"\")","v":""},{"$f":"IF(X23>0,SUM(BV55:BV104),\"\")","v":""},{"$f":"IF(Y23>0,SUM(BU55:BU104),\"\")","v":""},{"$f":"IF(Z23>0,SUM(BT55:BT104),\"\")","v":""},{"$f":"IF(AA23>0,SUM(BS55:BS104),\"\")","v":""},{"$f":"IF(AB23>0,SUM(BR55:BR104),\"\")","v":""},{"$f":"IF(AC23>0,SUM(BQ55:BQ104),\"\")","v":""},{"$f":"IF(AD23>0,SUM(BP55:BP104),\"\")","v":""},{"$f":"IF(AE23>0,SUM(BO55:BO104),\"\")","v":""},{"$f":"IF(AF23>0,SUM(BN55:BN104),\"\")","v":""},{"$f":"IF(AG23>0,SUM(BM55:BM104),\"\")","v":""},{"$f":"IF(AH23>0,SUM(BL55:BL104),\"\")","v":""},{"$f":"IF(AI23>0,SUM(BK55:BK104),\"\")","v":""},{"$f":"IF(AJ23>0,SUM(BJ55:BJ104),\"\")","v":""},{"$f":"IF(AK23>0,SUM(BI55:BI104),\"\")","v":""}]
[null,null,{"$f":"50-SUM(C27:C76)","v":0},"Note",null,"Initials   à"]
[null,null,0,"â",null,"Date   à"]
[null,null,{"$f":"IF(F27=\"\",1,0)","v":1},{"$f":"IF(Modifications!$C$2=2,\"N\",\"\")","v":""},{"$f":"IF(AND(BH55>0,$F$10=\"\"),\"Choose Skill Type\",IF(CX55=\"\",\"\",IF(AND(DA55=3,$F$10=\"Multi-Step (Task Analysis)\"),\"Add Next Step\",IF(AND(DA55=3,$F$10=\"Multi-Stimulus (Different Sd's)\"),\"Continue\",IF(OR(AND(CV55=5,CY55<=1),AND(CW55=4,CZ55=0)),\"Intervene\",IF(OR(AND(CV55=5,CY55<=2),AND(CW55=4,CZ55<=1),AND(CX55=3,DA55=0)),\"Check\",\"Continue\"))))))","v":""},{"$f":"IF(ISBLANK('Month 1'!$F$27),\"\",'Month 1'!$F$27)","v":""}]
[null,null,{"$f":"IF(F28=\"\",1,0)","v":1},{"$f":"IF(Modifications!$C$3=2,\"N\",\"\")","v":""},"",{"$f":"IF(ISBLANK('Month 1'!$F$28),\"\",'Month 1'!$F$28)","v":""}]
[null,null,1,{"$f":"IF(Modifications!$C$4=2,\"N\",\"\")","v":""},"",{"$f":"IF(ISBLANK('Month 1'!$F$29),\"\",'Month 1'!$F$29)","v":""}]
[null,null,1,{"$f":"IF(Modifications!$C$5=2,\"N\",\"\")","v":""},"",{"$f":"IF(ISBLANK('Month 1'!$F$30),\"\",'Month 1'!$F$30)","v":""}]
[null,null,1,{"$f":"IF(Modifications!$C$6=2,\"N\",\"\")","v":""},"",{"$f":"IF(ISBLANK('Month 1'!$F$31),\"\",'Month 1'!$F$31)","v":""}]
[null,null,1,{"$f":"IF(Modifications!$C$7=2,\"N\",\"\")","v":""},"",{"$f":"IF(ISBLANK('Month 1'!$F$32),\"\",'Month 1'!$F$32)","v":""}]
[null,null,1,{"$f":"IF(Modifications!$C$8=2,\"N\",\"\")","v":""},"",{"$f":"IF(ISBLANK('Month 1'!$F$33),\"\",'Month 1'!$F$33)","v":""}]
[null,null,1,{"$f":"IF(Modifications!$C$9=2,\"N\",\"\")","v":""},"",{"$f":"IF(ISBLANK('Month 1'!$F$34),\"\",'Month 1'!$F$34)","v":""}]
[null,null,1,{"$f":"IF(Modifications!$C$10=2,\"N\",\"\")","v":""},"",{"$f":"IF(ISBLANK('Month 1'!$F$35),\"\",'Month 1'!$F$35)","v":""}]
[null,null,1,{"$f":"IF(Modifications!$C$11=2,\"N\",\"\")","v":""},"",{"$f":"IF(ISBLANK('Month 1'!$F$36),\"\",'Month 1'!$F$36)","v":""}]
[null,null,1,{"$f":"IF(Modifications!$C$12=2,\"N\",\"\")","v":""},"",{"$f":"IF(ISBLANK('Month 1'!$F$37),\"\",'Month 1'!$F$37)","v":""}]
[null,null,1,{"$f":"IF(Modifications!$C$13=2,\"N\",\"\")","v":""},"",{"$f":"IF(ISBLANK('Month 1'!$F$38),\"\",'Month 1'!$F$38)","v":""}]
[null,null,1,{"$f":"IF(Modifications!$C$14=2,\"N\",\"\")","v":""},"",{"$f":"IF(ISBLANK('Month 1'!$F$39),\"\",'Month 1'!$F$39)","v":""}]
[null,null,1,{"$f":"IF(Modifications!$C$15=2,\"N\",\"\")","v":""},"",{"$f":"IF(ISBLANK('Month 1'!$F$40),\"\",'Month 1'!$F$40)","v":""}]
[null,null,1,{"$f":"IF(Modifications!$C$16=2,\"N\",\"\")","v":""},"",{"$f":"IF(ISBLANK('Month 1'!$F$41),\"\",'Month 1'!$F$41)","v":""}]
[null,null,1,{"$f":"IF(Modifications!$C$17=2,\"N\",\"\")","v":""},"",{"$f":"IF(ISBLANK('Month 1'!$F$42),\"\",'Month 1'!$F$42)","v":""}]
[null,null,1,{"$f":"IF(Modifications!$C$18=2,\"N\",\"\")","v":""},"",{"$f":"IF(ISBLANK('Month 1'!$F$43),\"\",'Month 1'!$F$43)","v":""}]
[null,null,1,{"$f":"IF(Modifications!$C$19=2,\"N\",\"\")","v":""},"",{"$f":"IF(ISBLANK('Month 1'!$F$44),\"\",'Month 1'!$F$44)","v":""}]
[null,null,1,{"$f":"IF(Modifications!$C$20=2,\"N\",\"\")","v":""},"",{"$f":"IF(ISBLANK('Month 1'!$F$45),\"\",'Month 1'!$F$45)","v":""}]
[null,null,1,{"$f":"IF(Modifications!$C$21=2,\"N\",\"\")","v":""},"",{"$f":"IF(ISBLANK('Month 1'!$F$46),\"\",'Month 1'!$F$46)","v":""}]
[null,null,1,{"$f":"IF(Modifications!$C$22=2,\"N\",\"\")","v":""},"",{"$f":"IF(ISBLANK('Month 1'!$F$47),\"\",'Month 1'!$F$47)","v":""}]
[null,null,1,{"$f":"IF(Modifications!$C$23=2,\"N\",\"\")","v":""},"",{"$f":"IF(ISBLANK('Month 1'!$F$48),\"\",'Month 1'!$F$48)","v":""}]
[null,null,1,{"$f":"IF(Modifications!$C$24=2,\"N\",\"\")","v":""},"",{"$f":"IF(ISBLANK('Month 1'!$F$49),\"\",'Month 1'!$F$49)","v":""}]
[null,null,1,{"$f":"IF(Modifications!$C$25=2,\"N\",\"\")","v":""},"",{"$f":"IF(ISBLANK('Month 1'!$F$50),\"\",'Month 1'!$F$50)","v":""}]
[null,null,1,{"$f":"IF(Modifications!$C$26=2,\"N\",\"\")","v":""},"",{"$f":"IF(ISBLANK('Month 1'!$F$51),\"\",'Month 1'!$F$51)","v":""}]
[null,null,1,{"$f":"IF(Modifications!$C$27=2,\"N\",\"\")","v":""},"",{"$f":"IF(ISBLANK('Month 1'!$F$52),\"\",'Month 1'!$F$52)","v":""}]
[null,null,1,{"$f":"IF(Modifications!$C$28=2,\"N\",\"\")","v":""},"",{"$f":"IF(ISBLANK('Month 1'!$F$53),\"\",'Month 1'!$F$53)","v":""}]
[null,null,1,{"$f":"IF(Modifications!$C$29=2,\"N\",\"\")","v":""},"",{"$f":"IF(ISBLANK('Month 1'!$F$54),\"\",'Month 1'!$F$54)","v":""},null,null,null,null,null,null,null,null,null,null,null,null,null,null,null,null,null,null,null,null,null,null,null,null,null,null,null,null,null,null,null,null,null,null,null,null,null,null,null,null,null,null,null,null,null,null,null,null,null,null,null,null,null,null,null,null,null,null,null,null,null,null,null,null,null,null,null,null,null,null,null,null,null,null,null,null,null,null,null,null,null,null,null,null,null,null,null,null,null,"Locations (start,5,4,3)",null,null,null,"Are they in a row? (5,4,3)",null,null,"Sum of items in row (5,4,3)"]
[null,null,1,{"$f":"IF(Modifications!$C$30=2,\"N\",\"\")","v":""},"",{"$f":"IF(ISBLANK('Month 1'!$F$55),\"\",'Month 1'!$F$55)","v":""},null,null,null,null,null,null,null,null,null,null,null,null,null,null,null,null,null,null,null,null,null,null,null,null,null,null,null,null,null,null,null,null,null,null,null,null,null,null,null,null,null,null,null,null,null,null,null,null,null,null,null,null,null,{"$f":"SUM(COUNTIF(BI55:CM55,1),COUNTIF(BI55:CM55,0))","v":0},{"$f":"IF(OR(AK27=\"+\",AK27=\"Y\",AK27=2),1,IF(OR(AK27=\"-\",AK27=\"N\",AK27=1),0,IF(OR(BJ55=1,BJ55=0),\"#\",\"@\")))","v":"@"},{"$f":"IF(OR(AJ27=\"+\",AJ27=\"Y\",AJ27=2),1,IF(OR(AJ27=\"-\",AJ27=\"N\",AJ27=1),0,IF(OR(BK55=1,BK55=0),\"#\",\"@\")))","v":"@"},{"$f":"IF(OR(AI27=\"+\",AI27=\"Y\",AI27=2),1,IF(OR(AI27=\"-\",AI27=\"N\",AI27=1),0,IF(OR(BL55=1,BL55=0),\"#\",\"@\")))","v":"@"},{"$f":"IF(OR(AH27=\"+\",AH27=\"Y\",AH27=2),1,IF(OR(AH27=\"-\",AH27=\"N\",AH27=1),0,IF(OR(BM55=1,BM55=0),\"#\",\"@\")))","v":"@"},{"$f":"IF(OR(AG27=\"+\",AG27=\"Y\",AG27=2),1,IF(OR(AG27=\"-\",AG27=\"N\",AG27=1),0,IF(OR(BN55=1,BN55=0),\"#\",\"@\")))","v":"@"},{"$f":"IF(OR(AF27=\"+\",AF27=\"Y\",AF27=2),1,IF(OR(AF27=\"-\",AF27=\"N\",AF27=1),0,IF(OR(BO55=1,BO55=0),\"#\",\"@\")))","v":"@"},{"$f":"IF(OR(AE27=\"+\",AE27=\"Y\",AE27=2),1,IF(OR(AE27=\"-\",AE27=\"N\",AE27=1),0,IF(OR(BP55=1,BP55=0),\"#\",\"@\")))","v":"@"},{"$f":"IF(OR(AD27=\"+\",AD27=\"Y\",AD27=2),1,IF(OR(AD27=\"-\",AD27=\"N\",AD27=1),0,IF(OR(BQ55=1,BQ55=0),\"#\",\"@\")))","v":"@"},{"$f":"IF(OR(AC27=\"+\",AC27=\"Y\",AC27=2),1,IF(OR(AC27=\"-\",AC27=\"N\",AC27=1),0,IF(OR(BR55=1,BR55=0),\"#\",\"@\")))","v":"@"},{"$f":"IF(OR(AB27=\"+\",AB27=\"Y\",AB27=2),1,IF(OR(AB27=\"-\",AB27=\"N\",AB27=1),0,IF(OR(BS55=1,BS55=0),\"#\",\"@\")))","v":"@"},{"$f":"IF(OR(AA27=\"+\",AA27=\"Y\",AA27=2),1,IF(OR(AA27=\"-\",AA27=\"N\",AA27=1),0,IF(OR(BT55=1,BT55=0),\"#\",\"@\")))","v":"@"},{"$f":"IF(OR(Z27=\"+\",Z27=\"Y\",Z27=2),1,IF(OR(Z27=\"-\",Z27=\"N\",Z27=1),0,IF(OR(BU55=1,BU55=0),\"#\",\"@\")))","v":"@"},{"$f":"IF(OR(Y27=\"+\",Y27=\"Y\",Y27=2),1,IF(OR(Y27=\"-\",Y27=\"N\",Y27=1),0,IF(OR(BV55=1,BV55=0),\"#\",\"@\")))","v":"@"},{"$f":"IF(OR(X27=\"+\",X27=\"Y\",X27=2),1,IF(OR(X27=\"-\",X27=\"N\",X27=1),0,IF(OR(BW55=1,BW55=0),\"#\",\"@\")))","v":"@"},{"$f":"IF(OR(W27=\"+\",W27=\"Y\",W27=2),1,IF(OR(W27=\"-\",W27=\"N\",W27=1),0,IF(OR(BX55=1,BX55=0),\"#\",\"@\")))","v":"@"},{"$f":"IF(OR(V27=\"+\",V27=\"Y\",V27=2),1,IF(OR(V27=\"-\",V27=\"N\",V27=1),0,IF(OR(BY55=1,BY55=0),\"#\",\"@\")))","v":"@"},{"$f":"IF(OR(U27=\"+\",U27=\"Y\",U27=2),1,IF(OR(U27=\"-\",U27=\"N\",U27=1),0,IF(OR(BZ55=1,BZ55=0),\"#\",\"@\")))","v":"@"},{"$f":"IF(OR(T27=\"+\",T27=\"Y\",T27=2),1,IF(OR(T27=\"-\",T27=\"N\",T27=1),0,IF(OR(CA55=1,CA55=0),\"#\",\"@\")))","v":"@"},{"$f":"IF(OR(S27=\"+\",S27=\"Y\",S27=2),1,IF(OR(S27=\"-\",S27=\"N\",S27=1),0,IF(OR(CB55=1,CB55=0),\"#\",\"@\")))","v":"@"},{"$f":"IF(OR(R27=\"+\",R27=\"Y\",R27=2),1,IF(OR(R27=\"-\",R27=\"N\",R27=1),0,IF(OR(CC55=1,CC55=0),\"#\",\"@\")))","v":"@"},{"$f":"IF(OR(Q27=\"+\",Q27=\"Y\",Q27=2),1,IF(OR(Q27=\"-\",Q27=\"N\",Q27=1),0,IF(OR(CD55=1,CD55=0),\"#\",\"@\")))","v":"@"},{"$f":"IF(OR(P27=\"+\",P27=\"Y\",P27=2),1,IF(OR(P27=\"-\",P27=\"N\",P27=1),0,IF(OR(CE55=1,CE55=0),\"#\",\"@\")))","v":"@"},{"$f":"IF(OR(O27=\"+\",O27=\"Y\",O27=2),1,IF(OR(O27=\"-\",O27=\"N\",O27=1),0,IF(OR(CF55=1,CF55=0),\"#\",\"@\")))","v":"@"},{"$f":"IF(OR(N27=\"+\",N27=\"Y\",N27=2),1,IF(OR(N27=\"-\",N27=\"N\",N27=1),0,IF(OR(CG55=1,CG55=0),\"#\",\"@\")))","v":"@"},{"$f":"IF(OR(M27=\"+\",M27=\"Y\",M27=2),1,IF(OR(M27=\"-\",M27=\"N\",M27=1),0,IF(OR(CH55=1,CH55=0),\"#\",\"@\")))","v":"@"},{"$f":"IF(OR(L27=\"+\",L27=\"Y\",L27=2),1,IF(OR(L27=\"-\",L27=\"N\",L27=1),0,IF(OR(CI55=1,CI55=0),\"#\",\"@\")))","v":"@"},{"$f":"IF(OR(K27=\"+\",K27=\"Y\",K27=2),1,IF(OR(K27=\"-\",K27=\"N\",K27=1),0,IF(OR(CJ55=1,CJ55=0),\"#\",\"@\")))","v":"@"},{"$f":"IF(OR(J27=\"+\",J27=\"Y\",J27=2),1,IF(OR(J27=\"-\",J27=\"N\",J27=1),0,IF(OR(CK55=1,CK55=0),\"#\",\"@\")))","v":"@"},{"$f":"IF(OR(I27=\"+\",I27=\"Y\",I27=2),1,IF(OR(I27=\"-\",I27=\"N\",I27=1),0,IF(OR(CL55=1,CL55=0),\"#\",\"@\")))","v":"@"},{"$f":"IF(OR(H27=\"+\",H27=\"Y\",H27=2),1,IF(OR(H27=\"-\",H27=\"N\",H27=1),0,IF(OR(CM55=1,CM55=0),\"#\",\"@\")))","v":"@"},{"$f":"IF(OR(G27=\"+\",G27=\"Y\",G27=2),1,IF(OR(G27=\"-\",G27=\"N\",G27=1),0,\"@\"))","v":"@"},{"$f":"'Month 9'!BL55","v":"@"},{"$f":"'Month 9'!BK55","v":"@"},{"$f":"'Month 9'!BJ55","v":"@"},{"$f":"'Month 9'!BI55","v":"@"},{"$f":"ADDRESS(ROW(BH55),(MATCH(\"#\",BI55:CM55,0)+61))","v":{"$error":"#N/A"}},{"$f":"ADDRESS(ROW(BH55),(MATCH(\"#\",BI55:CM55,0)+65))","v":{"$error":"#N/A"}},{"$f":"ADDRESS(ROW(BH55),(MATCH(\"#\",BI55:CM55,0)+64))","v":{"$error":"#N/A"}},{"$f":"ADDRESS(ROW(BH55),(MATCH(\"#\",BI55:CM55,0)+63))","v":{"$error":"#N/A"}},{"$f":"IF(ISNUMBER(SUM(COUNTIF(INDIRECT(CR55):INDIRECT(CS55),2),COUNTIF(INDIRECT(CR55):INDIRECT(CS55),1),COUNTIF(INDIRECT(CR55):INDIRECT(CS55),0))),SUM(COUNTIF(INDIRECT(CR55):INDIRECT(CS55),2),COUNTIF(INDIRECT(CR55):INDIRECT(CS55),1),COUNTIF(INDIRECT(CR55):INDIRECT(CS55),0)),\"\")","v":""},{"$f":"IF(ISNUMBER(SUM(COUNTIF(INDIRECT(CR55):INDIRECT(CT55),2),COUNTIF(INDIRECT(CR55):INDIRECT(CT55),1),COUNTIF(INDIRECT(CR55):INDIRECT(CT55),0))),SUM(COUNTIF(INDIRECT(CR55):INDIRECT(CT55),2),COUNTIF(INDIRECT(CR55):INDIRECT(CT55),1),COUNTIF(INDIRECT(CR55):INDIRECT(CT55),0)),\"\")","v":""},{"$f":"IF(ISNUMBER(SUM(COUNTIF(INDIRECT(CR55):INDIRECT(CU55),1),COUNTIF(INDIRECT(CR55):INDIRECT(CU55),0))),SUM(COUNTIF(INDIRECT(CR55):INDIRECT(CU55),1),COUNTIF(INDIRECT(CR55):INDIRECT(CU55),0)),\"\")","v":""},{"$f":"SUM(INDIRECT(CR55):INDIRECT(CS55))","v":{"$error":"#N/A"}},{"$f":"SUM(INDIRECT(CR55):INDIRECT(CT55))","v":{"$error":"#N/A"}},{"$f":"SUM(INDIRECT(CR55):INDIRECT(CU55))","v":{"$error":"#N/A"}}]
[null,null,1,{"$f":"IF(Modifications!$C$31=2,\"N\",\"\")","v":""},"",{"$f":"IF(ISBLANK('Month 1'!$F$56),\"\",'Month 1'!$F$56)","v":""},null,null,null,null,null,null,null,null,null,null,null,null,null,null,null,null,null,null,null,null,null,null,null,null,null,null,null,null,null,null,null,null,null,null,null,null,null,null,null,null,null,null,null,null,null,null,null,null,null,null,null,null,null,0,"@","@","@","@","@","@","@","@","@","@","@","@","@","@","@","@","@","@","@","@","@","@","@","@","@","@","@","@","@","@","@",{"$f":"'Month 9'!BL56","v":"@"},{"$f":"'Month 9'!BK56","v":"@"},{"$f":"'Month 9'!BJ56","v":"@"},{"$f":"'Month 9'!BI56","v":"@"},{"$error":"#N/A"},{"$error":"#N/A"},{"$error":"#N/A"},{"$error":"#N/A"},{"$f":"IF(ISNUMBER(SUM(COUNTIF(INDIRECT(CR56):INDIRECT(CS56),2),COUNTIF(INDIRECT(CR56):INDIRECT(CS56),1),COUNTIF(INDIRECT(CR56):INDIRECT(CS56),0))),SUM(COUNTIF(INDIRECT(CR56):INDIRECT(CS56),2),COUNTIF(INDIRECT(CR56):INDIRECT(CS56),1),COUNTIF(INDIRECT(CR56):INDIRECT(CS56),0)),\"\")","v":""},{"$f":"IF(ISNUMBER(SUM(COUNTIF(INDIRECT(CR56):INDIRECT(CT56),2),COUNTIF(INDIRECT(CR56):INDIRECT(CT56),1),COUNTIF(INDIRECT(CR56):INDIRECT(CT56),0))),SUM(COUNTIF(INDIRECT(CR56):INDIRECT(CT56),2),COUNTIF(INDIRECT(CR56):INDIRECT(CT56),1),COUNTIF(INDIRECT(CR56):INDIRECT(CT56),0)),\"\")","v":""},{"$f":"IF(ISNUMBER(SUM(COUNTIF(INDIRECT(CR56):INDIRECT(CU56),1),COUNTIF(INDIRECT(CR56):INDIRECT(CU56),0))),SUM(COUNTIF(INDIRECT(CR56):INDIRECT(CU56),1),COUNTIF(INDIRECT(CR56):INDIRECT(CU56),0)),\"\")","v":""},{"$f":"SUM(INDIRECT(CR56):INDIRECT(CS56))","v":{"$error":"#N/A"}},{"$f":"SUM(INDIRECT(CR56):INDIRECT(CT56))","v":{"$error":"#N/A"}},{"$f":"SUM(INDIRECT(CR56):INDIRECT(CU56))","v":{"$error":"#N/A"}}]
[null,null,1,{"$f":"IF(Modifications!$C$32=2,\"N\",\"\")","v":""},"",{"$f":"IF(ISBLANK('Month 1'!$F$57),\"\",'Month 1'!$F$57)","v":""},null,null,null,null,null,null,null,null,null,null,null,null,null,null,null,null,null,null,null,null,null,null,null,null,null,null,null,null,null,null,null,null,null,null,null,null,null,null,null,null,null,null,null,null,null,null,null,null,null,null,null,null,null,0,"@","@","@","@","@","@","@","@","@","@","@","@","@","@","@","@","@","@","@","@","@","@","@","@","@","@","@","@","@","@","@",{"$f":"'Month 9'!BL57","v":"@"},{"$f":"'Month 9'!BK57","v":"@"},{"$f":"'Month 9'!BJ57","v":"@"},{"$f":"'Month 9'!BI57","v":"@"},{"$error":"#N/A"},{"$error":"#N/A"},{"$error":"#N/A"},{"$error":"#N/A"},{"$f":"IF(ISNUMBER(SUM(COUNTIF(INDIRECT(CR57):INDIRECT(CS57),2),COUNTIF(INDIRECT(CR57):INDIRECT(CS57),1),COUNTIF(INDIRECT(CR57):INDIRECT(CS57),0))),SUM(COUNTIF(INDIRECT(CR57):INDIRECT(CS57),2),COUNTIF(INDIRECT(CR57):INDIRECT(CS57),1),COUNTIF(INDIRECT(CR57):INDIRECT(CS57),0)),\"\")","v":""},{"$f":"IF(ISNUMBER(SUM(COUNTIF(INDIRECT(CR57):INDIRECT(CT57),2),COUNTIF(INDIRECT(CR57):INDIRECT(CT57),1),COUNTIF(INDIRECT(CR57):INDIRECT(CT57),0))),SUM(COUNTIF(INDIRECT(CR57):INDIRECT(CT57),2),COUNTIF(INDIRECT(CR57):INDIRECT(CT57),1),COUNTIF(INDIRECT(CR57):INDIRECT(CT57),0)),\"\")","v":""},{"$f":"IF(ISNUMBER(SUM(COUNTIF(INDIRECT(CR57):INDIRECT(CU57),1),COUNTIF(INDIRECT(CR57):INDIRECT(CU57),0))),SUM(COUNTIF(INDIRECT(CR57):INDIRECT(CU57),1),COUNTIF(INDIRECT(CR57):INDIRECT(CU57),0)),\"\")","v":""},{"$f":"SUM(INDIRECT(CR57):INDIRECT(CS57))","v":{"$error":"#N/A"}},{"$f":"SUM(INDIRECT(CR57):INDIRECT(CT57))","v":{"$error":"#N/A"}},{"$f":"SUM(INDIRECT(CR57):INDIRECT(CU57))","v":{"$error":"#N/A"}}]
[null,null,1,{"$f":"IF(Modifications!$C$33=2,\"N\",\"\")","v":""},"",{"$f":"IF(ISBLANK('Month 1'!$F$58),\"\",'Month 1'!$F$58)","v":""},null,null,null,null,null,null,null,null,null,null,null,null,null,null,null,null,null,null,null,null,null,null,null,null,null,null,null,null,null,null,null,null,null,null,null,null,null,null,null,null,null,null,null,null,null,null,null,null,null,null,null,null,null,0,"@","@","@","@","@","@","@","@","@","@","@","@","@","@","@","@","@","@","@","@","@","@","@","@","@","@","@","@","@","@","@",{"$f":"'Month 9'!BL58","v":"@"},{"$f":"'Month 9'!BK58","v":"@"},{"$f":"'Month 9'!BJ58","v":"@"},{"$f":"'Month 9'!BI58","v":"@"},{"$error":"#N/A"},{"$error":"#N/A"},{"$error":"#N/A"},{"$error":"#N/A"},{"$f":"IF(ISNUMBER(SUM(COUNTIF(INDIRECT(CR58):INDIRECT(CS58),2),COUNTIF(INDIRECT(CR58):INDIRECT(CS58),1),COUNTIF(INDIRECT(CR58):INDIRECT(CS58),0))),SUM(COUNTIF(INDIRECT(CR58):INDIRECT(CS58),2),COUNTIF(INDIRECT(CR58):INDIRECT(CS58),1),COUNTIF(INDIRECT(CR58):INDIRECT(CS58),0)),\"\")","v":""},{"$f":"IF(ISNUMBER(SUM(COUNTIF(INDIRECT(CR58):INDIRECT(CT58),2),COUNTIF(INDIRECT(CR58):INDIRECT(CT58),1),COUNTIF(INDIRECT(CR58):INDIRECT(CT58),0))),SUM(COUNTIF(INDIRECT(CR58):INDIRECT(CT58),2),COUNTIF(INDIRECT(CR58):INDIRECT(CT58),1),COUNTIF(INDIRECT(CR58):INDIRECT(CT58),0)),\"\")","v":""},{"$f":"IF(ISNUMBER(SUM(COUNTIF(INDIRECT(CR58):INDIRECT(CU58),1),COUNTIF(INDIRECT(CR58):INDIRECT(CU58),0))),SUM(COUNTIF(INDIRECT(CR58):INDIRECT(CU58),1),COUNTIF(INDIRECT(CR58):INDIRECT(CU58),0)),\"\")","v":""},{"$f":"SUM(INDIRECT(CR58):INDIRECT(CS58))","v":{"$error":"#N/A"}},{"$f":"SUM(INDIRECT(CR58):INDIRECT(CT58))","v":{"$error":"#N/A"}},{"$f":"SUM(INDIRECT(CR58):INDIRECT(CU58))","v":{"$error":"#N/A"}}]
[null,null,1,{"$f":"IF(Modifications!$C$34=2,\"N\",\"\")","v":""},{"$f":"IF(AND(BH87>0,$F$10=\"\"),\"Choose Skill Type\",IF(CX87=\"\",\"\",IF(AND(DA87=3,$F$10=\"Multi-Step (Task Analysis)\"),\"Add Next Step\",IF(AND(DA87=3,$F$10=\"Multi-Stimulus (Different Sd's)\"),\"Continue\",IF(OR(AND(CV87=5,CY87<=1),AND(CW87=4,CZ87=0)),\"Intervene\",IF(OR(AND(CV87=5,CY87<=2),AND(CW87=4,CZ87<=1),AND(CX87=3,DA87=0)),\"Check\",\"Continue\"))))))","v":""},{"$f":"IF(ISBLANK('Month 1'!$F$59),\"\",'Month 1'!$F$59)","v":""},null,null,null,null,null,null,null,null,null,null,null,null,null,null,null,null,null,null,null,null,null,null,null,null,null,null,null,null,null,null,null,null,null,null,null,null,null,null,null,null,null,null,null,null,null,null,null,null,null,null,null,null,null,0,"@","@","@","@","@","@","@","@","@","@","@","@","@","@","@","@","@","@","@","@","@","@","@","@","@","@","@","@","@","@","@",{"$f":"'Month 9'!BL59","v":"@"},{"$f":"'Month 9'!BK59","v":"@"},{"$f":"'Month 9'!BJ59","v":"@"},{"$f":"'Month 9'!BI59","v":"@"},{"$error":"#N/A"},{"$error":"#N/A"},{"$error":"#N/A"},{"$error":"#N/A"},{"$f":"IF(ISNUMBER(SUM(COUNTIF(INDIRECT(CR59):INDIRECT(CS59),2),COUNTIF(INDIRECT(CR59):INDIRECT(CS59),1),COUNTIF(INDIRECT(CR59):INDIRECT(CS59),0))),SUM(COUNTIF(INDIRECT(CR59):INDIRECT(CS59),2),COUNTIF(INDIRECT(CR59):INDIRECT(CS59),1),COUNTIF(INDIRECT(CR59):INDIRECT(CS59),0)),\"\")","v":""},{"$f":"IF(ISNUMBER(SUM(COUNTIF(INDIRECT(CR59):INDIRECT(CT59),2),COUNTIF(INDIRECT(CR59):INDIRECT(CT59),1),COUNTIF(INDIRECT(CR59):INDIRECT(CT59),0))),SUM(COUNTIF(INDIRECT(CR59):INDIRECT(CT59),2),COUNTIF(INDIRECT(CR59):INDIRECT(CT59),1),COUNTIF(INDIRECT(CR59):INDIRECT(CT59),0)),\"\")","v":""},{"$f":"IF(ISNUMBER(SUM(COUNTIF(INDIRECT(CR59):INDIRECT(CU59),1),COUNTIF(INDIRECT(CR59):INDIRECT(CU59),0))),SUM(COUNTIF(INDIRECT(CR59):INDIRECT(CU59),1),COUNTIF(INDIRECT(CR59):INDIRECT(CU59),0)),\"\")","v":""},{"$f":"SUM(INDIRECT(CR59):INDIRECT(CS59))","v":{"$error":"#N/A"}},{"$f":"SUM(INDIRECT(CR59):INDIRECT(CT59))","v":{"$error":"#N/A"}},{"$f":"SUM(INDIRECT(CR59):INDIRECT(CU59))","v":{"$error":"#N/A"}}]
[null,null,1,{"$f":"IF(Modifications!$C$35=2,\"N\",\"\")","v":""},"",{"$f":"IF(ISBLANK('Month 1'!$F$60),\"\",'Month 1'!$F$60)","v":""},null,null,null,null,null,null,null,null,null,null,null,null,null,null,null,null,null,null,null,null,null,null,null,null,null,null,null,null,null,null,null,null,null,null,null,null,null,null,null,null,null,null,null,null,null,null,null,null,null,null,null,null,null,0,"@","@","@","@","@","@","@","@","@","@","@","@","@","@","@","@","@","@","@","@","@","@","@","@","@","@","@","@","@","@","@",{"$f":"'Month 9'!BL60","v":"@"},{"$f":"'Month 9'!BK60","v":"@"},{"$f":"'Month 9'!BJ60","v":"@"},{"$f":"'Month 9'!BI60","v":"@"},{"$error":"#N/A"},{"$error":"#N/A"},{"$error":"#N/A"},{"$error":"#N/A"},{"$f":"IF(ISNUMBER(SUM(COUNTIF(INDIRECT(CR60):INDIRECT(CS60),2),COUNTIF(INDIRECT(CR60):INDIRECT(CS60),1),COUNTIF(INDIRECT(CR60):INDIRECT(CS60),0))),SUM(COUNTIF(INDIRECT(CR60):INDIRECT(CS60),2),COUNTIF(INDIRECT(CR60):INDIRECT(CS60),1),COUNTIF(INDIRECT(CR60):INDIRECT(CS60),0)),\"\")","v":""},{"$f":"IF(ISNUMBER(SUM(COUNTIF(INDIRECT(CR60):INDIRECT(CT60),2),COUNTIF(INDIRECT(CR60):INDIRECT(CT60),1),COUNTIF(INDIRECT(CR60):INDIRECT(CT60),0))),SUM(COUNTIF(INDIRECT(CR60):INDIRECT(CT60),2),COUNTIF(INDIRECT(CR60):INDIRECT(CT60),1),COUNTIF(INDIRECT(CR60):INDIRECT(CT60),0)),\"\")","v":""},{"$f":"IF(ISNUMBER(SUM(COUNTIF(INDIRECT(CR60):INDIRECT(CU60),1),COUNTIF(INDIRECT(CR60):INDIRECT(CU60),0))),SUM(COUNTIF(INDIRECT(CR60):INDIRECT(CU60),1),COUNTIF(INDIRECT(CR60):INDIRECT(CU60),0)),\"\")","v":""},{"$f":"SUM(INDIRECT(CR60):INDIRECT(CS60))","v":{"$error":"#N/A"}},{"$f":"SUM(INDIRECT(CR60):INDIRECT(CT60))","v":{"$error":"#N/A"}},{"$f":"SUM(INDIRECT(CR60):INDIRECT(CU60))","v":{"$error":"#N/A"}}]
[null,null,1,{"$f":"IF(Modifications!$C$36=2,\"N\",\"\")","v":""},"",{"$f":"IF(ISBLANK('Month 1'!$F$61),\"\",'Month 1'!$F$61)","v":""},null,null,null,null,null,null,null,null,null,null,null,null,null,null,null,null,null,null,null,null,null,null,null,null,null,null,null,null,null,null,null,null,null,null,null,null,null,null,null,null,null,null,null,null,null,null,null,null,null,null,null,null,null,0,"@","@","@","@","@","@","@","@","@","@","@","@","@","@","@","@","@","@","@","@","@","@","@","@","@","@","@","@","@","@","@",{"$f":"'Month 9'!BL61","v":"@"},{"$f":"'Month 9'!BK61","v":"@"},{"$f":"'Month 9'!BJ61","v":"@"},{"$f":"'Month 9'!BI61","v":"@"},{"$error":"#N/A"},{"$error":"#N/A"},{"$error":"#N/A"},{"$error":"#N/A"},{"$f":"IF(ISNUMBER(SUM(COUNTIF(INDIRECT(CR61):INDIRECT(CS61),2),COUNTIF(INDIRECT(CR61):INDIRECT(CS61),1),COUNTIF(INDIRECT(CR61):INDIRECT(CS61),0))),SUM(COUNTIF(INDIRECT(CR61):INDIRECT(CS61),2),COUNTIF(INDIRECT(CR61):INDIRECT(CS61),1),COUNTIF(INDIRECT(CR61):INDIRECT(CS61),0)),\"\")","v":""},{"$f":"IF(ISNUMBER(SUM(COUNTIF(INDIRECT(CR61):INDIRECT(CT61),2),COUNTIF(INDIRECT(CR61):INDIRECT(CT61),1),COUNTIF(INDIRECT(CR61):INDIRECT(CT61),0))),SUM(COUNTIF(INDIRECT(CR61):INDIRECT(CT61),2),COUNTIF(INDIRECT(CR61):INDIRECT(CT61),1),COUNTIF(INDIRECT(CR61):INDIRECT(CT61),0)),\"\")","v":""},{"$f":"IF(ISNUMBER(SUM(COUNTIF(INDIRECT(CR61):INDIRECT(CU61),1),COUNTIF(INDIRECT(CR61):INDIRECT(CU61),0))),SUM(COUNTIF(INDIRECT(CR61):INDIRECT(CU61),1),COUNTIF(INDIRECT(CR61):INDIRECT(CU61),0)),\"\")","v":""},{"$f":"SUM(INDIRECT(CR61):INDIRECT(CS61))","v":{"$error":"#N/A"}},{"$f":"SUM(INDIRECT(CR61):INDIRECT(CT61))","v":{"$error":"#N/A"}},{"$f":"SUM(INDIRECT(CR61):INDIRECT(CU61))","v":{"$error":"#N/A"}}]
[null,null,1,{"$f":"IF(Modifications!$C$37=2,\"N\",\"\")","v":""},"",{"$f":"IF(ISBLANK('Month 1'!$F$62),\"\",'Month 1'!$F$62)","v":""},null,null,null,null,null,null,null,null,null,null,null,null,null,null,null,null,null,null,null,null,null,null,null,null,null,null,null,null,null,null,null,null,null,null,null,null,null,null,null,null,null,null,null,null,null,null,null,null,null,null,null,null,null,0,"@","@","@","@","@","@","@","@","@","@","@","@","@","@","@","@","@","@","@","@","@","@","@","@","@","@","@","@","@","@","@",{"$f":"'Month 9'!BL62","v":"@"},{"$f":"'Month 9'!BK62","v":"@"},{"$f":"'Month 9'!BJ62","v":"@"},{"$f":"'Month 9'!BI62","v":"@"},{"$error":"#N/A"},{"$error":"#N/A"},{"$error":"#N/A"},{"$error":"#N/A"},{"$f":"IF(ISNUMBER(SUM(COUNTIF(INDIRECT(CR62):INDIRECT(CS62),2),COUNTIF(INDIRECT(CR62):INDIRECT(CS62),1),COUNTIF(INDIRECT(CR62):INDIRECT(CS62),0))),SUM(COUNTIF(INDIRECT(CR62):INDIRECT(CS62),2),COUNTIF(INDIRECT(CR62):INDIRECT(CS62),1),COUNTIF(INDIRECT(CR62):INDIRECT(CS62),0)),\"\")","v":""},{"$f":"IF(ISNUMBER(SUM(COUNTIF(INDIRECT(CR62):INDIRECT(CT62),2),COUNTIF(INDIRECT(CR62):INDIRECT(CT62),1),COUNTIF(INDIRECT(CR62):INDIRECT(CT62),0))),SUM(COUNTIF(INDIRECT(CR62):INDIRECT(CT62),2),COUNTIF(INDIRECT(CR62):INDIRECT(CT62),1),COUNTIF(INDIRECT(CR62):INDIRECT(CT62),0)),\"\")","v":""},{"$f":"IF(ISNUMBER(SUM(COUNTIF(INDIRECT(CR62):INDIRECT(CU62),1),COUNTIF(INDIRECT(CR62):INDIRECT(CU62),0))),SUM(COUNTIF(INDIRECT(CR62):INDIRECT(CU62),1),COUNTIF(INDIRECT(CR62):INDIRECT(CU62),0)),\"\")","v":""},{"$f":"SUM(INDIRECT(CR62):INDIRECT(CS62))","v":{"$error":"#N/A"}},{"$f":"SUM(INDIRECT(CR62):INDIRECT(CT62))","v":{"$error":"#N/A"}},{"$f":"SUM(INDIRECT(CR62):INDIRECT(CU62))","v":{"$error":"#N/A"}}]
[null,null,1,{"$f":"IF(Modifications!$C$38=2,\"N\",\"\")","v":""},"",{"$f":"IF(ISBLANK('Month 1'!$F$63),\"\",'Month 1'!$F$63)","v":""},null,null,null,null,null,null,null,null,null,null,null,null,null,null,null,null,null,null,null,null,null,null,null,null,null,null,null,null,null,null,null,null,null,null,null,null,null,null,null,null,null,null,null,null,null,null,null,null,null,null,null,null,null,0,"@","@","@","@","@","@","@","@","@","@","@","@","@","@","@","@","@","@","@","@","@","@","@","@","@","@","@","@","@","@","@",{"$f":"'Month 9'!BL63","v":"@"},{"$f":"'Month 9'!BK63","v":"@"},{"$f":"'Month 9'!BJ63","v":"@"},{"$f":"'Month 9'!BI63","v":"@"},{"$error":"#N/A"},{"$error":"#N/A"},{"$error":"#N/A"},{"$error":"#N/A"},{"$f":"IF(ISNUMBER(SUM(COUNTIF(INDIRECT(CR63):INDIRECT(CS63),2),COUNTIF(INDIRECT(CR63):INDIRECT(CS63),1),COUNTIF(INDIRECT(CR63):INDIRECT(CS63),0))),SUM(COUNTIF(INDIRECT(CR63):INDIRECT(CS63),2),COUNTIF(INDIRECT(CR63):INDIRECT(CS63),1),COUNTIF(INDIRECT(CR63):INDIRECT(CS63),0)),\"\")","v":""},{"$f":"IF(ISNUMBER(SUM(COUNTIF(INDIRECT(CR63):INDIRECT(CT63),2),COUNTIF(INDIRECT(CR63):INDIRECT(CT63),1),COUNTIF(INDIRECT(CR63):INDIRECT(CT63),0))),SUM(COUNTIF(INDIRECT(CR63):INDIRECT(CT63),2),COUNTIF(INDIRECT(CR63):INDIRECT(CT63),1),COUNTIF(INDIRECT(CR63):INDIRECT(CT63),0)),\"\")","v":""},{"$f":"IF(ISNUMBER(SUM(COUNTIF(INDIRECT(CR63):INDIRECT(CU63),1),COUNTIF(INDIRECT(CR63):INDIRECT(CU63),0))),SUM(COUNTIF(INDIRECT(CR63):INDIRECT(CU63),1),COUNTIF(INDIRECT(CR63):INDIRECT(CU63),0)),\"\")","v":""},{"$f":"SUM(INDIRECT(CR63):INDIRECT(CS63))","v":{"$error":"#N/A"}},{"$f":"SUM(INDIRECT(CR63):INDIRECT(CT63))","v":{"$error":"#N/A"}},{"$f":"SUM(INDIRECT(CR63):INDIRECT(CU63))","v":{"$error":"#N/A"}}]
[null,null,1,{"$f":"IF(Modifications!$C$39=2,\"N\",\"\")","v":""},"",{"$f":"IF(ISBLANK('Month 1'!$F$64),\"\",'Month 1'!$F$64)","v":""},null,null,null,null,null,null,null,null,null,null,null,null,null,null,null,null,null,null,null,null,null,null,null,null,null,null,null,null,null,null,null,null,null,null,null,null,null,null,null,null,null,null,null,null,null,null,null,null,null,null,null,null,null,0,"@","@","@","@","@","@","@","@","@","@","@","@","@","@","@","@","@","@","@","@","@","@","@","@","@","@","@","@","@","@","@",{"$f":"'Month 9'!BL64","v":"@"},{"$f":"'Month 9'!BK64","v":"@"},{"$f":"'Month 9'!BJ64","v":"@"},{"$f":"'Month 9'!BI64","v":"@"},{"$error":"#N/A"},{"$error":"#N/A"},{"$error":"#N/A"},{"$error":"#N/A"},{"$f":"IF(ISNUMBER(SUM(COUNTIF(INDIRECT(CR64):INDIRECT(CS64),2),COUNTIF(INDIRECT(CR64):INDIRECT(CS64),1),COUNTIF(INDIRECT(CR64):INDIRECT(CS64),0))),SUM(COUNTIF(INDIRECT(CR64):INDIRECT(CS64),2),COUNTIF(INDIRECT(CR64):INDIRECT(CS64),1),COUNTIF(INDIRECT(CR64):INDIRECT(CS64),0)),\"\")","v":""},{"$f":"IF(ISNUMBER(SUM(COUNTIF(INDIRECT(CR64):INDIRECT(CT64),2),COUNTIF(INDIRECT(CR64):INDIRECT(CT64),1),COUNTIF(INDIRECT(CR64):INDIRECT(CT64),0))),SUM(COUNTIF(INDIRECT(CR64):INDIRECT(CT64),2),COUNTIF(INDIRECT(CR64):INDIRECT(CT64),1),COUNTIF(INDIRECT(CR64):INDIRECT(CT64),0)),\"\")","v":""},{"$f":"IF(ISNUMBER(SUM(COUNTIF(INDIRECT(CR64):INDIRECT(CU64),1),COUNTIF(INDIRECT(CR64):INDIRECT(CU64),0))),SUM(COUNTIF(INDIRECT(CR64):INDIRECT(CU64),1),COUNTIF(INDIRECT(CR64):INDIRECT(CU64),0)),\"\")","v":""},{"$f":"SUM(INDIRECT(CR64):INDIRECT(CS64))","v":{"$error":"#N/A"}},{"$f":"SUM(INDIRECT(CR64):INDIRECT(CT64))","v":{"$error":"#N/A"}},{"$f":"SUM(INDIRECT(CR64):INDIRECT(CU64))","v":{"$error":"#N/A"}}]
[null,null,1,{"$f":"IF(Modifications!$C$40=2,\"N\",\"\")","v":""},"",{"$f":"IF(ISBLANK('Month 1'!$F$65),\"\",'Month 1'!$F$65)","v":""},null,null,null,null,null,null,null,null,null,null,null,null,null,null,null,null,null,null,null,null,null,null,null,null,null,null,null,null,null,null,null,null,null,null,null,null,null,null,null,null,null,null,null,null,null,null,null,null,null,null,null,null,null,0,"@","@","@","@","@","@","@","@","@","@","@","@","@","@","@","@","@","@","@","@","@","@","@","@","@","@","@","@","@","@","@",{"$f":"'Month 9'!BL65","v":"@"},{"$f":"'Month 9'!BK65","v":"@"},{"$f":"'Month 9'!BJ65","v":"@"},{"$f":"'Month 9'!BI65","v":"@"},{"$error":"#N/A"},{"$error":"#N/A"},{"$error":"#N/A"},{"$error":"#N/A"},{"$f":"IF(ISNUMBER(SUM(COUNTIF(INDIRECT(CR65):INDIRECT(CS65),2),COUNTIF(INDIRECT(CR65):INDIRECT(CS65),1),COUNTIF(INDIRECT(CR65):INDIRECT(CS65),0))),SUM(COUNTIF(INDIRECT(CR65):INDIRECT(CS65),2),COUNTIF(INDIRECT(CR65):INDIRECT(CS65),1),COUNTIF(INDIRECT(CR65):INDIRECT(CS65),0)),\"\")","v":""},{"$f":"IF(ISNUMBER(SUM(COUNTIF(INDIRECT(CR65):INDIRECT(CT65),2),COUNTIF(INDIRECT(CR65):INDIRECT(CT65),1),COUNTIF(INDIRECT(CR65):INDIRECT(CT65),0))),SUM(COUNTIF(INDIRECT(CR65):INDIRECT(CT65),2),COUNTIF(INDIRECT(CR65):INDIRECT(CT65),1),COUNTIF(INDIRECT(CR65):INDIRECT(CT65),0)),\"\")","v":""},{"$f":"IF(ISNUMBER(SUM(COUNTIF(INDIRECT(CR65):INDIRECT(CU65),1),COUNTIF(INDIRECT(CR65):INDIRECT(CU65),0))),SUM(COUNTIF(INDIRECT(CR65):INDIRECT(CU65),1),COUNTIF(INDIRECT(CR65):INDIRECT(CU65),0)),\"\")","v":""},{"$f":"SUM(INDIRECT(CR65):INDIRECT(CS65))","v":{"$error":"#N/A"}},{"$f":"SUM(INDIRECT(CR65):INDIRECT(CT65))","v":{"$error":"#N/A"}},{"$f":"SUM(INDIRECT(CR65):INDIRECT(CU65))","v":{"$error":"#N/A"}}]
[null,null,1,{"$f":"IF(Modifications!$C$41=2,\"N\",\"\")","v":""},"",{"$f":"IF(ISBLANK('Month 1'!$F$66),\"\",'Month 1'!$F$66)","v":""},null,null,null,null,null,null,null,null,null,null,null,null,null,null,null,null,null,null,null,null,null,null,null,null,null,null,null,null,null,null,null,null,null,null,null,null,null,null,null,null,null,null,null,null,null,null,null,null,null,null,null,null,null,0,"@","@","@","@","@","@","@","@","@","@","@","@","@","@","@","@","@","@","@","@","@","@","@","@","@","@","@","@","@","@","@",{"$f":"'Month 9'!BL66","v":"@"},{"$f":"'Month 9'!BK66","v":"@"},{"$f":"'Month 9'!BJ66","v":"@"},{"$f":"'Month 9'!BI66","v":"@"},{"$error":"#N/A"},{"$error":"#N/A"},{"$error":"#N/A"},{"$error":"#N/A"},{"$f":"IF(ISNUMBER(SUM(COUNTIF(INDIRECT(CR66):INDIRECT(CS66),2),COUNTIF(INDIRECT(CR66):INDIRECT(CS66),1),COUNTIF(INDIRECT(CR66):INDIRECT(CS66),0))),SUM(COUNTIF(INDIRECT(CR66):INDIRECT(CS66),2),COUNTIF(INDIRECT(CR66):INDIRECT(CS66),1),COUNTIF(INDIRECT(CR66):INDIRECT(CS66),0)),\"\")","v":""},{"$f":"IF(ISNUMBER(SUM(COUNTIF(INDIRECT(CR66):INDIRECT(CT66),2),COUNTIF(INDIRECT(CR66):INDIRECT(CT66),1),COUNTIF(INDIRECT(CR66):INDIRECT(CT66),0))),SUM(COUNTIF(INDIRECT(CR66):INDIRECT(CT66),2),COUNTIF(INDIRECT(CR66):INDIRECT(CT66),1),COUNTIF(INDIRECT(CR66):INDIRECT(CT66),0)),\"\")","v":""},{"$f":"IF(ISNUMBER(SUM(COUNTIF(INDIRECT(CR66):INDIRECT(CU66),1),COUNTIF(INDIRECT(CR66):INDIRECT(CU66),0))),SUM(COUNTIF(INDIRECT(CR66):INDIRECT(CU66),1),COUNTIF(INDIRECT(CR66):INDIRECT(CU66),0)),\"\")","v":""},{"$f":"SUM(INDIRECT(CR66):INDIRECT(CS66))","v":{"$error":"#N/A"}},{"$f":"SUM(INDIRECT(CR66):INDIRECT(CT66))","v":{"$error":"#N/A"}},{"$f":"SUM(INDIRECT(CR66):INDIRECT(CU66))","v":{"$error":"#N/A"}}]
[null,null,1,{"$f":"IF(Modifications!$C$42=2,\"N\",\"\")","v":""},"",{"$f":"IF(ISBLANK('Month 1'!$F$67),\"\",'Month 1'!$F$67)","v":""},null,null,null,null,null,null,null,null,null,null,null,null,null,null,null,null,null,null,null,null,null,null,null,null,null,null,null,null,null,null,null,null,null,null,null,null,null,null,null,null,null,null,null,null,null,null,null,null,null,null,null,null,null,0,"@","@","@","@","@","@","@","@","@","@","@","@","@","@","@","@","@","@","@","@","@","@","@","@","@","@","@","@","@","@","@",{"$f":"'Month 9'!BL67","v":"@"},{"$f":"'Month 9'!BK67","v":"@"},{"$f":"'Month 9'!BJ67","v":"@"},{"$f":"'Month 9'!BI67","v":"@"},{"$error":"#N/A"},{"$error":"#N/A"},{"$error":"#N/A"},{"$error":"#N/A"},{"$f":"IF(ISNUMBER(SUM(COUNTIF(INDIRECT(CR67):INDIRECT(CS67),2),COUNTIF(INDIRECT(CR67):INDIRECT(CS67),1),COUNTIF(INDIRECT(CR67):INDIRECT(CS67),0))),SUM(COUNTIF(INDIRECT(CR67):INDIRECT(CS67),2),COUNTIF(INDIRECT(CR67):INDIRECT(CS67),1),COUNTIF(INDIRECT(CR67):INDIRECT(CS67),0)),\"\")","v":""},{"$f":"IF(ISNUMBER(SUM(COUNTIF(INDIRECT(CR67):INDIRECT(CT67),2),COUNTIF(INDIRECT(CR67):INDIRECT(CT67),1),COUNTIF(INDIRECT(CR67):INDIRECT(CT67),0))),SUM(COUNTIF(INDIRECT(CR67):INDIRECT(CT67),2),COUNTIF(INDIRECT(CR67):INDIRECT(CT67),1),COUNTIF(INDIRECT(CR67):INDIRECT(CT67),0)),\"\")","v":""},{"$f":"IF(ISNUMBER(SUM(COUNTIF(INDIRECT(CR67):INDIRECT(CU67),1),COUNTIF(INDIRECT(CR67):INDIRECT(CU67),0))),SUM(COUNTIF(INDIRECT(CR67):INDIRECT(CU67),1),COUNTIF(INDIRECT(CR67):INDIRECT(CU67),0)),\"\")","v":""},{"$f":"SUM(INDIRECT(CR67):INDIRECT(CS67))","v":{"$error":"#N/A"}},{"$f":"SUM(INDIRECT(CR67):INDIRECT(CT67))","v":{"$error":"#N/A"}},{"$f":"SUM(INDIRECT(CR67):INDIRECT(CU67))","v":{"$error":"#N/A"}}]
[null,null,1,{"$f":"IF(Modifications!$C$43=2,\"N\",\"\")","v":""},"",{"$f":"IF(ISBLANK('Month 1'!$F$68),\"\",'Month 1'!$F$68)","v":""},null,null,null,null,null,null,null,null,null,null,null,null,null,null,null,null,null,null,null,null,null,null,null,null,null,null,null,null,null,null,null,null,null,null,null,null,null,null,null,null,null,null,null,null,null,null,null,null,null,null,null,null,null,0,"@","@","@","@","@","@","@","@","@","@","@","@","@","@","@","@","@","@","@","@","@","@","@","@","@","@","@","@","@","@","@",{"$f":"'Month 9'!BL68","v":"@"},{"$f":"'Month 9'!BK68","v":"@"},{"$f":"'Month 9'!BJ68","v":"@"},{"$f":"'Month 9'!BI68","v":"@"},{"$error":"#N/A"},{"$error":"#N/A"},{"$error":"#N/A"},{"$error":"#N/A"},{"$f":"IF(ISNUMBER(SUM(COUNTIF(INDIRECT(CR68):INDIRECT(CS68),2),COUNTIF(INDIRECT(CR68):INDIRECT(CS68),1),COUNTIF(INDIRECT(CR68):INDIRECT(CS68),0))),SUM(COUNTIF(INDIRECT(CR68):INDIRECT(CS68),2),COUNTIF(INDIRECT(CR68):INDIRECT(CS68),1),COUNTIF(INDIRECT(CR68):INDIRECT(CS68),0)),\"\")","v":""},{"$f":"IF(ISNUMBER(SUM(COUNTIF(INDIRECT(CR68):INDIRECT(CT68),2),COUNTIF(INDIRECT(CR68):INDIRECT(CT68),1),COUNTIF(INDIRECT(CR68):INDIRECT(CT68),0))),SUM(COUNTIF(INDIRECT(CR68):INDIRECT(CT68),2),COUNTIF(INDIRECT(CR68):INDIRECT(CT68),1),COUNTIF(INDIRECT(CR68):INDIRECT(CT68),0)),\"\")","v":""},{"$f":"IF(ISNUMBER(SUM(COUNTIF(INDIRECT(CR68):INDIRECT(CU68),1),COUNTIF(INDIRECT(CR68):INDIRECT(CU68),0))),SUM(COUNTIF(INDIRECT(CR68):INDIRECT(CU68),1),COUNTIF(INDIRECT(CR68):INDIRECT(CU68),0)),\"\")","v":""},{"$f":"SUM(INDIRECT(CR68):INDIRECT(CS68))","v":{"$error":"#N/A"}},{"$f":"SUM(INDIRECT(CR68):INDIRECT(CT68))","v":{"$error":"#N/A"}},{"$f":"SUM(INDIRECT(CR68):INDIRECT(CU68))","v":{"$error":"#N/A"}}]
[null,null,1,{"$f":"IF(Modifications!$C$44=2,\"N\",\"\")","v":""},"",{"$f":"IF(ISBLANK('Month 1'!$F$69),\"\",'Month 1'!$F$69)","v":""},null,null,null,null,null,null,null,null,null,null,null,null,null,null,null,null,null,null,null,null,null,null,null,null,null,null,null,null,null,null,null,null,null,null,null,null,null,null,null,null,null,null,null,null,null,null,null,null,null,null,null,null,null,0,"@","@","@","@","@","@","@","@","@","@","@","@","@","@","@","@","@","@","@","@","@","@","@","@","@","@","@","@","@","@","@",{"$f":"'Month 9'!BL69","v":"@"},{"$f":"'Month 9'!BK69","v":"@"},{"$f":"'Month 9'!BJ69","v":"@"},{"$f":"'Month 9'!BI69","v":"@"},{"$error":"#N/A"},{"$error":"#N/A"},{"$error":"#N/A"},{"$error":"#N/A"},{"$f":"IF(ISNUMBER(SUM(COUNTIF(INDIRECT(CR69):INDIRECT(CS69),2),COUNTIF(INDIRECT(CR69):INDIRECT(CS69),1),COUNTIF(INDIRECT(CR69):INDIRECT(CS69),0))),SUM(COUNTIF(INDIRECT(CR69):INDIRECT(CS69),2),COUNTIF(INDIRECT(CR69):INDIRECT(CS69),1),COUNTIF(INDIRECT(CR69):INDIRECT(CS69),0)),\"\")","v":""},{"$f":"IF(ISNUMBER(SUM(COUNTIF(INDIRECT(CR69):INDIRECT(CT69),2),COUNTIF(INDIRECT(CR69):INDIRECT(CT69),1),COUNTIF(INDIRECT(CR69):INDIRECT(CT69),0))),SUM(COUNTIF(INDIRECT(CR69):INDIRECT(CT69),2),COUNTIF(INDIRECT(CR69):INDIRECT(CT69),1),COUNTIF(INDIRECT(CR69):INDIRECT(CT69),0)),\"\")","v":""},{"$f":"IF(ISNUMBER(SUM(COUNTIF(INDIRECT(CR69):INDIRECT(CU69),1),COUNTIF(INDIRECT(CR69):INDIRECT(CU69),0))),SUM(COUNTIF(INDIRECT(CR69):INDIRECT(CU69),1),COUNTIF(INDIRECT(CR69):INDIRECT(CU69),0)),\"\")","v":""},{"$f":"SUM(INDIRECT(CR69):INDIRECT(CS69))","v":{"$error":"#N/A"}},{"$f":"SUM(INDIRECT(CR69):INDIRECT(CT69))","v":{"$error":"#N/A"}},{"$f":"SUM(INDIRECT(CR69):INDIRECT(CU69))","v":{"$error":"#N/A"}}]
[null,null,1,{"$f":"IF(Modifications!$C$45=2,\"N\",\"\")","v":""},"",{"$f":"IF(ISBLANK('Month 1'!$F$70),\"\",'Month 1'!$F$70)","v":""},null,null,null,null,null,null,null,null,null,null,null,null,null,null,null,null,null,null,null,null,null,null,null,null,null,null,null,null,null,null,null,null,null,null,null,null,null,null,null,null,null,null,null,null,null,null,null,null,null,null,null,null,null,0,"@","@","@","@","@","@","@","@","@","@","@","@","@","@","@","@","@","@","@","@","@","@","@","@","@","@","@","@","@","@","@",{"$f":"'Month 9'!BL70","v":"@"},{"$f":"'Month 9'!BK70","v":"@"},{"$f":"'Month 9'!BJ70","v":"@"},{"$f":"'Month 9'!BI70","v":"@"},{"$error":"#N/A"},{"$error":"#N/A"},{"$error":"#N/A"},{"$error":"#N/A"},{"$f":"IF(ISNUMBER(SUM(COUNTIF(INDIRECT(CR70):INDIRECT(CS70),2),COUNTIF(INDIRECT(CR70):INDIRECT(CS70),1),COUNTIF(INDIRECT(CR70):INDIRECT(CS70),0))),SUM(COUNTIF(INDIRECT(CR70):INDIRECT(CS70),2),COUNTIF(INDIRECT(CR70):INDIRECT(CS70),1),COUNTIF(INDIRECT(CR70):INDIRECT(CS70),0)),\"\")","v":""},{"$f":"IF(ISNUMBER(SUM(COUNTIF(INDIRECT(CR70):INDIRECT(CT70),2),COUNTIF(INDIRECT(CR70):INDIRECT(CT70),1),COUNTIF(INDIRECT(CR70):INDIRECT(CT70),0))),SUM(COUNTIF(INDIRECT(CR70):INDIRECT(CT70),2),COUNTIF(INDIRECT(CR70):INDIRECT(CT70),1),COUNTIF(INDIRECT(CR70):INDIRECT(CT70),0)),\"\")","v":""},{"$f":"IF(ISNUMBER(SUM(COUNTIF(INDIRECT(CR70):INDIRECT(CU70),1),COUNTIF(INDIRECT(CR70):INDIRECT(CU70),0))),SUM(COUNTIF(INDIRECT(CR70):INDIRECT(CU70),1),COUNTIF(INDIRECT(CR70):INDIRECT(CU70),0)),\"\")","v":""},{"$f":"SUM(INDIRECT(CR70):INDIRECT(CS70))","v":{"$error":"#N/A"}},{"$f":"SUM(INDIRECT(CR70):INDIRECT(CT70))","v":{"$error":"#N/A"}},{"$f":"SUM(INDIRECT(CR70):INDIRECT(CU70))","v":{"$error":"#N/A"}}]
[null,null,1,{"$f":"IF(Modifications!$C$46=2,\"N\",\"\")","v":""},"",{"$f":"IF(ISBLANK('Month 1'!$F$71),\"\",'Month 1'!$F$71)","v":""},null,null,null,null,null,null,null,null,null,null,null,null,null,null,null,null,null,null,null,null,null,null,null,null,null,null,null,null,null,null,null,null,null,null,null,null,null,null,null,null,null,null,null,null,null,null,null,null,null,null,null,null,null,0,"@","@","@","@","@","@","@","@","@","@","@","@","@","@","@","@","@","@","@","@","@","@","@","@","@","@","@","@","@","@","@",{"$f":"'Month 9'!BL71","v":"@"},{"$f":"'Month 9'!BK71","v":"@"},{"$f":"'Month 9'!BJ71","v":"@"},{"$f":"'Month 9'!BI71","v":"@"},{"$error":"#N/A"},{"$error":"#N/A"},{"$error":"#N/A"},{"$error":"#N/A"},{"$f":"IF(ISNUMBER(SUM(COUNTIF(INDIRECT(CR71):INDIRECT(CS71),2),COUNTIF(INDIRECT(CR71):INDIRECT(CS71),1),COUNTIF(INDIRECT(CR71):INDIRECT(CS71),0))),SUM(COUNTIF(INDIRECT(CR71):INDIRECT(CS71),2),COUNTIF(INDIRECT(CR71):INDIRECT(CS71),1),COUNTIF(INDIRECT(CR71):INDIRECT(CS71),0)),\"\")","v":""},{"$f":"IF(ISNUMBER(SUM(COUNTIF(INDIRECT(CR71):INDIRECT(CT71),2),COUNTIF(INDIRECT(CR71):INDIRECT(CT71),1),COUNTIF(INDIRECT(CR71):INDIRECT(CT71),0))),SUM(COUNTIF(INDIRECT(CR71):INDIRECT(CT71),2),COUNTIF(INDIRECT(CR71):INDIRECT(CT71),1),COUNTIF(INDIRECT(CR71):INDIRECT(CT71),0)),\"\")","v":""},{"$f":"IF(ISNUMBER(SUM(COUNTIF(INDIRECT(CR71):INDIRECT(CU71),1),COUNTIF(INDIRECT(CR71):INDIRECT(CU71),0))),SUM(COUNTIF(INDIRECT(CR71):INDIRECT(CU71),1),COUNTIF(INDIRECT(CR71):INDIRECT(CU71),0)),\"\")","v":""},{"$f":"SUM(INDIRECT(CR71):INDIRECT(CS71))","v":{"$error":"#N/A"}},{"$f":"SUM(INDIRECT(CR71):INDIRECT(CT71))","v":{"$error":"#N/A"}},{"$f":"SUM(INDIRECT(CR71):INDIRECT(CU71))","v":{"$error":"#N/A"}}]
[null,null,1,{"$f":"IF(Modifications!$C$47=2,\"N\",\"\")","v":""},"",{"$f":"IF(ISBLANK('Month 1'!$F$72),\"\",'Month 1'!$F$72)","v":""},null,null,null,null,null,null,null,null,null,null,null,null,null,null,null,null,null,null,null,null,null,null,null,null,null,null,null,null,null,null,null,null,null,null,null,null,null,null,null,null,null,null,null,null,null,null,null,null,null,null,null,null,null,0,"@","@","@","@","@","@","@","@","@","@","@","@","@","@","@","@","@","@","@","@","@","@","@","@","@","@","@","@","@","@","@",{"$f":"'Month 9'!BL72","v":"@"},{"$f":"'Month 9'!BK72","v":"@"},{"$f":"'Month 9'!BJ72","v":"@"},{"$f":"'Month 9'!BI72","v":"@"},{"$error":"#N/A"},{"$error":"#N/A"},{"$error":"#N/A"},{"$error":"#N/A"},{"$f":"IF(ISNUMBER(SUM(COUNTIF(INDIRECT(CR72):INDIRECT(CS72),2),COUNTIF(INDIRECT(CR72):INDIRECT(CS72),1),COUNTIF(INDIRECT(CR72):INDIRECT(CS72),0))),SUM(COUNTIF(INDIRECT(CR72):INDIRECT(CS72),2),COUNTIF(INDIRECT(CR72):INDIRECT(CS72),1),COUNTIF(INDIRECT(CR72):INDIRECT(CS72),0)),\"\")","v":""},{"$f":"IF(ISNUMBER(SUM(COUNTIF(INDIRECT(CR72):INDIRECT(CT72),2),COUNTIF(INDIRECT(CR72):INDIRECT(CT72),1),COUNTIF(INDIRECT(CR72):INDIRECT(CT72),0))),SUM(COUNTIF(INDIRECT(CR72):INDIRECT(CT72),2),COUNTIF(INDIRECT(CR72):INDIRECT(CT72),1),COUNTIF(INDIRECT(CR72):INDIRECT(CT72),0)),\"\")","v":""},{"$f":"IF(ISNUMBER(SUM(COUNTIF(INDIRECT(CR72):INDIRECT(CU72),1),COUNTIF(INDIRECT(CR72):INDIRECT(CU72),0))),SUM(COUNTIF(INDIRECT(CR72):INDIRECT(CU72),1),COUNTIF(INDIRECT(CR72):INDIRECT(CU72),0)),\"\")","v":""},{"$f":"SUM(INDIRECT(CR72):INDIRECT(CS72))","v":{"$error":"#N/A"}},{"$f":"SUM(INDIRECT(CR72):INDIRECT(CT72))","v":{"$error":"#N/A"}},{"$f":"SUM(INDIRECT(CR72):INDIRECT(CU72))","v":{"$error":"#N/A"}}]
[null,null,1,{"$f":"IF(Modifications!$C$48=2,\"N\",\"\")","v":""},"",{"$f":"IF(ISBLANK('Month 1'!$F$73),\"\",'Month 1'!$F$73)","v":""},null,null,null,null,null,null,null,null,null,null,null,null,null,null,null,null,null,null,null,null,null,null,null,null,null,null,null,null,null,null,null,null,null,null,null,null,null,null,null,null,null,null,null,null,null,null,null,null,null,null,null,null,null,0,"@","@","@","@","@","@","@","@","@","@","@","@","@","@","@","@","@","@","@","@","@","@","@","@","@","@","@","@","@","@","@",{"$f":"'Month 9'!BL73","v":"@"},{"$f":"'Month 9'!BK73","v":"@"},{"$f":"'Month 9'!BJ73","v":"@"},{"$f":"'Month 9'!BI73","v":"@"},{"$error":"#N/A"},{"$error":"#N/A"},{"$error":"#N/A"},{"$error":"#N/A"},{"$f":"IF(ISNUMBER(SUM(COUNTIF(INDIRECT(CR73):INDIRECT(CS73),2),COUNTIF(INDIRECT(CR73):INDIRECT(CS73),1),COUNTIF(INDIRECT(CR73):INDIRECT(CS73),0))),SUM(COUNTIF(INDIRECT(CR73):INDIRECT(CS73),2),COUNTIF(INDIRECT(CR73):INDIRECT(CS73),1),COUNTIF(INDIRECT(CR73):INDIRECT(CS73),0)),\"\")","v":""},{"$f":"IF(ISNUMBER(SUM(COUNTIF(INDIRECT(CR73):INDIRECT(CT73),2),COUNTIF(INDIRECT(CR73):INDIRECT(CT73),1),COUNTIF(INDIRECT(CR73):INDIRECT(CT73),0))),SUM(COUNTIF(INDIRECT(CR73):INDIRECT(CT73),2),COUNTIF(INDIRECT(CR73):INDIRECT(CT73),1),COUNTIF(INDIRECT(CR73):INDIRECT(CT73),0)),\"\")","v":""},{"$f":"IF(ISNUMBER(SUM(COUNTIF(INDIRECT(CR73):INDIRECT(CU73),1),COUNTIF(INDIRECT(CR73):INDIRECT(CU73),0))),SUM(COUNTIF(INDIRECT(CR73):INDIRECT(CU73),1),COUNTIF(INDIRECT(CR73):INDIRECT(CU73),0)),\"\")","v":""},{"$f":"SUM(INDIRECT(CR73):INDIRECT(CS73))","v":{"$error":"#N/A"}},{"$f":"SUM(INDIRECT(CR73):INDIRECT(CT73))","v":{"$error":"#N/A"}},{"$f":"SUM(INDIRECT(CR73):INDIRECT(CU73))","v":{"$error":"#N/A"}}]
[null,null,1,{"$f":"IF(Modifications!$C$49=2,\"N\",\"\")","v":""},"",{"$f":"IF(ISBLANK('Month 1'!$F$74),\"\",'Month 1'!$F$74)","v":""},null,null,null,null,null,null,null,null,null,null,null,null,null,null,null,null,null,null,null,null,null,null,null,null,null,null,null,null,null,null,null,null,null,null,null,null,null,null,null,null,null,null,null,null,null,null,null,null,null,null,null,null,null,0,"@","@","@","@","@","@","@","@","@","@","@","@","@","@","@","@","@","@","@","@","@","@","@","@","@","@","@","@","@","@","@",{"$f":"'Month 9'!BL74","v":"@"},{"$f":"'Month 9'!BK74","v":"@"},{"$f":"'Month 9'!BJ74","v":"@"},{"$f":"'Month 9'!BI74","v":"@"},{"$error":"#N/A"},{"$error":"#N/A"},{"$error":"#N/A"},{"$error":"#N/A"},{"$f":"IF(ISNUMBER(SUM(COUNTIF(INDIRECT(CR74):INDIRECT(CS74),2),COUNTIF(INDIRECT(CR74):INDIRECT(CS74),1),COUNTIF(INDIRECT(CR74):INDIRECT(CS74),0))),SUM(COUNTIF(INDIRECT(CR74):INDIRECT(CS74),2),COUNTIF(INDIRECT(CR74):INDIRECT(CS74),1),COUNTIF(INDIRECT(CR74):INDIRECT(CS74),0)),\"\")","v":""},{"$f":"IF(ISNUMBER(SUM(COUNTIF(INDIRECT(CR74):INDIRECT(CT74),2),COUNTIF(INDIRECT(CR74):INDIRECT(CT74),1),COUNTIF(INDIRECT(CR74):INDIRECT(CT74),0))),SUM(COUNTIF(INDIRECT(CR74):INDIRECT(CT74),2),COUNTIF(INDIRECT(CR74):INDIRECT(CT74),1),COUNTIF(INDIRECT(CR74):INDIRECT(CT74),0)),\"\")","v":""},{"$f":"IF(ISNUMBER(SUM(COUNTIF(INDIRECT(CR74):INDIRECT(CU74),1),COUNTIF(INDIRECT(CR74):INDIRECT(CU74),0))),SUM(COUNTIF(INDIRECT(CR74):INDIRECT(CU74),1),COUNTIF(INDIRECT(CR74):INDIRECT(CU74),0)),\"\")","v":""},{"$f":"SUM(INDIRECT(CR74):INDIRECT(CS74))","v":{"$error":"#N/A"}},{"$f":"SUM(INDIRECT(CR74):INDIRECT(CT74))","v":{"$error":"#N/A"}},{"$f":"SUM(INDIRECT(CR74):INDIRECT(CU74))","v":{"$error":"#N/A"}}]
[null,null,1,{"$f":"IF(Modifications!$C$50=2,\"N\",\"\")","v":""},"",{"$f":"IF(ISBLANK('Month 1'!$F$75),\"\",'Month 1'!$F$75)","v":""},null,null,null,null,null,null,null,null,null,null,null,null,null,null,null,null,null,null,null,null,null,null,null,null,null,null,null,null,null,null,null,null,null,null,null,null,null,null,null,null,null,null,null,null,null,null,null,null,null,null,null,null,null,0,"@","@","@","@","@","@","@","@","@","@","@","@","@","@","@","@","@","@","@","@","@","@","@","@","@","@","@","@","@","@","@",{"$f":"'Month 9'!BL75","v":"@"},{"$f":"'Month 9'!BK75","v":"@"},{"$f":"'Month 9'!BJ75","v":"@"},{"$f":"'Month 9'!BI75","v":"@"},{"$error":"#N/A"},{"$error":"#N/A"},{"$error":"#N/A"},{"$error":"#N/A"},{"$f":"IF(ISNUMBER(SUM(COUNTIF(INDIRECT(CR75):INDIRECT(CS75),2),COUNTIF(INDIRECT(CR75):INDIRECT(CS75),1),COUNTIF(INDIRECT(CR75):INDIRECT(CS75),0))),SUM(COUNTIF(INDIRECT(CR75):INDIRECT(CS75),2),COUNTIF(INDIRECT(CR75):INDIRECT(CS75),1),COUNTIF(INDIRECT(CR75):INDIRECT(CS75),0)),\"\")","v":""},{"$f":"IF(ISNUMBER(SUM(COUNTIF(INDIRECT(CR75):INDIRECT(CT75),2),COUNTIF(INDIRECT(CR75):INDIRECT(CT75),1),COUNTIF(INDIRECT(CR75):INDIRECT(CT75),0))),SUM(COUNTIF(INDIRECT(CR75):INDIRECT(CT75),2),COUNTIF(INDIRECT(CR75):INDIRECT(CT75),1),COUNTIF(INDIRECT(CR75):INDIRECT(CT75),0)),\"\")","v":""},{"$f":"IF(ISNUMBER(SUM(COUNTIF(INDIRECT(CR75):INDIRECT(CU75),1),COUNTIF(INDIRECT(CR75):INDIRECT(CU75),0))),SUM(COUNTIF(INDIRECT(CR75):INDIRECT(CU75),1),COUNTIF(INDIRECT(CR75):INDIRECT(CU75),0)),\"\")","v":""},{"$f":"SUM(INDIRECT(CR75):INDIRECT(CS75))","v":{"$error":"#N/A"}},{"$f":"SUM(INDIRECT(CR75):INDIRECT(CT75))","v":{"$error":"#N/A"}},{"$f":"SUM(INDIRECT(CR75):INDIRECT(CU75))","v":{"$error":"#N/A"}}]
[null,null,1,{"$f":"IF(Modifications!$C$51=2,\"N\",\"\")","v":""},"",{"$f":"IF(ISBLANK('Month 1'!$F$76),\"\",'Month 1'!$F$76)","v":""},null,null,null,null,null,null,null,null,null,null,null,null,null,null,null,null,null,null,null,null,null,null,null,null,null,null,null,null,null,null,null,null,null,null,null,null,null,null,null,null,null,null,null,null,null,null,null,null,null,null,null,null,null,0,"@","@","@","@","@","@","@","@","@","@","@","@","@","@","@","@","@","@","@","@","@","@","@","@","@","@","@","@","@","@","@",{"$f":"'Month 9'!BL76","v":"@"},{"$f":"'Month 9'!BK76","v":"@"},{"$f":"'Month 9'!BJ76","v":"@"},{"$f":"'Month 9'!BI76","v":"@"},{"$error":"#N/A"},{"$error":"#N/A"},{"$error":"#N/A"},{"$error":"#N/A"},{"$f":"IF(ISNUMBER(SUM(COUNTIF(INDIRECT(CR76):INDIRECT(CS76),2),COUNTIF(INDIRECT(CR76):INDIRECT(CS76),1),COUNTIF(INDIRECT(CR76):INDIRECT(CS76),0))),SUM(COUNTIF(INDIRECT(CR76):INDIRECT(CS76),2),COUNTIF(INDIRECT(CR76):INDIRECT(CS76),1),COUNTIF(INDIRECT(CR76):INDIRECT(CS76),0)),\"\")","v":""},{"$f":"IF(ISNUMBER(SUM(COUNTIF(INDIRECT(CR76):INDIRECT(CT76),2),COUNTIF(INDIRECT(CR76):INDIRECT(CT76),1),COUNTIF(INDIRECT(CR76):INDIRECT(CT76),0))),SUM(COUNTIF(INDIRECT(CR76):INDIRECT(CT76),2),COUNTIF(INDIRECT(CR76):INDIRECT(CT76),1),COUNTIF(INDIRECT(CR76):INDIRECT(CT76),0)),\"\")","v":""},{"$f":"IF(ISNUMBER(SUM(COUNTIF(INDIRECT(CR76):INDIRECT(CU76),1),COUNTIF(INDIRECT(CR76):INDIRECT(CU76),0))),SUM(COUNTIF(INDIRECT(CR76):INDIRECT(CU76),1),COUNTIF(INDIRECT(CR76):INDIRECT(CU76),0)),\"\")","v":""},{"$f":"SUM(INDIRECT(CR76):INDIRECT(CS76))","v":{"$error":"#N/A"}},{"$f":"SUM(INDIRECT(CR76):INDIRECT(CT76))","v":{"$error":"#N/A"}},{"$f":"SUM(INDIRECT(CR76):INDIRECT(CU76))","v":{"$error":"#N/A"}}]
[null,null,null,null,null,null,null,null,null,null,null,null,null,null,null,null,null,null,null,null,null,null,null,null,null,null,null,null,null,null,null,null,null,null,null,null,null,null,null,null,null,null,null,null,null,null,null,null,null,null,null,null,null,null,null,null,null,null,null,0,"@","@","@","@","@","@","@","@","@","@","@","@","@","@","@","@","@","@","@","@","@","@","@","@","@","@","@","@","@","@","@",{"$f":"'Month 9'!BL77","v":"@"},{"$f":"'Month 9'!BK77","v":"@"},{"$f":"'Month 9'!BJ77","v":"@"},{"$f":"'Month 9'!BI77","v":"@"},{"$error":"#N/A"},{"$error":"#N/A"},{"$error":"#N/A"},{"$error":"#N/A"},{"$f":"IF(ISNUMBER(SUM(COUNTIF(INDIRECT(CR77):INDIRECT(CS77),2),COUNTIF(INDIRECT(CR77):INDIRECT(CS77),1),COUNTIF(INDIRECT(CR77):INDIRECT(CS77),0))),SUM(COUNTIF(INDIRECT(CR77):INDIRECT(CS77),2),COUNTIF(INDIRECT(CR77):INDIRECT(CS77),1),COUNTIF(INDIRECT(CR77):INDIRECT(CS77),0)),\"\")","v":""},{"$f":"IF(ISNUMBER(SUM(COUNTIF(INDIRECT(CR77):INDIRECT(CT77),2),COUNTIF(INDIRECT(CR77):INDIRECT(CT77),1),COUNTIF(INDIRECT(CR77):INDIRECT(CT77),0))),SUM(COUNTIF(INDIRECT(CR77):INDIRECT(CT77),2),COUNTIF(INDIRECT(CR77):INDIRECT(CT77),1),COUNTIF(INDIRECT(CR77):INDIRECT(CT77),0)),\"\")","v":""},{"$f":"IF(ISNUMBER(SUM(COUNTIF(INDIRECT(CR77):INDIRECT(CU77),1),COUNTIF(INDIRECT(CR77):INDIRECT(CU77),0))),SUM(COUNTIF(INDIRECT(CR77):INDIRECT(CU77),1),COUNTIF(INDIRECT(CR77):INDIRECT(CU77),0)),\"\")","v":""},{"$f":"SUM(INDIRECT(CR77):INDIRECT(CS77))","v":{"$error":"#N/A"}},{"$f":"SUM(INDIRECT(CR77):INDIRECT(CT77))","v":{"$error":"#N/A"}},{"$f":"SUM(INDIRECT(CR77):INDIRECT(CU77))","v":{"$error":"#N/A"}}]
[null,null,null,null,null,null,null,null,null,null,null,null,null,null,null,null,null,null,null,null,null,null,null,null,null,null,null,null,null,null,null,null,null,null,null,null,null,null,null,null,null,null,null,null,null,null,null,null,null,null,null,null,null,null,null,null,null,null,null,0,"@","@","@","@","@","@","@","@","@","@","@","@","@","@","@","@","@","@","@","@","@","@","@","@","@","@","@","@","@","@","@",{"$f":"'Month 9'!BL78","v":"@"},{"$f":"'Month 9'!BK78","v":"@"},{"$f":"'Month 9'!BJ78","v":"@"},{"$f":"'Month 9'!BI78","v":"@"},{"$error":"#N/A"},{"$error":"#N/A"},{"$error":"#N/A"},{"$error":"#N/A"},{"$f":"IF(ISNUMBER(SUM(COUNTIF(INDIRECT(CR78):INDIRECT(CS78),2),COUNTIF(INDIRECT(CR78):INDIRECT(CS78),1),COUNTIF(INDIRECT(CR78):INDIRECT(CS78),0))),SUM(COUNTIF(INDIRECT(CR78):INDIRECT(CS78),2),COUNTIF(INDIRECT(CR78):INDIRECT(CS78),1),COUNTIF(INDIRECT(CR78):INDIRECT(CS78),0)),\"\")","v":""},{"$f":"IF(ISNUMBER(SUM(COUNTIF(INDIRECT(CR78):INDIRECT(CT78),2),COUNTIF(INDIRECT(CR78):INDIRECT(CT78),1),COUNTIF(INDIRECT(CR78):INDIRECT(CT78),0))),SUM(COUNTIF(INDIRECT(CR78):INDIRECT(CT78),2),COUNTIF(INDIRECT(CR78):INDIRECT(CT78),1),COUNTIF(INDIRECT(CR78):INDIRECT(CT78),0)),\"\")","v":""},{"$f":"IF(ISNUMBER(SUM(COUNTIF(INDIRECT(CR78):INDIRECT(CU78),1),COUNTIF(INDIRECT(CR78):INDIRECT(CU78),0))),SUM(COUNTIF(INDIRECT(CR78):INDIRECT(CU78),1),COUNTIF(INDIRECT(CR78):INDIRECT(CU78),0)),\"\")","v":""},{"$f":"SUM(INDIRECT(CR78):INDIRECT(CS78))","v":{"$error":"#N/A"}},{"$f":"SUM(INDIRECT(CR78):INDIRECT(CT78))","v":{"$error":"#N/A"}},{"$f":"SUM(INDIRECT(CR78):INDIRECT(CU78))","v":{"$error":"#N/A"}}]
[null,null,null,null,null,null,{"$f":"IF(ISBLANK(G26),\"\",G26)","v":""},"","","","","","","","","","","","","","","","","","","","","","","","","","","","","","",null,null,null,null,null,null,null,null,null,null,null,null,null,null,null,null,null,null,null,null,null,null,0,"@","@","@","@","@","@","@","@","@","@","@","@","@","@","@","@","@","@","@","@","@","@","@","@","@","@","@","@","@","@","@",{"$f":"'Month 9'!BL79","v":"@"},{"$f":"'Month 9'!BK79","v":"@"},{"$f":"'Month 9'!BJ79","v":"@"},{"$f":"'Month 9'!BI79","v":"@"},{"$error":"#N/A"},{"$error":"#N/A"},{"$error":"#N/A"},{"$error":"#N/A"},{"$f":"IF(ISNUMBER(SUM(COUNTIF(INDIRECT(CR79):INDIRECT(CS79),2),COUNTIF(INDIRECT(CR79):INDIRECT(CS79),1),COUNTIF(INDIRECT(CR79):INDIRECT(CS79),0))),SUM(COUNTIF(INDIRECT(CR79):INDIRECT(CS79),2),COUNTIF(INDIRECT(CR79):INDIRECT(CS79),1),COUNTIF(INDIRECT(CR79):INDIRECT(CS79),0)),\"\")","v":""},{"$f":"IF(ISNUMBER(SUM(COUNTIF(INDIRECT(CR79):INDIRECT(CT79),2),COUNTIF(INDIRECT(CR79):INDIRECT(CT79),1),COUNTIF(INDIRECT(CR79):INDIRECT(CT79),0))),SUM(COUNTIF(INDIRECT(CR79):INDIRECT(CT79),2),COUNTIF(INDIRECT(CR79):INDIRECT(CT79),1),COUNTIF(INDIRECT(CR79):INDIRECT(CT79),0)),\"\")","v":""},{"$f":"IF(ISNUMBER(SUM(COUNTIF(INDIRECT(CR79):INDIRECT(CU79),1),COUNTIF(INDIRECT(CR79):INDIRECT(CU79),0))),SUM(COUNTIF(INDIRECT(CR79):INDIRECT(CU79),1),COUNTIF(INDIRECT(CR79):INDIRECT(CU79),0)),\"\")","v":""},{"$f":"SUM(INDIRECT(CR79):INDIRECT(CS79))","v":{"$error":"#N/A"}},{"$f":"SUM(INDIRECT(CR79):INDIRECT(CT79))","v":{"$error":"#N/A"}},{"$f":"SUM(INDIRECT(CR79):INDIRECT(CU79))","v":{"$error":"#N/A"}}]
[null,null,null,null,null,null,{"$f":"IF(G24=\"\",NA(),G24)","v":{"$error":"#N/A"}},{"$error":"#N/A"},{"$error":"#N/A"},{"$error":"#N/A"},{"$error":"#N/A"},{"$error":"#N/A"},{"$error":"#N/A"},{"$error":"#N/A"},{"$error":"#N/A"},{"$error":"#N/A"},{"$error":"#N/A"},{"$error":"#N/A"},{"$error":"#N/A"},{"$error":"#N/A"},{"$error":"#N/A"},{"$error":"#N/A"},{"$error":"#N/A"},{"$error":"#N/A"},{"$error":"#N/A"},{"$error":"#N/A"},{"$error":"#N/A"},{"$error":"#N/A"},{"$error":"#N/A"},{"$error":"#N/A"},{"$error":"#N/A"},{"$error":"#N/A"},{"$error":"#N/A"},{"$error":"#N/A"},{"$error":"#N/A"},{"$error":"#N/A"},{"$error":"#N/A"},null,null,null,null,null,null,null,null,null,null,null,null,null,null,null,null,null,null,null,null,null,null,{"$f":"SUM(COUNTIF(BI80:CM80,1),COUNTIF(BI80:CM80,0))","v":0},"@","@","@","@","@","@","@","@","@","@","@","@","@","@","@","@","@","@","@","@","@","@","@","@","@","@","@","@","@","@","@",{"$f":"'Month 9'!BL80","v":"@"},{"$f":"'Month 9'!BK80","v":"@"},{"$f":"'Month 9'!BJ80","v":"@"},{"$f":"'Month 9'!BI80","v":"@"},{"$error":"#N/A"},{"$error":"#N/A"},{"$error":"#N/A"},{"$error":"#N/A"},{"$f":"IF(ISNUMBER(SUM(COUNTIF(INDIRECT(CR80):INDIRECT(CS80),2),COUNTIF(INDIRECT(CR80):INDIRECT(CS80),1),COUNTIF(INDIRECT(CR80):INDIRECT(CS80),0))),SUM(COUNTIF(INDIRECT(CR80):INDIRECT(CS80),2),COUNTIF(INDIRECT(CR80):INDIRECT(CS80),1),COUNTIF(INDIRECT(CR80):INDIRECT(CS80),0)),\"\")","v":""},{"$f":"IF(ISNUMBER(SUM(COUNTIF(INDIRECT(CR80):INDIRECT(CT80),2),COUNTIF(INDIRECT(CR80):INDIRECT(CT80),1),COUNTIF(INDIRECT(CR80):INDIRECT(CT80),0))),SUM(COUNTIF(INDIRECT(CR80):INDIRECT(CT80),2),COUNTIF(INDIRECT(CR80):INDIRECT(CT80),1),COUNTIF(INDIRECT(CR80):INDIRECT(CT80),0)),\"\")","v":""},{"$f":"IF(ISNUMBER(SUM(COUNTIF(INDIRECT(CR80):INDIRECT(CU80),1),COUNTIF(INDIRECT(CR80):INDIRECT(CU80),0))),SUM(COUNTIF(INDIRECT(CR80):INDIRECT(CU80),1),COUNTIF(INDIRECT(CR80):INDIRECT(CU80),0)),\"\")","v":""},{"$f":"SUM(INDIRECT(CR80):INDIRECT(CS80))","v":{"$error":"#N/A"}},{"$f":"SUM(INDIRECT(CR80):INDIRECT(CT80))","v":{"$error":"#N/A"}},{"$f":"SUM(INDIRECT(CR80):INDIRECT(CU80))","v":{"$error":"#N/A"}}]
[null,null,null,null,null,null,null,null,null,null,null,null,null,null,null,null,null,null,null,null,null,null,null,null,null,null,null,null,null,null,null,null,null,null,null,null,null,null,null,null,null,null,null,null,null,null,null,null,null,null,null,null,null,null,null,null,null,null,null,0,"@","@","@","@","@","@","@","@","@","@","@","@","@","@","@","@","@","@","@","@","@","@","@","@","@","@","@","@","@","@","@",{"$f":"'Month 9'!BL81","v":"@"},{"$f":"'Month 9'!BK81","v":"@"},{"$f":"'Month 9'!BJ81","v":"@"},{"$f":"'Month 9'!BI81","v":"@"},{"$error":"#N/A"},{"$error":"#N/A"},{"$error":"#N/A"},{"$error":"#N/A"},{"$f":"IF(ISNUMBER(SUM(COUNTIF(INDIRECT(CR81):INDIRECT(CS81),2),COUNTIF(INDIRECT(CR81):INDIRECT(CS81),1),COUNTIF(INDIRECT(CR81):INDIRECT(CS81),0))),SUM(COUNTIF(INDIRECT(CR81):INDIRECT(CS81),2),COUNTIF(INDIRECT(CR81):INDIRECT(CS81),1),COUNTIF(INDIRECT(CR81):INDIRECT(CS81),0)),\"\")","v":""},{"$f":"IF(ISNUMBER(SUM(COUNTIF(INDIRECT(CR81):INDIRECT(CT81),2),COUNTIF(INDIRECT(CR81):INDIRECT(CT81),1),COUNTIF(INDIRECT(CR81):INDIRECT(CT81),0))),SUM(COUNTIF(INDIRECT(CR81):INDIRECT(CT81),2),COUNTIF(INDIRECT(CR81):INDIRECT(CT81),1),COUNTIF(INDIRECT(CR81):INDIRECT(CT81),0)),\"\")","v":""},{"$f":"IF(ISNUMBER(SUM(COUNTIF(INDIRECT(CR81):INDIRECT(CU81),1),COUNTIF(INDIRECT(CR81):INDIRECT(CU81),0))),SUM(COUNTIF(INDIRECT(CR81):INDIRECT(CU81),1),COUNTIF(INDIRECT(CR81):INDIRECT(CU81),0)),\"\")","v":""},{"$f":"SUM(INDIRECT(CR81):INDIRECT(CS81))","v":{"$error":"#N/A"}},{"$f":"SUM(INDIRECT(CR81):INDIRECT(CT81))","v":{"$error":"#N/A"}},{"$f":"SUM(INDIRECT(CR81):INDIRECT(CU81))","v":{"$error":"#N/A"}}]
[null,null,null,null,null,null,null,null,null,null,null,null,null,null,null,null,null,null,null,null,null,null,null,null,null,null,null,null,null,null,null,null,null,null,null,null,null,null,null,null,null,null,null,null,null,null,null,null,null,null,null,null,null,null,null,null,null,null,null,0,"@","@","@","@","@","@","@","@","@","@","@","@","@","@","@","@","@","@","@","@","@","@","@","@","@","@","@","@","@","@","@",{"$f":"'Month 9'!BL82","v":"@"},{"$f":"'Month 9'!BK82","v":"@"},{"$f":"'Month 9'!BJ82","v":"@"},{"$f":"'Month 9'!BI82","v":"@"},{"$error":"#N/A"},{"$error":"#N/A"},{"$error":"#N/A"},{"$error":"#N/A"},{"$f":"IF(ISNUMBER(SUM(COUNTIF(INDIRECT(CR82):INDIRECT(CS82),2),COUNTIF(INDIRECT(CR82):INDIRECT(CS82),1),COUNTIF(INDIRECT(CR82):INDIRECT(CS82),0))),SUM(COUNTIF(INDIRECT(CR82):INDIRECT(CS82),2),COUNTIF(INDIRECT(CR82):INDIRECT(CS82),1),COUNTIF(INDIRECT(CR82):INDIRECT(CS82),0)),\"\")","v":""},{"$f":"IF(ISNUMBER(SUM(COUNTIF(INDIRECT(CR82):INDIRECT(CT82),2),COUNTIF(INDIRECT(CR82):INDIRECT(CT82),1),COUNTIF(INDIRECT(CR82):INDIRECT(CT82),0))),SUM(COUNTIF(INDIRECT(CR82):INDIRECT(CT82),2),COUNTIF(INDIRECT(CR82):INDIRECT(CT82),1),COUNTIF(INDIRECT(CR82):INDIRECT(CT82),0)),\"\")","v":""},{"$f":"IF(ISNUMBER(SUM(COUNTIF(INDIRECT(CR82):INDIRECT(CU82),1),COUNTIF(INDIRECT(CR82):INDIRECT(CU82),0))),SUM(COUNTIF(INDIRECT(CR82):INDIRECT(CU82),1),COUNTIF(INDIRECT(CR82):INDIRECT(CU82),0)),\"\")","v":""},{"$f":"SUM(INDIRECT(CR82):INDIRECT(CS82))","v":{"$error":"#N/A"}},{"$f":"SUM(INDIRECT(CR82):INDIRECT(CT82))","v":{"$error":"#N/A"}},{"$f":"SUM(INDIRECT(CR82):INDIRECT(CU82))","v":{"$error":"#N/A"}}]
[null,null,null,null,null,null,null,null,null,null,null,null,null,null,null,null,null,null,null,null,null,null,null,null,null,null,null,null,null,null,null,null,null,null,null,null,null,null,null,null,null,null,null,null,null,null,null,null,null,null,null,null,null,null,null,null,null,null,null,0,"@","@","@","@","@","@","@","@","@","@","@","@","@","@","@","@","@","@","@","@","@","@","@","@","@","@","@","@","@","@","@",{"$f":"'Month 9'!BL83","v":"@"},{"$f":"'Month 9'!BK83","v":"@"},{"$f":"'Month 9'!BJ83","v":"@"},{"$f":"'Month 9'!BI83","v":"@"},{"$error":"#N/A"},{"$error":"#N/A"},{"$error":"#N/A"},{"$error":"#N/A"},{"$f":"IF(ISNUMBER(SUM(COUNTIF(INDIRECT(CR83):INDIRECT(CS83),2),COUNTIF(INDIRECT(CR83):INDIRECT(CS83),1),COUNTIF(INDIRECT(CR83):INDIRECT(CS83),0))),SUM(COUNTIF(INDIRECT(CR83):INDIRECT(CS83),2),COUNTIF(INDIRECT(CR83):INDIRECT(CS83),1),COUNTIF(INDIRECT(CR83):INDIRECT(CS83),0)),\"\")","v":""},{"$f":"IF(ISNUMBER(SUM(COUNTIF(INDIRECT(CR83):INDIRECT(CT83),2),COUNTIF(INDIRECT(CR83):INDIRECT(CT83),1),COUNTIF(INDIRECT(CR83):INDIRECT(CT83),0))),SUM(COUNTIF(INDIRECT(CR83):INDIRECT(CT83),2),COUNTIF(INDIRECT(CR83):INDIRECT(CT83),1),COUNTIF(INDIRECT(CR83):INDIRECT(CT83),0)),\"\")","v":""},{"$f":"IF(ISNUMBER(SUM(COUNTIF(INDIRECT(CR83):INDIRECT(CU83),1),COUNTIF(INDIRECT(CR83):INDIRECT(CU83),0))),SUM(COUNTIF(INDIRECT(CR83):INDIRECT(CU83),1),COUNTIF(INDIRECT(CR83):INDIRECT(CU83),0)),\"\")","v":""},{"$f":"SUM(INDIRECT(CR83):INDIRECT(CS83))","v":{"$error":"#N/A"}},{"$f":"SUM(INDIRECT(CR83):INDIRECT(CT83))","v":{"$error":"#N/A"}},{"$f":"SUM(INDIRECT(CR83):INDIRECT(CU83))","v":{"$error":"#N/A"}}]
[null,null,null,null,null,null,null,null,null,null,null,null,null,null,null,null,null,null,null,null,null,null,null,null,null,null,null,null,null,null,null,null,null,null,null,null,null,null,null,null,null,null,null,null,null,null,null,null,null,null,null,null,null,null,null,null,null,null,null,0,"@","@","@","@","@","@","@","@","@","@","@","@","@","@","@","@","@","@","@","@","@","@","@","@","@","@","@","@","@","@","@",{"$f":"'Month 9'!BL84","v":"@"},{"$f":"'Month 9'!BK84","v":"@"},{"$f":"'Month 9'!BJ84","v":"@"},{"$f":"'Month 9'!BI84","v":"@"},{"$error":"#N/A"},{"$error":"#N/A"},{"$error":"#N/A"},{"$error":"#N/A"},{"$f":"IF(ISNUMBER(SUM(COUNTIF(INDIRECT(CR84):INDIRECT(CS84),2),COUNTIF(INDIRECT(CR84):INDIRECT(CS84),1),COUNTIF(INDIRECT(CR84):INDIRECT(CS84),0))),SUM(COUNTIF(INDIRECT(CR84):INDIRECT(CS84),2),COUNTIF(INDIRECT(CR84):INDIRECT(CS84),1),COUNTIF(INDIRECT(CR84):INDIRECT(CS84),0)),\"\")","v":""},{"$f":"IF(ISNUMBER(SUM(COUNTIF(INDIRECT(CR84):INDIRECT(CT84),2),COUNTIF(INDIRECT(CR84):INDIRECT(CT84),1),COUNTIF(INDIRECT(CR84):INDIRECT(CT84),0))),SUM(COUNTIF(INDIRECT(CR84):INDIRECT(CT84),2),COUNTIF(INDIRECT(CR84):INDIRECT(CT84),1),COUNTIF(INDIRECT(CR84):INDIRECT(CT84),0)),\"\")","v":""},{"$f":"IF(ISNUMBER(SUM(COUNTIF(INDIRECT(CR84):INDIRECT(CU84),1),COUNTIF(INDIRECT(CR84):INDIRECT(CU84),0))),SUM(COUNTIF(INDIRECT(CR84):INDIRECT(CU84),1),COUNTIF(INDIRECT(CR84):INDIRECT(CU84),0)),\"\")","v":""},{"$f":"SUM(INDIRECT(CR84):INDIRECT(CS84))","v":{"$error":"#N/A"}},{"$f":"SUM(INDIRECT(CR84):INDIRECT(CT84))","v":{"$error":"#N/A"}},{"$f":"SUM(INDIRECT(CR84):INDIRECT(CU84))","v":{"$error":"#N/A"}}]
[null,null,null,null,null,null,null,null,null,null,null,null,null,null,null,null,null,null,null,null,null,null,null,null,null,null,null,null,null,null,null,null,null,null,null,null,null,null,null,null,null,null,null,null,null,null,null,null,null,null,null,null,null,null,null,null,null,null,null,0,"@","@","@","@","@","@","@","@","@","@","@","@","@","@","@","@","@","@","@","@","@","@","@","@","@","@","@","@","@","@","@",{"$f":"'Month 9'!BL85","v":"@"},{"$f":"'Month 9'!BK85","v":"@"},{"$f":"'Month 9'!BJ85","v":"@"},{"$f":"'Month 9'!BI85","v":"@"},{"$error":"#N/A"},{"$error":"#N/A"},{"$error":"#N/A"},{"$error":"#N/A"},{"$f":"IF(ISNUMBER(SUM(COUNTIF(INDIRECT(CR85):INDIRECT(CS85),2),COUNTIF(INDIRECT(CR85):INDIRECT(CS85),1),COUNTIF(INDIRECT(CR85):INDIRECT(CS85),0))),SUM(COUNTIF(INDIRECT(CR85):INDIRECT(CS85),2),COUNTIF(INDIRECT(CR85):INDIRECT(CS85),1),COUNTIF(INDIRECT(CR85):INDIRECT(CS85),0)),\"\")","v":""},{"$f":"IF(ISNUMBER(SUM(COUNTIF(INDIRECT(CR85):INDIRECT(CT85),2),COUNTIF(INDIRECT(CR85):INDIRECT(CT85),1),COUNTIF(INDIRECT(CR85):INDIRECT(CT85),0))),SUM(COUNTIF(INDIRECT(CR85):INDIRECT(CT85),2),COUNTIF(INDIRECT(CR85):INDIRECT(CT85),1),COUNTIF(INDIRECT(CR85):INDIRECT(CT85),0)),\"\")","v":""},{"$f":"IF(ISNUMBER(SUM(COUNTIF(INDIRECT(CR85):INDIRECT(CU85),1),COUNTIF(INDIRECT(CR85):INDIRECT(CU85),0))),SUM(COUNTIF(INDIRECT(CR85):INDIRECT(CU85),1),COUNTIF(INDIRECT(CR85):INDIRECT(CU85),0)),\"\")","v":""},{"$f":"SUM(INDIRECT(CR85):INDIRECT(CS85))","v":{"$error":"#N/A"}},{"$f":"SUM(INDIRECT(CR85):INDIRECT(CT85))","v":{"$error":"#N/A"}},{"$f":"SUM(INDIRECT(CR85):INDIRECT(CU85))","v":{"$error":"#N/A"}}]
[null,null,null,null,null,null,null,null,null,null,null,null,null,null,null,null,null,null,null,null,null,null,null,null,null,null,null,null,null,null,null,null,null,null,null,null,null,null,null,null,null,null,null,null,null,null,null,null,null,null,null,null,null,null,null,null,null,null,null,0,"@","@","@","@","@","@","@","@","@","@","@","@","@","@","@","@","@","@","@","@","@","@","@","@","@","@","@","@","@","@","@",{"$f":"'Month 9'!BL86","v":"@"},{"$f":"'Month 9'!BK86","v":"@"},{"$f":"'Month 9'!BJ86","v":"@"},{"$f":"'Month 9'!BI86","v":"@"},{"$error":"#N/A"},{"$error":"#N/A"},{"$error":"#N/A"},{"$error":"#N/A"},{"$f":"IF(ISNUMBER(SUM(COUNTIF(INDIRECT(CR86):INDIRECT(CS86),2),COUNTIF(INDIRECT(CR86):INDIRECT(CS86),1),COUNTIF(INDIRECT(CR86):INDIRECT(CS86),0))),SUM(COUNTIF(INDIRECT(CR86):INDIRECT(CS86),2),COUNTIF(INDIRECT(CR86):INDIRECT(CS86),1),COUNTIF(INDIRECT(CR86):INDIRECT(CS86),0)),\"\")","v":""},{"$f":"IF(ISNUMBER(SUM(COUNTIF(INDIRECT(CR86):INDIRECT(CT86),2),COUNTIF(INDIRECT(CR86):INDIRECT(CT86),1),COUNTIF(INDIRECT(CR86):INDIRECT(CT86),0))),SUM(COUNTIF(INDIRECT(CR86):INDIRECT(CT86),2),COUNTIF(INDIRECT(CR86):INDIRECT(CT86),1),COUNTIF(INDIRECT(CR86):INDIRECT(CT86),0)),\"\")","v":""},{"$f":"IF(ISNUMBER(SUM(COUNTIF(INDIRECT(CR86):INDIRECT(CU86),1),COUNTIF(INDIRECT(CR86):INDIRECT(CU86),0))),SUM(COUNTIF(INDIRECT(CR86):INDIRECT(CU86),1),COUNTIF(INDIRECT(CR86):INDIRECT(CU86),0)),\"\")","v":""},{"$f":"SUM(INDIRECT(CR86):INDIRECT(CS86))","v":{"$error":"#N/A"}},{"$f":"SUM(INDIRECT(CR86):INDIRECT(CT86))","v":{"$error":"#N/A"}},{"$f":"SUM(INDIRECT(CR86):INDIRECT(CU86))","v":{"$error":"#N/A"}}]
[null,null,null,null,null,null,null,null,null,null,null,null,null,null,null,null,null,null,null,null,null,null,null,null,null,null,null,null,null,null,null,null,null,null,null,null,null,null,null,null,null,null,null,null,null,null,null,null,null,null,null,null,null,null,null,null,null,null,null,0,{"$f":"IF(OR(AK59=\"+\",AK59=\"Y\",AK59=2),1,IF(OR(AK59=\"-\",AK59=\"N\",AK59=1),0,IF(OR(BJ87=1,BJ87=0),\"#\",\"@\")))","v":"@"},{"$f":"IF(OR(AJ59=\"+\",AJ59=\"Y\",AJ59=2),1,IF(OR(AJ59=\"-\",AJ59=\"N\",AJ59=1),0,IF(OR(BK87=1,BK87=0),\"#\",\"@\")))","v":"@"},{"$f":"IF(OR(AI59=\"+\",AI59=\"Y\",AI59=2),1,IF(OR(AI59=\"-\",AI59=\"N\",AI59=1),0,IF(OR(BL87=1,BL87=0),\"#\",\"@\")))","v":"@"},{"$f":"IF(OR(AH59=\"+\",AH59=\"Y\",AH59=2),1,IF(OR(AH59=\"-\",AH59=\"N\",AH59=1),0,IF(OR(BM87=1,BM87=0),\"#\",\"@\")))","v":"@"},{"$f":"IF(OR(AG59=\"+\",AG59=\"Y\",AG59=2),1,IF(OR(AG59=\"-\",AG59=\"N\",AG59=1),0,IF(OR(BN87=1,BN87=0),\"#\",\"@\")))","v":"@"},{"$f":"IF(OR(AF59=\"+\",AF59=\"Y\",AF59=2),1,IF(OR(AF59=\"-\",AF59=\"N\",AF59=1),0,IF(OR(BO87=1,BO87=0),\"#\",\"@\")))","v":"@"},{"$f":"IF(OR(AE59=\"+\",AE59=\"Y\",AE59=2),1,IF(OR(AE59=\"-\",AE59=\"N\",AE59=1),0,IF(OR(BP87=1,BP87=0),\"#\",\"@\")))","v":"@"},{"$f":"IF(OR(AD59=\"+\",AD59=\"Y\",AD59=2),1,IF(OR(AD59=\"-\",AD59=\"N\",AD59=1),0,IF(OR(BQ87=1,BQ87=0),\"#\",\"@\")))","v":"@"},{"$f":"IF(OR(AC59=\"+\",AC59=\"Y\",AC59=2),1,IF(OR(AC59=\"-\",AC59=\"N\",AC59=1),0,IF(OR(BR87=1,BR87=0),\"#\",\"@\")))","v":"@"},{"$f":"IF(OR(AB59=\"+\",AB59=\"Y\",AB59=2),1,IF(OR(AB59=\"-\",AB59=\"N\",AB59=1),0,IF(OR(BS87=1,BS87=0),\"#\",\"@\")))","v":"@"},{"$f":"IF(OR(AA59=\"+\",AA59=\"Y\",AA59=2),1,IF(OR(AA59=\"-\",AA59=\"N\",AA59=1),0,IF(OR(BT87=1,BT87=0),\"#\",\"@\")))","v":"@"},{"$f":"IF(OR(Z59=\"+\",Z59=\"Y\",Z59=2),1,IF(OR(Z59=\"-\",Z59=\"N\",Z59=1),0,IF(OR(BU87=1,BU87=0),\"#\",\"@\")))","v":"@"},{"$f":"IF(OR(Y59=\"+\",Y59=\"Y\",Y59=2),1,IF(OR(Y59=\"-\",Y59=\"N\",Y59=1),0,IF(OR(BV87=1,BV87=0),\"#\",\"@\")))","v":"@"},{"$f":"IF(OR(X59=\"+\",X59=\"Y\",X59=2),1,IF(OR(X59=\"-\",X59=\"N\",X59=1),0,IF(OR(BW87=1,BW87=0),\"#\",\"@\")))","v":"@"},{"$f":"IF(OR(W59=\"+\",W59=\"Y\",W59=2),1,IF(OR(W59=\"-\",W59=\"N\",W59=1),0,IF(OR(BX87=1,BX87=0),\"#\",\"@\")))","v":"@"},{"$f":"IF(OR(V59=\"+\",V59=\"Y\",V59=2),1,IF(OR(V59=\"-\",V59=\"N\",V59=1),0,IF(OR(BY87=1,BY87=0),\"#\",\"@\")))","v":"@"},{"$f":"IF(OR(U59=\"+\",U59=\"Y\",U59=2),1,IF(OR(U59=\"-\",U59=\"N\",U59=1),0,IF(OR(BZ87=1,BZ87=0),\"#\",\"@\")))","v":"@"},{"$f":"IF(OR(T59=\"+\",T59=\"Y\",T59=2),1,IF(OR(T59=\"-\",T59=\"N\",T59=1),0,IF(OR(CA87=1,CA87=0),\"#\",\"@\")))","v":"@"},{"$f":"IF(OR(S59=\"+\",S59=\"Y\",S59=2),1,IF(OR(S59=\"-\",S59=\"N\",S59=1),0,IF(OR(CB87=1,CB87=0),\"#\",\"@\")))","v":"@"},{"$f":"IF(OR(R59=\"+\",R59=\"Y\",R59=2),1,IF(OR(R59=\"-\",R59=\"N\",R59=1),0,IF(OR(CC87=1,CC87=0),\"#\",\"@\")))","v":"@"},{"$f":"IF(OR(Q59=\"+\",Q59=\"Y\",Q59=2),1,IF(OR(Q59=\"-\",Q59=\"N\",Q59=1),0,IF(OR(CD87=1,CD87=0),\"#\",\"@\")))","v":"@"},{"$f":"IF(OR(P59=\"+\",P59=\"Y\",P59=2),1,IF(OR(P59=\"-\",P59=\"N\",P59=1),0,IF(OR(CE87=1,CE87=0),\"#\",\"@\")))","v":"@"},{"$f":"IF(OR(O59=\"+\",O59=\"Y\",O59=2),1,IF(OR(O59=\"-\",O59=\"N\",O59=1),0,IF(OR(CF87=1,CF87=0),\"#\",\"@\")))","v":"@"},{"$f":"IF(OR(N59=\"+\",N59=\"Y\",N59=2),1,IF(OR(N59=\"-\",N59=\"N\",N59=1),0,IF(OR(CG87=1,CG87=0),\"#\",\"@\")))","v":"@"},{"$f":"IF(OR(M59=\"+\",M59=\"Y\",M59=2),1,IF(OR(M59=\"-\",M59=\"N\",M59=1),0,IF(OR(CH87=1,CH87=0),\"#\",\"@\")))","v":"@"},{"$f":"IF(OR(L59=\"+\",L59=\"Y\",L59=2),1,IF(OR(L59=\"-\",L59=\"N\",L59=1),0,IF(OR(CI87=1,CI87=0),\"#\",\"@\")))","v":"@"},{"$f":"IF(OR(K59=\"+\",K59=\"Y\",K59=2),1,IF(OR(K59=\"-\",K59=\"N\",K59=1),0,IF(OR(CJ87=1,CJ87=0),\"#\",\"@\")))","v":"@"},{"$f":"IF(OR(J59=\"+\",J59=\"Y\",J59=2),1,IF(OR(J59=\"-\",J59=\"N\",J59=1),0,IF(OR(CK87=1,CK87=0),\"#\",\"@\")))","v":"@"},{"$f":"IF(OR(I59=\"+\",I59=\"Y\",I59=2),1,IF(OR(I59=\"-\",I59=\"N\",I59=1),0,IF(OR(CL87=1,CL87=0),\"#\",\"@\")))","v":"@"},{"$f":"IF(OR(H59=\"+\",H59=\"Y\",H59=2),1,IF(OR(H59=\"-\",H59=\"N\",H59=1),0,IF(OR(CM87=1,CM87=0),\"#\",\"@\")))","v":"@"},{"$f":"IF(OR(G59=\"+\",G59=\"Y\",G59=2),1,IF(OR(G59=\"-\",G59=\"N\",G59=1),0,\"@\"))","v":"@"},{"$f":"'Month 9'!BL87","v":"@"},{"$f":"'Month 9'!BK87","v":"@"},{"$f":"'Month 9'!BJ87","v":"@"},{"$f":"'Month 9'!BI87","v":"@"},{"$f":"ADDRESS(ROW(BH87),(MATCH(\"#\",BI87:CM87,0)+61))","v":{"$error":"#N/A"}},{"$f":"ADDRESS(ROW(BH87),(MATCH(\"#\",BI87:CM87,0)+65))","v":{"$error":"#N/A"}},{"$f":"ADDRESS(ROW(BH87),(MATCH(\"#\",BI87:CM87,0)+64))","v":{"$error":"#N/A"}},{"$f":"ADDRESS(ROW(BH87),(MATCH(\"#\",BI87:CM87,0)+63))","v":{"$error":"#N/A"}},{"$f":"IF(ISNUMBER(SUM(COUNTIF(INDIRECT(CR87):INDIRECT(CS87),2),COUNTIF(INDIRECT(CR87):INDIRECT(CS87),1),COUNTIF(INDIRECT(CR87):INDIRECT(CS87),0))),SUM(COUNTIF(INDIRECT(CR87):INDIRECT(CS87),2),COUNTIF(INDIRECT(CR87):INDIRECT(CS87),1),COUNTIF(INDIRECT(CR87):INDIRECT(CS87),0)),\"\")","v":""},{"$f":"IF(ISNUMBER(SUM(COUNTIF(INDIRECT(CR87):INDIRECT(CT87),2),COUNTIF(INDIRECT(CR87):INDIRECT(CT87),1),COUNTIF(INDIRECT(CR87):INDIRECT(CT87),0))),SUM(COUNTIF(INDIRECT(CR87):INDIRECT(CT87),2),COUNTIF(INDIRECT(CR87):INDIRECT(CT87),1),COUNTIF(INDIRECT(CR87):INDIRECT(CT87),0)),\"\")","v":""},{"$f":"IF(ISNUMBER(SUM(COUNTIF(INDIRECT(CR87):INDIRECT(CU87),1),COUNTIF(INDIRECT(CR87):INDIRECT(CU87),0))),SUM(COUNTIF(INDIRECT(CR87):INDIRECT(CU87),1),COUNTIF(INDIRECT(CR87):INDIRECT(CU87),0)),\"\")","v":""},{"$f":"SUM(INDIRECT(CR87):INDIRECT(CS87))","v":{"$error":"#N/A"}},{"$f":"SUM(INDIRECT(CR87):INDIRECT(CT87))","v":{"$error":"#N/A"}},{"$f":"SUM(INDIRECT(CR87):INDIRECT(CU87))","v":{"$error":"#N/A"}}]
[null,null,null,null,null,null,null,null,null,null,null,null,null,null,null,null,null,null,null,null,null,null,null,null,null,null,null,null,null,null,null,null,null,null,null,null,null,null,null,null,null,null,null,null,null,null,null,null,null,null,null,null,null,null,null,null,null,null,null,0,"@","@","@","@","@","@","@","@","@","@","@","@","@","@","@","@","@","@","@","@","@","@","@","@","@","@","@","@","@","@","@",{"$f":"'Month 9'!BL88","v":"@"},{"$f":"'Month 9'!BK88","v":"@"},{"$f":"'Month 9'!BJ88","v":"@"},{"$f":"'Month 9'!BI88","v":"@"},{"$error":"#N/A"},{"$error":"#N/A"},{"$error":"#N/A"},{"$error":"#N/A"},{"$f":"IF(ISNUMBER(SUM(COUNTIF(INDIRECT(CR88):INDIRECT(CS88),2),COUNTIF(INDIRECT(CR88):INDIRECT(CS88),1),COUNTIF(INDIRECT(CR88):INDIRECT(CS88),0))),SUM(COUNTIF(INDIRECT(CR88):INDIRECT(CS88),2),COUNTIF(INDIRECT(CR88):INDIRECT(CS88),1),COUNTIF(INDIRECT(CR88):INDIRECT(CS88),0)),\"\")","v":""},{"$f":"IF(ISNUMBER(SUM(COUNTIF(INDIRECT(CR88):INDIRECT(CT88),2),COUNTIF(INDIRECT(CR88):INDIRECT(CT88),1),COUNTIF(INDIRECT(CR88):INDIRECT(CT88),0))),SUM(COUNTIF(INDIRECT(CR88):INDIRECT(CT88),2),COUNTIF(INDIRECT(CR88):INDIRECT(CT88),1),COUNTIF(INDIRECT(CR88):INDIRECT(CT88),0)),\"\")","v":""},{"$f":"IF(ISNUMBER(SUM(COUNTIF(INDIRECT(CR88):INDIRECT(CU88),1),COUNTIF(INDIRECT(CR88):INDIRECT(CU88),0))),SUM(COUNTIF(INDIRECT(CR88):INDIRECT(CU88),1),COUNTIF(INDIRECT(CR88):INDIRECT(CU88),0)),\"\")","v":""},{"$f":"SUM(INDIRECT(CR88):INDIRECT(CS88))","v":{"$error":"#N/A"}},{"$f":"SUM(INDIRECT(CR88):INDIRECT(CT88))","v":{"$error":"#N/A"}},{"$f":"SUM(INDIRECT(CR88):INDIRECT(CU88))","v":{"$error":"#N/A"}}]
[null,null,null,null,null,null,null,null,null,null,null,null,null,null,null,null,null,null,null,null,null,null,null,null,null,null,null,null,null,null,null,null,null,null,null,null,null,null,null,null,null,null,null,null,null,null,null,null,null,null,null,null,null,null,null,null,null,null,null,0,"@","@","@","@","@","@","@","@","@","@","@","@","@","@","@","@","@","@","@","@","@","@","@","@","@","@","@","@","@","@","@",{"$f":"'Month 9'!BL89","v":"@"},{"$f":"'Month 9'!BK89","v":"@"},{"$f":"'Month 9'!BJ89","v":"@"},{"$f":"'Month 9'!BI89","v":"@"},{"$error":"#N/A"},{"$error":"#N/A"},{"$error":"#N/A"},{"$error":"#N/A"},{"$f":"IF(ISNUMBER(SUM(COUNTIF(INDIRECT(CR89):INDIRECT(CS89),2),COUNTIF(INDIRECT(CR89):INDIRECT(CS89),1),COUNTIF(INDIRECT(CR89):INDIRECT(CS89),0))),SUM(COUNTIF(INDIRECT(CR89):INDIRECT(CS89),2),COUNTIF(INDIRECT(CR89):INDIRECT(CS89),1),COUNTIF(INDIRECT(CR89):INDIRECT(CS89),0)),\"\")","v":""},{"$f":"IF(ISNUMBER(SUM(COUNTIF(INDIRECT(CR89):INDIRECT(CT89),2),COUNTIF(INDIRECT(CR89):INDIRECT(CT89),1),COUNTIF(INDIRECT(CR89):INDIRECT(CT89),0))),SUM(COUNTIF(INDIRECT(CR89):INDIRECT(CT89),2),COUNTIF(INDIRECT(CR89):INDIRECT(CT89),1),COUNTIF(INDIRECT(CR89):INDIRECT(CT89),0)),\"\")","v":""},{"$f":"IF(ISNUMBER(SUM(COUNTIF(INDIRECT(CR89):INDIRECT(CU89),1),COUNTIF(INDIRECT(CR89):INDIRECT(CU89),0))),SUM(COUNTIF(INDIRECT(CR89):INDIRECT(CU89),1),COUNTIF(INDIRECT(CR89):INDIRECT(CU89),0)),\"\")","v":""},{"$f":"SUM(INDIRECT(CR89):INDIRECT(CS89))","v":{"$error":"#N/A"}},{"$f":"SUM(INDIRECT(CR89):INDIRECT(CT89))","v":{"$error":"#N/A"}},{"$f":"SUM(INDIRECT(CR89):INDIRECT(CU89))","v":{"$error":"#N/A"}}]
[null,null,null,null,null,null,null,null,null,null,null,null,null,null,null,null,null,null,null,null,null,null,null,null,null,null,null,null,null,null,null,null,null,null,null,null,null,null,null,null,null,null,null,null,null,null,null,null,null,null,null,null,null,null,null,null,null,null,null,0,"@","@","@","@","@","@","@","@","@","@","@","@","@","@","@","@","@","@","@","@","@","@","@","@","@","@","@","@","@","@","@",{"$f":"'Month 9'!BL90","v":"@"},{"$f":"'Month 9'!BK90","v":"@"},{"$f":"'Month 9'!BJ90","v":"@"},{"$f":"'Month 9'!BI90","v":"@"},{"$error":"#N/A"},{"$error":"#N/A"},{"$error":"#N/A"},{"$error":"#N/A"},{"$f":"IF(ISNUMBER(SUM(COUNTIF(INDIRECT(CR90):INDIRECT(CS90),2),COUNTIF(INDIRECT(CR90):INDIRECT(CS90),1),COUNTIF(INDIRECT(CR90):INDIRECT(CS90),0))),SUM(COUNTIF(INDIRECT(CR90):INDIRECT(CS90),2),COUNTIF(INDIRECT(CR90):INDIRECT(CS90),1),COUNTIF(INDIRECT(CR90):INDIRECT(CS90),0)),\"\")","v":""},{"$f":"IF(ISNUMBER(SUM(COUNTIF(INDIRECT(CR90):INDIRECT(CT90),2),COUNTIF(INDIRECT(CR90):INDIRECT(CT90),1),COUNTIF(INDIRECT(CR90):INDIRECT(CT90),0))),SUM(COUNTIF(INDIRECT(CR90):INDIRECT(CT90),2),COUNTIF(INDIRECT(CR90):INDIRECT(CT90),1),COUNTIF(INDIRECT(CR90):INDIRECT(CT90),0)),\"\")","v":""},{"$f":"IF(ISNUMBER(SUM(COUNTIF(INDIRECT(CR90):INDIRECT(CU90),1),COUNTIF(INDIRECT(CR90):INDIRECT(CU90),0))),SUM(COUNTIF(INDIRECT(CR90):INDIRECT(CU90),1),COUNTIF(INDIRECT(CR90):INDIRECT(CU90),0)),\"\")","v":""},{"$f":"SUM(INDIRECT(CR90):INDIRECT(CS90))","v":{"$error":"#N/A"}},{"$f":"SUM(INDIRECT(CR90):INDIRECT(CT90))","v":{"$error":"#N/A"}},{"$f":"SUM(INDIRECT(CR90):INDIRECT(CU90))","v":{"$error":"#N/A"}}]
[null,null,null,null,null,null,null,null,null,null,null,null,null,null,null,null,null,null,null,null,null,null,null,null,null,null,null,null,null,null,null,null,null,null,null,null,null,null,null,null,null,null,null,null,null,null,null,null,null,null,null,null,null,null,null,null,null,null,null,0,"@","@","@","@","@","@","@","@","@","@","@","@","@","@","@","@","@","@","@","@","@","@","@","@","@","@","@","@","@","@","@",{"$f":"'Month 9'!BL91","v":"@"},{"$f":"'Month 9'!BK91","v":"@"},{"$f":"'Month 9'!BJ91","v":"@"},{"$f":"'Month 9'!BI91","v":"@"},{"$error":"#N/A"},{"$error":"#N/A"},{"$error":"#N/A"},{"$error":"#N/A"},{"$f":"IF(ISNUMBER(SUM(COUNTIF(INDIRECT(CR91):INDIRECT(CS91),2),COUNTIF(INDIRECT(CR91):INDIRECT(CS91),1),COUNTIF(INDIRECT(CR91):INDIRECT(CS91),0))),SUM(COUNTIF(INDIRECT(CR91):INDIRECT(CS91),2),COUNTIF(INDIRECT(CR91):INDIRECT(CS91),1),COUNTIF(INDIRECT(CR91):INDIRECT(CS91),0)),\"\")","v":""},{"$f":"IF(ISNUMBER(SUM(COUNTIF(INDIRECT(CR91):INDIRECT(CT91),2),COUNTIF(INDIRECT(CR91):INDIRECT(CT91),1),COUNTIF(INDIRECT(CR91):INDIRECT(CT91),0))),SUM(COUNTIF(INDIRECT(CR91):INDIRECT(CT91),2),COUNTIF(INDIRECT(CR91):INDIRECT(CT91),1),COUNTIF(INDIRECT(CR91):INDIRECT(CT91),0)),\"\")","v":""},{"$f":"IF(ISNUMBER(SUM(COUNTIF(INDIRECT(CR91):INDIRECT(CU91),1),COUNTIF(INDIRECT(CR91):INDIRECT(CU91),0))),SUM(COUNTIF(INDIRECT(CR91):INDIRECT(CU91),1),COUNTIF(INDIRECT(CR91):INDIRECT(CU91),0)),\"\")","v":""},{"$f":"SUM(INDIRECT(CR91):INDIRECT(CS91))","v":{"$error":"#N/A"}},{"$f":"SUM(INDIRECT(CR91):INDIRECT(CT91))","v":{"$error":"#N/A"}},{"$f":"SUM(INDIRECT(CR91):INDIRECT(CU91))","v":{"$error":"#N/A"}}]
[null,null,null,null,null,null,null,null,null,null,null,null,null,null,null,null,null,null,null,null,null,null,null,null,null,null,null,null,null,null,null,null,null,null,null,null,null,null,null,null,null,null,null,null,null,null,null,null,null,null,null,null,null,null,null,null,null,null,null,0,"@","@","@","@","@","@","@","@","@","@","@","@","@","@","@","@","@","@","@","@","@","@","@","@","@","@","@","@","@","@","@",{"$f":"'Month 9'!BL92","v":"@"},{"$f":"'Month 9'!BK92","v":"@"},{"$f":"'Month 9'!BJ92","v":"@"},{"$f":"'Month 9'!BI92","v":"@"},{"$error":"#N/A"},{"$error":"#N/A"},{"$error":"#N/A"},{"$error":"#N/A"},{"$f":"IF(ISNUMBER(SUM(COUNTIF(INDIRECT(CR92):INDIRECT(CS92),2),COUNTIF(INDIRECT(CR92):INDIRECT(CS92),1),COUNTIF(INDIRECT(CR92):INDIRECT(CS92),0))),SUM(COUNTIF(INDIRECT(CR92):INDIRECT(CS92),2),COUNTIF(INDIRECT(CR92):INDIRECT(CS92),1),COUNTIF(INDIRECT(CR92):INDIRECT(CS92),0)),\"\")","v":""},{"$f":"IF(ISNUMBER(SUM(COUNTIF(INDIRECT(CR92):INDIRECT(CT92),2),COUNTIF(INDIRECT(CR92):INDIRECT(CT92),1),COUNTIF(INDIRECT(CR92):INDIRECT(CT92),0))),SUM(COUNTIF(INDIRECT(CR92):INDIRECT(CT92),2),COUNTIF(INDIRECT(CR92):INDIRECT(CT92),1),COUNTIF(INDIRECT(CR92):INDIRECT(CT92),0)),\"\")","v":""},{"$f":"IF(ISNUMBER(SUM(COUNTIF(INDIRECT(CR92):INDIRECT(CU92),1),COUNTIF(INDIRECT(CR92):INDIRECT(CU92),0))),SUM(COUNTIF(INDIRECT(CR92):INDIRECT(CU92),1),COUNTIF(INDIRECT(CR92):INDIRECT(CU92),0)),\"\")","v":""},{"$f":"SUM(INDIRECT(CR92):INDIRECT(CS92))","v":{"$error":"#N/A"}},{"$f":"SUM(INDIRECT(CR92):INDIRECT(CT92))","v":{"$error":"#N/A"}},{"$f":"SUM(INDIRECT(CR92):INDIRECT(CU92))","v":{"$error":"#N/A"}}]
[null,null,null,null,null,null,null,null,null,null,null,null,null,null,null,null,null,null,null,null,null,null,null,null,null,null,null,null,null,null,null,null,null,null,null,null,null,null,null,null,null,null,null,null,null,null,null,null,null,null,null,null,null,null,null,null,null,null,null,0,"@","@","@","@","@","@","@","@","@","@","@","@","@","@","@","@","@","@","@","@","@","@","@","@","@","@","@","@","@","@","@",{"$f":"'Month 9'!BL93","v":"@"},{"$f":"'Month 9'!BK93","v":"@"},{"$f":"'Month 9'!BJ93","v":"@"},{"$f":"'Month 9'!BI93","v":"@"},{"$error":"#N/A"},{"$error":"#N/A"},{"$error":"#N/A"},{"$error":"#N/A"},{"$f":"IF(ISNUMBER(SUM(COUNTIF(INDIRECT(CR93):INDIRECT(CS93),2),COUNTIF(INDIRECT(CR93):INDIRECT(CS93),1),COUNTIF(INDIRECT(CR93):INDIRECT(CS93),0))),SUM(COUNTIF(INDIRECT(CR93):INDIRECT(CS93),2),COUNTIF(INDIRECT(CR93):INDIRECT(CS93),1),COUNTIF(INDIRECT(CR93):INDIRECT(CS93),0)),\"\")","v":""},{"$f":"IF(ISNUMBER(SUM(COUNTIF(INDIRECT(CR93):INDIRECT(CT93),2),COUNTIF(INDIRECT(CR93):INDIRECT(CT93),1),COUNTIF(INDIRECT(CR93):INDIRECT(CT93),0))),SUM(COUNTIF(INDIRECT(CR93):INDIRECT(CT93),2),COUNTIF(INDIRECT(CR93):INDIRECT(CT93),1),COUNTIF(INDIRECT(CR93):INDIRECT(CT93),0)),\"\")","v":""},{"$f":"IF(ISNUMBER(SUM(COUNTIF(INDIRECT(CR93):INDIRECT(CU93),1),COUNTIF(INDIRECT(CR93):INDIRECT(CU93),0))),SUM(COUNTIF(INDIRECT(CR93):INDIRECT(CU93),1),COUNTIF(INDIRECT(CR93):INDIRECT(CU93),0)),\"\")","v":""},{"$f":"SUM(INDIRECT(CR93):INDIRECT(CS93))","v":{"$error":"#N/A"}},{"$f":"SUM(INDIRECT(CR93):INDIRECT(CT93))","v":{"$error":"#N/A"}},{"$f":"SUM(INDIRECT(CR93):INDIRECT(CU93))","v":{"$error":"#N/A"}}]
[null,null,null,null,null,null,null,null,null,null,null,null,null,null,null,null,null,null,null,null,null,null,null,null,null,null,null,null,null,null,null,null,null,null,null,null,null,null,null,null,null,null,null,null,null,null,null,null,null,null,null,null,null,null,null,null,null,null,null,0,"@","@","@","@","@","@","@","@","@","@","@","@","@","@","@","@","@","@","@","@","@","@","@","@","@","@","@","@","@","@","@",{"$f":"'Month 9'!BL94","v":"@"},{"$f":"'Month 9'!BK94","v":"@"},{"$f":"'Month 9'!BJ94","v":"@"},{"$f":"'Month 9'!BI94","v":"@"},{"$error":"#N/A"},{"$error":"#N/A"},{"$error":"#N/A"},{"$error":"#N/A"},{"$f":"IF(ISNUMBER(SUM(COUNTIF(INDIRECT(CR94):INDIRECT(CS94),2),COUNTIF(INDIRECT(CR94):INDIRECT(CS94),1),COUNTIF(INDIRECT(CR94):INDIRECT(CS94),0))),SUM(COUNTIF(INDIRECT(CR94):INDIRECT(CS94),2),COUNTIF(INDIRECT(CR94):INDIRECT(CS94),1),COUNTIF(INDIRECT(CR94):INDIRECT(CS94),0)),\"\")","v":""},{"$f":"IF(ISNUMBER(SUM(COUNTIF(INDIRECT(CR94):INDIRECT(CT94),2),COUNTIF(INDIRECT(CR94):INDIRECT(CT94),1),COUNTIF(INDIRECT(CR94):INDIRECT(CT94),0))),SUM(COUNTIF(INDIRECT(CR94):INDIRECT(CT94),2),COUNTIF(INDIRECT(CR94):INDIRECT(CT94),1),COUNTIF(INDIRECT(CR94):INDIRECT(CT94),0)),\"\")","v":""},{"$f":"IF(ISNUMBER(SUM(COUNTIF(INDIRECT(CR94):INDIRECT(CU94),1),COUNTIF(INDIRECT(CR94):INDIRECT(CU94),0))),SUM(COUNTIF(INDIRECT(CR94):INDIRECT(CU94),1),COUNTIF(INDIRECT(CR94):INDIRECT(CU94),0)),\"\")","v":""},{"$f":"SUM(INDIRECT(CR94):INDIRECT(CS94))","v":{"$error":"#N/A"}},{"$f":"SUM(INDIRECT(CR94):INDIRECT(CT94))","v":{"$error":"#N/A"}},{"$f":"SUM(INDIRECT(CR94):INDIRECT(CU94))","v":{"$error":"#N/A"}}]
[null,null,null,null,null,null,null,null,null,null,null,null,null,null,null,null,null,null,null,null,null,null,null,null,null,null,null,null,null,null,null,null,null,null,null,null,null,null,null,null,null,null,null,null,null,null,null,null,null,null,null,null,null,null,null,null,null,null,null,0,"@","@","@","@","@","@","@","@","@","@","@","@","@","@","@","@","@","@","@","@","@","@","@","@","@","@","@","@","@","@","@",{"$f":"'Month 9'!BL95","v":"@"},{"$f":"'Month 9'!BK95","v":"@"},{"$f":"'Month 9'!BJ95","v":"@"},{"$f":"'Month 9'!BI95","v":"@"},{"$error":"#N/A"},{"$error":"#N/A"},{"$error":"#N/A"},{"$error":"#N/A"},{"$f":"IF(ISNUMBER(SUM(COUNTIF(INDIRECT(CR95):INDIRECT(CS95),2),COUNTIF(INDIRECT(CR95):INDIRECT(CS95),1),COUNTIF(INDIRECT(CR95):INDIRECT(CS95),0))),SUM(COUNTIF(INDIRECT(CR95):INDIRECT(CS95),2),COUNTIF(INDIRECT(CR95):INDIRECT(CS95),1),COUNTIF(INDIRECT(CR95):INDIRECT(CS95),0)),\"\")","v":""},{"$f":"IF(ISNUMBER(SUM(COUNTIF(INDIRECT(CR95):INDIRECT(CT95),2),COUNTIF(INDIRECT(CR95):INDIRECT(CT95),1),COUNTIF(INDIRECT(CR95):INDIRECT(CT95),0))),SUM(COUNTIF(INDIRECT(CR95):INDIRECT(CT95),2),COUNTIF(INDIRECT(CR95):INDIRECT(CT95),1),COUNTIF(INDIRECT(CR95):INDIRECT(CT95),0)),\"\")","v":""},{"$f":"IF(ISNUMBER(SUM(COUNTIF(INDIRECT(CR95):INDIRECT(CU95),1),COUNTIF(INDIRECT(CR95):INDIRECT(CU95),0))),SUM(COUNTIF(INDIRECT(CR95):INDIRECT(CU95),1),COUNTIF(INDIRECT(CR95):INDIRECT(CU95),0)),\"\")","v":""},{"$f":"SUM(INDIRECT(CR95):INDIRECT(CS95))","v":{"$error":"#N/A"}},{"$f":"SUM(INDIRECT(CR95):INDIRECT(CT95))","v":{"$error":"#N/A"}},{"$f":"SUM(INDIRECT(CR95):INDIRECT(CU95))","v":{"$error":"#N/A"}}]
[null,null,null,null,null,null,null,null,null,null,null,null,null,null,null,null,null,null,null,null,null,null,null,null,null,null,null,null,null,null,null,null,null,null,null,null,null,null,null,null,null,null,null,null,null,null,null,null,null,null,null,null,null,null,null,null,null,null,null,0,"@","@","@","@","@","@","@","@","@","@","@","@","@","@","@","@","@","@","@","@","@","@","@","@","@","@","@","@","@","@","@",{"$f":"'Month 9'!BL96","v":"@"},{"$f":"'Month 9'!BK96","v":"@"},{"$f":"'Month 9'!BJ96","v":"@"},{"$f":"'Month 9'!BI96","v":"@"},{"$error":"#N/A"},{"$error":"#N/A"},{"$error":"#N/A"},{"$error":"#N/A"},{"$f":"IF(ISNUMBER(SUM(COUNTIF(INDIRECT(CR96):INDIRECT(CS96),2),COUNTIF(INDIRECT(CR96):INDIRECT(CS96),1),COUNTIF(INDIRECT(CR96):INDIRECT(CS96),0))),SUM(COUNTIF(INDIRECT(CR96):INDIRECT(CS96),2),COUNTIF(INDIRECT(CR96):INDIRECT(CS96),1),COUNTIF(INDIRECT(CR96):INDIRECT(CS96),0)),\"\")","v":""},{"$f":"IF(ISNUMBER(SUM(COUNTIF(INDIRECT(CR96):INDIRECT(CT96),2),COUNTIF(INDIRECT(CR96):INDIRECT(CT96),1),COUNTIF(INDIRECT(CR96):INDIRECT(CT96),0))),SUM(COUNTIF(INDIRECT(CR96):INDIRECT(CT96),2),COUNTIF(INDIRECT(CR96):INDIRECT(CT96),1),COUNTIF(INDIRECT(CR96):INDIRECT(CT96),0)),\"\")","v":""},{"$f":"IF(ISNUMBER(SUM(COUNTIF(INDIRECT(CR96):INDIRECT(CU96),1),COUNTIF(INDIRECT(CR96):INDIRECT(CU96),0))),SUM(COUNTIF(INDIRECT(CR96):INDIRECT(CU96),1),COUNTIF(INDIRECT(CR96):INDIRECT(CU96),0)),\"\")","v":""},{"$f":"SUM(INDIRECT(CR96):INDIRECT(CS96))","v":{"$error":"#N/A"}},{"$f":"SUM(INDIRECT(CR96):INDIRECT(CT96))","v":{"$error":"#N/A"}},{"$f":"SUM(INDIRECT(CR96):INDIRECT(CU96))","v":{"$error":"#N/A"}}]
[null,null,null,null,null,null,null,null,null,null,null,null,null,null,null,null,null,null,null,null,null,null,null,null,null,null,null,null,null,null,null,null,null,null,null,null,null,null,null,null,null,null,null,null,null,null,null,null,null,null,null,null,null,null,null,null,null,null,null,0,"@","@","@","@","@","@","@","@","@","@","@","@","@","@","@","@","@","@","@","@","@","@","@","@","@","@","@","@","@","@","@",{"$f":"'Month 9'!BL97","v":"@"},{"$f":"'Month 9'!BK97","v":"@"},{"$f":"'Month 9'!BJ97","v":"@"},{"$f":"'Month 9'!BI97","v":"@"},{"$error":"#N/A"},{"$error":"#N/A"},{"$error":"#N/A"},{"$error":"#N/A"},{"$f":"IF(ISNUMBER(SUM(COUNTIF(INDIRECT(CR97):INDIRECT(CS97),2),COUNTIF(INDIRECT(CR97):INDIRECT(CS97),1),COUNTIF(INDIRECT(CR97):INDIRECT(CS97),0))),SUM(COUNTIF(INDIRECT(CR97):INDIRECT(CS97),2),COUNTIF(INDIRECT(CR97):INDIRECT(CS97),1),COUNTIF(INDIRECT(CR97):INDIRECT(CS97),0)),\"\")","v":""},{"$f":"IF(ISNUMBER(SUM(COUNTIF(INDIRECT(CR97):INDIRECT(CT97),2),COUNTIF(INDIRECT(CR97):INDIRECT(CT97),1),COUNTIF(INDIRECT(CR97):INDIRECT(CT97),0))),SUM(COUNTIF(INDIRECT(CR97):INDIRECT(CT97),2),COUNTIF(INDIRECT(CR97):INDIRECT(CT97),1),COUNTIF(INDIRECT(CR97):INDIRECT(CT97),0)),\"\")","v":""},{"$f":"IF(ISNUMBER(SUM(COUNTIF(INDIRECT(CR97):INDIRECT(CU97),1),COUNTIF(INDIRECT(CR97):INDIRECT(CU97),0))),SUM(COUNTIF(INDIRECT(CR97):INDIRECT(CU97),1),COUNTIF(INDIRECT(CR97):INDIRECT(CU97),0)),\"\")","v":""},{"$f":"SUM(INDIRECT(CR97):INDIRECT(CS97))","v":{"$error":"#N/A"}},{"$f":"SUM(INDIRECT(CR97):INDIRECT(CT97))","v":{"$error":"#N/A"}},{"$f":"SUM(INDIRECT(CR97):INDIRECT(CU97))","v":{"$error":"#N/A"}}]
[null,null,null,null,null,null,null,null,null,null,null,null,null,null,null,null,null,null,null,null,null,null,null,null,null,null,null,null,null,null,null,null,null,null,null,null,null,null,null,null,null,null,null,null,null,null,null,null,null,null,null,null,null,null,null,null,null,null,null,0,"@","@","@","@","@","@","@","@","@","@","@","@","@","@","@","@","@","@","@","@","@","@","@","@","@","@","@","@","@","@","@",{"$f":"'Month 9'!BL98","v":"@"},{"$f":"'Month 9'!BK98","v":"@"},{"$f":"'Month 9'!BJ98","v":"@"},{"$f":"'Month 9'!BI98","v":"@"},{"$error":"#N/A"},{"$error":"#N/A"},{"$error":"#N/A"},{"$error":"#N/A"},{"$f":"IF(ISNUMBER(SUM(COUNTIF(INDIRECT(CR98):INDIRECT(CS98),2),COUNTIF(INDIRECT(CR98):INDIRECT(CS98),1),COUNTIF(INDIRECT(CR98):INDIRECT(CS98),0))),SUM(COUNTIF(INDIRECT(CR98):INDIRECT(CS98),2),COUNTIF(INDIRECT(CR98):INDIRECT(CS98),1),COUNTIF(INDIRECT(CR98):INDIRECT(CS98),0)),\"\")","v":""},{"$f":"IF(ISNUMBER(SUM(COUNTIF(INDIRECT(CR98):INDIRECT(CT98),2),COUNTIF(INDIRECT(CR98):INDIRECT(CT98),1),COUNTIF(INDIRECT(CR98):INDIRECT(CT98),0))),SUM(COUNTIF(INDIRECT(CR98):INDIRECT(CT98),2),COUNTIF(INDIRECT(CR98):INDIRECT(CT98),1),COUNTIF(INDIRECT(CR98):INDIRECT(CT98),0)),\"\")","v":""},{"$f":"IF(ISNUMBER(SUM(COUNTIF(INDIRECT(CR98):INDIRECT(CU98),1),COUNTIF(INDIRECT(CR98):INDIRECT(CU98),0))),SUM(COUNTIF(INDIRECT(CR98):INDIRECT(CU98),1),COUNTIF(INDIRECT(CR98):INDIRECT(CU98),0)),\"\")","v":""},{"$f":"SUM(INDIRECT(CR98):INDIRECT(CS98))","v":{"$error":"#N/A"}},{"$f":"SUM(INDIRECT(CR98):INDIRECT(CT98))","v":{"$error":"#N/A"}},{"$f":"SUM(INDIRECT(CR98):INDIRECT(CU98))","v":{"$error":"#N/A"}}]
[null,null,null,null,null,null,null,null,null,null,null,null,null,null,null,null,null,null,null,null,null,null,null,null,null,null,null,null,null,null,null,null,null,null,null,null,null,null,null,null,null,null,null,null,null,null,null,null,null,null,null,null,null,null,null,null,null,null,null,0,"@","@","@","@","@","@","@","@","@","@","@","@","@","@","@","@","@","@","@","@","@","@","@","@","@","@","@","@","@","@","@",{"$f":"'Month 9'!BL99","v":"@"},{"$f":"'Month 9'!BK99","v":"@"},{"$f":"'Month 9'!BJ99","v":"@"},{"$f":"'Month 9'!BI99","v":"@"},{"$error":"#N/A"},{"$error":"#N/A"},{"$error":"#N/A"},{"$error":"#N/A"},{"$f":"IF(ISNUMBER(SUM(COUNTIF(INDIRECT(CR99):INDIRECT(CS99),2),COUNTIF(INDIRECT(CR99):INDIRECT(CS99),1),COUNTIF(INDIRECT(CR99):INDIRECT(CS99),0))),SUM(COUNTIF(INDIRECT(CR99):INDIRECT(CS99),2),COUNTIF(INDIRECT(CR99):INDIRECT(CS99),1),COUNTIF(INDIRECT(CR99):INDIRECT(CS99),0)),\"\")","v":""},{"$f":"IF(ISNUMBER(SUM(COUNTIF(INDIRECT(CR99):INDIRECT(CT99),2),COUNTIF(INDIRECT(CR99):INDIRECT(CT99),1),COUNTIF(INDIRECT(CR99):INDIRECT(CT99),0))),SUM(COUNTIF(INDIRECT(CR99):INDIRECT(CT99),2),COUNTIF(INDIRECT(CR99):INDIRECT(CT99),1),COUNTIF(INDIRECT(CR99):INDIRECT(CT99),0)),\"\")","v":""},{"$f":"IF(ISNUMBER(SUM(COUNTIF(INDIRECT(CR99):INDIRECT(CU99),1),COUNTIF(INDIRECT(CR99):INDIRECT(CU99),0))),SUM(COUNTIF(INDIRECT(CR99):INDIRECT(CU99),1),COUNTIF(INDIRECT(CR99):INDIRECT(CU99),0)),\"\")","v":""},{"$f":"SUM(INDIRECT(CR99):INDIRECT(CS99))","v":{"$error":"#N/A"}},{"$f":"SUM(INDIRECT(CR99):INDIRECT(CT99))","v":{"$error":"#N/A"}},{"$f":"SUM(INDIRECT(CR99):INDIRECT(CU99))","v":{"$error":"#N/A"}}]
[null,null,null,null,null,null,null,null,null,null,null,null,null,null,null,null,null,null,null,null,null,null,null,null,null,null,null,null,null,null,null,null,null,null,null,null,null,null,null,null,null,null,null,null,null,null,null,null,null,null,null,null,null,null,null,null,null,null,null,0,"@","@","@","@","@","@","@","@","@","@","@","@","@","@","@","@","@","@","@","@","@","@","@","@","@","@","@","@","@","@","@",{"$f":"'Month 9'!BL100","v":"@"},{"$f":"'Month 9'!BK100","v":"@"},{"$f":"'Month 9'!BJ100","v":"@"},{"$f":"'Month 9'!BI100","v":"@"},{"$error":"#N/A"},{"$error":"#N/A"},{"$error":"#N/A"},{"$error":"#N/A"},{"$f":"IF(ISNUMBER(SUM(COUNTIF(INDIRECT(CR100):INDIRECT(CS100),2),COUNTIF(INDIRECT(CR100):INDIRECT(CS100),1),COUNTIF(INDIRECT(CR100):INDIRECT(CS100),0))),SUM(COUNTIF(INDIRECT(CR100):INDIRECT(CS100),2),COUNTIF(INDIRECT(CR100):INDIRECT(CS100),1),COUNTIF(INDIRECT(CR100):INDIRECT(CS100),0)),\"\")","v":""},{"$f":"IF(ISNUMBER(SUM(COUNTIF(INDIRECT(CR100):INDIRECT(CT100),2),COUNTIF(INDIRECT(CR100):INDIRECT(CT100),1),COUNTIF(INDIRECT(CR100):INDIRECT(CT100),0))),SUM(COUNTIF(INDIRECT(CR100):INDIRECT(CT100),2),COUNTIF(INDIRECT(CR100):INDIRECT(CT100),1),COUNTIF(INDIRECT(CR100):INDIRECT(CT100),0)),\"\")","v":""},{"$f":"IF(ISNUMBER(SUM(COUNTIF(INDIRECT(CR100):INDIRECT(CU100),1),COUNTIF(INDIRECT(CR100):INDIRECT(CU100),0))),SUM(COUNTIF(INDIRECT(CR100):INDIRECT(CU100),1),COUNTIF(INDIRECT(CR100):INDIRECT(CU100),0)),\"\")","v":""},{"$f":"SUM(INDIRECT(CR100):INDIRECT(CS100))","v":{"$error":"#N/A"}},{"$f":"SUM(INDIRECT(CR100):INDIRECT(CT100))","v":{"$error":"#N/A"}},{"$f":"SUM(INDIRECT(CR100):INDIRECT(CU100))","v":{"$error":"#N/A"}}]
[null,null,null,null,null,null,null,null,null,null,null,null,null,null,null,null,null,null,null,null,null,null,null,null,null,null,null,null,null,null,null,null,null,null,null,null,null,null,null,null,null,null,null,null,null,null,null,null,null,null,null,null,null,null,null,null,null,null,null,0,"@","@","@","@","@","@","@","@","@","@","@","@","@","@","@","@","@","@","@","@","@","@","@","@","@","@","@","@","@","@","@",{"$f":"'Month 9'!BL101","v":"@"},{"$f":"'Month 9'!BK101","v":"@"},{"$f":"'Month 9'!BJ101","v":"@"},{"$f":"'Month 9'!BI101","v":"@"},{"$error":"#N/A"},{"$error":"#N/A"},{"$error":"#N/A"},{"$error":"#N/A"},{"$f":"IF(ISNUMBER(SUM(COUNTIF(INDIRECT(CR101):INDIRECT(CS101),2),COUNTIF(INDIRECT(CR101):INDIRECT(CS101),1),COUNTIF(INDIRECT(CR101):INDIRECT(CS101),0))),SUM(COUNTIF(INDIRECT(CR101):INDIRECT(CS101),2),COUNTIF(INDIRECT(CR101):INDIRECT(CS101),1),COUNTIF(INDIRECT(CR101):INDIRECT(CS101),0)),\"\")","v":""},{"$f":"IF(ISNUMBER(SUM(COUNTIF(INDIRECT(CR101):INDIRECT(CT101),2),COUNTIF(INDIRECT(CR101):INDIRECT(CT101),1),COUNTIF(INDIRECT(CR101):INDIRECT(CT101),0))),SUM(COUNTIF(INDIRECT(CR101):INDIRECT(CT101),2),COUNTIF(INDIRECT(CR101):INDIRECT(CT101),1),COUNTIF(INDIRECT(CR101):INDIRECT(CT101),0)),\"\")","v":""},{"$f":"IF(ISNUMBER(SUM(COUNTIF(INDIRECT(CR101):INDIRECT(CU101),1),COUNTIF(INDIRECT(CR101):INDIRECT(CU101),0))),SUM(COUNTIF(INDIRECT(CR101):INDIRECT(CU101),1),COUNTIF(INDIRECT(CR101):INDIRECT(CU101),0)),\"\")","v":""},{"$f":"SUM(INDIRECT(CR101):INDIRECT(CS101))","v":{"$error":"#N/A"}},{"$f":"SUM(INDIRECT(CR101):INDIRECT(CT101))","v":{"$error":"#N/A"}},{"$f":"SUM(INDIRECT(CR101):INDIRECT(CU101))","v":{"$error":"#N/A"}}]
[null,null,null,null,null,null,null,null,null,null,null,null,null,null,null,null,null,null,null,null,null,null,null,null,null,null,null,null,null,null,null,null,null,null,null,null,null,null,null,null,null,null,null,null,null,null,null,null,null,null,null,null,null,null,null,null,null,null,null,0,"@","@","@","@","@","@","@","@","@","@","@","@","@","@","@","@","@","@","@","@","@","@","@","@","@","@","@","@","@","@","@",{"$f":"'Month 9'!BL102","v":"@"},{"$f":"'Month 9'!BK102","v":"@"},{"$f":"'Month 9'!BJ102","v":"@"},{"$f":"'Month 9'!BI102","v":"@"},{"$error":"#N/A"},{"$error":"#N/A"},{"$error":"#N/A"},{"$error":"#N/A"},{"$f":"IF(ISNUMBER(SUM(COUNTIF(INDIRECT(CR102):INDIRECT(CS102),2),COUNTIF(INDIRECT(CR102):INDIRECT(CS102),1),COUNTIF(INDIRECT(CR102):INDIRECT(CS102),0))),SUM(COUNTIF(INDIRECT(CR102):INDIRECT(CS102),2),COUNTIF(INDIRECT(CR102):INDIRECT(CS102),1),COUNTIF(INDIRECT(CR102):INDIRECT(CS102),0)),\"\")","v":""},{"$f":"IF(ISNUMBER(SUM(COUNTIF(INDIRECT(CR102):INDIRECT(CT102),2),COUNTIF(INDIRECT(CR102):INDIRECT(CT102),1),COUNTIF(INDIRECT(CR102):INDIRECT(CT102),0))),SUM(COUNTIF(INDIRECT(CR102):INDIRECT(CT102),2),COUNTIF(INDIRECT(CR102):INDIRECT(CT102),1),COUNTIF(INDIRECT(CR102):INDIRECT(CT102),0)),\"\")","v":""},{"$f":"IF(ISNUMBER(SUM(COUNTIF(INDIRECT(CR102):INDIRECT(CU102),1),COUNTIF(INDIRECT(CR102):INDIRECT(CU102),0))),SUM(COUNTIF(INDIRECT(CR102):INDIRECT(CU102),1),COUNTIF(INDIRECT(CR102):INDIRECT(CU102),0)),\"\")","v":""},{"$f":"SUM(INDIRECT(CR102):INDIRECT(CS102))","v":{"$error":"#N/A"}},{"$f":"SUM(INDIRECT(CR102):INDIRECT(CT102))","v":{"$error":"#N/A"}},{"$f":"SUM(INDIRECT(CR102):INDIRECT(CU102))","v":{"$error":"#N/A"}}]
[null,null,null,null,null,null,null,null,null,null,null,null,null,null,null,null,null,null,null,null,null,null,null,null,null,null,null,null,null,null,null,null,null,null,null,null,null,null,null,null,null,null,null,null,null,null,null,null,null,null,null,null,null,null,null,null,null,null,null,0,"@","@","@","@","@","@","@","@","@","@","@","@","@","@","@","@","@","@","@","@","@","@","@","@","@","@","@","@","@","@","@",{"$f":"'Month 9'!BL103","v":"@"},{"$f":"'Month 9'!BK103","v":"@"},{"$f":"'Month 9'!BJ103","v":"@"},{"$f":"'Month 9'!BI103","v":"@"},{"$error":"#N/A"},{"$error":"#N/A"},{"$error":"#N/A"},{"$error":"#N/A"},{"$f":"IF(ISNUMBER(SUM(COUNTIF(INDIRECT(CR103):INDIRECT(CS103),2),COUNTIF(INDIRECT(CR103):INDIRECT(CS103),1),COUNTIF(INDIRECT(CR103):INDIRECT(CS103),0))),SUM(COUNTIF(INDIRECT(CR103):INDIRECT(CS103),2),COUNTIF(INDIRECT(CR103):INDIRECT(CS103),1),COUNTIF(INDIRECT(CR103):INDIRECT(CS103),0)),\"\")","v":""},{"$f":"IF(ISNUMBER(SUM(COUNTIF(INDIRECT(CR103):INDIRECT(CT103),2),COUNTIF(INDIRECT(CR103):INDIRECT(CT103),1),COUNTIF(INDIRECT(CR103):INDIRECT(CT103),0))),SUM(COUNTIF(INDIRECT(CR103):INDIRECT(CT103),2),COUNTIF(INDIRECT(CR103):INDIRECT(CT103),1),COUNTIF(INDIRECT(CR103):INDIRECT(CT103),0)),\"\")","v":""},{"$f":"IF(ISNUMBER(SUM(COUNTIF(INDIRECT(CR103):INDIRECT(CU103),1),COUNTIF(INDIRECT(CR103):INDIRECT(CU103),0))),SUM(COUNTIF(INDIRECT(CR103):INDIRECT(CU103),1),COUNTIF(INDIRECT(CR103):INDIRECT(CU103),0)),\"\")","v":""},{"$f":"SUM(INDIRECT(CR103):INDIRECT(CS103))","v":{"$error":"#N/A"}},{"$f":"SUM(INDIRECT(CR103):INDIRECT(CT103))","v":{"$error":"#N/A"}},{"$f":"SUM(INDIRECT(CR103):INDIRECT(CU103))","v":{"$error":"#N/A"}}]
[null,null,null,null,null,null,null,null,null,null,null,null,null,null,null,null,null,null,null,null,null,null,null,null,null,null,null,null,null,null,null,null,null,null,null,null,null,null,null,null,null,null,null,null,null,null,null,null,null,null,null,null,null,null,null,null,null,null,null,0,"@","@","@","@","@","@","@","@","@","@","@","@","@","@","@","@","@","@","@","@","@","@","@","@","@","@","@","@","@","@","@",{"$f":"'Month 9'!BL104","v":"@"},{"$f":"'Month 9'!BK104","v":"@"},{"$f":"'Month 9'!BJ104","v":"@"},{"$f":"'Month 9'!BI104","v":"@"},{"$error":"#N/A"},{"$error":"#N/A"},{"$error":"#N/A"},{"$error":"#N/A"},{"$f":"IF(ISNUMBER(SUM(COUNTIF(INDIRECT(CR104):INDIRECT(CS104),2),COUNTIF(INDIRECT(CR104):INDIRECT(CS104),1),COUNTIF(INDIRECT(CR104):INDIRECT(CS104),0))),SUM(COUNTIF(INDIRECT(CR104):INDIRECT(CS104),2),COUNTIF(INDIRECT(CR104):INDIRECT(CS104),1),COUNTIF(INDIRECT(CR104):INDIRECT(CS104),0)),\"\")","v":""},{"$f":"IF(ISNUMBER(SUM(COUNTIF(INDIRECT(CR104):INDIRECT(CT104),2),COUNTIF(INDIRECT(CR104):INDIRECT(CT104),1),COUNTIF(INDIRECT(CR104):INDIRECT(CT104),0))),SUM(COUNTIF(INDIRECT(CR104):INDIRECT(CT104),2),COUNTIF(INDIRECT(CR104):INDIRECT(CT104),1),COUNTIF(INDIRECT(CR104):INDIRECT(CT104),0)),\"\")","v":""},{"$f":"IF(ISNUMBER(SUM(COUNTIF(INDIRECT(CR104):INDIRECT(CU104),1),COUNTIF(INDIRECT(CR104):INDIRECT(CU104),0))),SUM(COUNTIF(INDIRECT(CR104):INDIRECT(CU104),1),COUNTIF(INDIRECT(CR104):INDIRECT(CU104),0)),\"\")","v":""},{"$f":"SUM(INDIRECT(CR104):INDIRECT(CS104))","v":{"$error":"#N/A"}},{"$f":"SUM(INDIRECT(CR104):INDIRECT(CT104))","v":{"$error":"#N/A"}},{"$f":"SUM(INDIRECT(CR104):INDIRECT(CU104))","v":{"$error":"#N/A"}}]

{"sheet":"Month 11","index":15,"n_rows":104,"n_cols":105,"rows_kept":104,"cut":false,"hidden":false,"merged":[[53,95,53,98],[53,99,53,101],[53,102,53,104],[6,23,20,35],[13,5,20,8]]}
[]
[]
[]
[]
[]
[null,null,null,null,"Student Name:",{"$f":"IF(ISTEXT('Month 1'!F6),'Month 1'!F6,\"\")","v":""},null,null,null,null,null,null,null,null,null,null,null,null,null,null,null,null,null,"General Notes:"]
["Go To:"]
[{"$f":"IF(ISBLANK('Month 1'!$F$12),\"Month 1\",'Month 1'!$F$12)","v":"--"},null,null,null,"Skill Title:",{"$f":"IF(ISTEXT('Month 1'!F8),'Month 1'!F8,\"\")","v":""}]
[{"$f":"IF(ISBLANK('Month 2'!$F$12),\"Month 2\",'Month 2'!$F$12)","v":"--"}]
[{"$f":"IF(ISBLANK('Month 3'!$F$12),\"Month 3\",'Month 3'!$F$12)","v":"--"},null,null,null,"Skill Type:",{"$f":"IF(ISBLANK('Month 1'!F10),\"\",'Month 1'!F10)","v":""}]
[{"$f":"IF(ISBLANK('Month 4'!$F$12),\"Month 4\",'Month 4'!$F$12)","v":"--"}]
[{"$f":"IF(ISBLANK('Month 5'!$F$12),\"Month 5\",'Month 5'!$F$12)","v":"--"},null,null,null,"Date Range:","--"]
[{"$f":"IF(ISBLANK('Month 6'!$F$12),\"Month 6\",'Month 6'!$F$12)","v":"--"}]
[{"$f":"IF(ISBLANK('Month 7'!$F$12),\"Month 7\",'Month 7'!$F$12)","v":"--"},null,null,null,"Objective:",{"$f":"IF(ISBLANK('Month 1'!$F$14),\"\",'Month 1'!$F$14)","v":""}]
[{"$f":"IF(ISBLANK('Month 8'!$F$12),\"Month 8\",'Month 8'!$F$12)","v":"--"}]
[{"$f":"IF(ISBLANK('Month 9'!$F$12),\"Month 9\",'Month 9'!$F$12)","v":"--"}]
[{"$f":"IF(ISBLANK('Month 10'!$F$12),\"Month 10\",'Month 10'!$F$12)","v":"--"}]
[{"$f":"IF(ISBLANK('Month 11'!$F$12),\"Month 11\",'Month 11'!$F$12)","v":"--"}]
[{"$f":"IF(ISBLANK('Month 12'!$F$12),\"Month 12\",'Month 12'!$F$12)","v":"--"}]
[]
[]
[]
[null,null,null,null,null,null,{"$f":"SUM(COUNTIF(G27:G76,\"+\"),COUNTIF(G27:G76,\"-\"),COUNTIF(G27:G76,\"y\"),COUNTIF(G27:G76,\"n\"),COUNTIF(G27:G76,1),COUNTIF(G27:G76,2))","v":0},0,0,0,0,0,0,0,0,0,0,0,0,0,0,0,0,0,0,0,0,0,0,0,0,0,0,0,0,0,0,{"$f":"SUM(G23:AK23)","v":0}]
[null,null,null,null,null,"Total Number Correct   à",{"$f":"IF(G23>0,SUM(CM55:CM104),\"\")","v":""},{"$f":"IF(H23>0,SUM(CL55:CL104),\"\")","v":""},{"$f":"IF(I23>0,SUM(CK55:CK104),\"\")","v":""},{"$f":"IF(J23>0,SUM(CJ55:CJ104),\"\")","v":""},{"$f":"IF(K23>0,SUM(CI55:CI104),\"\")","v":""},{"$f":"IF(L23>0,SUM(CH55:CH104),\"\")","v":""},{"$f":"IF(M23>0,SUM(CG55:CG104),\"\")","v":""},{"$f":"IF(N23>0,SUM(CF55:CF104),\"\")","v":""},{"$f":"IF(O23>0,SUM(CE55:CE104),\"\")","v":""},{"$f":"IF(P23>0,SUM(CD55:CD104),\"\")","v":""},{"$f":"IF(Q23>0,SUM(CC55:CC104),\"\")","v":""},{"$f":"IF(R23>0,SUM(CB55:CB104),\"\")","v":""},{"$f":"IF(S23>0,SUM(CA55:CA104),\"\")","v":""},{"$f":"IF(T23>0,SUM(BZ55:BZ104),\"\")","v":""},{"$f":"IF(U23>0,SUM(BY55:BY104),\"\")","v":""},{"$f":"IF(V23>0,SUM(BX55:BX104),\"\")","v":""},{"$f":"IF(W23>0,SUM(BW55:BW104),\"\")","v":""},{"$f":"IF(X23>0,SUM(BV55:BV104),\"\")","v":""},{"$f":"IF(Y23>0,SUM(BU55:BU104),\"\")","v":""},{"$f":"IF(Z23>0,SUM(BT55:BT104),\"\")","v":""},{"$f":"IF(AA23>0,SUM(BS55:BS104),\"\")","v":""},{"$f":"IF(AB23>0,SUM(BR55:BR104),\"\")","v":""},{"$f":"IF(AC23>0,SUM(BQ55:BQ104),\"\")","v":""},{"$f":"IF(AD23>0,SUM(BP55:BP104),\"\")","v":""},{"$f":"IF(AE23>0,SUM(BO55:BO104),\"\")","v":""},{"$f":"IF(AF23>0,SUM(BN55:BN104),\"\")","v":""},{"$f":"IF(AG23>0,SUM(BM55:BM104),\"\")","v":""},{"$f":"IF(AH23>0,SUM(BL55:BL104),\"\")","v":""},{"$f":"IF(AI23>0,SUM(BK55:BK104),\"\")","v":""},{"$f":"IF(AJ23>0,SUM(BJ55:BJ104),\"\")","v":""},{"$f":"IF(AK23>0,SUM(BI55:BI104),\"\")","v":""}]
[null,null,{"$f":"50-SUM(C27:C76)","v":0},"Note",null,"Initials   à"]
[null,null,0,"â",null,"Date   à"]
[null,null,{"$f":"IF(F27=\"\",1,0)","v":1},{"$f":"IF(Modifications!$C$2=2,\"N\",\"\")","v":""},{"$f":"IF(AND(BH55>0,$F$10=\"\"),\"Choose Skill Type\",IF(CX55=\"\",\"\",IF(AND(DA55=3,$F$10=\"Multi-Step (Task Analysis)\"),\"Add Next Step\",IF(AND(DA55=3,$F$10=\"Multi-Stimulus (Different Sd's)\"),\"Continue\",IF(OR(AND(CV55=5,CY55<=1),AND(CW55=4,CZ55=0)),\"Intervene\",IF(OR(AND(CV55=5,CY55<=2),AND(CW55=4,CZ55<=1),AND(CX55=3,DA55=0)),\"Check\",\"Continue\"))))))","v":""},{"$f":"IF(ISBLANK('Month 1'!$F$27),\"\",'Month 1'!$F$27)","v":""}]
[null,null,{"$f":"IF(F28=\"\",1,0)","v":1},{"$f":"IF(Modifications!$C$3=2,\"N\",\"\")","v":""},"",{"$f":"IF(ISBLANK('Month 1'!$F$28),\"\",'Month 1'!$F$28)","v":""}]
[null,null,1,{"$f":"IF(Modifications!$C$4=2,\"N\",\"\")","v":""},"",{"$f":"IF(ISBLANK('Month 1'!$F$29),\"\",'Month 1'!$F$29)","v":""}]
[null,null,1,{"$f":"IF(Modifications!$C$5=2,\"N\",\"\")","v":""},"",{"$f":"IF(ISBLANK('Month 1'!$F$30),\"\",'Month 1'!$F$30)","v":""}]
[null,null,1,{"$f":"IF(Modifications!$C$6=2,\"N\",\"\")","v":""},"",{"$f":"IF(ISBLANK('Month 1'!$F$31),\"\",'Month 1'!$F$31)","v":""}]
[null,null,1,{"$f":"IF(Modifications!$C$7=2,\"N\",\"\")","v":""},"",{"$f":"IF(ISBLANK('Month 1'!$F$32),\"\",'Month 1'!$F$32)","v":""}]
[null,null,1,{"$f":"IF(Modifications!$C$8=2,\"N\",\"\")","v":""},"",{"$f":"IF(ISBLANK('Month 1'!$F$33),\"\",'Month 1'!$F$33)","v":""}]
[null,null,1,{"$f":"IF(Modifications!$C$9=2,\"N\",\"\")","v":""},"",{"$f":"IF(ISBLANK('Month 1'!$F$34),\"\",'Month 1'!$F$34)","v":""}]
[null,null,1,{"$f":"IF(Modifications!$C$10=2,\"N\",\"\")","v":""},"",{"$f":"IF(ISBLANK('Month 1'!$F$35),\"\",'Month 1'!$F$35)","v":""}]
[null,null,1,{"$f":"IF(Modifications!$C$11=2,\"N\",\"\")","v":""},"",{"$f":"IF(ISBLANK('Month 1'!$F$36),\"\",'Month 1'!$F$36)","v":""}]
[null,null,1,{"$f":"IF(Modifications!$C$12=2,\"N\",\"\")","v":""},"",{"$f":"IF(ISBLANK('Month 1'!$F$37),\"\",'Month 1'!$F$37)","v":""}]
[null,null,1,{"$f":"IF(Modifications!$C$13=2,\"N\",\"\")","v":""},"",{"$f":"IF(ISBLANK('Month 1'!$F$38),\"\",'Month 1'!$F$38)","v":""}]
[null,null,1,{"$f":"IF(Modifications!$C$14=2,\"N\",\"\")","v":""},"",{"$f":"IF(ISBLANK('Month 1'!$F$39),\"\",'Month 1'!$F$39)","v":""}]
[null,null,1,{"$f":"IF(Modifications!$C$15=2,\"N\",\"\")","v":""},"",{"$f":"IF(ISBLANK('Month 1'!$F$40),\"\",'Month 1'!$F$40)","v":""}]
[null,null,1,{"$f":"IF(Modifications!$C$16=2,\"N\",\"\")","v":""},"",{"$f":"IF(ISBLANK('Month 1'!$F$41),\"\",'Month 1'!$F$41)","v":""}]
[null,null,1,{"$f":"IF(Modifications!$C$17=2,\"N\",\"\")","v":""},"",{"$f":"IF(ISBLANK('Month 1'!$F$42),\"\",'Month 1'!$F$42)","v":""}]
[null,null,1,{"$f":"IF(Modifications!$C$18=2,\"N\",\"\")","v":""},"",{"$f":"IF(ISBLANK('Month 1'!$F$43),\"\",'Month 1'!$F$43)","v":""}]
[null,null,1,{"$f":"IF(Modifications!$C$19=2,\"N\",\"\")","v":""},"",{"$f":"IF(ISBLANK('Month 1'!$F$44),\"\",'Month 1'!$F$44)","v":""}]
[null,null,1,{"$f":"IF(Modifications!$C$20=2,\"N\",\"\")","v":""},"",{"$f":"IF(ISBLANK('Month 1'!$F$45),\"\",'Month 1'!$F$45)","v":""}]
[null,null,1,{"$f":"IF(Modifications!$C$21=2,\"N\",\"\")","v":""},"",{"$f":"IF(ISBLANK('Month 1'!$F$46),\"\",'Month 1'!$F$46)","v":""}]
[null,null,1,{"$f":"IF(Modifications!$C$22=2,\"N\",\"\")","v":""},"",{"$f":"IF(ISBLANK('Month 1'!$F$47),\"\",'Month 1'!$F$47)","v":""}]
[null,null,1,{"$f":"IF(Modifications!$C$23=2,\"N\",\"\")","v":""},"",{"$f":"IF(ISBLANK('Month 1'!$F$48),\"\",'Month 1'!$F$48)","v":""}]
[null,null,1,{"$f":"IF(Modifications!$C$24=2,\"N\",\"\")","v":""},"",{"$f":"IF(ISBLANK('Month 1'!$F$49),\"\",'Month 1'!$F$49)","v":""}]
[null,null,1,{"$f":"IF(Modifications!$C$25=2,\"N\",\"\")","v":""},"",{"$f":"IF(ISBLANK('Month 1'!$F$50),\"\",'Month 1'!$F$50)","v":""}]
[null,null,1,{"$f":"IF(Modifications!$C26=2,\"N\",\"\")","v":""},"",{"$f":"IF(ISBLANK('Month 1'!$F$51),\"\",'Month 1'!$F$51)","v":""}]
[null,null,1,{"$f":"IF(Modifications!$C27=2,\"N\",\"\")","v":""},"",{"$f":"IF(ISBLANK('Month 1'!$F$52),\"\",'Month 1'!$F$52)","v":""}]
[null,null,1,{"$f":"IF(Modifications!$C28=2,\"N\",\"\")","v":""},"",{"$f":"IF(ISBLANK('Month 1'!$F$53),\"\",'Month 1'!$F$53)","v":""}]
[null,null,1,{"$f":"IF(Modifications!$C29=2,\"N\",\"\")","v":""},"",{"$f":"IF(ISBLANK('Month 1'!$F$54),\"\",'Month 1'!$F$54)","v":""},null,null,null,null,null,null,null,null,null,null,null,null,null,null,null,null,null,null,null,null,null,null,null,null,null,null,null,null,null,null,null,null,null,null,null,null,null,null,null,null,null,null,null,null,null,null,null,null,null,null,null,null,null,null,null,null,null,null,null,null,null,null,null,null,null,null,null,null,null,null,null,null,null,null,null,null,null,null,null,null,null,null,null,null,null,null,null,null,null,"Locations (start,5,4,3)",null,null,null,"Are they in a row? (5,4,3)",null,null,"Sum of items in row (5,4,3)"]
[null,null,1,{"$f":"IF(Modifications!$C30=2,\"N\",\"\")","v":""},"",{"$f":"IF(ISBLANK('Month 1'!$F$55),\"\",'Month 1'!$F$55)","v":""},null,null,null,null,null,null,null,null,null,null,null,null,null,null,null,null,null,null,null,null,null,null,null,null,null,null,null,null,null,null,null,null,null,null,null,null,null,null,null,null,null,null,null,null,null,null,null,null,null,null,null,null,null,{"$f":"SUM(COUNTIF(BI55:CM55,1),COUNTIF(BI55:CM55,0))","v":0},{"$f":"IF(OR(AK27=\"+\",AK27=\"Y\",AK27=2),1,IF(OR(AK27=\"-\",AK27=\"N\",AK27=1),0,IF(OR(BJ55=1,BJ55=0),\"#\",\"@\")))","v":"@"},{"$f":"IF(OR(AJ27=\"+\",AJ27=\"Y\",AJ27=2),1,IF(OR(AJ27=\"-\",AJ27=\"N\",AJ27=1),0,IF(OR(BK55=1,BK55=0),\"#\",\"@\")))","v":"@"},{"$f":"IF(OR(AI27=\"+\",AI27=\"Y\",AI27=2),1,IF(OR(AI27=\"-\",AI27=\"N\",AI27=1),0,IF(OR(BL55=1,BL55=0),\"#\",\"@\")))","v":"@"},{"$f":"IF(OR(AH27=\"+\",AH27=\"Y\",AH27=2),1,IF(OR(AH27=\"-\",AH27=\"N\",AH27=1),0,IF(OR(BM55=1,BM55=0),\"#\",\"@\")))","v":"@"},{"$f":"IF(OR(AG27=\"+\",AG27=\"Y\",AG27=2),1,IF(OR(AG27=\"-\",AG27=\"N\",AG27=1),0,IF(OR(BN55=1,BN55=0),\"#\",\"@\")))","v":"@"},{"$f":"IF(OR(AF27=\"+\",AF27=\"Y\",AF27=2),1,IF(OR(AF27=\"-\",AF27=\"N\",AF27=1),0,IF(OR(BO55=1,BO55=0),\"#\",\"@\")))","v":"@"},{"$f":"IF(OR(AE27=\"+\",AE27=\"Y\",AE27=2),1,IF(OR(AE27=\"-\",AE27=\"N\",AE27=1),0,IF(OR(BP55=1,BP55=0),\"#\",\"@\")))","v":"@"},{"$f":"IF(OR(AD27=\"+\",AD27=\"Y\",AD27=2),1,IF(OR(AD27=\"-\",AD27=\"N\",AD27=1),0,IF(OR(BQ55=1,BQ55=0),\"#\",\"@\")))","v":"@"},{"$f":"IF(OR(AC27=\"+\",AC27=\"Y\",AC27=2),1,IF(OR(AC27=\"-\",AC27=\"N\",AC27=1),0,IF(OR(BR55=1,BR55=0),\"#\",\"@\")))","v":"@"},{"$f":"IF(OR(AB27=\"+\",AB27=\"Y\",AB27=2),1,IF(OR(AB27=\"-\",AB27=\"N\",AB27=1),0,IF(OR(BS55=1,BS55=0),\"#\",\"@\")))","v":"@"},{"$f":"IF(OR(AA27=\"+\",AA27=\"Y\",AA27=2),1,IF(OR(AA27=\"-\",AA27=\"N\",AA27=1),0,IF(OR(BT55=1,BT55=0),\"#\",\"@\")))","v":"@"},{"$f":"IF(OR(Z27=\"+\",Z27=\"Y\",Z27=2),1,IF(OR(Z27=\"-\",Z27=\"N\",Z27=1),0,IF(OR(BU55=1,BU55=0),\"#\",\"@\")))","v":"@"},{"$f":"IF(OR(Y27=\"+\",Y27=\"Y\",Y27=2),1,IF(OR(Y27=\"-\",Y27=\"N\",Y27=1),0,IF(OR(BV55=1,BV55=0),\"#\",\"@\")))","v":"@"},{"$f":"IF(OR(X27=\"+\",X27=\"Y\",X27=2),1,IF(OR(X27=\"-\",X27=\"N\",X27=1),0,IF(OR(BW55=1,BW55=0),\"#\",\"@\")))","v":"@"},{"$f":"IF(OR(W27=\"+\",W27=\"Y\",W27=2),1,IF(OR(W27=\"-\",W27=\"N\",W27=1),0,IF(OR(BX55=1,BX55=0),\"#\",\"@\")))","v":"@"},{"$f":"IF(OR(V27=\"+\",V27=\"Y\",V27=2),1,IF(OR(V27=\"-\",V27=\"N\",V27=1),0,IF(OR(BY55=1,BY55=0),\"#\",\"@\")))","v":"@"},{"$f":"IF(OR(U27=\"+\",U27=\"Y\",U27=2),1,IF(OR(U27=\"-\",U27=\"N\",U27=1),0,IF(OR(BZ55=1,BZ55=0),\"#\",\"@\")))","v":"@"},{"$f":"IF(OR(T27=\"+\",T27=\"Y\",T27=2),1,IF(OR(T27=\"-\",T27=\"N\",T27=1),0,IF(OR(CA55=1,CA55=0),\"#\",\"@\")))","v":"@"},{"$f":"IF(OR(S27=\"+\",S27=\"Y\",S27=2),1,IF(OR(S27=\"-\",S27=\"N\",S27=1),0,IF(OR(CB55=1,CB55=0),\"#\",\"@\")))","v":"@"},{"$f":"IF(OR(R27=\"+\",R27=\"Y\",R27=2),1,IF(OR(R27=\"-\",R27=\"N\",R27=1),0,IF(OR(CC55=1,CC55=0),\"#\",\"@\")))","v":"@"},{"$f":"IF(OR(Q27=\"+\",Q27=\"Y\",Q27=2),1,IF(OR(Q27=\"-\",Q27=\"N\",Q27=1),0,IF(OR(CD55=1,CD55=0),\"#\",\"@\")))","v":"@"},{"$f":"IF(OR(P27=\"+\",P27=\"Y\",P27=2),1,IF(OR(P27=\"-\",P27=\"N\",P27=1),0,IF(OR(CE55=1,CE55=0),\"#\",\"@\")))","v":"@"},{"$f":"IF(OR(O27=\"+\",O27=\"Y\",O27=2),1,IF(OR(O27=\"-\",O27=\"N\",O27=1),0,IF(OR(CF55=1,CF55=0),\"#\",\"@\")))","v":"@"},{"$f":"IF(OR(N27=\"+\",N27=\"Y\",N27=2),1,IF(OR(N27=\"-\",N27=\"N\",N27=1),0,IF(OR(CG55=1,CG55=0),\"#\",\"@\")))","v":"@"},{"$f":"IF(OR(M27=\"+\",M27=\"Y\",M27=2),1,IF(OR(M27=\"-\",M27=\"N\",M27=1),0,IF(OR(CH55=1,CH55=0),\"#\",\"@\")))","v":"@"},{"$f":"IF(OR(L27=\"+\",L27=\"Y\",L27=2),1,IF(OR(L27=\"-\",L27=\"N\",L27=1),0,IF(OR(CI55=1,CI55=0),\"#\",\"@\")))","v":"@"},{"$f":"IF(OR(K27=\"+\",K27=\"Y\",K27=2),1,IF(OR(K27=\"-\",K27=\"N\",K27=1),0,IF(OR(CJ55=1,CJ55=0),\"#\",\"@\")))","v":"@"},{"$f":"IF(OR(J27=\"+\",J27=\"Y\",J27=2),1,IF(OR(J27=\"-\",J27=\"N\",J27=1),0,IF(OR(CK55=1,CK55=0),\"#\",\"@\")))","v":"@"},{"$f":"IF(OR(I27=\"+\",I27=\"Y\",I27=2),1,IF(OR(I27=\"-\",I27=\"N\",I27=1),0,IF(OR(CL55=1,CL55=0),\"#\",\"@\")))","v":"@"},{"$f":"IF(OR(H27=\"+\",H27=\"Y\",H27=2),1,IF(OR(H27=\"-\",H27=\"N\",H27=1),0,IF(OR(CM55=1,CM55=0),\"#\",\"@\")))","v":"@"},{"$f":"IF(OR(G27=\"+\",G27=\"Y\",G27=2),1,IF(OR(G27=\"-\",G27=\"N\",G27=1),0,\"@\"))","v":"@"},{"$f":"'Month 10'!BL55","v":"@"},{"$f":"'Month 10'!BK55","v":"@"},{"$f":"'Month 10'!BJ55","v":"@"},{"$f":"'Month 10'!BI55","v":"@"},{"$f":"ADDRESS(ROW(BH55),(MATCH(\"#\",BI55:CM55,0)+61))","v":{"$error":"#N/A"}},{"$f":"ADDRESS(ROW(BH55),(MATCH(\"#\",BI55:CM55,0)+65))","v":{"$error":"#N/A"}},{"$f":"ADDRESS(ROW(BH55),(MATCH(\"#\",BI55:CM55,0)+64))","v":{"$error":"#N/A"}},{"$f":"ADDRESS(ROW(BH55),(MATCH(\"#\",BI55:CM55,0)+63))","v":{"$error":"#N/A"}},{"$f":"IF(ISNUMBER(SUM(COUNTIF(INDIRECT(CR55):INDIRECT(CS55),2),COUNTIF(INDIRECT(CR55):INDIRECT(CS55),1),COUNTIF(INDIRECT(CR55):INDIRECT(CS55),0))),SUM(COUNTIF(INDIRECT(CR55):INDIRECT(CS55),2),COUNTIF(INDIRECT(CR55):INDIRECT(CS55),1),COUNTIF(INDIRECT(CR55):INDIRECT(CS55),0)),\"\")","v":""},{"$f":"IF(ISNUMBER(SUM(COUNTIF(INDIRECT(CR55):INDIRECT(CT55),2),COUNTIF(INDIRECT(CR55):INDIRECT(CT55),1),COUNTIF(INDIRECT(CR55):INDIRECT(CT55),0))),SUM(COUNTIF(INDIRECT(CR55):INDIRECT(CT55),2),COUNTIF(INDIRECT(CR55):INDIRECT(CT55),1),COUNTIF(INDIRECT(CR55):INDIRECT(CT55),0)),\"\")","v":""},{"$f":"IF(ISNUMBER(SUM(COUNTIF(INDIRECT(CR55):INDIRECT(CU55),1),COUNTIF(INDIRECT(CR55):INDIRECT(CU55),0))),SUM(COUNTIF(INDIRECT(CR55):INDIRECT(CU55),1),COUNTIF(INDIRECT(CR55):INDIRECT(CU55),0)),\"\")","v":""},{"$f":"SUM(INDIRECT(CR55):INDIRECT(CS55))","v":{"$error":"#N/A"}},{"$f":"SUM(INDIRECT(CR55):INDIRECT(CT55))","v":{"$error":"#N/A"}},{"$f":"SUM(INDIRECT(CR55):INDIRECT(CU55))","v":{"$error":"#N/A"}}]
[null,null,1,{"$f":"IF(Modifications!$C31=2,\"N\",\"\")","v":""},"",{"$f":"IF(ISBLANK('Month 1'!$F$56),\"\",'Month 1'!$F$56)","v":""},null,null,null,null,null,null,null,null,null,null,null,null,null,null,null,null,null,null,null,null,null,null,null,null,null,null,null,null,null,null,null,null,null,null,null,null,null,null,null,null,null,null,null,null,null,null,null,null,null,null,null,null,null,0,"@","@","@","@","@","@","@","@","@","@","@","@","@","@","@","@","@","@","@","@","@","@","@","@","@","@","@","@","@","@","@",{"$f":"'Month 10'!BL56","v":"@"},{"$f":"'Month 10'!BK56","v":"@"},{"$f":"'Month 10'!BJ56","v":"@"},{"$f":"'Month 10'!BI56","v":"@"},{"$error":"#N/A"},{"$error":"#N/A"},{"$error":"#N/A"},{"$error":"#N/A"},{"$f":"IF(ISNUMBER(SUM(COUNTIF(INDIRECT(CR56):INDIRECT(CS56),2),COUNTIF(INDIRECT(CR56):INDIRECT(CS56),1),COUNTIF(INDIRECT(CR56):INDIRECT(CS56),0))),SUM(COUNTIF(INDIRECT(CR56):INDIRECT(CS56),2),COUNTIF(INDIRECT(CR56):INDIRECT(CS56),1),COUNTIF(INDIRECT(CR56):INDIRECT(CS56),0)),\"\")","v":""},{"$f":"IF(ISNUMBER(SUM(COUNTIF(INDIRECT(CR56):INDIRECT(CT56),2),COUNTIF(INDIRECT(CR56):INDIRECT(CT56),1),COUNTIF(INDIRECT(CR56):INDIRECT(CT56),0))),SUM(COUNTIF(INDIRECT(CR56):INDIRECT(CT56),2),COUNTIF(INDIRECT(CR56):INDIRECT(CT56),1),COUNTIF(INDIRECT(CR56):INDIRECT(CT56),0)),\"\")","v":""},{"$f":"IF(ISNUMBER(SUM(COUNTIF(INDIRECT(CR56):INDIRECT(CU56),1),COUNTIF(INDIRECT(CR56):INDIRECT(CU56),0))),SUM(COUNTIF(INDIRECT(CR56):INDIRECT(CU56),1),COUNTIF(INDIRECT(CR56):INDIRECT(CU56),0)),\"\")","v":""},{"$f":"SUM(INDIRECT(CR56):INDIRECT(CS56))","v":{"$error":"#N/A"}},{"$f":"SUM(INDIRECT(CR56):INDIRECT(CT56))","v":{"$error":"#N/A"}},{"$f":"SUM(INDIRECT(CR56):INDIRECT(CU56))","v":{"$error":"#N/A"}}]
[null,null,1,{"$f":"IF(Modifications!$C32=2,\"N\",\"\")","v":""},"",{"$f":"IF(ISBLANK('Month 1'!$F$57),\"\",'Month 1'!$F$57)","v":""},null,null,null,null,null,null,null,null,null,null,null,null,null,null,null,null,null,null,null,null,null,null,null,null,null,null,null,null,null,null,null,null,null,null,null,null,null,null,null,null,null,null,null,null,null,null,null,null,null,null,null,null,null,0,"@","@","@","@","@","@","@","@","@","@","@","@","@","@","@","@","@","@","@","@","@","@","@","@","@","@","@","@","@","@","@",{"$f":"'Month 10'!BL57","v":"@"},{"$f":"'Month 10'!BK57","v":"@"},{"$f":"'Month 10'!BJ57","v":"@"},{"$f":"'Month 10'!BI57","v":"@"},{"$error":"#N/A"},{"$error":"#N/A"},{"$error":"#N/A"},{"$error":"#N/A"},{"$f":"IF(ISNUMBER(SUM(COUNTIF(INDIRECT(CR57):INDIRECT(CS57),2),COUNTIF(INDIRECT(CR57):INDIRECT(CS57),1),COUNTIF(INDIRECT(CR57):INDIRECT(CS57),0))),SUM(COUNTIF(INDIRECT(CR57):INDIRECT(CS57),2),COUNTIF(INDIRECT(CR57):INDIRECT(CS57),1),COUNTIF(INDIRECT(CR57):INDIRECT(CS57),0)),\"\")","v":""},{"$f":"IF(ISNUMBER(SUM(COUNTIF(INDIRECT(CR57):INDIRECT(CT57),2),COUNTIF(INDIRECT(CR57):INDIRECT(CT57),1),COUNTIF(INDIRECT(CR57):INDIRECT(CT57),0))),SUM(COUNTIF(INDIRECT(CR57):INDIRECT(CT57),2),COUNTIF(INDIRECT(CR57):INDIRECT(CT57),1),COUNTIF(INDIRECT(CR57):INDIRECT(CT57),0)),\"\")","v":""},{"$f":"IF(ISNUMBER(SUM(COUNTIF(INDIRECT(CR57):INDIRECT(CU57),1),COUNTIF(INDIRECT(CR57):INDIRECT(CU57),0))),SUM(COUNTIF(INDIRECT(CR57):INDIRECT(CU57),1),COUNTIF(INDIRECT(CR57):INDIRECT(CU57),0)),\"\")","v":""},{"$f":"SUM(INDIRECT(CR57):INDIRECT(CS57))","v":{"$error":"#N/A"}},{"$f":"SUM(INDIRECT(CR57):INDIRECT(CT57))","v":{"$error":"#N/A"}},{"$f":"SUM(INDIRECT(CR57):INDIRECT(CU57))","v":{"$error":"#N/A"}}]
[null,null,1,{"$f":"IF(Modifications!$C33=2,\"N\",\"\")","v":""},"",{"$f":"IF(ISBLANK('Month 1'!$F$58),\"\",'Month 1'!$F$58)","v":""},null,null,null,null,null,null,null,null,null,null,null,null,null,null,null,null,null,null,null,null,null,null,null,null,null,null,null,null,null,null,null,null,null,null,null,null,null,null,null,null,null,null,null,null,null,null,null,null,null,null,null,null,null,0,"@","@","@","@","@","@","@","@","@","@","@","@","@","@","@","@","@","@","@","@","@","@","@","@","@","@","@","@","@","@","@",{"$f":"'Month 10'!BL58","v":"@"},{"$f":"'Month 10'!BK58","v":"@"},{"$f":"'Month 10'!BJ58","v":"@"},{"$f":"'Month 10'!BI58","v":"@"},{"$error":"#N/A"},{"$error":"#N/A"},{"$error":"#N/A"},{"$error":"#N/A"},{"$f":"IF(ISNUMBER(SUM(COUNTIF(INDIRECT(CR58):INDIRECT(CS58),2),COUNTIF(INDIRECT(CR58):INDIRECT(CS58),1),COUNTIF(INDIRECT(CR58):INDIRECT(CS58),0))),SUM(COUNTIF(INDIRECT(CR58):INDIRECT(CS58),2),COUNTIF(INDIRECT(CR58):INDIRECT(CS58),1),COUNTIF(INDIRECT(CR58):INDIRECT(CS58),0)),\"\")","v":""},{"$f":"IF(ISNUMBER(SUM(COUNTIF(INDIRECT(CR58):INDIRECT(CT58),2),COUNTIF(INDIRECT(CR58):INDIRECT(CT58),1),COUNTIF(INDIRECT(CR58):INDIRECT(CT58),0))),SUM(COUNTIF(INDIRECT(CR58):INDIRECT(CT58),2),COUNTIF(INDIRECT(CR58):INDIRECT(CT58),1),COUNTIF(INDIRECT(CR58):INDIRECT(CT58),0)),\"\")","v":""},{"$f":"IF(ISNUMBER(SUM(COUNTIF(INDIRECT(CR58):INDIRECT(CU58),1),COUNTIF(INDIRECT(CR58):INDIRECT(CU58),0))),SUM(COUNTIF(INDIRECT(CR58):INDIRECT(CU58),1),COUNTIF(INDIRECT(CR58):INDIRECT(CU58),0)),\"\")","v":""},{"$f":"SUM(INDIRECT(CR58):INDIRECT(CS58))","v":{"$error":"#N/A"}},{"$f":"SUM(INDIRECT(CR58):INDIRECT(CT58))","v":{"$error":"#N/A"}},{"$f":"SUM(INDIRECT(CR58):INDIRECT(CU58))","v":{"$error":"#N/A"}}]
[null,null,1,{"$f":"IF(Modifications!$C34=2,\"N\",\"\")","v":""},{"$f":"IF(AND(BH87>0,$F$10=\"\"),\"Choose Skill Type\",IF(CX87=\"\",\"\",IF(AND(DA87=3,$F$10=\"Multi-Step (Task Analysis)\"),\"Add Next Step\",IF(AND(DA87=3,$F$10=\"Multi-Stimulus (Different Sd's)\"),\"Continue\",IF(OR(AND(CV87=5,CY87<=1),AND(CW87=4,CZ87=0)),\"Intervene\",IF(OR(AND(CV87=5,CY87<=2),AND(CW87=4,CZ87<=1),AND(CX87=3,DA87=0)),\"Check\",\"Continue\"))))))","v":""},{"$f":"IF(ISBLANK('Month 1'!$F$59),\"\",'Month 1'!$F$59)","v":""},null,null,null,null,null,null,null,null,null,null,null,null,null,null,null,null,null,null,null,null,null,null,null,null,null,null,null,null,null,null,null,null,null,null,null,null,null,null,null,null,null,null,null,null,null,null,null,null,null,null,null,null,null,0,"@","@","@","@","@","@","@","@","@","@","@","@","@","@","@","@","@","@","@","@","@","@","@","@","@","@","@","@","@","@","@",{"$f":"'Month 10'!BL59","v":"@"},{"$f":"'Month 10'!BK59","v":"@"},{"$f":"'Month 10'!BJ59","v":"@"},{"$f":"'Month 10'!BI59","v":"@"},{"$error":"#N/A"},{"$error":"#N/A"},{"$error":"#N/A"},{"$error":"#N/A"},{"$f":"IF(ISNUMBER(SUM(COUNTIF(INDIRECT(CR59):INDIRECT(CS59),2),COUNTIF(INDIRECT(CR59):INDIRECT(CS59),1),COUNTIF(INDIRECT(CR59):INDIRECT(CS59),0))),SUM(COUNTIF(INDIRECT(CR59):INDIRECT(CS59),2),COUNTIF(INDIRECT(CR59):INDIRECT(CS59),1),COUNTIF(INDIRECT(CR59):INDIRECT(CS59),0)),\"\")","v":""},{"$f":"IF(ISNUMBER(SUM(COUNTIF(INDIRECT(CR59):INDIRECT(CT59),2),COUNTIF(INDIRECT(CR59):INDIRECT(CT59),1),COUNTIF(INDIRECT(CR59):INDIRECT(CT59),0))),SUM(COUNTIF(INDIRECT(CR59):INDIRECT(CT59),2),COUNTIF(INDIRECT(CR59):INDIRECT(CT59),1),COUNTIF(INDIRECT(CR59):INDIRECT(CT59),0)),\"\")","v":""},{"$f":"IF(ISNUMBER(SUM(COUNTIF(INDIRECT(CR59):INDIRECT(CU59),1),COUNTIF(INDIRECT(CR59):INDIRECT(CU59),0))),SUM(COUNTIF(INDIRECT(CR59):INDIRECT(CU59),1),COUNTIF(INDIRECT(CR59):INDIRECT(CU59),0)),\"\")","v":""},{"$f":"SUM(INDIRECT(CR59):INDIRECT(CS59))","v":{"$error":"#N/A"}},{"$f":"SUM(INDIRECT(CR59):INDIRECT(CT59))","v":{"$error":"#N/A"}},{"$f":"SUM(INDIRECT(CR59):INDIRECT(CU59))","v":{"$error":"#N/A"}}]
[null,null,1,{"$f":"IF(Modifications!$C35=2,\"N\",\"\")","v":""},"",{"$f":"IF(ISBLANK('Month 1'!$F$60),\"\",'Month 1'!$F$60)","v":""},null,null,null,null,null,null,null,null,null,null,null,null,null,null,null,null,null,null,null,null,null,null,null,null,null,null,null,null,null,null,null,null,null,null,null,null,null,null,null,null,null,null,null,null,null,null,null,null,null,null,null,null,null,0,"@","@","@","@","@","@","@","@","@","@","@","@","@","@","@","@","@","@","@","@","@","@","@","@","@","@","@","@","@","@","@",{"$f":"'Month 10'!BL60","v":"@"},{"$f":"'Month 10'!BK60","v":"@"},{"$f":"'Month 10'!BJ60","v":"@"},{"$f":"'Month 10'!BI60","v":"@"},{"$error":"#N/A"},{"$error":"#N/A"},{"$error":"#N/A"},{"$error":"#N/A"},{"$f":"IF(ISNUMBER(SUM(COUNTIF(INDIRECT(CR60):INDIRECT(CS60),2),COUNTIF(INDIRECT(CR60):INDIRECT(CS60),1),COUNTIF(INDIRECT(CR60):INDIRECT(CS60),0))),SUM(COUNTIF(INDIRECT(CR60):INDIRECT(CS60),2),COUNTIF(INDIRECT(CR60):INDIRECT(CS60),1),COUNTIF(INDIRECT(CR60):INDIRECT(CS60),0)),\"\")","v":""},{"$f":"IF(ISNUMBER(SUM(COUNTIF(INDIRECT(CR60):INDIRECT(CT60),2),COUNTIF(INDIRECT(CR60):INDIRECT(CT60),1),COUNTIF(INDIRECT(CR60):INDIRECT(CT60),0))),SUM(COUNTIF(INDIRECT(CR60):INDIRECT(CT60),2),COUNTIF(INDIRECT(CR60):INDIRECT(CT60),1),COUNTIF(INDIRECT(CR60):INDIRECT(CT60),0)),\"\")","v":""},{"$f":"IF(ISNUMBER(SUM(COUNTIF(INDIRECT(CR60):INDIRECT(CU60),1),COUNTIF(INDIRECT(CR60):INDIRECT(CU60),0))),SUM(COUNTIF(INDIRECT(CR60):INDIRECT(CU60),1),COUNTIF(INDIRECT(CR60):INDIRECT(CU60),0)),\"\")","v":""},{"$f":"SUM(INDIRECT(CR60):INDIRECT(CS60))","v":{"$error":"#N/A"}},{"$f":"SUM(INDIRECT(CR60):INDIRECT(CT60))","v":{"$error":"#N/A"}},{"$f":"SUM(INDIRECT(CR60):INDIRECT(CU60))","v":{"$error":"#N/A"}}]
[null,null,1,{"$f":"IF(Modifications!$C36=2,\"N\",\"\")","v":""},"",{"$f":"IF(ISBLANK('Month 1'!$F$61),\"\",'Month 1'!$F$61)","v":""},null,null,null,null,null,null,null,null,null,null,null,null,null,null,null,null,null,null,null,null,null,null,null,null,null,null,null,null,null,null,null,null,null,null,null,null,null,null,null,null,null,null,null,null,null,null,null,null,null,null,null,null,null,0,"@","@","@","@","@","@","@","@","@","@","@","@","@","@","@","@","@","@","@","@","@","@","@","@","@","@","@","@","@","@","@",{"$f":"'Month 10'!BL61","v":"@"},{"$f":"'Month 10'!BK61","v":"@"},{"$f":"'Month 10'!BJ61","v":"@"},{"$f":"'Month 10'!BI61","v":"@"},{"$error":"#N/A"},{"$error":"#N/A"},{"$error":"#N/A"},{"$error":"#N/A"},{"$f":"IF(ISNUMBER(SUM(COUNTIF(INDIRECT(CR61):INDIRECT(CS61),2),COUNTIF(INDIRECT(CR61):INDIRECT(CS61),1),COUNTIF(INDIRECT(CR61):INDIRECT(CS61),0))),SUM(COUNTIF(INDIRECT(CR61):INDIRECT(CS61),2),COUNTIF(INDIRECT(CR61):INDIRECT(CS61),1),COUNTIF(INDIRECT(CR61):INDIRECT(CS61),0)),\"\")","v":""},{"$f":"IF(ISNUMBER(SUM(COUNTIF(INDIRECT(CR61):INDIRECT(CT61),2),COUNTIF(INDIRECT(CR61):INDIRECT(CT61),1),COUNTIF(INDIRECT(CR61):INDIRECT(CT61),0))),SUM(COUNTIF(INDIRECT(CR61):INDIRECT(CT61),2),COUNTIF(INDIRECT(CR61):INDIRECT(CT61),1),COUNTIF(INDIRECT(CR61):INDIRECT(CT61),0)),\"\")","v":""},{"$f":"IF(ISNUMBER(SUM(COUNTIF(INDIRECT(CR61):INDIRECT(CU61),1),COUNTIF(INDIRECT(CR61):INDIRECT(CU61),0))),SUM(COUNTIF(INDIRECT(CR61):INDIRECT(CU61),1),COUNTIF(INDIRECT(CR61):INDIRECT(CU61),0)),\"\")","v":""},{"$f":"SUM(INDIRECT(CR61):INDIRECT(CS61))","v":{"$error":"#N/A"}},{"$f":"SUM(INDIRECT(CR61):INDIRECT(CT61))","v":{"$error":"#N/A"}},{"$f":"SUM(INDIRECT(CR61):INDIRECT(CU61))","v":{"$error":"#N/A"}}]
[null,null,1,{"$f":"IF(Modifications!$C37=2,\"N\",\"\")","v":""},"",{"$f":"IF(ISBLANK('Month 1'!$F$62),\"\",'Month 1'!$F$62)","v":""},null,null,null,null,null,null,null,null,null,null,null,null,null,null,null,null,null,null,null,null,null,null,null,null,null,null,null,null,null,null,null,null,null,null,null,null,null,null,null,null,null,null,null,null,null,null,null,null,null,null,null,null,null,0,"@","@","@","@","@","@","@","@","@","@","@","@","@","@","@","@","@","@","@","@","@","@","@","@","@","@","@","@","@","@","@",{"$f":"'Month 10'!BL62","v":"@"},{"$f":"'Month 10'!BK62","v":"@"},{"$f":"'Month 10'!BJ62","v":"@"},{"$f":"'Month 10'!BI62","v":"@"},{"$error":"#N/A"},{"$error":"#N/A"},{"$error":"#N/A"},{"$error":"#N/A"},{"$f":"IF(ISNUMBER(SUM(COUNTIF(INDIRECT(CR62):INDIRECT(CS62),2),COUNTIF(INDIRECT(CR62):INDIRECT(CS62),1),COUNTIF(INDIRECT(CR62):INDIRECT(CS62),0))),SUM(COUNTIF(INDIRECT(CR62):INDIRECT(CS62),2),COUNTIF(INDIRECT(CR62):INDIRECT(CS62),1),COUNTIF(INDIRECT(CR62):INDIRECT(CS62),0)),\"\")","v":""},{"$f":"IF(ISNUMBER(SUM(COUNTIF(INDIRECT(CR62):INDIRECT(CT62),2),COUNTIF(INDIRECT(CR62):INDIRECT(CT62),1),COUNTIF(INDIRECT(CR62):INDIRECT(CT62),0))),SUM(COUNTIF(INDIRECT(CR62):INDIRECT(CT62),2),COUNTIF(INDIRECT(CR62):INDIRECT(CT62),1),COUNTIF(INDIRECT(CR62):INDIRECT(CT62),0)),\"\")","v":""},{"$f":"IF(ISNUMBER(SUM(COUNTIF(INDIRECT(CR62):INDIRECT(CU62),1),COUNTIF(INDIRECT(CR62):INDIRECT(CU62),0))),SUM(COUNTIF(INDIRECT(CR62):INDIRECT(CU62),1),COUNTIF(INDIRECT(CR62):INDIRECT(CU62),0)),\"\")","v":""},{"$f":"SUM(INDIRECT(CR62):INDIRECT(CS62))","v":{"$error":"#N/A"}},{"$f":"SUM(INDIRECT(CR62):INDIRECT(CT62))","v":{"$error":"#N/A"}},{"$f":"SUM(INDIRECT(CR62):INDIRECT(CU62))","v":{"$error":"#N/A"}}]
[null,null,1,{"$f":"IF(Modifications!$C38=2,\"N\",\"\")","v":""},"",{"$f":"IF(ISBLANK('Month 1'!$F$63),\"\",'Month 1'!$F$63)","v":""},null,null,null,null,null,null,null,null,null,null,null,null,null,null,null,null,null,null,null,null,null,null,null,null,null,null,null,null,null,null,null,null,null,null,null,null,null,null,null,null,null,null,null,null,null,null,null,null,null,null,null,null,null,0,"@","@","@","@","@","@","@","@","@","@","@","@","@","@","@","@","@","@","@","@","@","@","@","@","@","@","@","@","@","@","@",{"$f":"'Month 10'!BL63","v":"@"},{"$f":"'Month 10'!BK63","v":"@"},{"$f":"'Month 10'!BJ63","v":"@"},{"$f":"'Month 10'!BI63","v":"@"},{"$error":"#N/A"},{"$error":"#N/A"},{"$error":"#N/A"},{"$error":"#N/A"},{"$f":"IF(ISNUMBER(SUM(COUNTIF(INDIRECT(CR63):INDIRECT(CS63),2),COUNTIF(INDIRECT(CR63):INDIRECT(CS63),1),COUNTIF(INDIRECT(CR63):INDIRECT(CS63),0))),SUM(COUNTIF(INDIRECT(CR63):INDIRECT(CS63),2),COUNTIF(INDIRECT(CR63):INDIRECT(CS63),1),COUNTIF(INDIRECT(CR63):INDIRECT(CS63),0)),\"\")","v":""},{"$f":"IF(ISNUMBER(SUM(COUNTIF(INDIRECT(CR63):INDIRECT(CT63),2),COUNTIF(INDIRECT(CR63):INDIRECT(CT63),1),COUNTIF(INDIRECT(CR63):INDIRECT(CT63),0))),SUM(COUNTIF(INDIRECT(CR63):INDIRECT(CT63),2),COUNTIF(INDIRECT(CR63):INDIRECT(CT63),1),COUNTIF(INDIRECT(CR63):INDIRECT(CT63),0)),\"\")","v":""},{"$f":"IF(ISNUMBER(SUM(COUNTIF(INDIRECT(CR63):INDIRECT(CU63),1),COUNTIF(INDIRECT(CR63):INDIRECT(CU63),0))),SUM(COUNTIF(INDIRECT(CR63):INDIRECT(CU63),1),COUNTIF(INDIRECT(CR63):INDIRECT(CU63),0)),\"\")","v":""},{"$f":"SUM(INDIRECT(CR63):INDIRECT(CS63))","v":{"$error":"#N/A"}},{"$f":"SUM(INDIRECT(CR63):INDIRECT(CT63))","v":{"$error":"#N/A"}},{"$f":"SUM(INDIRECT(CR63):INDIRECT(CU63))","v":{"$error":"#N/A"}}]
[null,null,1,{"$f":"IF(Modifications!$C39=2,\"N\",\"\")","v":""},"",{"$f":"IF(ISBLANK('Month 1'!$F$64),\"\",'Month 1'!$F$64)","v":""},null,null,null,null,null,null,null,null,null,null,null,null,null,null,null,null,null,null,null,null,null,null,null,null,null,null,null,null,null,null,null,null,null,null,null,null,null,null,null,null,null,null,null,null,null,null,null,null,null,null,null,null,null,0,"@","@","@","@","@","@","@","@","@","@","@","@","@","@","@","@","@","@","@","@","@","@","@","@","@","@","@","@","@","@","@",{"$f":"'Month 10'!BL64","v":"@"},{"$f":"'Month 10'!BK64","v":"@"},{"$f":"'Month 10'!BJ64","v":"@"},{"$f":"'Month 10'!BI64","v":"@"},{"$error":"#N/A"},{"$error":"#N/A"},{"$error":"#N/A"},{"$error":"#N/A"},{"$f":"IF(ISNUMBER(SUM(COUNTIF(INDIRECT(CR64):INDIRECT(CS64),2),COUNTIF(INDIRECT(CR64):INDIRECT(CS64),1),COUNTIF(INDIRECT(CR64):INDIRECT(CS64),0))),SUM(COUNTIF(INDIRECT(CR64):INDIRECT(CS64),2),COUNTIF(INDIRECT(CR64):INDIRECT(CS64),1),COUNTIF(INDIRECT(CR64):INDIRECT(CS64),0)),\"\")","v":""},{"$f":"IF(ISNUMBER(SUM(COUNTIF(INDIRECT(CR64):INDIRECT(CT64),2),COUNTIF(INDIRECT(CR64):INDIRECT(CT64),1),COUNTIF(INDIRECT(CR64):INDIRECT(CT64),0))),SUM(COUNTIF(INDIRECT(CR64):INDIRECT(CT64),2),COUNTIF(INDIRECT(CR64):INDIRECT(CT64),1),COUNTIF(INDIRECT(CR64):INDIRECT(CT64),0)),\"\")","v":""},{"$f":"IF(ISNUMBER(SUM(COUNTIF(INDIRECT(CR64):INDIRECT(CU64),1),COUNTIF(INDIRECT(CR64):INDIRECT(CU64),0))),SUM(COUNTIF(INDIRECT(CR64):INDIRECT(CU64),1),COUNTIF(INDIRECT(CR64):INDIRECT(CU64),0)),\"\")","v":""},{"$f":"SUM(INDIRECT(CR64):INDIRECT(CS64))","v":{"$error":"#N/A"}},{"$f":"SUM(INDIRECT(CR64):INDIRECT(CT64))","v":{"$error":"#N/A"}},{"$f":"SUM(INDIRECT(CR64):INDIRECT(CU64))","v":{"$error":"#N/A"}}]
[null,null,1,{"$f":"IF(Modifications!$C40=2,\"N\",\"\")","v":""},"",{"$f":"IF(ISBLANK('Month 1'!$F$65),\"\",'Month 1'!$F$65)","v":""},null,null,null,null,null,null,null,null,null,null,null,null,null,null,null,null,null,null,null,null,null,null,null,null,null,null,null,null,null,null,null,null,null,null,null,null,null,null,null,null,null,null,null,null,null,null,null,null,null,null,null,null,null,0,"@","@","@","@","@","@","@","@","@","@","@","@","@","@","@","@","@","@","@","@","@","@","@","@","@","@","@","@","@","@","@",{"$f":"'Month 10'!BL65","v":"@"},{"$f":"'Month 10'!BK65","v":"@"},{"$f":"'Month 10'!BJ65","v":"@"},{"$f":"'Month 10'!BI65","v":"@"},{"$error":"#N/A"},{"$error":"#N/A"},{"$error":"#N/A"},{"$error":"#N/A"},{"$f":"IF(ISNUMBER(SUM(COUNTIF(INDIRECT(CR65):INDIRECT(CS65),2),COUNTIF(INDIRECT(CR65):INDIRECT(CS65),1),COUNTIF(INDIRECT(CR65):INDIRECT(CS65),0))),SUM(COUNTIF(INDIRECT(CR65):INDIRECT(CS65),2),COUNTIF(INDIRECT(CR65):INDIRECT(CS65),1),COUNTIF(INDIRECT(CR65):INDIRECT(CS65),0)),\"\")","v":""},{"$f":"IF(ISNUMBER(SUM(COUNTIF(INDIRECT(CR65):INDIRECT(CT65),2),COUNTIF(INDIRECT(CR65):INDIRECT(CT65),1),COUNTIF(INDIRECT(CR65):INDIRECT(CT65),0))),SUM(COUNTIF(INDIRECT(CR65):INDIRECT(CT65),2),COUNTIF(INDIRECT(CR65):INDIRECT(CT65),1),COUNTIF(INDIRECT(CR65):INDIRECT(CT65),0)),\"\")","v":""},{"$f":"IF(ISNUMBER(SUM(COUNTIF(INDIRECT(CR65):INDIRECT(CU65),1),COUNTIF(INDIRECT(CR65):INDIRECT(CU65),0))),SUM(COUNTIF(INDIRECT(CR65):INDIRECT(CU65),1),COUNTIF(INDIRECT(CR65):INDIRECT(CU65),0)),\"\")","v":""},{"$f":"SUM(INDIRECT(CR65):INDIRECT(CS65))","v":{"$error":"#N/A"}},{"$f":"SUM(INDIRECT(CR65):INDIRECT(CT65))","v":{"$error":"#N/A"}},{"$f":"SUM(INDIRECT(CR65):INDIRECT(CU65))","v":{"$error":"#N/A"}}]
[null,null,1,{"$f":"IF(Modifications!$C41=2,\"N\",\"\")","v":""},"",{"$f":"IF(ISBLANK('Month 1'!$F$66),\"\",'Month 1'!$F$66)","v":""},null,null,null,null,null,null,null,null,null,null,null,null,null,null,null,null,null,null,null,null,null,null,null,null,null,null,null,null,null,null,null,null,null,null,null,null,null,null,null,null,null,null,null,null,null,null,null,null,null,null,null,null,null,0,"@","@","@","@","@","@","@","@","@","@","@","@","@","@","@","@","@","@","@","@","@","@","@","@","@","@","@","@","@","@","@",{"$f":"'Month 10'!BL66","v":"@"},{"$f":"'Month 10'!BK66","v":"@"},{"$f":"'Month 10'!BJ66","v":"@"},{"$f":"'Month 10'!BI66","v":"@"},{"$error":"#N/A"},{"$error":"#N/A"},{"$error":"#N/A"},{"$error":"#N/A"},{"$f":"IF(ISNUMBER(SUM(COUNTIF(INDIRECT(CR66):INDIRECT(CS66),2),COUNTIF(INDIRECT(CR66):INDIRECT(CS66),1),COUNTIF(INDIRECT(CR66):INDIRECT(CS66),0))),SUM(COUNTIF(INDIRECT(CR66):INDIRECT(CS66),2),COUNTIF(INDIRECT(CR66):INDIRECT(CS66),1),COUNTIF(INDIRECT(CR66):INDIRECT(CS66),0)),\"\")","v":""},{"$f":"IF(ISNUMBER(SUM(COUNTIF(INDIRECT(CR66):INDIRECT(CT66),2),COUNTIF(INDIRECT(CR66):INDIRECT(CT66),1),COUNTIF(INDIRECT(CR66):INDIRECT(CT66),0))),SUM(COUNTIF(INDIRECT(CR66):INDIRECT(CT66),2),COUNTIF(INDIRECT(CR66):INDIRECT(CT66),1),COUNTIF(INDIRECT(CR66):INDIRECT(CT66),0)),\"\")","v":""},{"$f":"IF(ISNUMBER(SUM(COUNTIF(INDIRECT(CR66):INDIRECT(CU66),1),COUNTIF(INDIRECT(CR66):INDIRECT(CU66),0))),SUM(COUNTIF(INDIRECT(CR66):INDIRECT(CU66),1),COUNTIF(INDIRECT(CR66):INDIRECT(CU66),0)),\"\")","v":""},{"$f":"SUM(INDIRECT(CR66):INDIRECT(CS66))","v":{"$error":"#N/A"}},{"$f":"SUM(INDIRECT(CR66):INDIRECT(CT66))","v":{"$error":"#N/A"}},{"$f":"SUM(INDIRECT(CR66):INDIRECT(CU66))","v":{"$error":"#N/A"}}]
[null,null,1,{"$f":"IF(Modifications!$C42=2,\"N\",\"\")","v":""},"",{"$f":"IF(ISBLANK('Month 1'!$F$67),\"\",'Month 1'!$F$67)","v":""},null,null,null,null,null,null,null,null,null,null,null,null,null,null,null,null,null,null,null,null,null,null,null,null,null,null,null,null,null,null,null,null,null,null,null,null,null,null,null,null,null,null,null,null,null,null,null,null,null,null,null,null,null,0,"@","@","@","@","@","@","@","@","@","@","@","@","@","@","@","@","@","@","@","@","@","@","@","@","@","@","@","@","@","@","@",{"$f":"'Month 10'!BL67","v":"@"},{"$f":"'Month 10'!BK67","v":"@"},{"$f":"'Month 10'!BJ67","v":"@"},{"$f":"'Month 10'!BI67","v":"@"},{"$error":"#N/A"},{"$error":"#N/A"},{"$error":"#N/A"},{"$error":"#N/A"},{"$f":"IF(ISNUMBER(SUM(COUNTIF(INDIRECT(CR67):INDIRECT(CS67),2),COUNTIF(INDIRECT(CR67):INDIRECT(CS67),1),COUNTIF(INDIRECT(CR67):INDIRECT(CS67),0))),SUM(COUNTIF(INDIRECT(CR67):INDIRECT(CS67),2),COUNTIF(INDIRECT(CR67):INDIRECT(CS67),1),COUNTIF(INDIRECT(CR67):INDIRECT(CS67),0)),\"\")","v":""},{"$f":"IF(ISNUMBER(SUM(COUNTIF(INDIRECT(CR67):INDIRECT(CT67),2),COUNTIF(INDIRECT(CR67):INDIRECT(CT67),1),COUNTIF(INDIRECT(CR67):INDIRECT(CT67),0))),SUM(COUNTIF(INDIRECT(CR67):INDIRECT(CT67),2),COUNTIF(INDIRECT(CR67):INDIRECT(CT67),1),COUNTIF(INDIRECT(CR67):INDIRECT(CT67),0)),\"\")","v":""},{"$f":"IF(ISNUMBER(SUM(COUNTIF(INDIRECT(CR67):INDIRECT(CU67),1),COUNTIF(INDIRECT(CR67):INDIRECT(CU67),0))),SUM(COUNTIF(INDIRECT(CR67):INDIRECT(CU67),1),COUNTIF(INDIRECT(CR67):INDIRECT(CU67),0)),\"\")","v":""},{"$f":"SUM(INDIRECT(CR67):INDIRECT(CS67))","v":{"$error":"#N/A"}},{"$f":"SUM(INDIRECT(CR67):INDIRECT(CT67))","v":{"$error":"#N/A"}},{"$f":"SUM(INDIRECT(CR67):INDIRECT(CU67))","v":{"$error":"#N/A"}}]
[null,null,1,{"$f":"IF(Modifications!$C43=2,\"N\",\"\")","v":""},"",{"$f":"IF(ISBLANK('Month 1'!$F$68),\"\",'Month 1'!$F$68)","v":""},null,null,null,null,null,null,null,null,null,null,null,null,null,null,null,null,null,null,null,null,null,null,null,null,null,null,null,null,null,null,null,null,null,null,null,null,null,null,null,null,null,null,null,null,null,null,null,null,null,null,null,null,null,0,"@","@","@","@","@","@","@","@","@","@","@","@","@","@","@","@","@","@","@","@","@","@","@","@","@","@","@","@","@","@","@",{"$f":"'Month 10'!BL68","v":"@"},{"$f":"'Month 10'!BK68","v":"@"},{"$f":"'Month 10'!BJ68","v":"@"},{"$f":"'Month 10'!BI68","v":"@"},{"$error":"#N/A"},{"$error":"#N/A"},{"$error":"#N/A"},{"$error":"#N/A"},{"$f":"IF(ISNUMBER(SUM(COUNTIF(INDIRECT(CR68):INDIRECT(CS68),2),COUNTIF(INDIRECT(CR68):INDIRECT(CS68),1),COUNTIF(INDIRECT(CR68):INDIRECT(CS68),0))),SUM(COUNTIF(INDIRECT(CR68):INDIRECT(CS68),2),COUNTIF(INDIRECT(CR68):INDIRECT(CS68),1),COUNTIF(INDIRECT(CR68):INDIRECT(CS68),0)),\"\")","v":""},{"$f":"IF(ISNUMBER(SUM(COUNTIF(INDIRECT(CR68):INDIRECT(CT68),2),COUNTIF(INDIRECT(CR68):INDIRECT(CT68),1),COUNTIF(INDIRECT(CR68):INDIRECT(CT68),0))),SUM(COUNTIF(INDIRECT(CR68):INDIRECT(CT68),2),COUNTIF(INDIRECT(CR68):INDIRECT(CT68),1),COUNTIF(INDIRECT(CR68):INDIRECT(CT68),0)),\"\")","v":""},{"$f":"IF(ISNUMBER(SUM(COUNTIF(INDIRECT(CR68):INDIRECT(CU68),1),COUNTIF(INDIRECT(CR68):INDIRECT(CU68),0))),SUM(COUNTIF(INDIRECT(CR68):INDIRECT(CU68),1),COUNTIF(INDIRECT(CR68):INDIRECT(CU68),0)),\"\")","v":""},{"$f":"SUM(INDIRECT(CR68):INDIRECT(CS68))","v":{"$error":"#N/A"}},{"$f":"SUM(INDIRECT(CR68):INDIRECT(CT68))","v":{"$error":"#N/A"}},{"$f":"SUM(INDIRECT(CR68):INDIRECT(CU68))","v":{"$error":"#N/A"}}]
[null,null,1,{"$f":"IF(Modifications!$C44=2,\"N\",\"\")","v":""},"",{"$f":"IF(ISBLANK('Month 1'!$F$69),\"\",'Month 1'!$F$69)","v":""},null,null,null,null,null,null,null,null,null,null,null,null,null,null,null,null,null,null,null,null,null,null,null,null,null,null,null,null,null,null,null,null,null,null,null,null,null,null,null,null,null,null,null,null,null,null,null,null,null,null,null,null,null,0,"@","@","@","@","@","@","@","@","@","@","@","@","@","@","@","@","@","@","@","@","@","@","@","@","@","@","@","@","@","@","@",{"$f":"'Month 10'!BL69","v":"@"},{"$f":"'Month 10'!BK69","v":"@"},{"$f":"'Month 10'!BJ69","v":"@"},{"$f":"'Month 10'!BI69","v":"@"},{"$error":"#N/A"},{"$error":"#N/A"},{"$error":"#N/A"},{"$error":"#N/A"},{"$f":"IF(ISNUMBER(SUM(COUNTIF(INDIRECT(CR69):INDIRECT(CS69),2),COUNTIF(INDIRECT(CR69):INDIRECT(CS69),1),COUNTIF(INDIRECT(CR69):INDIRECT(CS69),0))),SUM(COUNTIF(INDIRECT(CR69):INDIRECT(CS69),2),COUNTIF(INDIRECT(CR69):INDIRECT(CS69),1),COUNTIF(INDIRECT(CR69):INDIRECT(CS69),0)),\"\")","v":""},{"$f":"IF(ISNUMBER(SUM(COUNTIF(INDIRECT(CR69):INDIRECT(CT69),2),COUNTIF(INDIRECT(CR69):INDIRECT(CT69),1),COUNTIF(INDIRECT(CR69):INDIRECT(CT69),0))),SUM(COUNTIF(INDIRECT(CR69):INDIRECT(CT69),2),COUNTIF(INDIRECT(CR69):INDIRECT(CT69),1),COUNTIF(INDIRECT(CR69):INDIRECT(CT69),0)),\"\")","v":""},{"$f":"IF(ISNUMBER(SUM(COUNTIF(INDIRECT(CR69):INDIRECT(CU69),1),COUNTIF(INDIRECT(CR69):INDIRECT(CU69),0))),SUM(COUNTIF(INDIRECT(CR69):INDIRECT(CU69),1),COUNTIF(INDIRECT(CR69):INDIRECT(CU69),0)),\"\")","v":""},{"$f":"SUM(INDIRECT(CR69):INDIRECT(CS69))","v":{"$error":"#N/A"}},{"$f":"SUM(INDIRECT(CR69):INDIRECT(CT69))","v":{"$error":"#N/A"}},{"$f":"SUM(INDIRECT(CR69):INDIRECT(CU69))","v":{"$error":"#N/A"}}]
[null,null,1,{"$f":"IF(Modifications!$C45=2,\"N\",\"\")","v":""},"",{"$f":"IF(ISBLANK('Month 1'!$F$70),\"\",'Month 1'!$F$70)","v":""},null,null,null,null,null,null,null,null,null,null,null,null,null,null,null,null,null,null,null,null,null,null,null,null,null,null,null,null,null,null,null,null,null,null,null,null,null,null,null,null,null,null,null,null,null,null,null,null,null,null,null,null,null,0,"@","@","@","@","@","@","@","@","@","@","@","@","@","@","@","@","@","@","@","@","@","@","@","@","@","@","@","@","@","@","@",{"$f":"'Month 10'!BL70","v":"@"},{"$f":"'Month 10'!BK70","v":"@"},{"$f":"'Month 10'!BJ70","v":"@"},{"$f":"'Month 10'!BI70","v":"@"},{"$error":"#N/A"},{"$error":"#N/A"},{"$error":"#N/A"},{"$error":"#N/A"},{"$f":"IF(ISNUMBER(SUM(COUNTIF(INDIRECT(CR70):INDIRECT(CS70),2),COUNTIF(INDIRECT(CR70):INDIRECT(CS70),1),COUNTIF(INDIRECT(CR70):INDIRECT(CS70),0))),SUM(COUNTIF(INDIRECT(CR70):INDIRECT(CS70),2),COUNTIF(INDIRECT(CR70):INDIRECT(CS70),1),COUNTIF(INDIRECT(CR70):INDIRECT(CS70),0)),\"\")","v":""},{"$f":"IF(ISNUMBER(SUM(COUNTIF(INDIRECT(CR70):INDIRECT(CT70),2),COUNTIF(INDIRECT(CR70):INDIRECT(CT70),1),COUNTIF(INDIRECT(CR70):INDIRECT(CT70),0))),SUM(COUNTIF(INDIRECT(CR70):INDIRECT(CT70),2),COUNTIF(INDIRECT(CR70):INDIRECT(CT70),1),COUNTIF(INDIRECT(CR70):INDIRECT(CT70),0)),\"\")","v":""},{"$f":"IF(ISNUMBER(SUM(COUNTIF(INDIRECT(CR70):INDIRECT(CU70),1),COUNTIF(INDIRECT(CR70):INDIRECT(CU70),0))),SUM(COUNTIF(INDIRECT(CR70):INDIRECT(CU70),1),COUNTIF(INDIRECT(CR70):INDIRECT(CU70),0)),\"\")","v":""},{"$f":"SUM(INDIRECT(CR70):INDIRECT(CS70))","v":{"$error":"#N/A"}},{"$f":"SUM(INDIRECT(CR70):INDIRECT(CT70))","v":{"$error":"#N/A"}},{"$f":"SUM(INDIRECT(CR70):INDIRECT(CU70))","v":{"$error":"#N/A"}}]
[null,null,1,{"$f":"IF(Modifications!$C46=2,\"N\",\"\")","v":""},"",{"$f":"IF(ISBLANK('Month 1'!$F$71),\"\",'Month 1'!$F$71)","v":""},null,null,null,null,null,null,null,null,null,null,null,null,null,null,null,null,null,null,null,null,null,null,null,null,null,null,null,null,null,null,null,null,null,null,null,null,null,null,null,null,null,null,null,null,null,null,null,null,null,null,null,null,null,0,"@","@","@","@","@","@","@","@","@","@","@","@","@","@","@","@","@","@","@","@","@","@","@","@","@","@","@","@","@","@","@",{"$f":"'Month 10'!BL71","v":"@"},{"$f":"'Month 10'!BK71","v":"@"},{"$f":"'Month 10'!BJ71","v":"@"},{"$f":"'Month 10'!BI71","v":"@"},{"$error":"#N/A"},{"$error":"#N/A"},{"$error":"#N/A"},{"$error":"#N/A"},{"$f":"IF(ISNUMBER(SUM(COUNTIF(INDIRECT(CR71):INDIRECT(CS71),2),COUNTIF(INDIRECT(CR71):INDIRECT(CS71),1),COUNTIF(INDIRECT(CR71):INDIRECT(CS71),0))),SUM(COUNTIF(INDIRECT(CR71):INDIRECT(CS71),2),COUNTIF(INDIRECT(CR71):INDIRECT(CS71),1),COUNTIF(INDIRECT(CR71):INDIRECT(CS71),0)),\"\")","v":""},{"$f":"IF(ISNUMBER(SUM(COUNTIF(INDIRECT(CR71):INDIRECT(CT71),2),COUNTIF(INDIRECT(CR71):INDIRECT(CT71),1),COUNTIF(INDIRECT(CR71):INDIRECT(CT71),0))),SUM(COUNTIF(INDIRECT(CR71):INDIRECT(CT71),2),COUNTIF(INDIRECT(CR71):INDIRECT(CT71),1),COUNTIF(INDIRECT(CR71):INDIRECT(CT71),0)),\"\")","v":""},{"$f":"IF(ISNUMBER(SUM(COUNTIF(INDIRECT(CR71):INDIRECT(CU71),1),COUNTIF(INDIRECT(CR71):INDIRECT(CU71),0))),SUM(COUNTIF(INDIRECT(CR71):INDIRECT(CU71),1),COUNTIF(INDIRECT(CR71):INDIRECT(CU71),0)),\"\")","v":""},{"$f":"SUM(INDIRECT(CR71):INDIRECT(CS71))","v":{"$error":"#N/A"}},{"$f":"SUM(INDIRECT(CR71):INDIRECT(CT71))","v":{"$error":"#N/A"}},{"$f":"SUM(INDIRECT(CR71):INDIRECT(CU71))","v":{"$error":"#N/A"}}]
[null,null,1,{"$f":"IF(Modifications!$C47=2,\"N\",\"\")","v":""},"",{"$f":"IF(ISBLANK('Month 1'!$F$72),\"\",'Month 1'!$F$72)","v":""},null,null,null,null,null,null,null,null,null,null,null,null,null,null,null,null,null,null,null,null,null,null,null,null,null,null,null,null,null,null,null,null,null,null,null,null,null,null,null,null,null,null,null,null,null,null,null,null,null,null,null,null,null,0,"@","@","@","@","@","@","@","@","@","@","@","@","@","@","@","@","@","@","@","@","@","@","@","@","@","@","@","@","@","@","@",{"$f":"'Month 10'!BL72","v":"@"},{"$f":"'Month 10'!BK72","v":"@"},{"$f":"'Month 10'!BJ72","v":"@"},{"$f":"'Month 10'!BI72","v":"@"},{"$error":"#N/A"},{"$error":"#N/A"},{"$error":"#N/A"},{"$error":"#N/A"},{"$f":"IF(ISNUMBER(SUM(COUNTIF(INDIRECT(CR72):INDIRECT(CS72),2),COUNTIF(INDIRECT(CR72):INDIRECT(CS72),1),COUNTIF(INDIRECT(CR72):INDIRECT(CS72),0))),SUM(COUNTIF(INDIRECT(CR72):INDIRECT(CS72),2),COUNTIF(INDIRECT(CR72):INDIRECT(CS72),1),COUNTIF(INDIRECT(CR72):INDIRECT(CS72),0)),\"\")","v":""},{"$f":"IF(ISNUMBER(SUM(COUNTIF(INDIRECT(CR72):INDIRECT(CT72),2),COUNTIF(INDIRECT(CR72):INDIRECT(CT72),1),COUNTIF(INDIRECT(CR72):INDIRECT(CT72),0))),SUM(COUNTIF(INDIRECT(CR72):INDIRECT(CT72),2),COUNTIF(INDIRECT(CR72):INDIRECT(CT72),1),COUNTIF(INDIRECT(CR72):INDIRECT(CT72),0)),\"\")","v":""},{"$f":"IF(ISNUMBER(SUM(COUNTIF(INDIRECT(CR72):INDIRECT(CU72),1),COUNTIF(INDIRECT(CR72):INDIRECT(CU72),0))),SUM(COUNTIF(INDIRECT(CR72):INDIRECT(CU72),1),COUNTIF(INDIRECT(CR72):INDIRECT(CU72),0)),\"\")","v":""},{"$f":"SUM(INDIRECT(CR72):INDIRECT(CS72))","v":{"$error":"#N/A"}},{"$f":"SUM(INDIRECT(CR72):INDIRECT(CT72))","v":{"$error":"#N/A"}},{"$f":"SUM(INDIRECT(CR72):INDIRECT(CU72))","v":{"$error":"#N/A"}}]
[null,null,1,{"$f":"IF(Modifications!$C48=2,\"N\",\"\")","v":""},"",{"$f":"IF(ISBLANK('Month 1'!$F$73),\"\",'Month 1'!$F$73)","v":""},null,null,null,null,null,null,null,null,null,null,null,null,null,null,null,null,null,null,null,null,null,null,null,null,null,null,null,null,null,null,null,null,null,null,null,null,null,null,null,null,null,null,null,null,null,null,null,null,null,null,null,null,null,0,"@","@","@","@","@","@","@","@","@","@","@","@","@","@","@","@","@","@","@","@","@","@","@","@","@","@","@","@","@","@","@",{"$f":"'Month 10'!BL73","v":"@"},{"$f":"'Month 10'!BK73","v":"@"},{"$f":"'Month 10'!BJ73","v":"@"},{"$f":"'Month 10'!BI73","v":"@"},{"$error":"#N/A"},{"$error":"#N/A"},{"$error":"#N/A"},{"$error":"#N/A"},{"$f":"IF(ISNUMBER(SUM(COUNTIF(INDIRECT(CR73):INDIRECT(CS73),2),COUNTIF(INDIRECT(CR73):INDIRECT(CS73),1),COUNTIF(INDIRECT(CR73):INDIRECT(CS73),0))),SUM(COUNTIF(INDIRECT(CR73):INDIRECT(CS73),2),COUNTIF(INDIRECT(CR73):INDIRECT(CS73),1),COUNTIF(INDIRECT(CR73):INDIRECT(CS73),0)),\"\")","v":""},{"$f":"IF(ISNUMBER(SUM(COUNTIF(INDIRECT(CR73):INDIRECT(CT73),2),COUNTIF(INDIRECT(CR73):INDIRECT(CT73),1),COUNTIF(INDIRECT(CR73):INDIRECT(CT73),0))),SUM(COUNTIF(INDIRECT(CR73):INDIRECT(CT73),2),COUNTIF(INDIRECT(CR73):INDIRECT(CT73),1),COUNTIF(INDIRECT(CR73):INDIRECT(CT73),0)),\"\")","v":""},{"$f":"IF(ISNUMBER(SUM(COUNTIF(INDIRECT(CR73):INDIRECT(CU73),1),COUNTIF(INDIRECT(CR73):INDIRECT(CU73),0))),SUM(COUNTIF(INDIRECT(CR73):INDIRECT(CU73),1),COUNTIF(INDIRECT(CR73):INDIRECT(CU73),0)),\"\")","v":""},{"$f":"SUM(INDIRECT(CR73):INDIRECT(CS73))","v":{"$error":"#N/A"}},{"$f":"SUM(INDIRECT(CR73):INDIRECT(CT73))","v":{"$error":"#N/A"}},{"$f":"SUM(INDIRECT(CR73):INDIRECT(CU73))","v":{"$error":"#N/A"}}]
[null,null,1,{"$f":"IF(Modifications!$C49=2,\"N\",\"\")","v":""},"",{"$f":"IF(ISBLANK('Month 1'!$F$74),\"\",'Month 1'!$F$74)","v":""},null,null,null,null,null,null,null,null,null,null,null,null,null,null,null,null,null,null,null,null,null,null,null,null,null,null,null,null,null,null,null,null,null,null,null,null,null,null,null,null,null,null,null,null,null,null,null,null,null,null,null,null,null,0,"@","@","@","@","@","@","@","@","@","@","@","@","@","@","@","@","@","@","@","@","@","@","@","@","@","@","@","@","@","@","@",{"$f":"'Month 10'!BL74","v":"@"},{"$f":"'Month 10'!BK74","v":"@"},{"$f":"'Month 10'!BJ74","v":"@"},{"$f":"'Month 10'!BI74","v":"@"},{"$error":"#N/A"},{"$error":"#N/A"},{"$error":"#N/A"},{"$error":"#N/A"},{"$f":"IF(ISNUMBER(SUM(COUNTIF(INDIRECT(CR74):INDIRECT(CS74),2),COUNTIF(INDIRECT(CR74):INDIRECT(CS74),1),COUNTIF(INDIRECT(CR74):INDIRECT(CS74),0))),SUM(COUNTIF(INDIRECT(CR74):INDIRECT(CS74),2),COUNTIF(INDIRECT(CR74):INDIRECT(CS74),1),COUNTIF(INDIRECT(CR74):INDIRECT(CS74),0)),\"\")","v":""},{"$f":"IF(ISNUMBER(SUM(COUNTIF(INDIRECT(CR74):INDIRECT(CT74),2),COUNTIF(INDIRECT(CR74):INDIRECT(CT74),1),COUNTIF(INDIRECT(CR74):INDIRECT(CT74),0))),SUM(COUNTIF(INDIRECT(CR74):INDIRECT(CT74),2),COUNTIF(INDIRECT(CR74):INDIRECT(CT74),1),COUNTIF(INDIRECT(CR74):INDIRECT(CT74),0)),\"\")","v":""},{"$f":"IF(ISNUMBER(SUM(COUNTIF(INDIRECT(CR74):INDIRECT(CU74),1),COUNTIF(INDIRECT(CR74):INDIRECT(CU74),0))),SUM(COUNTIF(INDIRECT(CR74):INDIRECT(CU74),1),COUNTIF(INDIRECT(CR74):INDIRECT(CU74),0)),\"\")","v":""},{"$f":"SUM(INDIRECT(CR74):INDIRECT(CS74))","v":{"$error":"#N/A"}},{"$f":"SUM(INDIRECT(CR74):INDIRECT(CT74))","v":{"$error":"#N/A"}},{"$f":"SUM(INDIRECT(CR74):INDIRECT(CU74))","v":{"$error":"#N/A"}}]
[null,null,1,{"$f":"IF(Modifications!$C50=2,\"N\",\"\")","v":""},"",{"$f":"IF(ISBLANK('Month 1'!$F$75),\"\",'Month 1'!$F$75)","v":""},null,null,null,null,null,null,null,null,null,null,null,null,null,null,null,null,null,null,null,null,null,null,null,null,null,null,null,null,null,null,null,null,null,null,null,null,null,null,null,null,null,null,null,null,null,null,null,null,null,null,null,null,null,0,"@","@","@","@","@","@","@","@","@","@","@","@","@","@","@","@","@","@","@","@","@","@","@","@","@","@","@","@","@","@","@",{"$f":"'Month 10'!BL75","v":"@"},{"$f":"'Month 10'!BK75","v":"@"},{"$f":"'Month 10'!BJ75","v":"@"},{"$f":"'Month 10'!BI75","v":"@"},{"$error":"#N/A"},{"$error":"#N/A"},{"$error":"#N/A"},{"$error":"#N/A"},{"$f":"IF(ISNUMBER(SUM(COUNTIF(INDIRECT(CR75):INDIRECT(CS75),2),COUNTIF(INDIRECT(CR75):INDIRECT(CS75),1),COUNTIF(INDIRECT(CR75):INDIRECT(CS75),0))),SUM(COUNTIF(INDIRECT(CR75):INDIRECT(CS75),2),COUNTIF(INDIRECT(CR75):INDIRECT(CS75),1),COUNTIF(INDIRECT(CR75):INDIRECT(CS75),0)),\"\")","v":""},{"$f":"IF(ISNUMBER(SUM(COUNTIF(INDIRECT(CR75):INDIRECT(CT75),2),COUNTIF(INDIRECT(CR75):INDIRECT(CT75),1),COUNTIF(INDIRECT(CR75):INDIRECT(CT75),0))),SUM(COUNTIF(INDIRECT(CR75):INDIRECT(CT75),2),COUNTIF(INDIRECT(CR75):INDIRECT(CT75),1),COUNTIF(INDIRECT(CR75):INDIRECT(CT75),0)),\"\")","v":""},{"$f":"IF(ISNUMBER(SUM(COUNTIF(INDIRECT(CR75):INDIRECT(CU75),1),COUNTIF(INDIRECT(CR75):INDIRECT(CU75),0))),SUM(COUNTIF(INDIRECT(CR75):INDIRECT(CU75),1),COUNTIF(INDIRECT(CR75):INDIRECT(CU75),0)),\"\")","v":""},{"$f":"SUM(INDIRECT(CR75):INDIRECT(CS75))","v":{"$error":"#N/A"}},{"$f":"SUM(INDIRECT(CR75):INDIRECT(CT75))","v":{"$error":"#N/A"}},{"$f":"SUM(INDIRECT(CR75):INDIRECT(CU75))","v":{"$error":"#N/A"}}]
[null,null,1,{"$f":"IF(Modifications!$C51=2,\"N\",\"\")","v":""},"",{"$f":"IF(ISBLANK('Month 1'!$F$76),\"\",'Month 1'!$F$76)","v":""},null,null,null,null,null,null,null,null,null,null,null,null,null,null,null,null,null,null,null,null,null,null,null,null,null,null,null,null,null,null,null,null,null,null,null,null,null,null,null,null,null,null,null,null,null,null,null,null,null,null,null,null,null,0,"@","@","@","@","@","@","@","@","@","@","@","@","@","@","@","@","@","@","@","@","@","@","@","@","@","@","@","@","@","@","@",{"$f":"'Month 10'!BL76","v":"@"},{"$f":"'Month 10'!BK76","v":"@"},{"$f":"'Month 10'!BJ76","v":"@"},{"$f":"'Month 10'!BI76","v":"@"},{"$error":"#N/A"},{"$error":"#N/A"},{"$error":"#N/A"},{"$error":"#N/A"},{"$f":"IF(ISNUMBER(SUM(COUNTIF(INDIRECT(CR76):INDIRECT(CS76),2),COUNTIF(INDIRECT(CR76):INDIRECT(CS76),1),COUNTIF(INDIRECT(CR76):INDIRECT(CS76),0))),SUM(COUNTIF(INDIRECT(CR76):INDIRECT(CS76),2),COUNTIF(INDIRECT(CR76):INDIRECT(CS76),1),COUNTIF(INDIRECT(CR76):INDIRECT(CS76),0)),\"\")","v":""},{"$f":"IF(ISNUMBER(SUM(COUNTIF(INDIRECT(CR76):INDIRECT(CT76),2),COUNTIF(INDIRECT(CR76):INDIRECT(CT76),1),COUNTIF(INDIRECT(CR76):INDIRECT(CT76),0))),SUM(COUNTIF(INDIRECT(CR76):INDIRECT(CT76),2),COUNTIF(INDIRECT(CR76):INDIRECT(CT76),1),COUNTIF(INDIRECT(CR76):INDIRECT(CT76),0)),\"\")","v":""},{"$f":"IF(ISNUMBER(SUM(COUNTIF(INDIRECT(CR76):INDIRECT(CU76),1),COUNTIF(INDIRECT(CR76):INDIRECT(CU76),0))),SUM(COUNTIF(INDIRECT(CR76):INDIRECT(CU76),1),COUNTIF(INDIRECT(CR76):INDIRECT(CU76),0)),\"\")","v":""},{"$f":"SUM(INDIRECT(CR76):INDIRECT(CS76))","v":{"$error":"#N/A"}},{"$f":"SUM(INDIRECT(CR76):INDIRECT(CT76))","v":{"$error":"#N/A"}},{"$f":"SUM(INDIRECT(CR76):INDIRECT(CU76))","v":{"$error":"#N/A"}}]
[null,null,null,null,null,null,null,null,null,null,null,null,null,null,null,null,null,null,null,null,null,null,null,null,null,null,null,null,null,null,null,null,null,null,null,null,null,null,null,null,null,null,null,null,null,null,null,null,null,null,null,null,null,null,null,null,null,null,null,0,"@","@","@","@","@","@","@","@","@","@","@","@","@","@","@","@","@","@","@","@","@","@","@","@","@","@","@","@","@","@","@",{"$f":"'Month 10'!BL77","v":"@"},{"$f":"'Month 10'!BK77","v":"@"},{"$f":"'Month 10'!BJ77","v":"@"},{"$f":"'Month 10'!BI77","v":"@"},{"$error":"#N/A"},{"$error":"#N/A"},{"$error":"#N/A"},{"$error":"#N/A"},{"$f":"IF(ISNUMBER(SUM(COUNTIF(INDIRECT(CR77):INDIRECT(CS77),2),COUNTIF(INDIRECT(CR77):INDIRECT(CS77),1),COUNTIF(INDIRECT(CR77):INDIRECT(CS77),0))),SUM(COUNTIF(INDIRECT(CR77):INDIRECT(CS77),2),COUNTIF(INDIRECT(CR77):INDIRECT(CS77),1),COUNTIF(INDIRECT(CR77):INDIRECT(CS77),0)),\"\")","v":""},{"$f":"IF(ISNUMBER(SUM(COUNTIF(INDIRECT(CR77):INDIRECT(CT77),2),COUNTIF(INDIRECT(CR77):INDIRECT(CT77),1),COUNTIF(INDIRECT(CR77):INDIRECT(CT77),0))),SUM(COUNTIF(INDIRECT(CR77):INDIRECT(CT77),2),COUNTIF(INDIRECT(CR77):INDIRECT(CT77),1),COUNTIF(INDIRECT(CR77):INDIRECT(CT77),0)),\"\")","v":""},{"$f":"IF(ISNUMBER(SUM(COUNTIF(INDIRECT(CR77):INDIRECT(CU77),1),COUNTIF(INDIRECT(CR77):INDIRECT(CU77),0))),SUM(COUNTIF(INDIRECT(CR77):INDIRECT(CU77),1),COUNTIF(INDIRECT(CR77):INDIRECT(CU77),0)),\"\")","v":""},{"$f":"SUM(INDIRECT(CR77):INDIRECT(CS77))","v":{"$error":"#N/A"}},{"$f":"SUM(INDIRECT(CR77):INDIRECT(CT77))","v":{"$error":"#N/A"}},{"$f":"SUM(INDIRECT(CR77):INDIRECT(CU77))","v":{"$error":"#N/A"}}]
[null,null,null,null,null,null,null,null,null,null,null,null,null,null,null,null,null,null,null,null,null,null,null,null,null,null,null,null,null,null,null,null,null,null,null,null,null,null,null,null,null,null,null,null,null,null,null,null,null,null,null,null,null,null,null,null,null,null,null,0,"@","@","@","@","@","@","@","@","@","@","@","@","@","@","@","@","@","@","@","@","@","@","@","@","@","@","@","@","@","@","@",{"$f":"'Month 10'!BL78","v":"@"},{"$f":"'Month 10'!BK78","v":"@"},{"$f":"'Month 10'!BJ78","v":"@"},{"$f":"'Month 10'!BI78","v":"@"},{"$error":"#N/A"},{"$error":"#N/A"},{"$error":"#N/A"},{"$error":"#N/A"},{"$f":"IF(ISNUMBER(SUM(COUNTIF(INDIRECT(CR78):INDIRECT(CS78),2),COUNTIF(INDIRECT(CR78):INDIRECT(CS78),1),COUNTIF(INDIRECT(CR78):INDIRECT(CS78),0))),SUM(COUNTIF(INDIRECT(CR78):INDIRECT(CS78),2),COUNTIF(INDIRECT(CR78):INDIRECT(CS78),1),COUNTIF(INDIRECT(CR78):INDIRECT(CS78),0)),\"\")","v":""},{"$f":"IF(ISNUMBER(SUM(COUNTIF(INDIRECT(CR78):INDIRECT(CT78),2),COUNTIF(INDIRECT(CR78):INDIRECT(CT78),1),COUNTIF(INDIRECT(CR78):INDIRECT(CT78),0))),SUM(COUNTIF(INDIRECT(CR78):INDIRECT(CT78),2),COUNTIF(INDIRECT(CR78):INDIRECT(CT78),1),COUNTIF(INDIRECT(CR78):INDIRECT(CT78),0)),\"\")","v":""},{"$f":"IF(ISNUMBER(SUM(COUNTIF(INDIRECT(CR78):INDIRECT(CU78),1),COUNTIF(INDIRECT(CR78):INDIRECT(CU78),0))),SUM(COUNTIF(INDIRECT(CR78):INDIRECT(CU78),1),COUNTIF(INDIRECT(CR78):INDIRECT(CU78),0)),\"\")","v":""},{"$f":"SUM(INDIRECT(CR78):INDIRECT(CS78))","v":{"$error":"#N/A"}},{"$f":"SUM(INDIRECT(CR78):INDIRECT(CT78))","v":{"$error":"#N/A"}},{"$f":"SUM(INDIRECT(CR78):INDIRECT(CU78))","v":{"$error":"#N/A"}}]
[null,null,null,null,null,null,{"$f":"IF(ISBLANK(G26),\"\",G26)","v":""},"","","","","","","","","","","","","","","","","","","","","","","","","","","","","","",null,null,null,null,null,null,null,null,null,null,null,null,null,null,null,null,null,null,null,null,null,null,0,"@","@","@","@","@","@","@","@","@","@","@","@","@","@","@","@","@","@","@","@","@","@","@","@","@","@","@","@","@","@","@",{"$f":"'Month 10'!BL79","v":"@"},{"$f":"'Month 10'!BK79","v":"@"},{"$f":"'Month 10'!BJ79","v":"@"},{"$f":"'Month 10'!BI79","v":"@"},{"$error":"#N/A"},{"$error":"#N/A"},{"$error":"#N/A"},{"$error":"#N/A"},{"$f":"IF(ISNUMBER(SUM(COUNTIF(INDIRECT(CR79):INDIRECT(CS79),2),COUNTIF(INDIRECT(CR79):INDIRECT(CS79),1),COUNTIF(INDIRECT(CR79):INDIRECT(CS79),0))),SUM(COUNTIF(INDIRECT(CR79):INDIRECT(CS79),2),COUNTIF(INDIRECT(CR79):INDIRECT(CS79),1),COUNTIF(INDIRECT(CR79):INDIRECT(CS79),0)),\"\")","v":""},{"$f":"IF(ISNUMBER(SUM(COUNTIF(INDIRECT(CR79):INDIRECT(CT79),2),COUNTIF(INDIRECT(CR79):INDIRECT(CT79),1),COUNTIF(INDIRECT(CR79):INDIRECT(CT79),0))),SUM(COUNTIF(INDIRECT(CR79):INDIRECT(CT79),2),COUNTIF(INDIRECT(CR79):INDIRECT(CT79),1),COUNTIF(INDIRECT(CR79):INDIRECT(CT79),0)),\"\")","v":""},{"$f":"IF(ISNUMBER(SUM(COUNTIF(INDIRECT(CR79):INDIRECT(CU79),1),COUNTIF(INDIRECT(CR79):INDIRECT(CU79),0))),SUM(COUNTIF(INDIRECT(CR79):INDIRECT(CU79),1),COUNTIF(INDIRECT(CR79):INDIRECT(CU79),0)),\"\")","v":""},{"$f":"SUM(INDIRECT(CR79):INDIRECT(CS79))","v":{"$error":"#N/A"}},{"$f":"SUM(INDIRECT(CR79):INDIRECT(CT79))","v":{"$error":"#N/A"}},{"$f":"SUM(INDIRECT(CR79):INDIRECT(CU79))","v":{"$error":"#N/A"}}]
[null,null,null,null,null,null,{"$f":"IF(G24=\"\",NA(),G24)","v":{"$error":"#N/A"}},{"$error":"#N/A"},{"$error":"#N/A"},{"$error":"#N/A"},{"$error":"#N/A"},{"$error":"#N/A"},{"$error":"#N/A"},{"$error":"#N/A"},{"$error":"#N/A"},{"$error":"#N/A"},{"$error":"#N/A"},{"$error":"#N/A"},{"$error":"#N/A"},{"$error":"#N/A"},{"$error":"#N/A"},{"$error":"#N/A"},{"$error":"#N/A"},{"$error":"#N/A"},{"$error":"#N/A"},{"$error":"#N/A"},{"$error":"#N/A"},{"$error":"#N/A"},{"$error":"#N/A"},{"$error":"#N/A"},{"$error":"#N/A"},{"$error":"#N/A"},{"$error":"#N/A"},{"$error":"#N/A"},{"$error":"#N/A"},{"$error":"#N/A"},{"$error":"#N/A"},null,null,null,null,null,null,null,null,null,null,null,null,null,null,null,null,null,null,null,null,null,null,{"$f":"SUM(COUNTIF(BI80:CM80,1),COUNTIF(BI80:CM80,0))","v":0},"@","@","@","@","@","@","@","@","@","@","@","@","@","@","@","@","@","@","@","@","@","@","@","@","@","@","@","@","@","@","@",{"$f":"'Month 10'!BL80","v":"@"},{"$f":"'Month 10'!BK80","v":"@"},{"$f":"'Month 10'!BJ80","v":"@"},{"$f":"'Month 10'!BI80","v":"@"},{"$error":"#N/A"},{"$error":"#N/A"},{"$error":"#N/A"},{"$error":"#N/A"},{"$f":"IF(ISNUMBER(SUM(COUNTIF(INDIRECT(CR80):INDIRECT(CS80),2),COUNTIF(INDIRECT(CR80):INDIRECT(CS80),1),COUNTIF(INDIRECT(CR80):INDIRECT(CS80),0))),SUM(COUNTIF(INDIRECT(CR80):INDIRECT(CS80),2),COUNTIF(INDIRECT(CR80):INDIRECT(CS80),1),COUNTIF(INDIRECT(CR80):INDIRECT(CS80),0)),\"\")","v":""},{"$f":"IF(ISNUMBER(SUM(COUNTIF(INDIRECT(CR80):INDIRECT(CT80),2),COUNTIF(INDIRECT(CR80):INDIRECT(CT80),1),COUNTIF(INDIRECT(CR80):INDIRECT(CT80),0))),SUM(COUNTIF(INDIRECT(CR80):INDIRECT(CT80),2),COUNTIF(INDIRECT(CR80):INDIRECT(CT80),1),COUNTIF(INDIRECT(CR80):INDIRECT(CT80),0)),\"\")","v":""},{"$f":"IF(ISNUMBER(SUM(COUNTIF(INDIRECT(CR80):INDIRECT(CU80),1),COUNTIF(INDIRECT(CR80):INDIRECT(CU80),0))),SUM(COUNTIF(INDIRECT(CR80):INDIRECT(CU80),1),COUNTIF(INDIRECT(CR80):INDIRECT(CU80),0)),\"\")","v":""},{"$f":"SUM(INDIRECT(CR80):INDIRECT(CS80))","v":{"$error":"#N/A"}},{"$f":"SUM(INDIRECT(CR80):INDIRECT(CT80))","v":{"$error":"#N/A"}},{"$f":"SUM(INDIRECT(CR80):INDIRECT(CU80))","v":{"$error":"#N/A"}}]
[null,null,null,null,null,null,null,null,null,null,null,null,null,null,null,null,null,null,null,null,null,null,null,null,null,null,null,null,null,null,null,null,null,null,null,null,null,null,null,null,null,null,null,null,null,null,null,null,null,null,null,null,null,null,null,null,null,null,null,0,"@","@","@","@","@","@","@","@","@","@","@","@","@","@","@","@","@","@","@","@","@","@","@","@","@","@","@","@","@","@","@",{"$f":"'Month 10'!BL81","v":"@"},{"$f":"'Month 10'!BK81","v":"@"},{"$f":"'Month 10'!BJ81","v":"@"},{"$f":"'Month 10'!BI81","v":"@"},{"$error":"#N/A"},{"$error":"#N/A"},{"$error":"#N/A"},{"$error":"#N/A"},{"$f":"IF(ISNUMBER(SUM(COUNTIF(INDIRECT(CR81):INDIRECT(CS81),2),COUNTIF(INDIRECT(CR81):INDIRECT(CS81),1),COUNTIF(INDIRECT(CR81):INDIRECT(CS81),0))),SUM(COUNTIF(INDIRECT(CR81):INDIRECT(CS81),2),COUNTIF(INDIRECT(CR81):INDIRECT(CS81),1),COUNTIF(INDIRECT(CR81):INDIRECT(CS81),0)),\"\")","v":""},{"$f":"IF(ISNUMBER(SUM(COUNTIF(INDIRECT(CR81):INDIRECT(CT81),2),COUNTIF(INDIRECT(CR81):INDIRECT(CT81),1),COUNTIF(INDIRECT(CR81):INDIRECT(CT81),0))),SUM(COUNTIF(INDIRECT(CR81):INDIRECT(CT81),2),COUNTIF(INDIRECT(CR81):INDIRECT(CT81),1),COUNTIF(INDIRECT(CR81):INDIRECT(CT81),0)),\"\")","v":""},{"$f":"IF(ISNUMBER(SUM(COUNTIF(INDIRECT(CR81):INDIRECT(CU81),1),COUNTIF(INDIRECT(CR81):INDIRECT(CU81),0))),SUM(COUNTIF(INDIRECT(CR81):INDIRECT(CU81),1),COUNTIF(INDIRECT(CR81):INDIRECT(CU81),0)),\"\")","v":""},{"$f":"SUM(INDIRECT(CR81):INDIRECT(CS81))","v":{"$error":"#N/A"}},{"$f":"SUM(INDIRECT(CR81):INDIRECT(CT81))","v":{"$error":"#N/A"}},{"$f":"SUM(INDIRECT(CR81):INDIRECT(CU81))","v":{"$error":"#N/A"}}]
[null,null,null,null,null,null,null,null,null,null,null,null,null,null,null,null,null,null,null,null,null,null,null,null,null,null,null,null,null,null,null,null,null,null,null,null,null,null,null,null,null,null,null,null,null,null,null,null,null,null,null,null,null,null,null,null,null,null,null,0,"@","@","@","@","@","@","@","@","@","@","@","@","@","@","@","@","@","@","@","@","@","@","@","@","@","@","@","@","@","@","@",{"$f":"'Month 10'!BL82","v":"@"},{"$f":"'Month 10'!BK82","v":"@"},{"$f":"'Month 10'!BJ82","v":"@"},{"$f":"'Month 10'!BI82","v":"@"},{"$error":"#N/A"},{"$error":"#N/A"},{"$error":"#N/A"},{"$error":"#N/A"},{"$f":"IF(ISNUMBER(SUM(COUNTIF(INDIRECT(CR82):INDIRECT(CS82),2),COUNTIF(INDIRECT(CR82):INDIRECT(CS82),1),COUNTIF(INDIRECT(CR82):INDIRECT(CS82),0))),SUM(COUNTIF(INDIRECT(CR82):INDIRECT(CS82),2),COUNTIF(INDIRECT(CR82):INDIRECT(CS82),1),COUNTIF(INDIRECT(CR82):INDIRECT(CS82),0)),\"\")","v":""},{"$f":"IF(ISNUMBER(SUM(COUNTIF(INDIRECT(CR82):INDIRECT(CT82),2),COUNTIF(INDIRECT(CR82):INDIRECT(CT82),1),COUNTIF(INDIRECT(CR82):INDIRECT(CT82),0))),SUM(COUNTIF(INDIRECT(CR82):INDIRECT(CT82),2),COUNTIF(INDIRECT(CR82):INDIRECT(CT82),1),COUNTIF(INDIRECT(CR82):INDIRECT(CT82),0)),\"\")","v":""},{"$f":"IF(ISNUMBER(SUM(COUNTIF(INDIRECT(CR82):INDIRECT(CU82),1),COUNTIF(INDIRECT(CR82):INDIRECT(CU82),0))),SUM(COUNTIF(INDIRECT(CR82):INDIRECT(CU82),1),COUNTIF(INDIRECT(CR82):INDIRECT(CU82),0)),\"\")","v":""},{"$f":"SUM(INDIRECT(CR82):INDIRECT(CS82))","v":{"$error":"#N/A"}},{"$f":"SUM(INDIRECT(CR82):INDIRECT(CT82))","v":{"$error":"#N/A"}},{"$f":"SUM(INDIRECT(CR82):INDIRECT(CU82))","v":{"$error":"#N/A"}}]
[null,null,null,null,null,null,null,null,null,null,null,null,null,null,null,null,null,null,null,null,null,null,null,null,null,null,null,null,null,null,null,null,null,null,null,null,null,null,null,null,null,null,null,null,null,null,null,null,null,null,null,null,null,null,null,null,null,null,null,0,"@","@","@","@","@","@","@","@","@","@","@","@","@","@","@","@","@","@","@","@","@","@","@","@","@","@","@","@","@","@","@",{"$f":"'Month 10'!BL83","v":"@"},{"$f":"'Month 10'!BK83","v":"@"},{"$f":"'Month 10'!BJ83","v":"@"},{"$f":"'Month 10'!BI83","v":"@"},{"$error":"#N/A"},{"$error":"#N/A"},{"$error":"#N/A"},{"$error":"#N/A"},{"$f":"IF(ISNUMBER(SUM(COUNTIF(INDIRECT(CR83):INDIRECT(CS83),2),COUNTIF(INDIRECT(CR83):INDIRECT(CS83),1),COUNTIF(INDIRECT(CR83):INDIRECT(CS83),0))),SUM(COUNTIF(INDIRECT(CR83):INDIRECT(CS83),2),COUNTIF(INDIRECT(CR83):INDIRECT(CS83),1),COUNTIF(INDIRECT(CR83):INDIRECT(CS83),0)),\"\")","v":""},{"$f":"IF(ISNUMBER(SUM(COUNTIF(INDIRECT(CR83):INDIRECT(CT83),2),COUNTIF(INDIRECT(CR83):INDIRECT(CT83),1),COUNTIF(INDIRECT(CR83):INDIRECT(CT83),0))),SUM(COUNTIF(INDIRECT(CR83):INDIRECT(CT83),2),COUNTIF(INDIRECT(CR83):INDIRECT(CT83),1),COUNTIF(INDIRECT(CR83):INDIRECT(CT83),0)),\"\")","v":""},{"$f":"IF(ISNUMBER(SUM(COUNTIF(INDIRECT(CR83):INDIRECT(CU83),1),COUNTIF(INDIRECT(CR83):INDIRECT(CU83),0))),SUM(COUNTIF(INDIRECT(CR83):INDIRECT(CU83),1),COUNTIF(INDIRECT(CR83):INDIRECT(CU83),0)),\"\")","v":""},{"$f":"SUM(INDIRECT(CR83):INDIRECT(CS83))","v":{"$error":"#N/A"}},{"$f":"SUM(INDIRECT(CR83):INDIRECT(CT83))","v":{"$error":"#N/A"}},{"$f":"SUM(INDIRECT(CR83):INDIRECT(CU83))","v":{"$error":"#N/A"}}]
[null,null,null,null,null,null,null,null,null,null,null,null,null,null,null,null,null,null,null,null,null,null,null,null,null,null,null,null,null,null,null,null,null,null,null,null,null,null,null,null,null,null,null,null,null,null,null,null,null,null,null,null,null,null,null,null,null,null,null,0,"@","@","@","@","@","@","@","@","@","@","@","@","@","@","@","@","@","@","@","@","@","@","@","@","@","@","@","@","@","@","@",{"$f":"'Month 10'!BL84","v":"@"},{"$f":"'Month 10'!BK84","v":"@"},{"$f":"'Month 10'!BJ84","v":"@"},{"$f":"'Month 10'!BI84","v":"@"},{"$error":"#N/A"},{"$error":"#N/A"},{"$error":"#N/A"},{"$error":"#N/A"},{"$f":"IF(ISNUMBER(SUM(COUNTIF(INDIRECT(CR84):INDIRECT(CS84),2),COUNTIF(INDIRECT(CR84):INDIRECT(CS84),1),COUNTIF(INDIRECT(CR84):INDIRECT(CS84),0))),SUM(COUNTIF(INDIRECT(CR84):INDIRECT(CS84),2),COUNTIF(INDIRECT(CR84):INDIRECT(CS84),1),COUNTIF(INDIRECT(CR84):INDIRECT(CS84),0)),\"\")","v":""},{"$f":"IF(ISNUMBER(SUM(COUNTIF(INDIRECT(CR84):INDIRECT(CT84),2),COUNTIF(INDIRECT(CR84):INDIRECT(CT84),1),COUNTIF(INDIRECT(CR84):INDIRECT(CT84),0))),SUM(COUNTIF(INDIRECT(CR84):INDIRECT(CT84),2),COUNTIF(INDIRECT(CR84):INDIRECT(CT84),1),COUNTIF(INDIRECT(CR84):INDIRECT(CT84),0)),\"\")","v":""},{"$f":"IF(ISNUMBER(SUM(COUNTIF(INDIRECT(CR84):INDIRECT(CU84),1),COUNTIF(INDIRECT(CR84):INDIRECT(CU84),0))),SUM(COUNTIF(INDIRECT(CR84):INDIRECT(CU84),1),COUNTIF(INDIRECT(CR84):INDIRECT(CU84),0)),\"\")","v":""},{"$f":"SUM(INDIRECT(CR84):INDIRECT(CS84))","v":{"$error":"#N/A"}},{"$f":"SUM(INDIRECT(CR84):INDIRECT(CT84))","v":{"$error":"#N/A"}},{"$f":"SUM(INDIRECT(CR84):INDIRECT(CU84))","v":{"$error":"#N/A"}}]
[null,null,null,null,null,null,null,null,null,null,null,null,null,null,null,null,null,null,null,null,null,null,null,null,null,null,null,null,null,null,null,null,null,null,null,null,null,null,null,null,null,null,null,null,null,null,null,null,null,null,null,null,null,null,null,null,null,null,null,0,"@","@","@","@","@","@","@","@","@","@","@","@","@","@","@","@","@","@","@","@","@","@","@","@","@","@","@","@","@","@","@",{"$f":"'Month 10'!BL85","v":"@"},{"$f":"'Month 10'!BK85","v":"@"},{"$f":"'Month 10'!BJ85","v":"@"},{"$f":"'Month 10'!BI85","v":"@"},{"$error":"#N/A"},{"$error":"#N/A"},{"$error":"#N/A"},{"$error":"#N/A"},{"$f":"IF(ISNUMBER(SUM(COUNTIF(INDIRECT(CR85):INDIRECT(CS85),2),COUNTIF(INDIRECT(CR85):INDIRECT(CS85),1),COUNTIF(INDIRECT(CR85):INDIRECT(CS85),0))),SUM(COUNTIF(INDIRECT(CR85):INDIRECT(CS85),2),COUNTIF(INDIRECT(CR85):INDIRECT(CS85),1),COUNTIF(INDIRECT(CR85):INDIRECT(CS85),0)),\"\")","v":""},{"$f":"IF(ISNUMBER(SUM(COUNTIF(INDIRECT(CR85):INDIRECT(CT85),2),COUNTIF(INDIRECT(CR85):INDIRECT(CT85),1),COUNTIF(INDIRECT(CR85):INDIRECT(CT85),0))),SUM(COUNTIF(INDIRECT(CR85):INDIRECT(CT85),2),COUNTIF(INDIRECT(CR85):INDIRECT(CT85),1),COUNTIF(INDIRECT(CR85):INDIRECT(CT85),0)),\"\")","v":""},{"$f":"IF(ISNUMBER(SUM(COUNTIF(INDIRECT(CR85):INDIRECT(CU85),1),COUNTIF(INDIRECT(CR85):INDIRECT(CU85),0))),SUM(COUNTIF(INDIRECT(CR85):INDIRECT(CU85),1),COUNTIF(INDIRECT(CR85):INDIRECT(CU85),0)),\"\")","v":""},{"$f":"SUM(INDIRECT(CR85):INDIRECT(CS85))","v":{"$error":"#N/A"}},{"$f":"SUM(INDIRECT(CR85):INDIRECT(CT85))","v":{"$error":"#N/A"}},{"$f":"SUM(INDIRECT(CR85):INDIRECT(CU85))","v":{"$error":"#N/A"}}]
[null,null,null,null,null,null,null,null,null,null,null,null,null,null,null,null,null,null,null,null,null,null,null,null,null,null,null,null,null,null,null,null,null,null,null,null,null,null,null,null,null,null,null,null,null,null,null,null,null,null,null,null,null,null,null,null,null,null,null,0,"@","@","@","@","@","@","@","@","@","@","@","@","@","@","@","@","@","@","@","@","@","@","@","@","@","@","@","@","@","@","@",{"$f":"'Month 10'!BL86","v":"@"},{"$f":"'Month 10'!BK86","v":"@"},{"$f":"'Month 10'!BJ86","v":"@"},{"$f":"'Month 10'!BI86","v":"@"},{"$error":"#N/A"},{"$error":"#N/A"},{"$error":"#N/A"},{"$error":"#N/A"},{"$f":"IF(ISNUMBER(SUM(COUNTIF(INDIRECT(CR86):INDIRECT(CS86),2),COUNTIF(INDIRECT(CR86):INDIRECT(CS86),1),COUNTIF(INDIRECT(CR86):INDIRECT(CS86),0))),SUM(COUNTIF(INDIRECT(CR86):INDIRECT(CS86),2),COUNTIF(INDIRECT(CR86):INDIRECT(CS86),1),COUNTIF(INDIRECT(CR86):INDIRECT(CS86),0)),\"\")","v":""},{"$f":"IF(ISNUMBER(SUM(COUNTIF(INDIRECT(CR86):INDIRECT(CT86),2),COUNTIF(INDIRECT(CR86):INDIRECT(CT86),1),COUNTIF(INDIRECT(CR86):INDIRECT(CT86),0))),SUM(COUNTIF(INDIRECT(CR86):INDIRECT(CT86),2),COUNTIF(INDIRECT(CR86):INDIRECT(CT86),1),COUNTIF(INDIRECT(CR86):INDIRECT(CT86),0)),\"\")","v":""},{"$f":"IF(ISNUMBER(SUM(COUNTIF(INDIRECT(CR86):INDIRECT(CU86),1),COUNTIF(INDIRECT(CR86):INDIRECT(CU86),0))),SUM(COUNTIF(INDIRECT(CR86):INDIRECT(CU86),1),COUNTIF(INDIRECT(CR86):INDIRECT(CU86),0)),\"\")","v":""},{"$f":"SUM(INDIRECT(CR86):INDIRECT(CS86))","v":{"$error":"#N/A"}},{"$f":"SUM(INDIRECT(CR86):INDIRECT(CT86))","v":{"$error":"#N/A"}},{"$f":"SUM(INDIRECT(CR86):INDIRECT(CU86))","v":{"$error":"#N/A"}}]
[null,null,null,null,null,null,null,null,null,null,null,null,null,null,null,null,null,null,null,null,null,null,null,null,null,null,null,null,null,null,null,null,null,null,null,null,null,null,null,null,null,null,null,null,null,null,null,null,null,null,null,null,null,null,null,null,null,null,null,0,{"$f":"IF(OR(AK59=\"+\",AK59=\"Y\",AK59=2),1,IF(OR(AK59=\"-\",AK59=\"N\",AK59=1),0,IF(OR(BJ87=1,BJ87=0),\"#\",\"@\")))","v":"@"},{"$f":"IF(OR(AJ59=\"+\",AJ59=\"Y\",AJ59=2),1,IF(OR(AJ59=\"-\",AJ59=\"N\",AJ59=1),0,IF(OR(BK87=1,BK87=0),\"#\",\"@\")))","v":"@"},{"$f":"IF(OR(AI59=\"+\",AI59=\"Y\",AI59=2),1,IF(OR(AI59=\"-\",AI59=\"N\",AI59=1),0,IF(OR(BL87=1,BL87=0),\"#\",\"@\")))","v":"@"},{"$f":"IF(OR(AH59=\"+\",AH59=\"Y\",AH59=2),1,IF(OR(AH59=\"-\",AH59=\"N\",AH59=1),0,IF(OR(BM87=1,BM87=0),\"#\",\"@\")))","v":"@"},{"$f":"IF(OR(AG59=\"+\",AG59=\"Y\",AG59=2),1,IF(OR(AG59=\"-\",AG59=\"N\",AG59=1),0,IF(OR(BN87=1,BN87=0),\"#\",\"@\")))","v":"@"},{"$f":"IF(OR(AF59=\"+\",AF59=\"Y\",AF59=2),1,IF(OR(AF59=\"-\",AF59=\"N\",AF59=1),0,IF(OR(BO87=1,BO87=0),\"#\",\"@\")))","v":"@"},{"$f":"IF(OR(AE59=\"+\",AE59=\"Y\",AE59=2),1,IF(OR(AE59=\"-\",AE59=\"N\",AE59=1),0,IF(OR(BP87=1,BP87=0),\"#\",\"@\")))","v":"@"},{"$f":"IF(OR(AD59=\"+\",AD59=\"Y\",AD59=2),1,IF(OR(AD59=\"-\",AD59=\"N\",AD59=1),0,IF(OR(BQ87=1,BQ87=0),\"#\",\"@\")))","v":"@"},{"$f":"IF(OR(AC59=\"+\",AC59=\"Y\",AC59=2),1,IF(OR(AC59=\"-\",AC59=\"N\",AC59=1),0,IF(OR(BR87=1,BR87=0),\"#\",\"@\")))","v":"@"},{"$f":"IF(OR(AB59=\"+\",AB59=\"Y\",AB59=2),1,IF(OR(AB59=\"-\",AB59=\"N\",AB59=1),0,IF(OR(BS87=1,BS87=0),\"#\",\"@\")))","v":"@"},{"$f":"IF(OR(AA59=\"+\",AA59=\"Y\",AA59=2),1,IF(OR(AA59=\"-\",AA59=\"N\",AA59=1),0,IF(OR(BT87=1,BT87=0),\"#\",\"@\")))","v":"@"},{"$f":"IF(OR(Z59=\"+\",Z59=\"Y\",Z59=2),1,IF(OR(Z59=\"-\",Z59=\"N\",Z59=1),0,IF(OR(BU87=1,BU87=0),\"#\",\"@\")))","v":"@"},{"$f":"IF(OR(Y59=\"+\",Y59=\"Y\",Y59=2),1,IF(OR(Y59=\"-\",Y59=\"N\",Y59=1),0,IF(OR(BV87=1,BV87=0),\"#\",\"@\")))","v":"@"},{"$f":"IF(OR(X59=\"+\",X59=\"Y\",X59=2),1,IF(OR(X59=\"-\",X59=\"N\",X59=1),0,IF(OR(BW87=1,BW87=0),\"#\",\"@\")))","v":"@"},{"$f":"IF(OR(W59=\"+\",W59=\"Y\",W59=2),1,IF(OR(W59=\"-\",W59=\"N\",W59=1),0,IF(OR(BX87=1,BX87=0),\"#\",\"@\")))","v":"@"},{"$f":"IF(OR(V59=\"+\",V59=\"Y\",V59=2),1,IF(OR(V59=\"-\",V59=\"N\",V59=1),0,IF(OR(BY87=1,BY87=0),\"#\",\"@\")))","v":"@"},{"$f":"IF(OR(U59=\"+\",U59=\"Y\",U59=2),1,IF(OR(U59=\"-\",U59=\"N\",U59=1),0,IF(OR(BZ87=1,BZ87=0),\"#\",\"@\")))","v":"@"},{"$f":"IF(OR(T59=\"+\",T59=\"Y\",T59=2),1,IF(OR(T59=\"-\",T59=\"N\",T59=1),0,IF(OR(CA87=1,CA87=0),\"#\",\"@\")))","v":"@"},{"$f":"IF(OR(S59=\"+\",S59=\"Y\",S59=2),1,IF(OR(S59=\"-\",S59=\"N\",S59=1),0,IF(OR(CB87=1,CB87=0),\"#\",\"@\")))","v":"@"},{"$f":"IF(OR(R59=\"+\",R59=\"Y\",R59=2),1,IF(OR(R59=\"-\",R59=\"N\",R59=1),0,IF(OR(CC87=1,CC87=0),\"#\",\"@\")))","v":"@"},{"$f":"IF(OR(Q59=\"+\",Q59=\"Y\",Q59=2),1,IF(OR(Q59=\"-\",Q59=\"N\",Q59=1),0,IF(OR(CD87=1,CD87=0),\"#\",\"@\")))","v":"@"},{"$f":"IF(OR(P59=\"+\",P59=\"Y\",P59=2),1,IF(OR(P59=\"-\",P59=\"N\",P59=1),0,IF(OR(CE87=1,CE87=0),\"#\",\"@\")))","v":"@"},{"$f":"IF(OR(O59=\"+\",O59=\"Y\",O59=2),1,IF(OR(O59=\"-\",O59=\"N\",O59=1),0,IF(OR(CF87=1,CF87=0),\"#\",\"@\")))","v":"@"},{"$f":"IF(OR(N59=\"+\",N59=\"Y\",N59=2),1,IF(OR(N59=\"-\",N59=\"N\",N59=1),0,IF(OR(CG87=1,CG87=0),\"#\",\"@\")))","v":"@"},{"$f":"IF(OR(M59=\"+\",M59=\"Y\",M59=2),1,IF(OR(M59=\"-\",M59=\"N\",M59=1),0,IF(OR(CH87=1,CH87=0),\"#\",\"@\")))","v":"@"},{"$f":"IF(OR(L59=\"+\",L59=\"Y\",L59=2),1,IF(OR(L59=\"-\",L59=\"N\",L59=1),0,IF(OR(CI87=1,CI87=0),\"#\",\"@\")))","v":"@"},{"$f":"IF(OR(K59=\"+\",K59=\"Y\",K59=2),1,IF(OR(K59=\"-\",K59=\"N\",K59=1),0,IF(OR(CJ87=1,CJ87=0),\"#\",\"@\")))","v":"@"},{"$f":"IF(OR(J59=\"+\",J59=\"Y\",J59=2),1,IF(OR(J59=\"-\",J59=\"N\",J59=1),0,IF(OR(CK87=1,CK87=0),\"#\",\"@\")))","v":"@"},{"$f":"IF(OR(I59=\"+\",I59=\"Y\",I59=2),1,IF(OR(I59=\"-\",I59=\"N\",I59=1),0,IF(OR(CL87=1,CL87=0),\"#\",\"@\")))","v":"@"},{"$f":"IF(OR(H59=\"+\",H59=\"Y\",H59=2),1,IF(OR(H59=\"-\",H59=\"N\",H59=1),0,IF(OR(CM87=1,CM87=0),\"#\",\"@\")))","v":"@"},{"$f":"IF(OR(G59=\"+\",G59=\"Y\",G59=2),1,IF(OR(G59=\"-\",G59=\"N\",G59=1),0,\"@\"))","v":"@"},{"$f":"'Month 10'!BL87","v":"@"},{"$f":"'Month 10'!BK87","v":"@"},{"$f":"'Month 10'!BJ87","v":"@"},{"$f":"'Month 10'!BI87","v":"@"},{"$f":"ADDRESS(ROW(BH87),(MATCH(\"#\",BI87:CM87,0)+61))","v":{"$error":"#N/A"}},{"$f":"ADDRESS(ROW(BH87),(MATCH(\"#\",BI87:CM87,0)+65))","v":{"$error":"#N/A"}},{"$f":"ADDRESS(ROW(BH87),(MATCH(\"#\",BI87:CM87,0)+64))","v":{"$error":"#N/A"}},{"$f":"ADDRESS(ROW(BH87),(MATCH(\"#\",BI87:CM87,0)+63))","v":{"$error":"#N/A"}},{"$f":"IF(ISNUMBER(SUM(COUNTIF(INDIRECT(CR87):INDIRECT(CS87),2),COUNTIF(INDIRECT(CR87):INDIRECT(CS87),1),COUNTIF(INDIRECT(CR87):INDIRECT(CS87),0))),SUM(COUNTIF(INDIRECT(CR87):INDIRECT(CS87),2),COUNTIF(INDIRECT(CR87):INDIRECT(CS87),1),COUNTIF(INDIRECT(CR87):INDIRECT(CS87),0)),\"\")","v":""},{"$f":"IF(ISNUMBER(SUM(COUNTIF(INDIRECT(CR87):INDIRECT(CT87),2),COUNTIF(INDIRECT(CR87):INDIRECT(CT87),1),COUNTIF(INDIRECT(CR87):INDIRECT(CT87),0))),SUM(COUNTIF(INDIRECT(CR87):INDIRECT(CT87),2),COUNTIF(INDIRECT(CR87):INDIRECT(CT87),1),COUNTIF(INDIRECT(CR87):INDIRECT(CT87),0)),\"\")","v":""},{"$f":"IF(ISNUMBER(SUM(COUNTIF(INDIRECT(CR87):INDIRECT(CU87),1),COUNTIF(INDIRECT(CR87):INDIRECT(CU87),0))),SUM(COUNTIF(INDIRECT(CR87):INDIRECT(CU87),1),COUNTIF(INDIRECT(CR87):INDIRECT(CU87),0)),\"\")","v":""},{"$f":"SUM(INDIRECT(CR87):INDIRECT(CS87))","v":{"$error":"#N/A"}},{"$f":"SUM(INDIRECT(CR87):INDIRECT(CT87))","v":{"$error":"#N/A"}},{"$f":"SUM(INDIRECT(CR87):INDIRECT(CU87))","v":{"$error":"#N/A"}}]
[null,null,null,null,null,null,null,null,null,null,null,null,null,null,null,null,null,null,null,null,null,null,null,null,null,null,null,null,null,null,null,null,null,null,null,null,null,null,null,null,null,null,null,null,null,null,null,null,null,null,null,null,null,null,null,null,null,null,null,0,"@","@","@","@","@","@","@","@","@","@","@","@","@","@","@","@","@","@","@","@","@","@","@","@","@","@","@","@","@","@","@",{"$f":"'Month 10'!BL88","v":"@"},{"$f":"'Month 10'!BK88","v":"@"},{"$f":"'Month 10'!BJ88","v":"@"},{"$f":"'Month 10'!BI88","v":"@"},{"$error":"#N/A"},{"$error":"#N/A"},{"$error":"#N/A"},{"$error":"#N/A"},{"$f":"IF(ISNUMBER(SUM(COUNTIF(INDIRECT(CR88):INDIRECT(CS88),2),COUNTIF(INDIRECT(CR88):INDIRECT(CS88),1),COUNTIF(INDIRECT(CR88):INDIRECT(CS88),0))),SUM(COUNTIF(INDIRECT(CR88):INDIRECT(CS88),2),COUNTIF(INDIRECT(CR88):INDIRECT(CS88),1),COUNTIF(INDIRECT(CR88):INDIRECT(CS88),0)),\"\")","v":""},{"$f":"IF(ISNUMBER(SUM(COUNTIF(INDIRECT(CR88):INDIRECT(CT88),2),COUNTIF(INDIRECT(CR88):INDIRECT(CT88),1),COUNTIF(INDIRECT(CR88):INDIRECT(CT88),0))),SUM(COUNTIF(INDIRECT(CR88):INDIRECT(CT88),2),COUNTIF(INDIRECT(CR88):INDIRECT(CT88),1),COUNTIF(INDIRECT(CR88):INDIRECT(CT88),0)),\"\")","v":""},{"$f":"IF(ISNUMBER(SUM(COUNTIF(INDIRECT(CR88):INDIRECT(CU88),1),COUNTIF(INDIRECT(CR88):INDIRECT(CU88),0))),SUM(COUNTIF(INDIRECT(CR88):INDIRECT(CU88),1),COUNTIF(INDIRECT(CR88):INDIRECT(CU88),0)),\"\")","v":""},{"$f":"SUM(INDIRECT(CR88):INDIRECT(CS88))","v":{"$error":"#N/A"}},{"$f":"SUM(INDIRECT(CR88):INDIRECT(CT88))","v":{"$error":"#N/A"}},{"$f":"SUM(INDIRECT(CR88):INDIRECT(CU88))","v":{"$error":"#N/A"}}]
[null,null,null,null,null,null,null,null,null,null,null,null,null,null,null,null,null,null,null,null,null,null,null,null,null,null,null,null,null,null,null,null,null,null,null,null,null,null,null,null,null,null,null,null,null,null,null,null,null,null,null,null,null,null,null,null,null,null,null,0,"@","@","@","@","@","@","@","@","@","@","@","@","@","@","@","@","@","@","@","@","@","@","@","@","@","@","@","@","@","@","@",{"$f":"'Month 10'!BL89","v":"@"},{"$f":"'Month 10'!BK89","v":"@"},{"$f":"'Month 10'!BJ89","v":"@"},{"$f":"'Month 10'!BI89","v":"@"},{"$error":"#N/A"},{"$error":"#N/A"},{"$error":"#N/A"},{"$error":"#N/A"},{"$f":"IF(ISNUMBER(SUM(COUNTIF(INDIRECT(CR89):INDIRECT(CS89),2),COUNTIF(INDIRECT(CR89):INDIRECT(CS89),1),COUNTIF(INDIRECT(CR89):INDIRECT(CS89),0))),SUM(COUNTIF(INDIRECT(CR89):INDIRECT(CS89),2),COUNTIF(INDIRECT(CR89):INDIRECT(CS89),1),COUNTIF(INDIRECT(CR89):INDIRECT(CS89),0)),\"\")","v":""},{"$f":"IF(ISNUMBER(SUM(COUNTIF(INDIRECT(CR89):INDIRECT(CT89),2),COUNTIF(INDIRECT(CR89):INDIRECT(CT89),1),COUNTIF(INDIRECT(CR89):INDIRECT(CT89),0))),SUM(COUNTIF(INDIRECT(CR89):INDIRECT(CT89),2),COUNTIF(INDIRECT(CR89):INDIRECT(CT89),1),COUNTIF(INDIRECT(CR89):INDIRECT(CT89),0)),\"\")","v":""},{"$f":"IF(ISNUMBER(SUM(COUNTIF(INDIRECT(CR89):INDIRECT(CU89),1),COUNTIF(INDIRECT(CR89):INDIRECT(CU89),0))),SUM(COUNTIF(INDIRECT(CR89):INDIRECT(CU89),1),COUNTIF(INDIRECT(CR89):INDIRECT(CU89),0)),\"\")","v":""},{"$f":"SUM(INDIRECT(CR89):INDIRECT(CS89))","v":{"$error":"#N/A"}},{"$f":"SUM(INDIRECT(CR89):INDIRECT(CT89))","v":{"$error":"#N/A"}},{"$f":"SUM(INDIRECT(CR89):INDIRECT(CU89))","v":{"$error":"#N/A"}}]
[null,null,null,null,null,null,null,null,null,null,null,null,null,null,null,null,null,null,null,null,null,null,null,null,null,null,null,null,null,null,null,null,null,null,null,null,null,null,null,null,null,null,null,null,null,null,null,null,null,null,null,null,null,null,null,null,null,null,null,0,"@","@","@","@","@","@","@","@","@","@","@","@","@","@","@","@","@","@","@","@","@","@","@","@","@","@","@","@","@","@","@",{"$f":"'Month 10'!BL90","v":"@"},{"$f":"'Month 10'!BK90","v":"@"},{"$f":"'Month 10'!BJ90","v":"@"},{"$f":"'Month 10'!BI90","v":"@"},{"$error":"#N/A"},{"$error":"#N/A"},{"$error":"#N/A"},{"$error":"#N/A"},{"$f":"IF(ISNUMBER(SUM(COUNTIF(INDIRECT(CR90):INDIRECT(CS90),2),COUNTIF(INDIRECT(CR90):INDIRECT(CS90),1),COUNTIF(INDIRECT(CR90):INDIRECT(CS90),0))),SUM(COUNTIF(INDIRECT(CR90):INDIRECT(CS90),2),COUNTIF(INDIRECT(CR90):INDIRECT(CS90),1),COUNTIF(INDIRECT(CR90):INDIRECT(CS90),0)),\"\")","v":""},{"$f":"IF(ISNUMBER(SUM(COUNTIF(INDIRECT(CR90):INDIRECT(CT90),2),COUNTIF(INDIRECT(CR90):INDIRECT(CT90),1),COUNTIF(INDIRECT(CR90):INDIRECT(CT90),0))),SUM(COUNTIF(INDIRECT(CR90):INDIRECT(CT90),2),COUNTIF(INDIRECT(CR90):INDIRECT(CT90),1),COUNTIF(INDIRECT(CR90):INDIRECT(CT90),0)),\"\")","v":""},{"$f":"IF(ISNUMBER(SUM(COUNTIF(INDIRECT(CR90):INDIRECT(CU90),1),COUNTIF(INDIRECT(CR90):INDIRECT(CU90),0))),SUM(COUNTIF(INDIRECT(CR90):INDIRECT(CU90),1),COUNTIF(INDIRECT(CR90):INDIRECT(CU90),0)),\"\")","v":""},{"$f":"SUM(INDIRECT(CR90):INDIRECT(CS90))","v":{"$error":"#N/A"}},{"$f":"SUM(INDIRECT(CR90):INDIRECT(CT90))","v":{"$error":"#N/A"}},{"$f":"SUM(INDIRECT(CR90):INDIRECT(CU90))","v":{"$error":"#N/A"}}]
[null,null,null,null,null,null,null,null,null,null,null,null,null,null,null,null,null,null,null,null,null,null,null,null,null,null,null,null,null,null,null,null,null,null,null,null,null,null,null,null,null,null,null,null,null,null,null,null,null,null,null,null,null,null,null,null,null,null,null,0,"@","@","@","@","@","@","@","@","@","@","@","@","@","@","@","@","@","@","@","@","@","@","@","@","@","@","@","@","@","@","@",{"$f":"'Month 10'!BL91","v":"@"},{"$f":"'Month 10'!BK91","v":"@"},{"$f":"'Month 10'!BJ91","v":"@"},{"$f":"'Month 10'!BI91","v":"@"},{"$error":"#N/A"},{"$error":"#N/A"},{"$error":"#N/A"},{"$error":"#N/A"},{"$f":"IF(ISNUMBER(SUM(COUNTIF(INDIRECT(CR91):INDIRECT(CS91),2),COUNTIF(INDIRECT(CR91):INDIRECT(CS91),1),COUNTIF(INDIRECT(CR91):INDIRECT(CS91),0))),SUM(COUNTIF(INDIRECT(CR91):INDIRECT(CS91),2),COUNTIF(INDIRECT(CR91):INDIRECT(CS91),1),COUNTIF(INDIRECT(CR91):INDIRECT(CS91),0)),\"\")","v":""},{"$f":"IF(ISNUMBER(SUM(COUNTIF(INDIRECT(CR91):INDIRECT(CT91),2),COUNTIF(INDIRECT(CR91):INDIRECT(CT91),1),COUNTIF(INDIRECT(CR91):INDIRECT(CT91),0))),SUM(COUNTIF(INDIRECT(CR91):INDIRECT(CT91),2),COUNTIF(INDIRECT(CR91):INDIRECT(CT91),1),COUNTIF(INDIRECT(CR91):INDIRECT(CT91),0)),\"\")","v":""},{"$f":"IF(ISNUMBER(SUM(COUNTIF(INDIRECT(CR91):INDIRECT(CU91),1),COUNTIF(INDIRECT(CR91):INDIRECT(CU91),0))),SUM(COUNTIF(INDIRECT(CR91):INDIRECT(CU91),1),COUNTIF(INDIRECT(CR91):INDIRECT(CU91),0)),\"\")","v":""},{"$f":"SUM(INDIRECT(CR91):INDIRECT(CS91))","v":{"$error":"#N/A"}},{"$f":"SUM(INDIRECT(CR91):INDIRECT(CT91))","v":{"$error":"#N/A"}},{"$f":"SUM(INDIRECT(CR91):INDIRECT(CU91))","v":{"$error":"#N/A"}}]
[null,null,null,null,null,null,null,null,null,null,null,null,null,null,null,null,null,null,null,null,null,null,null,null,null,null,null,null,null,null,null,null,null,null,null,null,null,null,null,null,null,null,null,null,null,null,null,null,null,null,null,null,null,null,null,null,null,null,null,0,"@","@","@","@","@","@","@","@","@","@","@","@","@","@","@","@","@","@","@","@","@","@","@","@","@","@","@","@","@","@","@",{"$f":"'Month 10'!BL92","v":"@"},{"$f":"'Month 10'!BK92","v":"@"},{"$f":"'Month 10'!BJ92","v":"@"},{"$f":"'Month 10'!BI92","v":"@"},{"$error":"#N/A"},{"$error":"#N/A"},{"$error":"#N/A"},{"$error":"#N/A"},{"$f":"IF(ISNUMBER(SUM(COUNTIF(INDIRECT(CR92):INDIRECT(CS92),2),COUNTIF(INDIRECT(CR92):INDIRECT(CS92),1),COUNTIF(INDIRECT(CR92):INDIRECT(CS92),0))),SUM(COUNTIF(INDIRECT(CR92):INDIRECT(CS92),2),COUNTIF(INDIRECT(CR92):INDIRECT(CS92),1),COUNTIF(INDIRECT(CR92):INDIRECT(CS92),0)),\"\")","v":""},{"$f":"IF(ISNUMBER(SUM(COUNTIF(INDIRECT(CR92):INDIRECT(CT92),2),COUNTIF(INDIRECT(CR92):INDIRECT(CT92),1),COUNTIF(INDIRECT(CR92):INDIRECT(CT92),0))),SUM(COUNTIF(INDIRECT(CR92):INDIRECT(CT92),2),COUNTIF(INDIRECT(CR92):INDIRECT(CT92),1),COUNTIF(INDIRECT(CR92):INDIRECT(CT92),0)),\"\")","v":""},{"$f":"IF(ISNUMBER(SUM(COUNTIF(INDIRECT(CR92):INDIRECT(CU92),1),COUNTIF(INDIRECT(CR92):INDIRECT(CU92),0))),SUM(COUNTIF(INDIRECT(CR92):INDIRECT(CU92),1),COUNTIF(INDIRECT(CR92):INDIRECT(CU92),0)),\"\")","v":""},{"$f":"SUM(INDIRECT(CR92):INDIRECT(CS92))","v":{"$error":"#N/A"}},{"$f":"SUM(INDIRECT(CR92):INDIRECT(CT92))","v":{"$error":"#N/A"}},{"$f":"SUM(INDIRECT(CR92):INDIRECT(CU92))","v":{"$error":"#N/A"}}]
[null,null,null,null,null,null,null,null,null,null,null,null,null,null,null,null,null,null,null,null,null,null,null,null,null,null,null,null,null,null,null,null,null,null,null,null,null,null,null,null,null,null,null,null,null,null,null,null,null,null,null,null,null,null,null,null,null,null,null,0,"@","@","@","@","@","@","@","@","@","@","@","@","@","@","@","@","@","@","@","@","@","@","@","@","@","@","@","@","@","@","@",{"$f":"'Month 10'!BL93","v":"@"},{"$f":"'Month 10'!BK93","v":"@"},{"$f":"'Month 10'!BJ93","v":"@"},{"$f":"'Month 10'!BI93","v":"@"},{"$error":"#N/A"},{"$error":"#N/A"},{"$error":"#N/A"},{"$error":"#N/A"},{"$f":"IF(ISNUMBER(SUM(COUNTIF(INDIRECT(CR93):INDIRECT(CS93),2),COUNTIF(INDIRECT(CR93):INDIRECT(CS93),1),COUNTIF(INDIRECT(CR93):INDIRECT(CS93),0))),SUM(COUNTIF(INDIRECT(CR93):INDIRECT(CS93),2),COUNTIF(INDIRECT(CR93):INDIRECT(CS93),1),COUNTIF(INDIRECT(CR93):INDIRECT(CS93),0)),\"\")","v":""},{"$f":"IF(ISNUMBER(SUM(COUNTIF(INDIRECT(CR93):INDIRECT(CT93),2),COUNTIF(INDIRECT(CR93):INDIRECT(CT93),1),COUNTIF(INDIRECT(CR93):INDIRECT(CT93),0))),SUM(COUNTIF(INDIRECT(CR93):INDIRECT(CT93),2),COUNTIF(INDIRECT(CR93):INDIRECT(CT93),1),COUNTIF(INDIRECT(CR93):INDIRECT(CT93),0)),\"\")","v":""},{"$f":"IF(ISNUMBER(SUM(COUNTIF(INDIRECT(CR93):INDIRECT(CU93),1),COUNTIF(INDIRECT(CR93):INDIRECT(CU93),0))),SUM(COUNTIF(INDIRECT(CR93):INDIRECT(CU93),1),COUNTIF(INDIRECT(CR93):INDIRECT(CU93),0)),\"\")","v":""},{"$f":"SUM(INDIRECT(CR93):INDIRECT(CS93))","v":{"$error":"#N/A"}},{"$f":"SUM(INDIRECT(CR93):INDIRECT(CT93))","v":{"$error":"#N/A"}},{"$f":"SUM(INDIRECT(CR93):INDIRECT(CU93))","v":{"$error":"#N/A"}}]
[null,null,null,null,null,null,null,null,null,null,null,null,null,null,null,null,null,null,null,null,null,null,null,null,null,null,null,null,null,null,null,null,null,null,null,null,null,null,null,null,null,null,null,null,null,null,null,null,null,null,null,null,null,null,null,null,null,null,null,0,"@","@","@","@","@","@","@","@","@","@","@","@","@","@","@","@","@","@","@","@","@","@","@","@","@","@","@","@","@","@","@",{"$f":"'Month 10'!BL94","v":"@"},{"$f":"'Month 10'!BK94","v":"@"},{"$f":"'Month 10'!BJ94","v":"@"},{"$f":"'Month 10'!BI94","v":"@"},{"$error":"#N/A"},{"$error":"#N/A"},{"$error":"#N/A"},{"$error":"#N/A"},{"$f":"IF(ISNUMBER(SUM(COUNTIF(INDIRECT(CR94):INDIRECT(CS94),2),COUNTIF(INDIRECT(CR94):INDIRECT(CS94),1),COUNTIF(INDIRECT(CR94):INDIRECT(CS94),0))),SUM(COUNTIF(INDIRECT(CR94):INDIRECT(CS94),2),COUNTIF(INDIRECT(CR94):INDIRECT(CS94),1),COUNTIF(INDIRECT(CR94):INDIRECT(CS94),0)),\"\")","v":""},{"$f":"IF(ISNUMBER(SUM(COUNTIF(INDIRECT(CR94):INDIRECT(CT94),2),COUNTIF(INDIRECT(CR94):INDIRECT(CT94),1),COUNTIF(INDIRECT(CR94):INDIRECT(CT94),0))),SUM(COUNTIF(INDIRECT(CR94):INDIRECT(CT94),2),COUNTIF(INDIRECT(CR94):INDIRECT(CT94),1),COUNTIF(INDIRECT(CR94):INDIRECT(CT94),0)),\"\")","v":""},{"$f":"IF(ISNUMBER(SUM(COUNTIF(INDIRECT(CR94):INDIRECT(CU94),1),COUNTIF(INDIRECT(CR94):INDIRECT(CU94),0))),SUM(COUNTIF(INDIRECT(CR94):INDIRECT(CU94),1),COUNTIF(INDIRECT(CR94):INDIRECT(CU94),0)),\"\")","v":""},{"$f":"SUM(INDIRECT(CR94):INDIRECT(CS94))","v":{"$error":"#N/A"}},{"$f":"SUM(INDIRECT(CR94):INDIRECT(CT94))","v":{"$error":"#N/A"}},{"$f":"SUM(INDIRECT(CR94):INDIRECT(CU94))","v":{"$error":"#N/A"}}]
[null,null,null,null,null,null,null,null,null,null,null,null,null,null,null,null,null,null,null,null,null,null,null,null,null,null,null,null,null,null,null,null,null,null,null,null,null,null,null,null,null,null,null,null,null,null,null,null,null,null,null,null,null,null,null,null,null,null,null,0,"@","@","@","@","@","@","@","@","@","@","@","@","@","@","@","@","@","@","@","@","@","@","@","@","@","@","@","@","@","@","@",{"$f":"'Month 10'!BL95","v":"@"},{"$f":"'Month 10'!BK95","v":"@"},{"$f":"'Month 10'!BJ95","v":"@"},{"$f":"'Month 10'!BI95","v":"@"},{"$error":"#N/A"},{"$error":"#N/A"},{"$error":"#N/A"},{"$error":"#N/A"},{"$f":"IF(ISNUMBER(SUM(COUNTIF(INDIRECT(CR95):INDIRECT(CS95),2),COUNTIF(INDIRECT(CR95):INDIRECT(CS95),1),COUNTIF(INDIRECT(CR95):INDIRECT(CS95),0))),SUM(COUNTIF(INDIRECT(CR95):INDIRECT(CS95),2),COUNTIF(INDIRECT(CR95):INDIRECT(CS95),1),COUNTIF(INDIRECT(CR95):INDIRECT(CS95),0)),\"\")","v":""},{"$f":"IF(ISNUMBER(SUM(COUNTIF(INDIRECT(CR95):INDIRECT(CT95),2),COUNTIF(INDIRECT(CR95):INDIRECT(CT95),1),COUNTIF(INDIRECT(CR95):INDIRECT(CT95),0))),SUM(COUNTIF(INDIRECT(CR95):INDIRECT(CT95),2),COUNTIF(INDIRECT(CR95):INDIRECT(CT95),1),COUNTIF(INDIRECT(CR95):INDIRECT(CT95),0)),\"\")","v":""},{"$f":"IF(ISNUMBER(SUM(COUNTIF(INDIRECT(CR95):INDIRECT(CU95),1),COUNTIF(INDIRECT(CR95):INDIRECT(CU95),0))),SUM(COUNTIF(INDIRECT(CR95):INDIRECT(CU95),1),COUNTIF(INDIRECT(CR95):INDIRECT(CU95),0)),\"\")","v":""},{"$f":"SUM(INDIRECT(CR95):INDIRECT(CS95))","v":{"$error":"#N/A"}},{"$f":"SUM(INDIRECT(CR95):INDIRECT(CT95))","v":{"$error":"#N/A"}},{"$f":"SUM(INDIRECT(CR95):INDIRECT(CU95))","v":{"$error":"#N/A"}}]
[null,null,null,null,null,null,null,null,null,null,null,null,null,null,null,null,null,null,null,null,null,null,null,null,null,null,null,null,null,null,null,null,null,null,null,null,null,null,null,null,null,null,null,null,null,null,null,null,null,null,null,null,null,null,null,null,null,null,null,0,"@","@","@","@","@","@","@","@","@","@","@","@","@","@","@","@","@","@","@","@","@","@","@","@","@","@","@","@","@","@","@",{"$f":"'Month 10'!BL96","v":"@"},{"$f":"'Month 10'!BK96","v":"@"},{"$f":"'Month 10'!BJ96","v":"@"},{"$f":"'Month 10'!BI96","v":"@"},{"$error":"#N/A"},{"$error":"#N/A"},{"$error":"#N/A"},{"$error":"#N/A"},{"$f":"IF(ISNUMBER(SUM(COUNTIF(INDIRECT(CR96):INDIRECT(CS96),2),COUNTIF(INDIRECT(CR96):INDIRECT(CS96),1),COUNTIF(INDIRECT(CR96):INDIRECT(CS96),0))),SUM(COUNTIF(INDIRECT(CR96):INDIRECT(CS96),2),COUNTIF(INDIRECT(CR96):INDIRECT(CS96),1),COUNTIF(INDIRECT(CR96):INDIRECT(CS96),0)),\"\")","v":""},{"$f":"IF(ISNUMBER(SUM(COUNTIF(INDIRECT(CR96):INDIRECT(CT96),2),COUNTIF(INDIRECT(CR96):INDIRECT(CT96),1),COUNTIF(INDIRECT(CR96):INDIRECT(CT96),0))),SUM(COUNTIF(INDIRECT(CR96):INDIRECT(CT96),2),COUNTIF(INDIRECT(CR96):INDIRECT(CT96),1),COUNTIF(INDIRECT(CR96):INDIRECT(CT96),0)),\"\")","v":""},{"$f":"IF(ISNUMBER(SUM(COUNTIF(INDIRECT(CR96):INDIRECT(CU96),1),COUNTIF(INDIRECT(CR96):INDIRECT(CU96),0))),SUM(COUNTIF(INDIRECT(CR96):INDIRECT(CU96),1),COUNTIF(INDIRECT(CR96):INDIRECT(CU96),0)),\"\")","v":""},{"$f":"SUM(INDIRECT(CR96):INDIRECT(CS96))","v":{"$error":"#N/A"}},{"$f":"SUM(INDIRECT(CR96):INDIRECT(CT96))","v":{"$error":"#N/A"}},{"$f":"SUM(INDIRECT(CR96):INDIRECT(CU96))","v":{"$error":"#N/A"}}]
[null,null,null,null,null,null,null,null,null,null,null,null,null,null,null,null,null,null,null,null,null,null,null,null,null,null,null,null,null,null,null,null,null,null,null,null,null,null,null,null,null,null,null,null,null,null,null,null,null,null,null,null,null,null,null,null,null,null,null,0,"@","@","@","@","@","@","@","@","@","@","@","@","@","@","@","@","@","@","@","@","@","@","@","@","@","@","@","@","@","@","@",{"$f":"'Month 10'!BL97","v":"@"},{"$f":"'Month 10'!BK97","v":"@"},{"$f":"'Month 10'!BJ97","v":"@"},{"$f":"'Month 10'!BI97","v":"@"},{"$error":"#N/A"},{"$error":"#N/A"},{"$error":"#N/A"},{"$error":"#N/A"},{"$f":"IF(ISNUMBER(SUM(COUNTIF(INDIRECT(CR97):INDIRECT(CS97),2),COUNTIF(INDIRECT(CR97):INDIRECT(CS97),1),COUNTIF(INDIRECT(CR97):INDIRECT(CS97),0))),SUM(COUNTIF(INDIRECT(CR97):INDIRECT(CS97),2),COUNTIF(INDIRECT(CR97):INDIRECT(CS97),1),COUNTIF(INDIRECT(CR97):INDIRECT(CS97),0)),\"\")","v":""},{"$f":"IF(ISNUMBER(SUM(COUNTIF(INDIRECT(CR97):INDIRECT(CT97),2),COUNTIF(INDIRECT(CR97):INDIRECT(CT97),1),COUNTIF(INDIRECT(CR97):INDIRECT(CT97),0))),SUM(COUNTIF(INDIRECT(CR97):INDIRECT(CT97),2),COUNTIF(INDIRECT(CR97):INDIRECT(CT97),1),COUNTIF(INDIRECT(CR97):INDIRECT(CT97),0)),\"\")","v":""},{"$f":"IF(ISNUMBER(SUM(COUNTIF(INDIRECT(CR97):INDIRECT(CU97),1),COUNTIF(INDIRECT(CR97):INDIRECT(CU97),0))),SUM(COUNTIF(INDIRECT(CR97):INDIRECT(CU97),1),COUNTIF(INDIRECT(CR97):INDIRECT(CU97),0)),\"\")","v":""},{"$f":"SUM(INDIRECT(CR97):INDIRECT(CS97))","v":{"$error":"#N/A"}},{"$f":"SUM(INDIRECT(CR97):INDIRECT(CT97))","v":{"$error":"#N/A"}},{"$f":"SUM(INDIRECT(CR97):INDIRECT(CU97))","v":{"$error":"#N/A"}}]
[null,null,null,null,null,null,null,null,null,null,null,null,null,null,null,null,null,null,null,null,null,null,null,null,null,null,null,null,null,null,null,null,null,null,null,null,null,null,null,null,null,null,null,null,null,null,null,null,null,null,null,null,null,null,null,null,null,null,null,0,"@","@","@","@","@","@","@","@","@","@","@","@","@","@","@","@","@","@","@","@","@","@","@","@","@","@","@","@","@","@","@",{"$f":"'Month 10'!BL98","v":"@"},{"$f":"'Month 10'!BK98","v":"@"},{"$f":"'Month 10'!BJ98","v":"@"},{"$f":"'Month 10'!BI98","v":"@"},{"$error":"#N/A"},{"$error":"#N/A"},{"$error":"#N/A"},{"$error":"#N/A"},{"$f":"IF(ISNUMBER(SUM(COUNTIF(INDIRECT(CR98):INDIRECT(CS98),2),COUNTIF(INDIRECT(CR98):INDIRECT(CS98),1),COUNTIF(INDIRECT(CR98):INDIRECT(CS98),0))),SUM(COUNTIF(INDIRECT(CR98):INDIRECT(CS98),2),COUNTIF(INDIRECT(CR98):INDIRECT(CS98),1),COUNTIF(INDIRECT(CR98):INDIRECT(CS98),0)),\"\")","v":""},{"$f":"IF(ISNUMBER(SUM(COUNTIF(INDIRECT(CR98):INDIRECT(CT98),2),COUNTIF(INDIRECT(CR98):INDIRECT(CT98),1),COUNTIF(INDIRECT(CR98):INDIRECT(CT98),0))),SUM(COUNTIF(INDIRECT(CR98):INDIRECT(CT98),2),COUNTIF(INDIRECT(CR98):INDIRECT(CT98),1),COUNTIF(INDIRECT(CR98):INDIRECT(CT98),0)),\"\")","v":""},{"$f":"IF(ISNUMBER(SUM(COUNTIF(INDIRECT(CR98):INDIRECT(CU98),1),COUNTIF(INDIRECT(CR98):INDIRECT(CU98),0))),SUM(COUNTIF(INDIRECT(CR98):INDIRECT(CU98),1),COUNTIF(INDIRECT(CR98):INDIRECT(CU98),0)),\"\")","v":""},{"$f":"SUM(INDIRECT(CR98):INDIRECT(CS98))","v":{"$error":"#N/A"}},{"$f":"SUM(INDIRECT(CR98):INDIRECT(CT98))","v":{"$error":"#N/A"}},{"$f":"SUM(INDIRECT(CR98):INDIRECT(CU98))","v":{"$error":"#N/A"}}]
[null,null,null,null,null,null,null,null,null,null,null,null,null,null,null,null,null,null,null,null,null,null,null,null,null,null,null,null,null,null,null,null,null,null,null,null,null,null,null,null,null,null,null,null,null,null,null,null,null,null,null,null,null,null,null,null,null,null,null,0,"@","@","@","@","@","@","@","@","@","@","@","@","@","@","@","@","@","@","@","@","@","@","@","@","@","@","@","@","@","@","@",{"$f":"'Month 10'!BL99","v":"@"},{"$f":"'Month 10'!BK99","v":"@"},{"$f":"'Month 10'!BJ99","v":"@"},{"$f":"'Month 10'!BI99","v":"@"},{"$error":"#N/A"},{"$error":"#N/A"},{"$error":"#N/A"},{"$error":"#N/A"},{"$f":"IF(ISNUMBER(SUM(COUNTIF(INDIRECT(CR99):INDIRECT(CS99),2),COUNTIF(INDIRECT(CR99):INDIRECT(CS99),1),COUNTIF(INDIRECT(CR99):INDIRECT(CS99),0))),SUM(COUNTIF(INDIRECT(CR99):INDIRECT(CS99),2),COUNTIF(INDIRECT(CR99):INDIRECT(CS99),1),COUNTIF(INDIRECT(CR99):INDIRECT(CS99),0)),\"\")","v":""},{"$f":"IF(ISNUMBER(SUM(COUNTIF(INDIRECT(CR99):INDIRECT(CT99),2),COUNTIF(INDIRECT(CR99):INDIRECT(CT99),1),COUNTIF(INDIRECT(CR99):INDIRECT(CT99),0))),SUM(COUNTIF(INDIRECT(CR99):INDIRECT(CT99),2),COUNTIF(INDIRECT(CR99):INDIRECT(CT99),1),COUNTIF(INDIRECT(CR99):INDIRECT(CT99),0)),\"\")","v":""},{"$f":"IF(ISNUMBER(SUM(COUNTIF(INDIRECT(CR99):INDIRECT(CU99),1),COUNTIF(INDIRECT(CR99):INDIRECT(CU99),0))),SUM(COUNTIF(INDIRECT(CR99):INDIRECT(CU99),1),COUNTIF(INDIRECT(CR99):INDIRECT(CU99),0)),\"\")","v":""},{"$f":"SUM(INDIRECT(CR99):INDIRECT(CS99))","v":{"$error":"#N/A"}},{"$f":"SUM(INDIRECT(CR99):INDIRECT(CT99))","v":{"$error":"#N/A"}},{"$f":"SUM(INDIRECT(CR99):INDIRECT(CU99))","v":{"$error":"#N/A"}}]
[null,null,null,null,null,null,null,null,null,null,null,null,null,null,null,null,null,null,null,null,null,null,null,null,null,null,null,null,null,null,null,null,null,null,null,null,null,null,null,null,null,null,null,null,null,null,null,null,null,null,null,null,null,null,null,null,null,null,null,0,"@","@","@","@","@","@","@","@","@","@","@","@","@","@","@","@","@","@","@","@","@","@","@","@","@","@","@","@","@","@","@",{"$f":"'Month 10'!BL100","v":"@"},{"$f":"'Month 10'!BK100","v":"@"},{"$f":"'Month 10'!BJ100","v":"@"},{"$f":"'Month 10'!BI100","v":"@"},{"$error":"#N/A"},{"$error":"#N/A"},{"$error":"#N/A"},{"$error":"#N/A"},{"$f":"IF(ISNUMBER(SUM(COUNTIF(INDIRECT(CR100):INDIRECT(CS100),2),COUNTIF(INDIRECT(CR100):INDIRECT(CS100),1),COUNTIF(INDIRECT(CR100):INDIRECT(CS100),0))),SUM(COUNTIF(INDIRECT(CR100):INDIRECT(CS100),2),COUNTIF(INDIRECT(CR100):INDIRECT(CS100),1),COUNTIF(INDIRECT(CR100):INDIRECT(CS100),0)),\"\")","v":""},{"$f":"IF(ISNUMBER(SUM(COUNTIF(INDIRECT(CR100):INDIRECT(CT100),2),COUNTIF(INDIRECT(CR100):INDIRECT(CT100),1),COUNTIF(INDIRECT(CR100):INDIRECT(CT100),0))),SUM(COUNTIF(INDIRECT(CR100):INDIRECT(CT100),2),COUNTIF(INDIRECT(CR100):INDIRECT(CT100),1),COUNTIF(INDIRECT(CR100):INDIRECT(CT100),0)),\"\")","v":""},{"$f":"IF(ISNUMBER(SUM(COUNTIF(INDIRECT(CR100):INDIRECT(CU100),1),COUNTIF(INDIRECT(CR100):INDIRECT(CU100),0))),SUM(COUNTIF(INDIRECT(CR100):INDIRECT(CU100),1),COUNTIF(INDIRECT(CR100):INDIRECT(CU100),0)),\"\")","v":""},{"$f":"SUM(INDIRECT(CR100):INDIRECT(CS100))","v":{"$error":"#N/A"}},{"$f":"SUM(INDIRECT(CR100):INDIRECT(CT100))","v":{"$error":"#N/A"}},{"$f":"SUM(INDIRECT(CR100):INDIRECT(CU100))","v":{"$error":"#N/A"}}]
[null,null,null,null,null,null,null,null,null,null,null,null,null,null,null,null,null,null,null,null,null,null,null,null,null,null,null,null,null,null,null,null,null,null,null,null,null,null,null,null,null,null,null,null,null,null,null,null,null,null,null,null,null,null,null,null,null,null,null,0,"@","@","@","@","@","@","@","@","@","@","@","@","@","@","@","@","@","@","@","@","@","@","@","@","@","@","@","@","@","@","@",{"$f":"'Month 10'!BL101","v":"@"},{"$f":"'Month 10'!BK101","v":"@"},{"$f":"'Month 10'!BJ101","v":"@"},{"$f":"'Month 10'!BI101","v":"@"},{"$error":"#N/A"},{"$error":"#N/A"},{"$error":"#N/A"},{"$error":"#N/A"},{"$f":"IF(ISNUMBER(SUM(COUNTIF(INDIRECT(CR101):INDIRECT(CS101),2),COUNTIF(INDIRECT(CR101):INDIRECT(CS101),1),COUNTIF(INDIRECT(CR101):INDIRECT(CS101),0))),SUM(COUNTIF(INDIRECT(CR101):INDIRECT(CS101),2),COUNTIF(INDIRECT(CR101):INDIRECT(CS101),1),COUNTIF(INDIRECT(CR101):INDIRECT(CS101),0)),\"\")","v":""},{"$f":"IF(ISNUMBER(SUM(COUNTIF(INDIRECT(CR101):INDIRECT(CT101),2),COUNTIF(INDIRECT(CR101):INDIRECT(CT101),1),COUNTIF(INDIRECT(CR101):INDIRECT(CT101),0))),SUM(COUNTIF(INDIRECT(CR101):INDIRECT(CT101),2),COUNTIF(INDIRECT(CR101):INDIRECT(CT101),1),COUNTIF(INDIRECT(CR101):INDIRECT(CT101),0)),\"\")","v":""},{"$f":"IF(ISNUMBER(SUM(COUNTIF(INDIRECT(CR101):INDIRECT(CU101),1),COUNTIF(INDIRECT(CR101):INDIRECT(CU101),0))),SUM(COUNTIF(INDIRECT(CR101):INDIRECT(CU101),1),COUNTIF(INDIRECT(CR101):INDIRECT(CU101),0)),\"\")","v":""},{"$f":"SUM(INDIRECT(CR101):INDIRECT(CS101))","v":{"$error":"#N/A"}},{"$f":"SUM(INDIRECT(CR101):INDIRECT(CT101))","v":{"$error":"#N/A"}},{"$f":"SUM(INDIRECT(CR101):INDIRECT(CU101))","v":{"$error":"#N/A"}}]
[null,null,null,null,null,null,null,null,null,null,null,null,null,null,null,null,null,null,null,null,null,null,null,null,null,null,null,null,null,null,null,null,null,null,null,null,null,null,null,null,null,null,null,null,null,null,null,null,null,null,null,null,null,null,null,null,null,null,null,0,"@","@","@","@","@","@","@","@","@","@","@","@","@","@","@","@","@","@","@","@","@","@","@","@","@","@","@","@","@","@","@",{"$f":"'Month 10'!BL102","v":"@"},{"$f":"'Month 10'!BK102","v":"@"},{"$f":"'Month 10'!BJ102","v":"@"},{"$f":"'Month 10'!BI102","v":"@"},{"$error":"#N/A"},{"$error":"#N/A"},{"$error":"#N/A"},{"$error":"#N/A"},{"$f":"IF(ISNUMBER(SUM(COUNTIF(INDIRECT(CR102):INDIRECT(CS102),2),COUNTIF(INDIRECT(CR102):INDIRECT(CS102),1),COUNTIF(INDIRECT(CR102):INDIRECT(CS102),0))),SUM(COUNTIF(INDIRECT(CR102):INDIRECT(CS102),2),COUNTIF(INDIRECT(CR102):INDIRECT(CS102),1),COUNTIF(INDIRECT(CR102):INDIRECT(CS102),0)),\"\")","v":""},{"$f":"IF(ISNUMBER(SUM(COUNTIF(INDIRECT(CR102):INDIRECT(CT102),2),COUNTIF(INDIRECT(CR102):INDIRECT(CT102),1),COUNTIF(INDIRECT(CR102):INDIRECT(CT102),0))),SUM(COUNTIF(INDIRECT(CR102):INDIRECT(CT102),2),COUNTIF(INDIRECT(CR102):INDIRECT(CT102),1),COUNTIF(INDIRECT(CR102):INDIRECT(CT102),0)),\"\")","v":""},{"$f":"IF(ISNUMBER(SUM(COUNTIF(INDIRECT(CR102):INDIRECT(CU102),1),COUNTIF(INDIRECT(CR102):INDIRECT(CU102),0))),SUM(COUNTIF(INDIRECT(CR102):INDIRECT(CU102),1),COUNTIF(INDIRECT(CR102):INDIRECT(CU102),0)),\"\")","v":""},{"$f":"SUM(INDIRECT(CR102):INDIRECT(CS102))","v":{"$error":"#N/A"}},{"$f":"SUM(INDIRECT(CR102):INDIRECT(CT102))","v":{"$error":"#N/A"}},{"$f":"SUM(INDIRECT(CR102):INDIRECT(CU102))","v":{"$error":"#N/A"}}]
[null,null,null,null,null,null,null,null,null,null,null,null,null,null,null,null,null,null,null,null,null,null,null,null,null,null,null,null,null,null,null,null,null,null,null,null,null,null,null,null,null,null,null,null,null,null,null,null,null,null,null,null,null,null,null,null,null,null,null,0,"@","@","@","@","@","@","@","@","@","@","@","@","@","@","@","@","@","@","@","@","@","@","@","@","@","@","@","@","@","@","@",{"$f":"'Month 10'!BL103","v":"@"},{"$f":"'Month 10'!BK103","v":"@"},{"$f":"'Month 10'!BJ103","v":"@"},{"$f":"'Month 10'!BI103","v":"@"},{"$error":"#N/A"},{"$error":"#N/A"},{"$error":"#N/A"},{"$error":"#N/A"},{"$f":"IF(ISNUMBER(SUM(COUNTIF(INDIRECT(CR103):INDIRECT(CS103),2),COUNTIF(INDIRECT(CR103):INDIRECT(CS103),1),COUNTIF(INDIRECT(CR103):INDIRECT(CS103),0))),SUM(COUNTIF(INDIRECT(CR103):INDIRECT(CS103),2),COUNTIF(INDIRECT(CR103):INDIRECT(CS103),1),COUNTIF(INDIRECT(CR103):INDIRECT(CS103),0)),\"\")","v":""},{"$f":"IF(ISNUMBER(SUM(COUNTIF(INDIRECT(CR103):INDIRECT(CT103),2),COUNTIF(INDIRECT(CR103):INDIRECT(CT103),1),COUNTIF(INDIRECT(CR103):INDIRECT(CT103),0))),SUM(COUNTIF(INDIRECT(CR103):INDIRECT(CT103),2),COUNTIF(INDIRECT(CR103):INDIRECT(CT103),1),COUNTIF(INDIRECT(CR103):INDIRECT(CT103),0)),\"\")","v":""},{"$f":"IF(ISNUMBER(SUM(COUNTIF(INDIRECT(CR103):INDIRECT(CU103),1),COUNTIF(INDIRECT(CR103):INDIRECT(CU103),0))),SUM(COUNTIF(INDIRECT(CR103):INDIRECT(CU103),1),COUNTIF(INDIRECT(CR103):INDIRECT(CU103),0)),\"\")","v":""},{"$f":"SUM(INDIRECT(CR103):INDIRECT(CS103))","v":{"$error":"#N/A"}},{"$f":"SUM(INDIRECT(CR103):INDIRECT(CT103))","v":{"$error":"#N/A"}},{"$f":"SUM(INDIRECT(CR103):INDIRECT(CU103))","v":{"$error":"#N/A"}}]
[null,null,null,null,null,null,null,null,null,null,null,null,null,null,null,null,null,null,null,null,null,null,null,null,null,null,null,null,null,null,null,null,null,null,null,null,null,null,null,null,null,null,null,null,null,null,null,null,null,null,null,null,null,null,null,null,null,null,null,0,"@","@","@","@","@","@","@","@","@","@","@","@","@","@","@","@","@","@","@","@","@","@","@","@","@","@","@","@","@","@","@",{"$f":"'Month 10'!BL104","v":"@"},{"$f":"'Month 10'!BK104","v":"@"},{"$f":"'Month 10'!BJ104","v":"@"},{"$f":"'Month 10'!BI104","v":"@"},{"$error":"#N/A"},{"$error":"#N/A"},{"$error":"#N/A"},{"$error":"#N/A"},{"$f":"IF(ISNUMBER(SUM(COUNTIF(INDIRECT(CR104):INDIRECT(CS104),2),COUNTIF(INDIRECT(CR104):INDIRECT(CS104),1),COUNTIF(INDIRECT(CR104):INDIRECT(CS104),0))),SUM(COUNTIF(INDIRECT(CR104):INDIRECT(CS104),2),COUNTIF(INDIRECT(CR104):INDIRECT(CS104),1),COUNTIF(INDIRECT(CR104):INDIRECT(CS104),0)),\"\")","v":""},{"$f":"IF(ISNUMBER(SUM(COUNTIF(INDIRECT(CR104):INDIRECT(CT104),2),COUNTIF(INDIRECT(CR104):INDIRECT(CT104),1),COUNTIF(INDIRECT(CR104):INDIRECT(CT104),0))),SUM(COUNTIF(INDIRECT(CR104):INDIRECT(CT104),2),COUNTIF(INDIRECT(CR104):INDIRECT(CT104),1),COUNTIF(INDIRECT(CR104):INDIRECT(CT104),0)),\"\")","v":""},{"$f":"IF(ISNUMBER(SUM(COUNTIF(INDIRECT(CR104):INDIRECT(CU104),1),COUNTIF(INDIRECT(CR104):INDIRECT(CU104),0))),SUM(COUNTIF(INDIRECT(CR104):INDIRECT(CU104),1),COUNTIF(INDIRECT(CR104):INDIRECT(CU104),0)),\"\")","v":""},{"$f":"SUM(INDIRECT(CR104):INDIRECT(CS104))","v":{"$error":"#N/A"}},{"$f":"SUM(INDIRECT(CR104):INDIRECT(CT104))","v":{"$error":"#N/A"}},{"$f":"SUM(INDIRECT(CR104):INDIRECT(CU104))","v":{"$error":"#N/A"}}]

{"sheet":"Month 12","index":16,"n_rows":104,"n_cols":105,"rows_kept":104,"cut":false,"hidden":false,"merged":[[53,95,53,98],[53,99,53,101],[53,102,53,104],[6,23,20,35],[13,5,20,8]]}
[]
[]
[]
[]
[]
[null,null,null,null,"Student Name:",{"$f":"IF(ISTEXT('Month 1'!F6),'Month 1'!F6,\"\")","v":""},null,null,null,null,null,null,null,null,null,null,null,null,null,null,null,null,null,"General Notes:"]
["Go To:"]
[{"$f":"IF(ISBLANK('Month 1'!$F$12),\"Month 1\",'Month 1'!$F$12)","v":"--"},null,null,null,"Skill Title:",{"$f":"IF(ISTEXT('Month 1'!F8),'Month 1'!F8,\"\")","v":""}]
[{"$f":"IF(ISBLANK('Month 2'!$F$12),\"Month 2\",'Month 2'!$F$12)","v":"--"}]
[{"$f":"IF(ISBLANK('Month 3'!$F$12),\"Month 3\",'Month 3'!$F$12)","v":"--"},null,null,null,"Skill Type:",{"$f":"IF(ISBLANK('Month 1'!F10),\"\",'Month 1'!F10)","v":""}]
[{"$f":"IF(ISBLANK('Month 4'!$F$12),\"Month 4\",'Month 4'!$F$12)","v":"--"}]
[{"$f":"IF(ISBLANK('Month 5'!$F$12),\"Month 5\",'Month 5'!$F$12)","v":"--"},null,null,null,"Date Range:","--"]
[{"$f":"IF(ISBLANK('Month 6'!$F$12),\"Month 6\",'Month 6'!$F$12)","v":"--"}]
[{"$f":"IF(ISBLANK('Month 7'!$F$12),\"Month 7\",'Month 7'!$F$12)","v":"--"},null,null,null,"Objective:",{"$f":"IF(ISBLANK('Month 1'!$F$14),\"\",'Month 1'!$F$14)","v":""}]
[{"$f":"IF(ISBLANK('Month 8'!$F$12),\"Month 8\",'Month 8'!$F$12)","v":"--"}]
[{"$f":"IF(ISBLANK('Month 9'!$F$12),\"Month 9\",'Month 9'!$F$12)","v":"--"}]
[{"$f":"IF(ISBLANK('Month 10'!$F$12),\"Month 10\",'Month 10'!$F$12)","v":"--"}]
[{"$f":"IF(ISBLANK('Month 11'!$F$12),\"Month 11\",'Month 11'!$F$12)","v":"--"}]
[{"$f":"IF(ISBLANK('Month 12'!$F$12),\"Month 12\",'Month 12'!$F$12)","v":"--"}]
[]
[]
[]
[null,null,null,null,null,null,{"$f":"SUM(COUNTIF(G27:G76,\"+\"),COUNTIF(G27:G76,\"-\"),COUNTIF(G27:G76,\"y\"),COUNTIF(G27:G76,\"n\"),COUNTIF(G27:G76,1),COUNTIF(G27:G76,2))","v":0},0,0,0,0,0,0,0,0,0,0,0,0,0,0,0,0,0,0,0,0,0,0,0,0,0,0,0,0,0,0,{"$f":"SUM(G23:AK23)","v":0}]
[null,null,null,null,null,"Total Number Correct   à",{"$f":"IF(G23>0,SUM(CM55:CM104),\"\")","v":""},{"$f":"IF(H23>0,SUM(CL55:CL104),\"\")","v":""},{"$f":"IF(I23>0,SUM(CK55:CK104),\"\")","v":""},{"$f":"IF(J23>0,SUM(CJ55:CJ104),\"\")","v":""},{"$f":"IF(K23>0,SUM(CI55:CI104),\"\")","v":""},{"$f":"IF(L23>0,SUM(CH55:CH104),\"\")","v":""},{"$f":"IF(M23>0,SUM(CG55:CG104),\"\")","v":""},{"$f":"IF(N23>0,SUM(CF55:CF104),\"\")","v":""},{"$f":"IF(O23>0,SUM(CE55:CE104),\"\")","v":""},{"$f":"IF(P23>0,SUM(CD55:CD104),\"\")","v":""},{"$f":"IF(Q23>0,SUM(CC55:CC104),\"\")","v":""},{"$f":"IF(R23>0,SUM(CB55:CB104),\"\")","v":""},{"$f":"IF(S23>0,SUM(CA55:CA104),\"\")","v":""},{"$f":"IF(T23>0,SUM(BZ55:BZ104),\"\")","v":""},{"$f":"IF(U23>0,SUM(BY55:BY104),\"\")","v":""},{"$f":"IF(V23>0,SUM(BX55:BX104),\"\")","v":""},{"$f":"IF(W23>0,SUM(BW55:BW104),\"\")","v":""},{"$f":"IF(X23>0,SUM(BV55:BV104),\"\")","v":""},{"$f":"IF(Y23>0,SUM(BU55:BU104),\"\")","v":""},{"$f":"IF(Z23>0,SUM(BT55:BT104),\"\")","v":""},{"$f":"IF(AA23>0,SUM(BS55:BS104),\"\")","v":""},{"$f":"IF(AB23>0,SUM(BR55:BR104),\"\")","v":""},{"$f":"IF(AC23>0,SUM(BQ55:BQ104),\"\")","v":""},{"$f":"IF(AD23>0,SUM(BP55:BP104),\"\")","v":""},{"$f":"IF(AE23>0,SUM(BO55:BO104),\"\")","v":""},{"$f":"IF(AF23>0,SUM(BN55:BN104),\"\")","v":""},{"$f":"IF(AG23>0,SUM(BM55:BM104),\"\")","v":""},{"$f":"IF(AH23>0,SUM(BL55:BL104),\"\")","v":""},{"$f":"IF(AI23>0,SUM(BK55:BK104),\"\")","v":""},{"$f":"IF(AJ23>0,SUM(BJ55:BJ104),\"\")","v":""},{"$f":"IF(AK23>0,SUM(BI55:BI104),\"\")","v":""}]
[null,null,{"$f":"50-SUM(C27:C76)","v":0},"Note",null,"Initials   à"]
[null,null,0,"â",null,"Date   à"]
[null,null,{"$f":"IF(F27=\"\",1,0)","v":1},{"$f":"IF(Modifications!$C$2=2,\"N\",\"\")","v":""},{"$f":"IF(AND(BH55>0,$F$10=\"\"),\"Choose Skill Type\",IF(CX55=\"\",\"\",IF(AND(DA55=3,$F$10=\"Multi-Step (Task Analysis)\"),\"Add Next Step\",IF(AND(DA55=3,$F$10=\"Multi-Stimulus (Different Sd's)\"),\"Continue\",IF(OR(AND(CV55=5,CY55<=1),AND(CW55=4,CZ55=0)),\"Intervene\",IF(OR(AND(CV55=5,CY55<=2),AND(CW55=4,CZ55<=1),AND(CX55=3,DA55=0)),\"Check\",\"Continue\"))))))","v":""},{"$f":"IF(ISBLANK('Month 1'!$F$27),\"\",'Month 1'!$F$27)","v":""}]
[null,null,{"$f":"IF(F28=\"\",1,0)","v":1},{"$f":"IF(Modifications!$C$3=2,\"N\",\"\")","v":""},"",{"$f":"IF(ISBLANK('Month 1'!$F$28),\"\",'Month 1'!$F$28)","v":""}]
[null,null,1,{"$f":"IF(Modifications!$C$4=2,\"N\",\"\")","v":""},"",{"$f":"IF(ISBLANK('Month 1'!$F$29),\"\",'Month 1'!$F$29)","v":""}]
[null,null,1,{"$f":"IF(Modifications!$C$5=2,\"N\",\"\")","v":""},"",{"$f":"IF(ISBLANK('Month 1'!$F$30),\"\",'Month 1'!$F$30)","v":""}]
[null,null,1,{"$f":"IF(Modifications!$C$6=2,\"N\",\"\")","v":""},"",{"$f":"IF(ISBLANK('Month 1'!$F$31),\"\",'Month 1'!$F$31)","v":""}]
[null,null,1,{"$f":"IF(Modifications!$C$7=2,\"N\",\"\")","v":""},"",{"$f":"IF(ISBLANK('Month 1'!$F$32),\"\",'Month 1'!$F$32)","v":""}]
[null,null,1,{"$f":"IF(Modifications!$C$8=2,\"N\",\"\")","v":""},"",{"$f":"IF(ISBLANK('Month 1'!$F$33),\"\",'Month 1'!$F$33)","v":""}]
[null,null,1,{"$f":"IF(Modifications!$C$9=2,\"N\",\"\")","v":""},"",{"$f":"IF(ISBLANK('Month 1'!$F$34),\"\",'Month 1'!$F$34)","v":""}]
[null,null,1,{"$f":"IF(Modifications!$C$10=2,\"N\",\"\")","v":""},"",{"$f":"IF(ISBLANK('Month 1'!$F$35),\"\",'Month 1'!$F$35)","v":""}]
[null,null,1,{"$f":"IF(Modifications!$C$11=2,\"N\",\"\")","v":""},"",{"$f":"IF(ISBLANK('Month 1'!$F$36),\"\",'Month 1'!$F$36)","v":""}]
[null,null,1,{"$f":"IF(Modifications!$C$12=2,\"N\",\"\")","v":""},"",{"$f":"IF(ISBLANK('Month 1'!$F$37),\"\",'Month 1'!$F$37)","v":""}]
[null,null,1,{"$f":"IF(Modifications!$C$13=2,\"N\",\"\")","v":""},"",{"$f":"IF(ISBLANK('Month 1'!$F$38),\"\",'Month 1'!$F$38)","v":""}]
[null,null,1,{"$f":"IF(Modifications!$C$14=2,\"N\",\"\")","v":""},"",{"$f":"IF(ISBLANK('Month 1'!$F$39),\"\",'Month 1'!$F$39)","v":""}]
[null,null,1,{"$f":"IF(Modifications!$C$15=2,\"N\",\"\")","v":""},"",{"$f":"IF(ISBLANK('Month 1'!$F$40),\"\",'Month 1'!$F$40)","v":""}]
[null,null,1,{"$f":"IF(Modifications!$C$16=2,\"N\",\"\")","v":""},"",{"$f":"IF(ISBLANK('Month 1'!$F$41),\"\",'Month 1'!$F$41)","v":""}]
[null,null,1,{"$f":"IF(Modifications!$C$17=2,\"N\",\"\")","v":""},"",{"$f":"IF(ISBLANK('Month 1'!$F$42),\"\",'Month 1'!$F$42)","v":""}]
[null,null,1,{"$f":"IF(Modifications!$C$18=2,\"N\",\"\")","v":""},"",{"$f":"IF(ISBLANK('Month 1'!$F$43),\"\",'Month 1'!$F$43)","v":""}]
[null,null,1,{"$f":"IF(Modifications!$C$19=2,\"N\",\"\")","v":""},"",{"$f":"IF(ISBLANK('Month 1'!$F$44),\"\",'Month 1'!$F$44)","v":""}]
[null,null,1,{"$f":"IF(Modifications!$C$20=2,\"N\",\"\")","v":""},"",{"$f":"IF(ISBLANK('Month 1'!$F$45),\"\",'Month 1'!$F$45)","v":""}]
[null,null,1,{"$f":"IF(Modifications!$C$21=2,\"N\",\"\")","v":""},"",{"$f":"IF(ISBLANK('Month 1'!$F$46),\"\",'Month 1'!$F$46)","v":""}]
[null,null,1,{"$f":"IF(Modifications!$C$22=2,\"N\",\"\")","v":""},"",{"$f":"IF(ISBLANK('Month 1'!$F$47),\"\",'Month 1'!$F$47)","v":""}]
[null,null,1,{"$f":"IF(Modifications!$C$23=2,\"N\",\"\")","v":""},"",{"$f":"IF(ISBLANK('Month 1'!$F$48),\"\",'Month 1'!$F$48)","v":""}]
[null,null,1,{"$f":"IF(Modifications!$C$24=2,\"N\",\"\")","v":""},"",{"$f":"IF(ISBLANK('Month 1'!$F$49),\"\",'Month 1'!$F$49)","v":""}]
[null,null,1,{"$f":"IF(Modifications!$C$25=2,\"N\",\"\")","v":""},"",{"$f":"IF(ISBLANK('Month 1'!$F$50),\"\",'Month 1'!$F$50)","v":""}]
[null,null,1,{"$f":"IF(Modifications!$C$26=2,\"N\",\"\")","v":""},"",{"$f":"IF(ISBLANK('Month 1'!$F$51),\"\",'Month 1'!$F$51)","v":""}]
[null,null,1,{"$f":"IF(Modifications!$C$27=2,\"N\",\"\")","v":""},"",{"$f":"IF(ISBLANK('Month 1'!$F$52),\"\",'Month 1'!$F$52)","v":""}]
[null,null,1,{"$f":"IF(Modifications!$C$28=2,\"N\",\"\")","v":""},"",{"$f":"IF(ISBLANK('Month 1'!$F$53),\"\",'Month 1'!$F$53)","v":""}]
[null,null,1,{"$f":"IF(Modifications!$C$29=2,\"N\",\"\")","v":""},"",{"$f":"IF(ISBLANK('Month 1'!$F$54),\"\",'Month 1'!$F$54)","v":""},null,null,null,null,null,null,null,null,null,null,null,null,null,null,null,null,null,null,null,null,null,null,null,null,null,null,null,null,null,null,null,null,null,null,null,null,null,null,null,null,null,null,null,null,null,null,null,null,null,null,null,null,null,null,null,null,null,null,null,null,null,null,null,null,null,null,null,null,null,null,null,null,null,null,null,null,null,null,null,null,null,null,null,null,null,null,null,null,null,"Locations (start,5,4,3)",null,null,null,"Are they in a row? (5,4,3)",null,null,"Sum of items in row (5,4,3)"]
[null,null,1,{"$f":"IF(Modifications!$C$30=2,\"N\",\"\")","v":""},"",{"$f":"IF(ISBLANK('Month 1'!$F$55),\"\",'Month 1'!$F$55)","v":""},null,null,null,null,null,null,null,null,null,null,null,null,null,null,null,null,null,null,null,null,null,null,null,null,null,null,null,null,null,null,null,null,null,null,null,null,null,null,null,null,null,null,null,null,null,null,null,null,null,null,null,null,null,{"$f":"SUM(COUNTIF(BI55:CM55,1),COUNTIF(BI55:CM55,0))","v":0},{"$f":"IF(OR(AK27=\"+\",AK27=\"Y\",AK27=2),1,IF(OR(AK27=\"-\",AK27=\"N\",AK27=1),0,IF(OR(BJ55=1,BJ55=0),\"#\",\"@\")))","v":"@"},{"$f":"IF(OR(AJ27=\"+\",AJ27=\"Y\",AJ27=2),1,IF(OR(AJ27=\"-\",AJ27=\"N\",AJ27=1),0,IF(OR(BK55=1,BK55=0),\"#\",\"@\")))","v":"@"},{"$f":"IF(OR(AI27=\"+\",AI27=\"Y\",AI27=2),1,IF(OR(AI27=\"-\",AI27=\"N\",AI27=1),0,IF(OR(BL55=1,BL55=0),\"#\",\"@\")))","v":"@"},{"$f":"IF(OR(AH27=\"+\",AH27=\"Y\",AH27=2),1,IF(OR(AH27=\"-\",AH27=\"N\",AH27=1),0,IF(OR(BM55=1,BM55=0),\"#\",\"@\")))","v":"@"},{"$f":"IF(OR(AG27=\"+\",AG27=\"Y\",AG27=2),1,IF(OR(AG27=\"-\",AG27=\"N\",AG27=1),0,IF(OR(BN55=1,BN55=0),\"#\",\"@\")))","v":"@"},{"$f":"IF(OR(AF27=\"+\",AF27=\"Y\",AF27=2),1,IF(OR(AF27=\"-\",AF27=\"N\",AF27=1),0,IF(OR(BO55=1,BO55=0),\"#\",\"@\")))","v":"@"},{"$f":"IF(OR(AE27=\"+\",AE27=\"Y\",AE27=2),1,IF(OR(AE27=\"-\",AE27=\"N\",AE27=1),0,IF(OR(BP55=1,BP55=0),\"#\",\"@\")))","v":"@"},{"$f":"IF(OR(AD27=\"+\",AD27=\"Y\",AD27=2),1,IF(OR(AD27=\"-\",AD27=\"N\",AD27=1),0,IF(OR(BQ55=1,BQ55=0),\"#\",\"@\")))","v":"@"},{"$f":"IF(OR(AC27=\"+\",AC27=\"Y\",AC27=2),1,IF(OR(AC27=\"-\",AC27=\"N\",AC27=1),0,IF(OR(BR55=1,BR55=0),\"#\",\"@\")))","v":"@"},{"$f":"IF(OR(AB27=\"+\",AB27=\"Y\",AB27=2),1,IF(OR(AB27=\"-\",AB27=\"N\",AB27=1),0,IF(OR(BS55=1,BS55=0),\"#\",\"@\")))","v":"@"},{"$f":"IF(OR(AA27=\"+\",AA27=\"Y\",AA27=2),1,IF(OR(AA27=\"-\",AA27=\"N\",AA27=1),0,IF(OR(BT55=1,BT55=0),\"#\",\"@\")))","v":"@"},{"$f":"IF(OR(Z27=\"+\",Z27=\"Y\",Z27=2),1,IF(OR(Z27=\"-\",Z27=\"N\",Z27=1),0,IF(OR(BU55=1,BU55=0),\"#\",\"@\")))","v":"@"},{"$f":"IF(OR(Y27=\"+\",Y27=\"Y\",Y27=2),1,IF(OR(Y27=\"-\",Y27=\"N\",Y27=1),0,IF(OR(BV55=1,BV55=0),\"#\",\"@\")))","v":"@"},{"$f":"IF(OR(X27=\"+\",X27=\"Y\",X27=2),1,IF(OR(X27=\"-\",X27=\"N\",X27=1),0,IF(OR(BW55=1,BW55=0),\"#\",\"@\")))","v":"@"},{"$f":"IF(OR(W27=\"+\",W27=\"Y\",W27=2),1,IF(OR(W27=\"-\",W27=\"N\",W27=1),0,IF(OR(BX55=1,BX55=0),\"#\",\"@\")))","v":"@"},{"$f":"IF(OR(V27=\"+\",V27=\"Y\",V27=2),1,IF(OR(V27=\"-\",V27=\"N\",V27=1),0,IF(OR(BY55=1,BY55=0),\"#\",\"@\")))","v":"@"},{"$f":"IF(OR(U27=\"+\",U27=\"Y\",U27=2),1,IF(OR(U27=\"-\",U27=\"N\",U27=1),0,IF(OR(BZ55=1,BZ55=0),\"#\",\"@\")))","v":"@"},{"$f":"IF(OR(T27=\"+\",T27=\"Y\",T27=2),1,IF(OR(T27=\"-\",T27=\"N\",T27=1),0,IF(OR(CA55=1,CA55=0),\"#\",\"@\")))","v":"@"},{"$f":"IF(OR(S27=\"+\",S27=\"Y\",S27=2),1,IF(OR(S27=\"-\",S27=\"N\",S27=1),0,IF(OR(CB55=1,CB55=0),\"#\",\"@\")))","v":"@"},{"$f":"IF(OR(R27=\"+\",R27=\"Y\",R27=2),1,IF(OR(R27=\"-\",R27=\"N\",R27=1),0,IF(OR(CC55=1,CC55=0),\"#\",\"@\")))","v":"@"},{"$f":"IF(OR(Q27=\"+\",Q27=\"Y\",Q27=2),1,IF(OR(Q27=\"-\",Q27=\"N\",Q27=1),0,IF(OR(CD55=1,CD55=0),\"#\",\"@\")))","v":"@"},{"$f":"IF(OR(P27=\"+\",P27=\"Y\",P27=2),1,IF(OR(P27=\"-\",P27=\"N\",P27=1),0,IF(OR(CE55=1,CE55=0),\"#\",\"@\")))","v":"@"},{"$f":"IF(OR(O27=\"+\",O27=\"Y\",O27=2),1,IF(OR(O27=\"-\",O27=\"N\",O27=1),0,IF(OR(CF55=1,CF55=0),\"#\",\"@\")))","v":"@"},{"$f":"IF(OR(N27=\"+\",N27=\"Y\",N27=2),1,IF(OR(N27=\"-\",N27=\"N\",N27=1),0,IF(OR(CG55=1,CG55=0),\"#\",\"@\")))","v":"@"},{"$f":"IF(OR(M27=\"+\",M27=\"Y\",M27=2),1,IF(OR(M27=\"-\",M27=\"N\",M27=1),0,IF(OR(CH55=1,CH55=0),\"#\",\"@\")))","v":"@"},{"$f":"IF(OR(L27=\"+\",L27=\"Y\",L27=2),1,IF(OR(L27=\"-\",L27=\"N\",L27=1),0,IF(OR(CI55=1,CI55=0),\"#\",\"@\")))","v":"@"},{"$f":"IF(OR(K27=\"+\",K27=\"Y\",K27=2),1,IF(OR(K27=\"-\",K27=\"N\",K27=1),0,IF(OR(CJ55=1,CJ55=0),\"#\",\"@\")))","v":"@"},{"$f":"IF(OR(J27=\"+\",J27=\"Y\",J27=2),1,IF(OR(J27=\"-\",J27=\"N\",J27=1),0,IF(OR(CK55=1,CK55=0),\"#\",\"@\")))","v":"@"},{"$f":"IF(OR(I27=\"+\",I27=\"Y\",I27=2),1,IF(OR(I27=\"-\",I27=\"N\",I27=1),0,IF(OR(CL55=1,CL55=0),\"#\",\"@\")))","v":"@"},{"$f":"IF(OR(H27=\"+\",H27=\"Y\",H27=2),1,IF(OR(H27=\"-\",H27=\"N\",H27=1),0,IF(OR(CM55=1,CM55=0),\"#\",\"@\")))","v":"@"},{"$f":"IF(OR(G27=\"+\",G27=\"Y\",G27=2),1,IF(OR(G27=\"-\",G27=\"N\",G27=1),0,\"@\"))","v":"@"},{"$f":"'Month 11'!BL55","v":"@"},{"$f":"'Month 11'!BK55","v":"@"},{"$f":"'Month 11'!BJ55","v":"@"},{"$f":"'Month 11'!BI55","v":"@"},{"$f":"ADDRESS(ROW(BH55),(MATCH(\"#\",BI55:CM55,0)+61))","v":{"$error":"#N/A"}},{"$f":"ADDRESS(ROW(BH55),(MATCH(\"#\",BI55:CM55,0)+65))","v":{"$error":"#N/A"}},{"$f":"ADDRESS(ROW(BH55),(MATCH(\"#\",BI55:CM55,0)+64))","v":{"$error":"#N/A"}},{"$f":"ADDRESS(ROW(BH55),(MATCH(\"#\",BI55:CM55,0)+63))","v":{"$error":"#N/A"}},{"$f":"IF(ISNUMBER(SUM(COUNTIF(INDIRECT(CR55):INDIRECT(CS55),2),COUNTIF(INDIRECT(CR55):INDIRECT(CS55),1),COUNTIF(INDIRECT(CR55):INDIRECT(CS55),0))),SUM(COUNTIF(INDIRECT(CR55):INDIRECT(CS55),2),COUNTIF(INDIRECT(CR55):INDIRECT(CS55),1),COUNTIF(INDIRECT(CR55):INDIRECT(CS55),0)),\"\")","v":""},{"$f":"IF(ISNUMBER(SUM(COUNTIF(INDIRECT(CR55):INDIRECT(CT55),2),COUNTIF(INDIRECT(CR55):INDIRECT(CT55),1),COUNTIF(INDIRECT(CR55):INDIRECT(CT55),0))),SUM(COUNTIF(INDIRECT(CR55):INDIRECT(CT55),2),COUNTIF(INDIRECT(CR55):INDIRECT(CT55),1),COUNTIF(INDIRECT(CR55):INDIRECT(CT55),0)),\"\")","v":""},{"$f":"IF(ISNUMBER(SUM(COUNTIF(INDIRECT(CR55):INDIRECT(CU55),1),COUNTIF(INDIRECT(CR55):INDIRECT(CU55),0))),SUM(COUNTIF(INDIRECT(CR55):INDIRECT(CU55),1),COUNTIF(INDIRECT(CR55):INDIRECT(CU55),0)),\"\")","v":""},{"$f":"SUM(INDIRECT(CR55):INDIRECT(CS55))","v":{"$error":"#N/A"}},{"$f":"SUM(INDIRECT(CR55):INDIRECT(CT55))","v":{"$error":"#N/A"}},{"$f":"SUM(INDIRECT(CR55):INDIRECT(CU55))","v":{"$error":"#N/A"}}]
[null,null,1,{"$f":"IF(Modifications!$C$31=2,\"N\",\"\")","v":""},"",{"$f":"IF(ISBLANK('Month 1'!$F$56),\"\",'Month 1'!$F$56)","v":""},null,null,null,null,null,null,null,null,null,null,null,null,null,null,null,null,null,null,null,null,null,null,null,null,null,null,null,null,null,null,null,null,null,null,null,null,null,null,null,null,null,null,null,null,null,null,null,null,null,null,null,null,null,0,"@","@","@","@","@","@","@","@","@","@","@","@","@","@","@","@","@","@","@","@","@","@","@","@","@","@","@","@","@","@","@",{"$f":"'Month 11'!BL56","v":"@"},{"$f":"'Month 11'!BK56","v":"@"},{"$f":"'Month 11'!BJ56","v":"@"},{"$f":"'Month 11'!BI56","v":"@"},{"$error":"#N/A"},{"$error":"#N/A"},{"$error":"#N/A"},{"$error":"#N/A"},{"$f":"IF(ISNUMBER(SUM(COUNTIF(INDIRECT(CR56):INDIRECT(CS56),2),COUNTIF(INDIRECT(CR56):INDIRECT(CS56),1),COUNTIF(INDIRECT(CR56):INDIRECT(CS56),0))),SUM(COUNTIF(INDIRECT(CR56):INDIRECT(CS56),2),COUNTIF(INDIRECT(CR56):INDIRECT(CS56),1),COUNTIF(INDIRECT(CR56):INDIRECT(CS56),0)),\"\")","v":""},{"$f":"IF(ISNUMBER(SUM(COUNTIF(INDIRECT(CR56):INDIRECT(CT56),2),COUNTIF(INDIRECT(CR56):INDIRECT(CT56),1),COUNTIF(INDIRECT(CR56):INDIRECT(CT56),0))),SUM(COUNTIF(INDIRECT(CR56):INDIRECT(CT56),2),COUNTIF(INDIRECT(CR56):INDIRECT(CT56),1),COUNTIF(INDIRECT(CR56):INDIRECT(CT56),0)),\"\")","v":""},{"$f":"IF(ISNUMBER(SUM(COUNTIF(INDIRECT(CR56):INDIRECT(CU56),1),COUNTIF(INDIRECT(CR56):INDIRECT(CU56),0))),SUM(COUNTIF(INDIRECT(CR56):INDIRECT(CU56),1),COUNTIF(INDIRECT(CR56):INDIRECT(CU56),0)),\"\")","v":""},{"$f":"SUM(INDIRECT(CR56):INDIRECT(CS56))","v":{"$error":"#N/A"}},{"$f":"SUM(INDIRECT(CR56):INDIRECT(CT56))","v":{"$error":"#N/A"}},{"$f":"SUM(INDIRECT(CR56):INDIRECT(CU56))","v":{"$error":"#N/A"}}]
[null,null,1,{"$f":"IF(Modifications!$C$32=2,\"N\",\"\")","v":""},"",{"$f":"IF(ISBLANK('Month 1'!$F$57),\"\",'Month 1'!$F$57)","v":""},null,null,null,null,null,null,null,null,null,null,null,null,null,null,null,null,null,null,null,null,null,null,null,null,null,null,null,null,null,null,null,null,null,null,null,null,null,null,null,null,null,null,null,null,null,null,null,null,null,null,null,null,null,0,"@","@","@","@","@","@","@","@","@","@","@","@","@","@","@","@","@","@","@","@","@","@","@","@","@","@","@","@","@","@","@",{"$f":"'Month 11'!BL57","v":"@"},{"$f":"'Month 11'!BK57","v":"@"},{"$f":"'Month 11'!BJ57","v":"@"},{"$f":"'Month 11'!BI57","v":"@"},{"$error":"#N/A"},{"$error":"#N/A"},{"$error":"#N/A"},{"$error":"#N/A"},{"$f":"IF(ISNUMBER(SUM(COUNTIF(INDIRECT(CR57):INDIRECT(CS57),2),COUNTIF(INDIRECT(CR57):INDIRECT(CS57),1),COUNTIF(INDIRECT(CR57):INDIRECT(CS57),0))),SUM(COUNTIF(INDIRECT(CR57):INDIRECT(CS57),2),COUNTIF(INDIRECT(CR57):INDIRECT(CS57),1),COUNTIF(INDIRECT(CR57):INDIRECT(CS57),0)),\"\")","v":""},{"$f":"IF(ISNUMBER(SUM(COUNTIF(INDIRECT(CR57):INDIRECT(CT57),2),COUNTIF(INDIRECT(CR57):INDIRECT(CT57),1),COUNTIF(INDIRECT(CR57):INDIRECT(CT57),0))),SUM(COUNTIF(INDIRECT(CR57):INDIRECT(CT57),2),COUNTIF(INDIRECT(CR57):INDIRECT(CT57),1),COUNTIF(INDIRECT(CR57):INDIRECT(CT57),0)),\"\")","v":""},{"$f":"IF(ISNUMBER(SUM(COUNTIF(INDIRECT(CR57):INDIRECT(CU57),1),COUNTIF(INDIRECT(CR57):INDIRECT(CU57),0))),SUM(COUNTIF(INDIRECT(CR57):INDIRECT(CU57),1),COUNTIF(INDIRECT(CR57):INDIRECT(CU57),0)),\"\")","v":""},{"$f":"SUM(INDIRECT(CR57):INDIRECT(CS57))","v":{"$error":"#N/A"}},{"$f":"SUM(INDIRECT(CR57):INDIRECT(CT57))","v":{"$error":"#N/A"}},{"$f":"SUM(INDIRECT(CR57):INDIRECT(CU57))","v":{"$error":"#N/A"}}]
[null,null,1,{"$f":"IF(Modifications!$C$33=2,\"N\",\"\")","v":""},"",{"$f":"IF(ISBLANK('Month 1'!$F$58),\"\",'Month 1'!$F$58)","v":""},null,null,null,null,null,null,null,null,null,null,null,null,null,null,null,null,null,null,null,null,null,null,null,null,null,null,null,null,null,null,null,null,null,null,null,null,null,null,null,null,null,null,null,null,null,null,null,null,null,null,null,null,null,0,"@","@","@","@","@","@","@","@","@","@","@","@","@","@","@","@","@","@","@","@","@","@","@","@","@","@","@","@","@","@","@",{"$f":"'Month 11'!BL58","v":"@"},{"$f":"'Month 11'!BK58","v":"@"},{"$f":"'Month 11'!BJ58","v":"@"},{"$f":"'Month 11'!BI58","v":"@"},{"$error":"#N/A"},{"$error":"#N/A"},{"$error":"#N/A"},{"$error":"#N/A"},{"$f":"IF(ISNUMBER(SUM(COUNTIF(INDIRECT(CR58):INDIRECT(CS58),2),COUNTIF(INDIRECT(CR58):INDIRECT(CS58),1),COUNTIF(INDIRECT(CR58):INDIRECT(CS58),0))),SUM(COUNTIF(INDIRECT(CR58):INDIRECT(CS58),2),COUNTIF(INDIRECT(CR58):INDIRECT(CS58),1),COUNTIF(INDIRECT(CR58):INDIRECT(CS58),0)),\"\")","v":""},{"$f":"IF(ISNUMBER(SUM(COUNTIF(INDIRECT(CR58):INDIRECT(CT58),2),COUNTIF(INDIRECT(CR58):INDIRECT(CT58),1),COUNTIF(INDIRECT(CR58):INDIRECT(CT58),0))),SUM(COUNTIF(INDIRECT(CR58):INDIRECT(CT58),2),COUNTIF(INDIRECT(CR58):INDIRECT(CT58),1),COUNTIF(INDIRECT(CR58):INDIRECT(CT58),0)),\"\")","v":""},{"$f":"IF(ISNUMBER(SUM(COUNTIF(INDIRECT(CR58):INDIRECT(CU58),1),COUNTIF(INDIRECT(CR58):INDIRECT(CU58),0))),SUM(COUNTIF(INDIRECT(CR58):INDIRECT(CU58),1),COUNTIF(INDIRECT(CR58):INDIRECT(CU58),0)),\"\")","v":""},{"$f":"SUM(INDIRECT(CR58):INDIRECT(CS58))","v":{"$error":"#N/A"}},{"$f":"SUM(INDIRECT(CR58):INDIRECT(CT58))","v":{"$error":"#N/A"}},{"$f":"SUM(INDIRECT(CR58):INDIRECT(CU58))","v":{"$error":"#N/A"}}]
[null,null,1,{"$f":"IF(Modifications!$C$34=2,\"N\",\"\")","v":""},{"$f":"IF(AND(BH87>0,$F$10=\"\"),\"Choose Skill Type\",IF(CX87=\"\",\"\",IF(AND(DA87=3,$F$10=\"Multi-Step (Task Analysis)\"),\"Add Next Step\",IF(AND(DA87=3,$F$10=\"Multi-Stimulus (Different Sd's)\"),\"Continue\",IF(OR(AND(CV87=5,CY87<=1),AND(CW87=4,CZ87=0)),\"Intervene\",IF(OR(AND(CV87=5,CY87<=2),AND(CW87=4,CZ87<=1),AND(CX87=3,DA87=0)),\"Check\",\"Continue\"))))))","v":""},{"$f":"IF(ISBLANK('Month 1'!$F$59),\"\",'Month 1'!$F$59)","v":""},null,null,null,null,null,null,null,null,null,null,null,null,null,null,null,null,null,null,null,null,null,null,null,null,null,null,null,null,null,null,null,null,null,null,null,null,null,null,null,null,null,null,null,null,null,null,null,null,null,null,null,null,null,0,"@","@","@","@","@","@","@","@","@","@","@","@","@","@","@","@","@","@","@","@","@","@","@","@","@","@","@","@","@","@","@",{"$f":"'Month 11'!BL59","v":"@"},{"$f":"'Month 11'!BK59","v":"@"},{"$f":"'Month 11'!BJ59","v":"@"},{"$f":"'Month 11'!BI59","v":"@"},{"$error":"#N/A"},{"$error":"#N/A"},{"$error":"#N/A"},{"$error":"#N/A"},{"$f":"IF(ISNUMBER(SUM(COUNTIF(INDIRECT(CR59):INDIRECT(CS59),2),COUNTIF(INDIRECT(CR59):INDIRECT(CS59),1),COUNTIF(INDIRECT(CR59):INDIRECT(CS59),0))),SUM(COUNTIF(INDIRECT(CR59):INDIRECT(CS59),2),COUNTIF(INDIRECT(CR59):INDIRECT(CS59),1),COUNTIF(INDIRECT(CR59):INDIRECT(CS59),0)),\"\")","v":""},{"$f":"IF(ISNUMBER(SUM(COUNTIF(INDIRECT(CR59):INDIRECT(CT59),2),COUNTIF(INDIRECT(CR59):INDIRECT(CT59),1),COUNTIF(INDIRECT(CR59):INDIRECT(CT59),0))),SUM(COUNTIF(INDIRECT(CR59):INDIRECT(CT59),2),COUNTIF(INDIRECT(CR59):INDIRECT(CT59),1),COUNTIF(INDIRECT(CR59):INDIRECT(CT59),0)),\"\")","v":""},{"$f":"IF(ISNUMBER(SUM(COUNTIF(INDIRECT(CR59):INDIRECT(CU59),1),COUNTIF(INDIRECT(CR59):INDIRECT(CU59),0))),SUM(COUNTIF(INDIRECT(CR59):INDIRECT(CU59),1),COUNTIF(INDIRECT(CR59):INDIRECT(CU59),0)),\"\")","v":""},{"$f":"SUM(INDIRECT(CR59):INDIRECT(CS59))","v":{"$error":"#N/A"}},{"$f":"SUM(INDIRECT(CR59):INDIRECT(CT59))","v":{"$error":"#N/A"}},{"$f":"SUM(INDIRECT(CR59):INDIRECT(CU59))","v":{"$error":"#N/A"}}]
[null,null,1,{"$f":"IF(Modifications!$C$35=2,\"N\",\"\")","v":""},"",{"$f":"IF(ISBLANK('Month 1'!$F$60),\"\",'Month 1'!$F$60)","v":""},null,null,null,null,null,null,null,null,null,null,null,null,null,null,null,null,null,null,null,null,null,null,null,null,null,null,null,null,null,null,null,null,null,null,null,null,null,null,null,null,null,null,null,null,null,null,null,null,null,null,null,null,null,0,"@","@","@","@","@","@","@","@","@","@","@","@","@","@","@","@","@","@","@","@","@","@","@","@","@","@","@","@","@","@","@",{"$f":"'Month 11'!BL60","v":"@"},{"$f":"'Month 11'!BK60","v":"@"},{"$f":"'Month 11'!BJ60","v":"@"},{"$f":"'Month 11'!BI60","v":"@"},{"$error":"#N/A"},{"$error":"#N/A"},{"$error":"#N/A"},{"$error":"#N/A"},{"$f":"IF(ISNUMBER(SUM(COUNTIF(INDIRECT(CR60):INDIRECT(CS60),2),COUNTIF(INDIRECT(CR60):INDIRECT(CS60),1),COUNTIF(INDIRECT(CR60):INDIRECT(CS60),0))),SUM(COUNTIF(INDIRECT(CR60):INDIRECT(CS60),2),COUNTIF(INDIRECT(CR60):INDIRECT(CS60),1),COUNTIF(INDIRECT(CR60):INDIRECT(CS60),0)),\"\")","v":""},{"$f":"IF(ISNUMBER(SUM(COUNTIF(INDIRECT(CR60):INDIRECT(CT60),2),COUNTIF(INDIRECT(CR60):INDIRECT(CT60),1),COUNTIF(INDIRECT(CR60):INDIRECT(CT60),0))),SUM(COUNTIF(INDIRECT(CR60):INDIRECT(CT60),2),COUNTIF(INDIRECT(CR60):INDIRECT(CT60),1),COUNTIF(INDIRECT(CR60):INDIRECT(CT60),0)),\"\")","v":""},{"$f":"IF(ISNUMBER(SUM(COUNTIF(INDIRECT(CR60):INDIRECT(CU60),1),COUNTIF(INDIRECT(CR60):INDIRECT(CU60),0))),SUM(COUNTIF(INDIRECT(CR60):INDIRECT(CU60),1),COUNTIF(INDIRECT(CR60):INDIRECT(CU60),0)),\"\")","v":""},{"$f":"SUM(INDIRECT(CR60):INDIRECT(CS60))","v":{"$error":"#N/A"}},{"$f":"SUM(INDIRECT(CR60):INDIRECT(CT60))","v":{"$error":"#N/A"}},{"$f":"SUM(INDIRECT(CR60):INDIRECT(CU60))","v":{"$error":"#N/A"}}]
[null,null,1,{"$f":"IF(Modifications!$C$36=2,\"N\",\"\")","v":""},"",{"$f":"IF(ISBLANK('Month 1'!$F$61),\"\",'Month 1'!$F$61)","v":""},null,null,null,null,null,null,null,null,null,null,null,null,null,null,null,null,null,null,null,null,null,null,null,null,null,null,null,null,null,null,null,null,null,null,null,null,null,null,null,null,null,null,null,null,null,null,null,null,null,null,null,null,null,0,"@","@","@","@","@","@","@","@","@","@","@","@","@","@","@","@","@","@","@","@","@","@","@","@","@","@","@","@","@","@","@",{"$f":"'Month 11'!BL61","v":"@"},{"$f":"'Month 11'!BK61","v":"@"},{"$f":"'Month 11'!BJ61","v":"@"},{"$f":"'Month 11'!BI61","v":"@"},{"$error":"#N/A"},{"$error":"#N/A"},{"$error":"#N/A"},{"$error":"#N/A"},{"$f":"IF(ISNUMBER(SUM(COUNTIF(INDIRECT(CR61):INDIRECT(CS61),2),COUNTIF(INDIRECT(CR61):INDIRECT(CS61),1),COUNTIF(INDIRECT(CR61):INDIRECT(CS61),0))),SUM(COUNTIF(INDIRECT(CR61):INDIRECT(CS61),2),COUNTIF(INDIRECT(CR61):INDIRECT(CS61),1),COUNTIF(INDIRECT(CR61):INDIRECT(CS61),0)),\"\")","v":""},{"$f":"IF(ISNUMBER(SUM(COUNTIF(INDIRECT(CR61):INDIRECT(CT61),2),COUNTIF(INDIRECT(CR61):INDIRECT(CT61),1),COUNTIF(INDIRECT(CR61):INDIRECT(CT61),0))),SUM(COUNTIF(INDIRECT(CR61):INDIRECT(CT61),2),COUNTIF(INDIRECT(CR61):INDIRECT(CT61),1),COUNTIF(INDIRECT(CR61):INDIRECT(CT61),0)),\"\")","v":""},{"$f":"IF(ISNUMBER(SUM(COUNTIF(INDIRECT(CR61):INDIRECT(CU61),1),COUNTIF(INDIRECT(CR61):INDIRECT(CU61),0))),SUM(COUNTIF(INDIRECT(CR61):INDIRECT(CU61),1),COUNTIF(INDIRECT(CR61):INDIRECT(CU61),0)),\"\")","v":""},{"$f":"SUM(INDIRECT(CR61):INDIRECT(CS61))","v":{"$error":"#N/A"}},{"$f":"SUM(INDIRECT(CR61):INDIRECT(CT61))","v":{"$error":"#N/A"}},{"$f":"SUM(INDIRECT(CR61):INDIRECT(CU61))","v":{"$error":"#N/A"}}]
[null,null,1,{"$f":"IF(Modifications!$C$37=2,\"N\",\"\")","v":""},"",{"$f":"IF(ISBLANK('Month 1'!$F$62),\"\",'Month 1'!$F$62)","v":""},null,null,null,null,null,null,null,null,null,null,null,null,null,null,null,null,null,null,null,null,null,null,null,null,null,null,null,null,null,null,null,null,null,null,null,null,null,null,null,null,null,null,null,null,null,null,null,null,null,null,null,null,null,0,"@","@","@","@","@","@","@","@","@","@","@","@","@","@","@","@","@","@","@","@","@","@","@","@","@","@","@","@","@","@","@",{"$f":"'Month 11'!BL62","v":"@"},{"$f":"'Month 11'!BK62","v":"@"},{"$f":"'Month 11'!BJ62","v":"@"},{"$f":"'Month 11'!BI62","v":"@"},{"$error":"#N/A"},{"$error":"#N/A"},{"$error":"#N/A"},{"$error":"#N/A"},{"$f":"IF(ISNUMBER(SUM(COUNTIF(INDIRECT(CR62):INDIRECT(CS62),2),COUNTIF(INDIRECT(CR62):INDIRECT(CS62),1),COUNTIF(INDIRECT(CR62):INDIRECT(CS62),0))),SUM(COUNTIF(INDIRECT(CR62):INDIRECT(CS62),2),COUNTIF(INDIRECT(CR62):INDIRECT(CS62),1),COUNTIF(INDIRECT(CR62):INDIRECT(CS62),0)),\"\")","v":""},{"$f":"IF(ISNUMBER(SUM(COUNTIF(INDIRECT(CR62):INDIRECT(CT62),2),COUNTIF(INDIRECT(CR62):INDIRECT(CT62),1),COUNTIF(INDIRECT(CR62):INDIRECT(CT62),0))),SUM(COUNTIF(INDIRECT(CR62):INDIRECT(CT62),2),COUNTIF(INDIRECT(CR62):INDIRECT(CT62),1),COUNTIF(INDIRECT(CR62):INDIRECT(CT62),0)),\"\")","v":""},{"$f":"IF(ISNUMBER(SUM(COUNTIF(INDIRECT(CR62):INDIRECT(CU62),1),COUNTIF(INDIRECT(CR62):INDIRECT(CU62),0))),SUM(COUNTIF(INDIRECT(CR62):INDIRECT(CU62),1),COUNTIF(INDIRECT(CR62):INDIRECT(CU62),0)),\"\")","v":""},{"$f":"SUM(INDIRECT(CR62):INDIRECT(CS62))","v":{"$error":"#N/A"}},{"$f":"SUM(INDIRECT(CR62):INDIRECT(CT62))","v":{"$error":"#N/A"}},{"$f":"SUM(INDIRECT(CR62):INDIRECT(CU62))","v":{"$error":"#N/A"}}]
[null,null,1,{"$f":"IF(Modifications!$C$38=2,\"N\",\"\")","v":""},"",{"$f":"IF(ISBLANK('Month 1'!$F$63),\"\",'Month 1'!$F$63)","v":""},null,null,null,null,null,null,null,null,null,null,null,null,null,null,null,null,null,null,null,null,null,null,null,null,null,null,null,null,null,null,null,null,null,null,null,null,null,null,null,null,null,null,null,null,null,null,null,null,null,null,null,null,null,0,"@","@","@","@","@","@","@","@","@","@","@","@","@","@","@","@","@","@","@","@","@","@","@","@","@","@","@","@","@","@","@",{"$f":"'Month 11'!BL63","v":"@"},{"$f":"'Month 11'!BK63","v":"@"},{"$f":"'Month 11'!BJ63","v":"@"},{"$f":"'Month 11'!BI63","v":"@"},{"$error":"#N/A"},{"$error":"#N/A"},{"$error":"#N/A"},{"$error":"#N/A"},{"$f":"IF(ISNUMBER(SUM(COUNTIF(INDIRECT(CR63):INDIRECT(CS63),2),COUNTIF(INDIRECT(CR63):INDIRECT(CS63),1),COUNTIF(INDIRECT(CR63):INDIRECT(CS63),0))),SUM(COUNTIF(INDIRECT(CR63):INDIRECT(CS63),2),COUNTIF(INDIRECT(CR63):INDIRECT(CS63),1),COUNTIF(INDIRECT(CR63):INDIRECT(CS63),0)),\"\")","v":""},{"$f":"IF(ISNUMBER(SUM(COUNTIF(INDIRECT(CR63):INDIRECT(CT63),2),COUNTIF(INDIRECT(CR63):INDIRECT(CT63),1),COUNTIF(INDIRECT(CR63):INDIRECT(CT63),0))),SUM(COUNTIF(INDIRECT(CR63):INDIRECT(CT63),2),COUNTIF(INDIRECT(CR63):INDIRECT(CT63),1),COUNTIF(INDIRECT(CR63):INDIRECT(CT63),0)),\"\")","v":""},{"$f":"IF(ISNUMBER(SUM(COUNTIF(INDIRECT(CR63):INDIRECT(CU63),1),COUNTIF(INDIRECT(CR63):INDIRECT(CU63),0))),SUM(COUNTIF(INDIRECT(CR63):INDIRECT(CU63),1),COUNTIF(INDIRECT(CR63):INDIRECT(CU63),0)),\"\")","v":""},{"$f":"SUM(INDIRECT(CR63):INDIRECT(CS63))","v":{"$error":"#N/A"}},{"$f":"SUM(INDIRECT(CR63):INDIRECT(CT63))","v":{"$error":"#N/A"}},{"$f":"SUM(INDIRECT(CR63):INDIRECT(CU63))","v":{"$error":"#N/A"}}]
[null,null,1,{"$f":"IF(Modifications!$C$39=2,\"N\",\"\")","v":""},"",{"$f":"IF(ISBLANK('Month 1'!$F$64),\"\",'Month 1'!$F$64)","v":""},null,null,null,null,null,null,null,null,null,null,null,null,null,null,null,null,null,null,null,null,null,null,null,null,null,null,null,null,null,null,null,null,null,null,null,null,null,null,null,null,null,null,null,null,null,null,null,null,null,null,null,null,null,0,"@","@","@","@","@","@","@","@","@","@","@","@","@","@","@","@","@","@","@","@","@","@","@","@","@","@","@","@","@","@","@",{"$f":"'Month 11'!BL64","v":"@"},{"$f":"'Month 11'!BK64","v":"@"},{"$f":"'Month 11'!BJ64","v":"@"},{"$f":"'Month 11'!BI64","v":"@"},{"$error":"#N/A"},{"$error":"#N/A"},{"$error":"#N/A"},{"$error":"#N/A"},{"$f":"IF(ISNUMBER(SUM(COUNTIF(INDIRECT(CR64):INDIRECT(CS64),2),COUNTIF(INDIRECT(CR64):INDIRECT(CS64),1),COUNTIF(INDIRECT(CR64):INDIRECT(CS64),0))),SUM(COUNTIF(INDIRECT(CR64):INDIRECT(CS64),2),COUNTIF(INDIRECT(CR64):INDIRECT(CS64),1),COUNTIF(INDIRECT(CR64):INDIRECT(CS64),0)),\"\")","v":""},{"$f":"IF(ISNUMBER(SUM(COUNTIF(INDIRECT(CR64):INDIRECT(CT64),2),COUNTIF(INDIRECT(CR64):INDIRECT(CT64),1),COUNTIF(INDIRECT(CR64):INDIRECT(CT64),0))),SUM(COUNTIF(INDIRECT(CR64):INDIRECT(CT64),2),COUNTIF(INDIRECT(CR64):INDIRECT(CT64),1),COUNTIF(INDIRECT(CR64):INDIRECT(CT64),0)),\"\")","v":""},{"$f":"IF(ISNUMBER(SUM(COUNTIF(INDIRECT(CR64):INDIRECT(CU64),1),COUNTIF(INDIRECT(CR64):INDIRECT(CU64),0))),SUM(COUNTIF(INDIRECT(CR64):INDIRECT(CU64),1),COUNTIF(INDIRECT(CR64):INDIRECT(CU64),0)),\"\")","v":""},{"$f":"SUM(INDIRECT(CR64):INDIRECT(CS64))","v":{"$error":"#N/A"}},{"$f":"SUM(INDIRECT(CR64):INDIRECT(CT64))","v":{"$error":"#N/A"}},{"$f":"SUM(INDIRECT(CR64):INDIRECT(CU64))","v":{"$error":"#N/A"}}]
[null,null,1,{"$f":"IF(Modifications!$C$40=2,\"N\",\"\")","v":""},"",{"$f":"IF(ISBLANK('Month 1'!$F$65),\"\",'Month 1'!$F$65)","v":""},null,null,null,null,null,null,null,null,null,null,null,null,null,null,null,null,null,null,null,null,null,null,null,null,null,null,null,null,null,null,null,null,null,null,null,null,null,null,null,null,null,null,null,null,null,null,null,null,null,null,null,null,null,0,"@","@","@","@","@","@","@","@","@","@","@","@","@","@","@","@","@","@","@","@","@","@","@","@","@","@","@","@","@","@","@",{"$f":"'Month 11'!BL65","v":"@"},{"$f":"'Month 11'!BK65","v":"@"},{"$f":"'Month 11'!BJ65","v":"@"},{"$f":"'Month 11'!BI65","v":"@"},{"$error":"#N/A"},{"$error":"#N/A"},{"$error":"#N/A"},{"$error":"#N/A"},{"$f":"IF(ISNUMBER(SUM(COUNTIF(INDIRECT(CR65):INDIRECT(CS65),2),COUNTIF(INDIRECT(CR65):INDIRECT(CS65),1),COUNTIF(INDIRECT(CR65):INDIRECT(CS65),0))),SUM(COUNTIF(INDIRECT(CR65):INDIRECT(CS65),2),COUNTIF(INDIRECT(CR65):INDIRECT(CS65),1),COUNTIF(INDIRECT(CR65):INDIRECT(CS65),0)),\"\")","v":""},{"$f":"IF(ISNUMBER(SUM(COUNTIF(INDIRECT(CR65):INDIRECT(CT65),2),COUNTIF(INDIRECT(CR65):INDIRECT(CT65),1),COUNTIF(INDIRECT(CR65):INDIRECT(CT65),0))),SUM(COUNTIF(INDIRECT(CR65):INDIRECT(CT65),2),COUNTIF(INDIRECT(CR65):INDIRECT(CT65),1),COUNTIF(INDIRECT(CR65):INDIRECT(CT65),0)),\"\")","v":""},{"$f":"IF(ISNUMBER(SUM(COUNTIF(INDIRECT(CR65):INDIRECT(CU65),1),COUNTIF(INDIRECT(CR65):INDIRECT(CU65),0))),SUM(COUNTIF(INDIRECT(CR65):INDIRECT(CU65),1),COUNTIF(INDIRECT(CR65):INDIRECT(CU65),0)),\"\")","v":""},{"$f":"SUM(INDIRECT(CR65):INDIRECT(CS65))","v":{"$error":"#N/A"}},{"$f":"SUM(INDIRECT(CR65):INDIRECT(CT65))","v":{"$error":"#N/A"}},{"$f":"SUM(INDIRECT(CR65):INDIRECT(CU65))","v":{"$error":"#N/A"}}]
[null,null,1,{"$f":"IF(Modifications!$C$41=2,\"N\",\"\")","v":""},"",{"$f":"IF(ISBLANK('Month 1'!$F$66),\"\",'Month 1'!$F$66)","v":""},null,null,null,null,null,null,null,null,null,null,null,null,null,null,null,null,null,null,null,null,null,null,null,null,null,null,null,null,null,null,null,null,null,null,null,null,null,null,null,null,null,null,null,null,null,null,null,null,null,null,null,null,null,0,"@","@","@","@","@","@","@","@","@","@","@","@","@","@","@","@","@","@","@","@","@","@","@","@","@","@","@","@","@","@","@",{"$f":"'Month 11'!BL66","v":"@"},{"$f":"'Month 11'!BK66","v":"@"},{"$f":"'Month 11'!BJ66","v":"@"},{"$f":"'Month 11'!BI66","v":"@"},{"$error":"#N/A"},{"$error":"#N/A"},{"$error":"#N/A"},{"$error":"#N/A"},{"$f":"IF(ISNUMBER(SUM(COUNTIF(INDIRECT(CR66):INDIRECT(CS66),2),COUNTIF(INDIRECT(CR66):INDIRECT(CS66),1),COUNTIF(INDIRECT(CR66):INDIRECT(CS66),0))),SUM(COUNTIF(INDIRECT(CR66):INDIRECT(CS66),2),COUNTIF(INDIRECT(CR66):INDIRECT(CS66),1),COUNTIF(INDIRECT(CR66):INDIRECT(CS66),0)),\"\")","v":""},{"$f":"IF(ISNUMBER(SUM(COUNTIF(INDIRECT(CR66):INDIRECT(CT66),2),COUNTIF(INDIRECT(CR66):INDIRECT(CT66),1),COUNTIF(INDIRECT(CR66):INDIRECT(CT66),0))),SUM(COUNTIF(INDIRECT(CR66):INDIRECT(CT66),2),COUNTIF(INDIRECT(CR66):INDIRECT(CT66),1),COUNTIF(INDIRECT(CR66):INDIRECT(CT66),0)),\"\")","v":""},{"$f":"IF(ISNUMBER(SUM(COUNTIF(INDIRECT(CR66):INDIRECT(CU66),1),COUNTIF(INDIRECT(CR66):INDIRECT(CU66),0))),SUM(COUNTIF(INDIRECT(CR66):INDIRECT(CU66),1),COUNTIF(INDIRECT(CR66):INDIRECT(CU66),0)),\"\")","v":""},{"$f":"SUM(INDIRECT(CR66):INDIRECT(CS66))","v":{"$error":"#N/A"}},{"$f":"SUM(INDIRECT(CR66):INDIRECT(CT66))","v":{"$error":"#N/A"}},{"$f":"SUM(INDIRECT(CR66):INDIRECT(CU66))","v":{"$error":"#N/A"}}]
[null,null,1,{"$f":"IF(Modifications!$C$42=2,\"N\",\"\")","v":""},"",{"$f":"IF(ISBLANK('Month 1'!$F$67),\"\",'Month 1'!$F$67)","v":""},null,null,null,null,null,null,null,null,null,null,null,null,null,null,null,null,null,null,null,null,null,null,null,null,null,null,null,null,null,null,null,null,null,null,null,null,null,null,null,null,null,null,null,null,null,null,null,null,null,null,null,null,null,0,"@","@","@","@","@","@","@","@","@","@","@","@","@","@","@","@","@","@","@","@","@","@","@","@","@","@","@","@","@","@","@",{"$f":"'Month 11'!BL67","v":"@"},{"$f":"'Month 11'!BK67","v":"@"},{"$f":"'Month 11'!BJ67","v":"@"},{"$f":"'Month 11'!BI67","v":"@"},{"$error":"#N/A"},{"$error":"#N/A"},{"$error":"#N/A"},{"$error":"#N/A"},{"$f":"IF(ISNUMBER(SUM(COUNTIF(INDIRECT(CR67):INDIRECT(CS67),2),COUNTIF(INDIRECT(CR67):INDIRECT(CS67),1),COUNTIF(INDIRECT(CR67):INDIRECT(CS67),0))),SUM(COUNTIF(INDIRECT(CR67):INDIRECT(CS67),2),COUNTIF(INDIRECT(CR67):INDIRECT(CS67),1),COUNTIF(INDIRECT(CR67):INDIRECT(CS67),0)),\"\")","v":""},{"$f":"IF(ISNUMBER(SUM(COUNTIF(INDIRECT(CR67):INDIRECT(CT67),2),COUNTIF(INDIRECT(CR67):INDIRECT(CT67),1),COUNTIF(INDIRECT(CR67):INDIRECT(CT67),0))),SUM(COUNTIF(INDIRECT(CR67):INDIRECT(CT67),2),COUNTIF(INDIRECT(CR67):INDIRECT(CT67),1),COUNTIF(INDIRECT(CR67):INDIRECT(CT67),0)),\"\")","v":""},{"$f":"IF(ISNUMBER(SUM(COUNTIF(INDIRECT(CR67):INDIRECT(CU67),1),COUNTIF(INDIRECT(CR67):INDIRECT(CU67),0))),SUM(COUNTIF(INDIRECT(CR67):INDIRECT(CU67),1),COUNTIF(INDIRECT(CR67):INDIRECT(CU67),0)),\"\")","v":""},{"$f":"SUM(INDIRECT(CR67):INDIRECT(CS67))","v":{"$error":"#N/A"}},{"$f":"SUM(INDIRECT(CR67):INDIRECT(CT67))","v":{"$error":"#N/A"}},{"$f":"SUM(INDIRECT(CR67):INDIRECT(CU67))","v":{"$error":"#N/A"}}]
[null,null,1,{"$f":"IF(Modifications!$C$43=2,\"N\",\"\")","v":""},"",{"$f":"IF(ISBLANK('Month 1'!$F$68),\"\",'Month 1'!$F$68)","v":""},null,null,null,null,null,null,null,null,null,null,null,null,null,null,null,null,null,null,null,null,null,null,null,null,null,null,null,null,null,null,null,null,null,null,null,null,null,null,null,null,null,null,null,null,null,null,null,null,null,null,null,null,null,0,"@","@","@","@","@","@","@","@","@","@","@","@","@","@","@","@","@","@","@","@","@","@","@","@","@","@","@","@","@","@","@",{"$f":"'Month 11'!BL68","v":"@"},{"$f":"'Month 11'!BK68","v":"@"},{"$f":"'Month 11'!BJ68","v":"@"},{"$f":"'Month 11'!BI68","v":"@"},{"$error":"#N/A"},{"$error":"#N/A"},{"$error":"#N/A"},{"$error":"#N/A"},{"$f":"IF(ISNUMBER(SUM(COUNTIF(INDIRECT(CR68):INDIRECT(CS68),2),COUNTIF(INDIRECT(CR68):INDIRECT(CS68),1),COUNTIF(INDIRECT(CR68):INDIRECT(CS68),0))),SUM(COUNTIF(INDIRECT(CR68):INDIRECT(CS68),2),COUNTIF(INDIRECT(CR68):INDIRECT(CS68),1),COUNTIF(INDIRECT(CR68):INDIRECT(CS68),0)),\"\")","v":""},{"$f":"IF(ISNUMBER(SUM(COUNTIF(INDIRECT(CR68):INDIRECT(CT68),2),COUNTIF(INDIRECT(CR68):INDIRECT(CT68),1),COUNTIF(INDIRECT(CR68):INDIRECT(CT68),0))),SUM(COUNTIF(INDIRECT(CR68):INDIRECT(CT68),2),COUNTIF(INDIRECT(CR68):INDIRECT(CT68),1),COUNTIF(INDIRECT(CR68):INDIRECT(CT68),0)),\"\")","v":""},{"$f":"IF(ISNUMBER(SUM(COUNTIF(INDIRECT(CR68):INDIRECT(CU68),1),COUNTIF(INDIRECT(CR68):INDIRECT(CU68),0))),SUM(COUNTIF(INDIRECT(CR68):INDIRECT(CU68),1),COUNTIF(INDIRECT(CR68):INDIRECT(CU68),0)),\"\")","v":""},{"$f":"SUM(INDIRECT(CR68):INDIRECT(CS68))","v":{"$error":"#N/A"}},{"$f":"SUM(INDIRECT(CR68):INDIRECT(CT68))","v":{"$error":"#N/A"}},{"$f":"SUM(INDIRECT(CR68):INDIRECT(CU68))","v":{"$error":"#N/A"}}]
[null,null,1,{"$f":"IF(Modifications!$C$44=2,\"N\",\"\")","v":""},"",{"$f":"IF(ISBLANK('Month 1'!$F$69),\"\",'Month 1'!$F$69)","v":""},null,null,null,null,null,null,null,null,null,null,null,null,null,null,null,null,null,null,null,null,null,null,null,null,null,null,null,null,null,null,null,null,null,null,null,null,null,null,null,null,null,null,null,null,null,null,null,null,null,null,null,null,null,0,"@","@","@","@","@","@","@","@","@","@","@","@","@","@","@","@","@","@","@","@","@","@","@","@","@","@","@","@","@","@","@",{"$f":"'Month 11'!BL69","v":"@"},{"$f":"'Month 11'!BK69","v":"@"},{"$f":"'Month 11'!BJ69","v":"@"},{"$f":"'Month 11'!BI69","v":"@"},{"$error":"#N/A"},{"$error":"#N/A"},{"$error":"#N/A"},{"$error":"#N/A"},{"$f":"IF(ISNUMBER(SUM(COUNTIF(INDIRECT(CR69):INDIRECT(CS69),2),COUNTIF(INDIRECT(CR69):INDIRECT(CS69),1),COUNTIF(INDIRECT(CR69):INDIRECT(CS69),0))),SUM(COUNTIF(INDIRECT(CR69):INDIRECT(CS69),2),COUNTIF(INDIRECT(CR69):INDIRECT(CS69),1),COUNTIF(INDIRECT(CR69):INDIRECT(CS69),0)),\"\")","v":""},{"$f":"IF(ISNUMBER(SUM(COUNTIF(INDIRECT(CR69):INDIRECT(CT69),2),COUNTIF(INDIRECT(CR69):INDIRECT(CT69),1),COUNTIF(INDIRECT(CR69):INDIRECT(CT69),0))),SUM(COUNTIF(INDIRECT(CR69):INDIRECT(CT69),2),COUNTIF(INDIRECT(CR69):INDIRECT(CT69),1),COUNTIF(INDIRECT(CR69):INDIRECT(CT69),0)),\"\")","v":""},{"$f":"IF(ISNUMBER(SUM(COUNTIF(INDIRECT(CR69):INDIRECT(CU69),1),COUNTIF(INDIRECT(CR69):INDIRECT(CU69),0))),SUM(COUNTIF(INDIRECT(CR69):INDIRECT(CU69),1),COUNTIF(INDIRECT(CR69):INDIRECT(CU69),0)),\"\")","v":""},{"$f":"SUM(INDIRECT(CR69):INDIRECT(CS69))","v":{"$error":"#N/A"}},{"$f":"SUM(INDIRECT(CR69):INDIRECT(CT69))","v":{"$error":"#N/A"}},{"$f":"SUM(INDIRECT(CR69):INDIRECT(CU69))","v":{"$error":"#N/A"}}]
[null,null,1,{"$f":"IF(Modifications!$C$45=2,\"N\",\"\")","v":""},"",{"$f":"IF(ISBLANK('Month 1'!$F$70),\"\",'Month 1'!$F$70)","v":""},null,null,null,null,null,null,null,null,null,null,null,null,null,null,null,null,null,null,null,null,null,null,null,null,null,null,null,null,null,null,null,null,null,null,null,null,null,null,null,null,null,null,null,null,null,null,null,null,null,null,null,null,null,0,"@","@","@","@","@","@","@","@","@","@","@","@","@","@","@","@","@","@","@","@","@","@","@","@","@","@","@","@","@","@","@",{"$f":"'Month 11'!BL70","v":"@"},{"$f":"'Month 11'!BK70","v":"@"},{"$f":"'Month 11'!BJ70","v":"@"},{"$f":"'Month 11'!BI70","v":"@"},{"$error":"#N/A"},{"$error":"#N/A"},{"$error":"#N/A"},{"$error":"#N/A"},{"$f":"IF(ISNUMBER(SUM(COUNTIF(INDIRECT(CR70):INDIRECT(CS70),2),COUNTIF(INDIRECT(CR70):INDIRECT(CS70),1),COUNTIF(INDIRECT(CR70):INDIRECT(CS70),0))),SUM(COUNTIF(INDIRECT(CR70):INDIRECT(CS70),2),COUNTIF(INDIRECT(CR70):INDIRECT(CS70),1),COUNTIF(INDIRECT(CR70):INDIRECT(CS70),0)),\"\")","v":""},{"$f":"IF(ISNUMBER(SUM(COUNTIF(INDIRECT(CR70):INDIRECT(CT70),2),COUNTIF(INDIRECT(CR70):INDIRECT(CT70),1),COUNTIF(INDIRECT(CR70):INDIRECT(CT70),0))),SUM(COUNTIF(INDIRECT(CR70):INDIRECT(CT70),2),COUNTIF(INDIRECT(CR70):INDIRECT(CT70),1),COUNTIF(INDIRECT(CR70):INDIRECT(CT70),0)),\"\")","v":""},{"$f":"IF(ISNUMBER(SUM(COUNTIF(INDIRECT(CR70):INDIRECT(CU70),1),COUNTIF(INDIRECT(CR70):INDIRECT(CU70),0))),SUM(COUNTIF(INDIRECT(CR70):INDIRECT(CU70),1),COUNTIF(INDIRECT(CR70):INDIRECT(CU70),0)),\"\")","v":""},{"$f":"SUM(INDIRECT(CR70):INDIRECT(CS70))","v":{"$error":"#N/A"}},{"$f":"SUM(INDIRECT(CR70):INDIRECT(CT70))","v":{"$error":"#N/A"}},{"$f":"SUM(INDIRECT(CR70):INDIRECT(CU70))","v":{"$error":"#N/A"}}]
[null,null,1,{"$f":"IF(Modifications!$C$46=2,\"N\",\"\")","v":""},"",{"$f":"IF(ISBLANK('Month 1'!$F$71),\"\",'Month 1'!$F$71)","v":""},null,null,null,null,null,null,null,null,null,null,null,null,null,null,null,null,null,null,null,null,null,null,null,null,null,null,null,null,null,null,null,null,null,null,null,null,null,null,null,null,null,null,null,null,null,null,null,null,null,null,null,null,null,0,"@","@","@","@","@","@","@","@","@","@","@","@","@","@","@","@","@","@","@","@","@","@","@","@","@","@","@","@","@","@","@",{"$f":"'Month 11'!BL71","v":"@"},{"$f":"'Month 11'!BK71","v":"@"},{"$f":"'Month 11'!BJ71","v":"@"},{"$f":"'Month 11'!BI71","v":"@"},{"$error":"#N/A"},{"$error":"#N/A"},{"$error":"#N/A"},{"$error":"#N/A"},{"$f":"IF(ISNUMBER(SUM(COUNTIF(INDIRECT(CR71):INDIRECT(CS71),2),COUNTIF(INDIRECT(CR71):INDIRECT(CS71),1),COUNTIF(INDIRECT(CR71):INDIRECT(CS71),0))),SUM(COUNTIF(INDIRECT(CR71):INDIRECT(CS71),2),COUNTIF(INDIRECT(CR71):INDIRECT(CS71),1),COUNTIF(INDIRECT(CR71):INDIRECT(CS71),0)),\"\")","v":""},{"$f":"IF(ISNUMBER(SUM(COUNTIF(INDIRECT(CR71):INDIRECT(CT71),2),COUNTIF(INDIRECT(CR71):INDIRECT(CT71),1),COUNTIF(INDIRECT(CR71):INDIRECT(CT71),0))),SUM(COUNTIF(INDIRECT(CR71):INDIRECT(CT71),2),COUNTIF(INDIRECT(CR71):INDIRECT(CT71),1),COUNTIF(INDIRECT(CR71):INDIRECT(CT71),0)),\"\")","v":""},{"$f":"IF(ISNUMBER(SUM(COUNTIF(INDIRECT(CR71):INDIRECT(CU71),1),COUNTIF(INDIRECT(CR71):INDIRECT(CU71),0))),SUM(COUNTIF(INDIRECT(CR71):INDIRECT(CU71),1),COUNTIF(INDIRECT(CR71):INDIRECT(CU71),0)),\"\")","v":""},{"$f":"SUM(INDIRECT(CR71):INDIRECT(CS71))","v":{"$error":"#N/A"}},{"$f":"SUM(INDIRECT(CR71):INDIRECT(CT71))","v":{"$error":"#N/A"}},{"$f":"SUM(INDIRECT(CR71):INDIRECT(CU71))","v":{"$error":"#N/A"}}]
[null,null,1,{"$f":"IF(Modifications!$C$47=2,\"N\",\"\")","v":""},"",{"$f":"IF(ISBLANK('Month 1'!$F$72),\"\",'Month 1'!$F$72)","v":""},null,null,null,null,null,null,null,null,null,null,null,null,null,null,null,null,null,null,null,null,null,null,null,null,null,null,null,null,null,null,null,null,null,null,null,null,null,null,null,null,null,null,null,null,null,null,null,null,null,null,null,null,null,0,"@","@","@","@","@","@","@","@","@","@","@","@","@","@","@","@","@","@","@","@","@","@","@","@","@","@","@","@","@","@","@",{"$f":"'Month 11'!BL72","v":"@"},{"$f":"'Month 11'!BK72","v":"@"},{"$f":"'Month 11'!BJ72","v":"@"},{"$f":"'Month 11'!BI72","v":"@"},{"$error":"#N/A"},{"$error":"#N/A"},{"$error":"#N/A"},{"$error":"#N/A"},{"$f":"IF(ISNUMBER(SUM(COUNTIF(INDIRECT(CR72):INDIRECT(CS72),2),COUNTIF(INDIRECT(CR72):INDIRECT(CS72),1),COUNTIF(INDIRECT(CR72):INDIRECT(CS72),0))),SUM(COUNTIF(INDIRECT(CR72):INDIRECT(CS72),2),COUNTIF(INDIRECT(CR72):INDIRECT(CS72),1),COUNTIF(INDIRECT(CR72):INDIRECT(CS72),0)),\"\")","v":""},{"$f":"IF(ISNUMBER(SUM(COUNTIF(INDIRECT(CR72):INDIRECT(CT72),2),COUNTIF(INDIRECT(CR72):INDIRECT(CT72),1),COUNTIF(INDIRECT(CR72):INDIRECT(CT72),0))),SUM(COUNTIF(INDIRECT(CR72):INDIRECT(CT72),2),COUNTIF(INDIRECT(CR72):INDIRECT(CT72),1),COUNTIF(INDIRECT(CR72):INDIRECT(CT72),0)),\"\")","v":""},{"$f":"IF(ISNUMBER(SUM(COUNTIF(INDIRECT(CR72):INDIRECT(CU72),1),COUNTIF(INDIRECT(CR72):INDIRECT(CU72),0))),SUM(COUNTIF(INDIRECT(CR72):INDIRECT(CU72),1),COUNTIF(INDIRECT(CR72):INDIRECT(CU72),0)),\"\")","v":""},{"$f":"SUM(INDIRECT(CR72):INDIRECT(CS72))","v":{"$error":"#N/A"}},{"$f":"SUM(INDIRECT(CR72):INDIRECT(CT72))","v":{"$error":"#N/A"}},{"$f":"SUM(INDIRECT(CR72):INDIRECT(CU72))","v":{"$error":"#N/A"}}]
[null,null,1,{"$f":"IF(Modifications!$C$48=2,\"N\",\"\")","v":""},"",{"$f":"IF(ISBLANK('Month 1'!$F$73),\"\",'Month 1'!$F$73)","v":""},null,null,null,null,null,null,null,null,null,null,null,null,null,null,null,null,null,null,null,null,null,null,null,null,null,null,null,null,null,null,null,null,null,null,null,null,null,null,null,null,null,null,null,null,null,null,null,null,null,null,null,null,null,0,"@","@","@","@","@","@","@","@","@","@","@","@","@","@","@","@","@","@","@","@","@","@","@","@","@","@","@","@","@","@","@",{"$f":"'Month 11'!BL73","v":"@"},{"$f":"'Month 11'!BK73","v":"@"},{"$f":"'Month 11'!BJ73","v":"@"},{"$f":"'Month 11'!BI73","v":"@"},{"$error":"#N/A"},{"$error":"#N/A"},{"$error":"#N/A"},{"$error":"#N/A"},{"$f":"IF(ISNUMBER(SUM(COUNTIF(INDIRECT(CR73):INDIRECT(CS73),2),COUNTIF(INDIRECT(CR73):INDIRECT(CS73),1),COUNTIF(INDIRECT(CR73):INDIRECT(CS73),0))),SUM(COUNTIF(INDIRECT(CR73):INDIRECT(CS73),2),COUNTIF(INDIRECT(CR73):INDIRECT(CS73),1),COUNTIF(INDIRECT(CR73):INDIRECT(CS73),0)),\"\")","v":""},{"$f":"IF(ISNUMBER(SUM(COUNTIF(INDIRECT(CR73):INDIRECT(CT73),2),COUNTIF(INDIRECT(CR73):INDIRECT(CT73),1),COUNTIF(INDIRECT(CR73):INDIRECT(CT73),0))),SUM(COUNTIF(INDIRECT(CR73):INDIRECT(CT73),2),COUNTIF(INDIRECT(CR73):INDIRECT(CT73),1),COUNTIF(INDIRECT(CR73):INDIRECT(CT73),0)),\"\")","v":""},{"$f":"IF(ISNUMBER(SUM(COUNTIF(INDIRECT(CR73):INDIRECT(CU73),1),COUNTIF(INDIRECT(CR73):INDIRECT(CU73),0))),SUM(COUNTIF(INDIRECT(CR73):INDIRECT(CU73),1),COUNTIF(INDIRECT(CR73):INDIRECT(CU73),0)),\"\")","v":""},{"$f":"SUM(INDIRECT(CR73):INDIRECT(CS73))","v":{"$error":"#N/A"}},{"$f":"SUM(INDIRECT(CR73):INDIRECT(CT73))","v":{"$error":"#N/A"}},{"$f":"SUM(INDIRECT(CR73):INDIRECT(CU73))","v":{"$error":"#N/A"}}]
[null,null,1,{"$f":"IF(Modifications!$C$49=2,\"N\",\"\")","v":""},"",{"$f":"IF(ISBLANK('Month 1'!$F$74),\"\",'Month 1'!$F$74)","v":""},null,null,null,null,null,null,null,null,null,null,null,null,null,null,null,null,null,null,null,null,null,null,null,null,null,null,null,null,null,null,null,null,null,null,null,null,null,null,null,null,null,null,null,null,null,null,null,null,null,null,null,null,null,0,"@","@","@","@","@","@","@","@","@","@","@","@","@","@","@","@","@","@","@","@","@","@","@","@","@","@","@","@","@","@","@",{"$f":"'Month 11'!BL74","v":"@"},{"$f":"'Month 11'!BK74","v":"@"},{"$f":"'Month 11'!BJ74","v":"@"},{"$f":"'Month 11'!BI74","v":"@"},{"$error":"#N/A"},{"$error":"#N/A"},{"$error":"#N/A"},{"$error":"#N/A"},{"$f":"IF(ISNUMBER(SUM(COUNTIF(INDIRECT(CR74):INDIRECT(CS74),2),COUNTIF(INDIRECT(CR74):INDIRECT(CS74),1),COUNTIF(INDIRECT(CR74):INDIRECT(CS74),0))),SUM(COUNTIF(INDIRECT(CR74):INDIRECT(CS74),2),COUNTIF(INDIRECT(CR74):INDIRECT(CS74),1),COUNTIF(INDIRECT(CR74):INDIRECT(CS74),0)),\"\")","v":""},{"$f":"IF(ISNUMBER(SUM(COUNTIF(INDIRECT(CR74):INDIRECT(CT74),2),COUNTIF(INDIRECT(CR74):INDIRECT(CT74),1),COUNTIF(INDIRECT(CR74):INDIRECT(CT74),0))),SUM(COUNTIF(INDIRECT(CR74):INDIRECT(CT74),2),COUNTIF(INDIRECT(CR74):INDIRECT(CT74),1),COUNTIF(INDIRECT(CR74):INDIRECT(CT74),0)),\"\")","v":""},{"$f":"IF(ISNUMBER(SUM(COUNTIF(INDIRECT(CR74):INDIRECT(CU74),1),COUNTIF(INDIRECT(CR74):INDIRECT(CU74),0))),SUM(COUNTIF(INDIRECT(CR74):INDIRECT(CU74),1),COUNTIF(INDIRECT(CR74):INDIRECT(CU74),0)),\"\")","v":""},{"$f":"SUM(INDIRECT(CR74):INDIRECT(CS74))","v":{"$error":"#N/A"}},{"$f":"SUM(INDIRECT(CR74):INDIRECT(CT74))","v":{"$error":"#N/A"}},{"$f":"SUM(INDIRECT(CR74):INDIRECT(CU74))","v":{"$error":"#N/A"}}]
[null,null,1,{"$f":"IF(Modifications!$C$50=2,\"N\",\"\")","v":""},"",{"$f":"IF(ISBLANK('Month 1'!$F$75),\"\",'Month 1'!$F$75)","v":""},null,null,null,null,null,null,null,null,null,null,null,null,null,null,null,null,null,null,null,null,null,null,null,null,null,null,null,null,null,null,null,null,null,null,null,null,null,null,null,null,null,null,null,null,null,null,null,null,null,null,null,null,null,0,"@","@","@","@","@","@","@","@","@","@","@","@","@","@","@","@","@","@","@","@","@","@","@","@","@","@","@","@","@","@","@",{"$f":"'Month 11'!BL75","v":"@"},{"$f":"'Month 11'!BK75","v":"@"},{"$f":"'Month 11'!BJ75","v":"@"},{"$f":"'Month 11'!BI75","v":"@"},{"$error":"#N/A"},{"$error":"#N/A"},{"$error":"#N/A"},{"$error":"#N/A"},{"$f":"IF(ISNUMBER(SUM(COUNTIF(INDIRECT(CR75):INDIRECT(CS75),2),COUNTIF(INDIRECT(CR75):INDIRECT(CS75),1),COUNTIF(INDIRECT(CR75):INDIRECT(CS75),0))),SUM(COUNTIF(INDIRECT(CR75):INDIRECT(CS75),2),COUNTIF(INDIRECT(CR75):INDIRECT(CS75),1),COUNTIF(INDIRECT(CR75):INDIRECT(CS75),0)),\"\")","v":""},{"$f":"IF(ISNUMBER(SUM(COUNTIF(INDIRECT(CR75):INDIRECT(CT75),2),COUNTIF(INDIRECT(CR75):INDIRECT(CT75),1),COUNTIF(INDIRECT(CR75):INDIRECT(CT75),0))),SUM(COUNTIF(INDIRECT(CR75):INDIRECT(CT75),2),COUNTIF(INDIRECT(CR75):INDIRECT(CT75),1),COUNTIF(INDIRECT(CR75):INDIRECT(CT75),0)),\"\")","v":""},{"$f":"IF(ISNUMBER(SUM(COUNTIF(INDIRECT(CR75):INDIRECT(CU75),1),COUNTIF(INDIRECT(CR75):INDIRECT(CU75),0))),SUM(COUNTIF(INDIRECT(CR75):INDIRECT(CU75),1),COUNTIF(INDIRECT(CR75):INDIRECT(CU75),0)),\"\")","v":""},{"$f":"SUM(INDIRECT(CR75):INDIRECT(CS75))","v":{"$error":"#N/A"}},{"$f":"SUM(INDIRECT(CR75):INDIRECT(CT75))","v":{"$error":"#N/A"}},{"$f":"SUM(INDIRECT(CR75):INDIRECT(CU75))","v":{"$error":"#N/A"}}]
[null,null,1,{"$f":"IF(Modifications!$C$51=2,\"N\",\"\")","v":""},"",{"$f":"IF(ISBLANK('Month 1'!$F$76),\"\",'Month 1'!$F$76)","v":""},null,null,null,null,null,null,null,null,null,null,null,null,null,null,null,null,null,null,null,null,null,null,null,null,null,null,null,null,null,null,null,null,null,null,null,null,null,null,null,null,null,null,null,null,null,null,null,null,null,null,null,null,null,0,"@","@","@","@","@","@","@","@","@","@","@","@","@","@","@","@","@","@","@","@","@","@","@","@","@","@","@","@","@","@","@",{"$f":"'Month 11'!BL76","v":"@"},{"$f":"'Month 11'!BK76","v":"@"},{"$f":"'Month 11'!BJ76","v":"@"},{"$f":"'Month 11'!BI76","v":"@"},{"$error":"#N/A"},{"$error":"#N/A"},{"$error":"#N/A"},{"$error":"#N/A"},{"$f":"IF(ISNUMBER(SUM(COUNTIF(INDIRECT(CR76):INDIRECT(CS76),2),COUNTIF(INDIRECT(CR76):INDIRECT(CS76),1),COUNTIF(INDIRECT(CR76):INDIRECT(CS76),0))),SUM(COUNTIF(INDIRECT(CR76):INDIRECT(CS76),2),COUNTIF(INDIRECT(CR76):INDIRECT(CS76),1),COUNTIF(INDIRECT(CR76):INDIRECT(CS76),0)),\"\")","v":""},{"$f":"IF(ISNUMBER(SUM(COUNTIF(INDIRECT(CR76):INDIRECT(CT76),2),COUNTIF(INDIRECT(CR76):INDIRECT(CT76),1),COUNTIF(INDIRECT(CR76):INDIRECT(CT76),0))),SUM(COUNTIF(INDIRECT(CR76):INDIRECT(CT76),2),COUNTIF(INDIRECT(CR76):INDIRECT(CT76),1),COUNTIF(INDIRECT(CR76):INDIRECT(CT76),0)),\"\")","v":""},{"$f":"IF(ISNUMBER(SUM(COUNTIF(INDIRECT(CR76):INDIRECT(CU76),1),COUNTIF(INDIRECT(CR76):INDIRECT(CU76),0))),SUM(COUNTIF(INDIRECT(CR76):INDIRECT(CU76),1),COUNTIF(INDIRECT(CR76):INDIRECT(CU76),0)),\"\")","v":""},{"$f":"SUM(INDIRECT(CR76):INDIRECT(CS76))","v":{"$error":"#N/A"}},{"$f":"SUM(INDIRECT(CR76):INDIRECT(CT76))","v":{"$error":"#N/A"}},{"$f":"SUM(INDIRECT(CR76):INDIRECT(CU76))","v":{"$error":"#N/A"}}]
[null,null,null,null,null,null,null,null,null,null,null,null,null,null,null,null,null,null,null,null,null,null,null,null,null,null,null,null,null,null,null,null,null,null,null,null,null,null,null,null,null,null,null,null,null,null,null,null,null,null,null,null,null,null,null,null,null,null,null,0,"@","@","@","@","@","@","@","@","@","@","@","@","@","@","@","@","@","@","@","@","@","@","@","@","@","@","@","@","@","@","@",{"$f":"'Month 11'!BL77","v":"@"},{"$f":"'Month 11'!BK77","v":"@"},{"$f":"'Month 11'!BJ77","v":"@"},{"$f":"'Month 11'!BI77","v":"@"},{"$error":"#N/A"},{"$error":"#N/A"},{"$error":"#N/A"},{"$error":"#N/A"},{"$f":"IF(ISNUMBER(SUM(COUNTIF(INDIRECT(CR77):INDIRECT(CS77),2),COUNTIF(INDIRECT(CR77):INDIRECT(CS77),1),COUNTIF(INDIRECT(CR77):INDIRECT(CS77),0))),SUM(COUNTIF(INDIRECT(CR77):INDIRECT(CS77),2),COUNTIF(INDIRECT(CR77):INDIRECT(CS77),1),COUNTIF(INDIRECT(CR77):INDIRECT(CS77),0)),\"\")","v":""},{"$f":"IF(ISNUMBER(SUM(COUNTIF(INDIRECT(CR77):INDIRECT(CT77),2),COUNTIF(INDIRECT(CR77):INDIRECT(CT77),1),COUNTIF(INDIRECT(CR77):INDIRECT(CT77),0))),SUM(COUNTIF(INDIRECT(CR77):INDIRECT(CT77),2),COUNTIF(INDIRECT(CR77):INDIRECT(CT77),1),COUNTIF(INDIRECT(CR77):INDIRECT(CT77),0)),\"\")","v":""},{"$f":"IF(ISNUMBER(SUM(COUNTIF(INDIRECT(CR77):INDIRECT(CU77),1),COUNTIF(INDIRECT(CR77):INDIRECT(CU77),0))),SUM(COUNTIF(INDIRECT(CR77):INDIRECT(CU77),1),COUNTIF(INDIRECT(CR77):INDIRECT(CU77),0)),\"\")","v":""},{"$f":"SUM(INDIRECT(CR77):INDIRECT(CS77))","v":{"$error":"#N/A"}},{"$f":"SUM(INDIRECT(CR77):INDIRECT(CT77))","v":{"$error":"#N/A"}},{"$f":"SUM(INDIRECT(CR77):INDIRECT(CU77))","v":{"$error":"#N/A"}}]
[null,null,null,null,null,null,null,null,null,null,null,null,null,null,null,null,null,null,null,null,null,null,null,null,null,null,null,null,null,null,null,null,null,null,null,null,null,null,null,null,null,null,null,null,null,null,null,null,null,null,null,null,null,null,null,null,null,null,null,0,"@","@","@","@","@","@","@","@","@","@","@","@","@","@","@","@","@","@","@","@","@","@","@","@","@","@","@","@","@","@","@",{"$f":"'Month 11'!BL78","v":"@"},{"$f":"'Month 11'!BK78","v":"@"},{"$f":"'Month 11'!BJ78","v":"@"},{"$f":"'Month 11'!BI78","v":"@"},{"$error":"#N/A"},{"$error":"#N/A"},{"$error":"#N/A"},{"$error":"#N/A"},{"$f":"IF(ISNUMBER(SUM(COUNTIF(INDIRECT(CR78):INDIRECT(CS78),2),COUNTIF(INDIRECT(CR78):INDIRECT(CS78),1),COUNTIF(INDIRECT(CR78):INDIRECT(CS78),0))),SUM(COUNTIF(INDIRECT(CR78):INDIRECT(CS78),2),COUNTIF(INDIRECT(CR78):INDIRECT(CS78),1),COUNTIF(INDIRECT(CR78):INDIRECT(CS78),0)),\"\")","v":""},{"$f":"IF(ISNUMBER(SUM(COUNTIF(INDIRECT(CR78):INDIRECT(CT78),2),COUNTIF(INDIRECT(CR78):INDIRECT(CT78),1),COUNTIF(INDIRECT(CR78):INDIRECT(CT78),0))),SUM(COUNTIF(INDIRECT(CR78):INDIRECT(CT78),2),COUNTIF(INDIRECT(CR78):INDIRECT(CT78),1),COUNTIF(INDIRECT(CR78):INDIRECT(CT78),0)),\"\")","v":""},{"$f":"IF(ISNUMBER(SUM(COUNTIF(INDIRECT(CR78):INDIRECT(CU78),1),COUNTIF(INDIRECT(CR78):INDIRECT(CU78),0))),SUM(COUNTIF(INDIRECT(CR78):INDIRECT(CU78),1),COUNTIF(INDIRECT(CR78):INDIRECT(CU78),0)),\"\")","v":""},{"$f":"SUM(INDIRECT(CR78):INDIRECT(CS78))","v":{"$error":"#N/A"}},{"$f":"SUM(INDIRECT(CR78):INDIRECT(CT78))","v":{"$error":"#N/A"}},{"$f":"SUM(INDIRECT(CR78):INDIRECT(CU78))","v":{"$error":"#N/A"}}]
[null,null,null,null,null,null,{"$f":"IF(ISBLANK(G26),\"\",G26)","v":""},"","","","","","","","","","","","","","","","","","","","","","","","","","","","","","",null,null,null,null,null,null,null,null,null,null,null,null,null,null,null,null,null,null,null,null,null,null,0,"@","@","@","@","@","@","@","@","@","@","@","@","@","@","@","@","@","@","@","@","@","@","@","@","@","@","@","@","@","@","@",{"$f":"'Month 11'!BL79","v":"@"},{"$f":"'Month 11'!BK79","v":"@"},{"$f":"'Month 11'!BJ79","v":"@"},{"$f":"'Month 11'!BI79","v":"@"},{"$error":"#N/A"},{"$error":"#N/A"},{"$error":"#N/A"},{"$error":"#N/A"},{"$f":"IF(ISNUMBER(SUM(COUNTIF(INDIRECT(CR79):INDIRECT(CS79),2),COUNTIF(INDIRECT(CR79):INDIRECT(CS79),1),COUNTIF(INDIRECT(CR79):INDIRECT(CS79),0))),SUM(COUNTIF(INDIRECT(CR79):INDIRECT(CS79),2),COUNTIF(INDIRECT(CR79):INDIRECT(CS79),1),COUNTIF(INDIRECT(CR79):INDIRECT(CS79),0)),\"\")","v":""},{"$f":"IF(ISNUMBER(SUM(COUNTIF(INDIRECT(CR79):INDIRECT(CT79),2),COUNTIF(INDIRECT(CR79):INDIRECT(CT79),1),COUNTIF(INDIRECT(CR79):INDIRECT(CT79),0))),SUM(COUNTIF(INDIRECT(CR79):INDIRECT(CT79),2),COUNTIF(INDIRECT(CR79):INDIRECT(CT79),1),COUNTIF(INDIRECT(CR79):INDIRECT(CT79),0)),\"\")","v":""},{"$f":"IF(ISNUMBER(SUM(COUNTIF(INDIRECT(CR79):INDIRECT(CU79),1),COUNTIF(INDIRECT(CR79):INDIRECT(CU79),0))),SUM(COUNTIF(INDIRECT(CR79):INDIRECT(CU79),1),COUNTIF(INDIRECT(CR79):INDIRECT(CU79),0)),\"\")","v":""},{"$f":"SUM(INDIRECT(CR79):INDIRECT(CS79))","v":{"$error":"#N/A"}},{"$f":"SUM(INDIRECT(CR79):INDIRECT(CT79))","v":{"$error":"#N/A"}},{"$f":"SUM(INDIRECT(CR79):INDIRECT(CU79))","v":{"$error":"#N/A"}}]
[null,null,null,null,null,null,{"$f":"IF(G24=\"\",NA(),G24)","v":{"$error":"#N/A"}},{"$error":"#N/A"},{"$error":"#N/A"},{"$error":"#N/A"},{"$error":"#N/A"},{"$error":"#N/A"},{"$error":"#N/A"},{"$error":"#N/A"},{"$error":"#N/A"},{"$error":"#N/A"},{"$error":"#N/A"},{"$error":"#N/A"},{"$error":"#N/A"},{"$error":"#N/A"},{"$error":"#N/A"},{"$error":"#N/A"},{"$error":"#N/A"},{"$error":"#N/A"},{"$error":"#N/A"},{"$error":"#N/A"},{"$error":"#N/A"},{"$error":"#N/A"},{"$error":"#N/A"},{"$error":"#N/A"},{"$error":"#N/A"},{"$error":"#N/A"},{"$error":"#N/A"},{"$error":"#N/A"},{"$error":"#N/A"},{"$error":"#N/A"},{"$error":"#N/A"},null,null,null,null,null,null,null,null,null,null,null,null,null,null,null,null,null,null,null,null,null,null,{"$f":"SUM(COUNTIF(BI80:CM80,1),COUNTIF(BI80:CM80,0))","v":0},"@","@","@","@","@","@","@","@","@","@","@","@","@","@","@","@","@","@","@","@","@","@","@","@","@","@","@","@","@","@","@",{"$f":"'Month 11'!BL80","v":"@"},{"$f":"'Month 11'!BK80","v":"@"},{"$f":"'Month 11'!BJ80","v":"@"},{"$f":"'Month 11'!BI80","v":"@"},{"$error":"#N/A"},{"$error":"#N/A"},{"$error":"#N/A"},{"$error":"#N/A"},{"$f":"IF(ISNUMBER(SUM(COUNTIF(INDIRECT(CR80):INDIRECT(CS80),2),COUNTIF(INDIRECT(CR80):INDIRECT(CS80),1),COUNTIF(INDIRECT(CR80):INDIRECT(CS80),0))),SUM(COUNTIF(INDIRECT(CR80):INDIRECT(CS80),2),COUNTIF(INDIRECT(CR80):INDIRECT(CS80),1),COUNTIF(INDIRECT(CR80):INDIRECT(CS80),0)),\"\")","v":""},{"$f":"IF(ISNUMBER(SUM(COUNTIF(INDIRECT(CR80):INDIRECT(CT80),2),COUNTIF(INDIRECT(CR80):INDIRECT(CT80),1),COUNTIF(INDIRECT(CR80):INDIRECT(CT80),0))),SUM(COUNTIF(INDIRECT(CR80):INDIRECT(CT80),2),COUNTIF(INDIRECT(CR80):INDIRECT(CT80),1),COUNTIF(INDIRECT(CR80):INDIRECT(CT80),0)),\"\")","v":""},{"$f":"IF(ISNUMBER(SUM(COUNTIF(INDIRECT(CR80):INDIRECT(CU80),1),COUNTIF(INDIRECT(CR80):INDIRECT(CU80),0))),SUM(COUNTIF(INDIRECT(CR80):INDIRECT(CU80),1),COUNTIF(INDIRECT(CR80):INDIRECT(CU80),0)),\"\")","v":""},{"$f":"SUM(INDIRECT(CR80):INDIRECT(CS80))","v":{"$error":"#N/A"}},{"$f":"SUM(INDIRECT(CR80):INDIRECT(CT80))","v":{"$error":"#N/A"}},{"$f":"SUM(INDIRECT(CR80):INDIRECT(CU80))","v":{"$error":"#N/A"}}]
[null,null,null,null,null,null,null,null,null,null,null,null,null,null,null,null,null,null,null,null,null,null,null,null,null,null,null,null,null,null,null,null,null,null,null,null,null,null,null,null,null,null,null,null,null,null,null,null,null,null,null,null,null,null,null,null,null,null,null,0,"@","@","@","@","@","@","@","@","@","@","@","@","@","@","@","@","@","@","@","@","@","@","@","@","@","@","@","@","@","@","@",{"$f":"'Month 11'!BL81","v":"@"},{"$f":"'Month 11'!BK81","v":"@"},{"$f":"'Month 11'!BJ81","v":"@"},{"$f":"'Month 11'!BI81","v":"@"},{"$error":"#N/A"},{"$error":"#N/A"},{"$error":"#N/A"},{"$error":"#N/A"},{"$f":"IF(ISNUMBER(SUM(COUNTIF(INDIRECT(CR81):INDIRECT(CS81),2),COUNTIF(INDIRECT(CR81):INDIRECT(CS81),1),COUNTIF(INDIRECT(CR81):INDIRECT(CS81),0))),SUM(COUNTIF(INDIRECT(CR81):INDIRECT(CS81),2),COUNTIF(INDIRECT(CR81):INDIRECT(CS81),1),COUNTIF(INDIRECT(CR81):INDIRECT(CS81),0)),\"\")","v":""},{"$f":"IF(ISNUMBER(SUM(COUNTIF(INDIRECT(CR81):INDIRECT(CT81),2),COUNTIF(INDIRECT(CR81):INDIRECT(CT81),1),COUNTIF(INDIRECT(CR81):INDIRECT(CT81),0))),SUM(COUNTIF(INDIRECT(CR81):INDIRECT(CT81),2),COUNTIF(INDIRECT(CR81):INDIRECT(CT81),1),COUNTIF(INDIRECT(CR81):INDIRECT(CT81),0)),\"\")","v":""},{"$f":"IF(ISNUMBER(SUM(COUNTIF(INDIRECT(CR81):INDIRECT(CU81),1),COUNTIF(INDIRECT(CR81):INDIRECT(CU81),0))),SUM(COUNTIF(INDIRECT(CR81):INDIRECT(CU81),1),COUNTIF(INDIRECT(CR81):INDIRECT(CU81),0)),\"\")","v":""},{"$f":"SUM(INDIRECT(CR81):INDIRECT(CS81))","v":{"$error":"#N/A"}},{"$f":"SUM(INDIRECT(CR81):INDIRECT(CT81))","v":{"$error":"#N/A"}},{"$f":"SUM(INDIRECT(CR81):INDIRECT(CU81))","v":{"$error":"#N/A"}}]
[null,null,null,null,null,null,null,null,null,null,null,null,null,null,null,null,null,null,null,null,null,null,null,null,null,null,null,null,null,null,null,null,null,null,null,null,null,null,null,null,null,null,null,null,null,null,null,null,null,null,null,null,null,null,null,null,null,null,null,0,"@","@","@","@","@","@","@","@","@","@","@","@","@","@","@","@","@","@","@","@","@","@","@","@","@","@","@","@","@","@","@",{"$f":"'Month 11'!BL82","v":"@"},{"$f":"'Month 11'!BK82","v":"@"},{"$f":"'Month 11'!BJ82","v":"@"},{"$f":"'Month 11'!BI82","v":"@"},{"$error":"#N/A"},{"$error":"#N/A"},{"$error":"#N/A"},{"$error":"#N/A"},{"$f":"IF(ISNUMBER(SUM(COUNTIF(INDIRECT(CR82):INDIRECT(CS82),2),COUNTIF(INDIRECT(CR82):INDIRECT(CS82),1),COUNTIF(INDIRECT(CR82):INDIRECT(CS82),0))),SUM(COUNTIF(INDIRECT(CR82):INDIRECT(CS82),2),COUNTIF(INDIRECT(CR82):INDIRECT(CS82),1),COUNTIF(INDIRECT(CR82):INDIRECT(CS82),0)),\"\")","v":""},{"$f":"IF(ISNUMBER(SUM(COUNTIF(INDIRECT(CR82):INDIRECT(CT82),2),COUNTIF(INDIRECT(CR82):INDIRECT(CT82),1),COUNTIF(INDIRECT(CR82):INDIRECT(CT82),0))),SUM(COUNTIF(INDIRECT(CR82):INDIRECT(CT82),2),COUNTIF(INDIRECT(CR82):INDIRECT(CT82),1),COUNTIF(INDIRECT(CR82):INDIRECT(CT82),0)),\"\")","v":""},{"$f":"IF(ISNUMBER(SUM(COUNTIF(INDIRECT(CR82):INDIRECT(CU82),1),COUNTIF(INDIRECT(CR82):INDIRECT(CU82),0))),SUM(COUNTIF(INDIRECT(CR82):INDIRECT(CU82),1),COUNTIF(INDIRECT(CR82):INDIRECT(CU82),0)),\"\")","v":""},{"$f":"SUM(INDIRECT(CR82):INDIRECT(CS82))","v":{"$error":"#N/A"}},{"$f":"SUM(INDIRECT(CR82):INDIRECT(CT82))","v":{"$error":"#N/A"}},{"$f":"SUM(INDIRECT(CR82):INDIRECT(CU82))","v":{"$error":"#N/A"}}]
[null,null,null,null,null,null,null,null,null,null,null,null,null,null,null,null,null,null,null,null,null,null,null,null,null,null,null,null,null,null,null,null,null,null,null,null,null,null,null,null,null,null,null,null,null,null,null,null,null,null,null,null,null,null,null,null,null,null,null,0,"@","@","@","@","@","@","@","@","@","@","@","@","@","@","@","@","@","@","@","@","@","@","@","@","@","@","@","@","@","@","@",{"$f":"'Month 11'!BL83","v":"@"},{"$f":"'Month 11'!BK83","v":"@"},{"$f":"'Month 11'!BJ83","v":"@"},{"$f":"'Month 11'!BI83","v":"@"},{"$error":"#N/A"},{"$error":"#N/A"},{"$error":"#N/A"},{"$error":"#N/A"},{"$f":"IF(ISNUMBER(SUM(COUNTIF(INDIRECT(CR83):INDIRECT(CS83),2),COUNTIF(INDIRECT(CR83):INDIRECT(CS83),1),COUNTIF(INDIRECT(CR83):INDIRECT(CS83),0))),SUM(COUNTIF(INDIRECT(CR83):INDIRECT(CS83),2),COUNTIF(INDIRECT(CR83):INDIRECT(CS83),1),COUNTIF(INDIRECT(CR83):INDIRECT(CS83),0)),\"\")","v":""},{"$f":"IF(ISNUMBER(SUM(COUNTIF(INDIRECT(CR83):INDIRECT(CT83),2),COUNTIF(INDIRECT(CR83):INDIRECT(CT83),1),COUNTIF(INDIRECT(CR83):INDIRECT(CT83),0))),SUM(COUNTIF(INDIRECT(CR83):INDIRECT(CT83),2),COUNTIF(INDIRECT(CR83):INDIRECT(CT83),1),COUNTIF(INDIRECT(CR83):INDIRECT(CT83),0)),\"\")","v":""},{"$f":"IF(ISNUMBER(SUM(COUNTIF(INDIRECT(CR83):INDIRECT(CU83),1),COUNTIF(INDIRECT(CR83):INDIRECT(CU83),0))),SUM(COUNTIF(INDIRECT(CR83):INDIRECT(CU83),1),COUNTIF(INDIRECT(CR83):INDIRECT(CU83),0)),\"\")","v":""},{"$f":"SUM(INDIRECT(CR83):INDIRECT(CS83))","v":{"$error":"#N/A"}},{"$f":"SUM(INDIRECT(CR83):INDIRECT(CT83))","v":{"$error":"#N/A"}},{"$f":"SUM(INDIRECT(CR83):INDIRECT(CU83))","v":{"$error":"#N/A"}}]
[null,null,null,null,null,null,null,null,null,null,null,null,null,null,null,null,null,null,null,null,null,null,null,null,null,null,null,null,null,null,null,null,null,null,null,null,null,null,null,null,null,null,null,null,null,null,null,null,null,null,null,null,null,null,null,null,null,null,null,0,"@","@","@","@","@","@","@","@","@","@","@","@","@","@","@","@","@","@","@","@","@","@","@","@","@","@","@","@","@","@","@",{"$f":"'Month 11'!BL84","v":"@"},{"$f":"'Month 11'!BK84","v":"@"},{"$f":"'Month 11'!BJ84","v":"@"},{"$f":"'Month 11'!BI84","v":"@"},{"$error":"#N/A"},{"$error":"#N/A"},{"$error":"#N/A"},{"$error":"#N/A"},{"$f":"IF(ISNUMBER(SUM(COUNTIF(INDIRECT(CR84):INDIRECT(CS84),2),COUNTIF(INDIRECT(CR84):INDIRECT(CS84),1),COUNTIF(INDIRECT(CR84):INDIRECT(CS84),0))),SUM(COUNTIF(INDIRECT(CR84):INDIRECT(CS84),2),COUNTIF(INDIRECT(CR84):INDIRECT(CS84),1),COUNTIF(INDIRECT(CR84):INDIRECT(CS84),0)),\"\")","v":""},{"$f":"IF(ISNUMBER(SUM(COUNTIF(INDIRECT(CR84):INDIRECT(CT84),2),COUNTIF(INDIRECT(CR84):INDIRECT(CT84),1),COUNTIF(INDIRECT(CR84):INDIRECT(CT84),0))),SUM(COUNTIF(INDIRECT(CR84):INDIRECT(CT84),2),COUNTIF(INDIRECT(CR84):INDIRECT(CT84),1),COUNTIF(INDIRECT(CR84):INDIRECT(CT84),0)),\"\")","v":""},{"$f":"IF(ISNUMBER(SUM(COUNTIF(INDIRECT(CR84):INDIRECT(CU84),1),COUNTIF(INDIRECT(CR84):INDIRECT(CU84),0))),SUM(COUNTIF(INDIRECT(CR84):INDIRECT(CU84),1),COUNTIF(INDIRECT(CR84):INDIRECT(CU84),0)),\"\")","v":""},{"$f":"SUM(INDIRECT(CR84):INDIRECT(CS84))","v":{"$error":"#N/A"}},{"$f":"SUM(INDIRECT(CR84):INDIRECT(CT84))","v":{"$error":"#N/A"}},{"$f":"SUM(INDIRECT(CR84):INDIRECT(CU84))","v":{"$error":"#N/A"}}]
[null,null,null,null,null,null,null,null,null,null,null,null,null,null,null,null,null,null,null,null,null,null,null,null,null,null,null,null,null,null,null,null,null,null,null,null,null,null,null,null,null,null,null,null,null,null,null,null,null,null,null,null,null,null,null,null,null,null,null,0,"@","@","@","@","@","@","@","@","@","@","@","@","@","@","@","@","@","@","@","@","@","@","@","@","@","@","@","@","@","@","@",{"$f":"'Month 11'!BL85","v":"@"},{"$f":"'Month 11'!BK85","v":"@"},{"$f":"'Month 11'!BJ85","v":"@"},{"$f":"'Month 11'!BI85","v":"@"},{"$error":"#N/A"},{"$error":"#N/A"},{"$error":"#N/A"},{"$error":"#N/A"},{"$f":"IF(ISNUMBER(SUM(COUNTIF(INDIRECT(CR85):INDIRECT(CS85),2),COUNTIF(INDIRECT(CR85):INDIRECT(CS85),1),COUNTIF(INDIRECT(CR85):INDIRECT(CS85),0))),SUM(COUNTIF(INDIRECT(CR85):INDIRECT(CS85),2),COUNTIF(INDIRECT(CR85):INDIRECT(CS85),1),COUNTIF(INDIRECT(CR85):INDIRECT(CS85),0)),\"\")","v":""},{"$f":"IF(ISNUMBER(SUM(COUNTIF(INDIRECT(CR85):INDIRECT(CT85),2),COUNTIF(INDIRECT(CR85):INDIRECT(CT85),1),COUNTIF(INDIRECT(CR85):INDIRECT(CT85),0))),SUM(COUNTIF(INDIRECT(CR85):INDIRECT(CT85),2),COUNTIF(INDIRECT(CR85):INDIRECT(CT85),1),COUNTIF(INDIRECT(CR85):INDIRECT(CT85),0)),\"\")","v":""},{"$f":"IF(ISNUMBER(SUM(COUNTIF(INDIRECT(CR85):INDIRECT(CU85),1),COUNTIF(INDIRECT(CR85):INDIRECT(CU85),0))),SUM(COUNTIF(INDIRECT(CR85):INDIRECT(CU85),1),COUNTIF(INDIRECT(CR85):INDIRECT(CU85),0)),\"\")","v":""},{"$f":"SUM(INDIRECT(CR85):INDIRECT(CS85))","v":{"$error":"#N/A"}},{"$f":"SUM(INDIRECT(CR85):INDIRECT(CT85))","v":{"$error":"#N/A"}},{"$f":"SUM(INDIRECT(CR85):INDIRECT(CU85))","v":{"$error":"#N/A"}}]
[null,null,null,null,null,null,null,null,null,null,null,null,null,null,null,null,null,null,null,null,null,null,null,null,null,null,null,null,null,null,null,null,null,null,null,null,null,null,null,null,null,null,null,null,null,null,null,null,null,null,null,null,null,null,null,null,null,null,null,0,"@","@","@","@","@","@","@","@","@","@","@","@","@","@","@","@","@","@","@","@","@","@","@","@","@","@","@","@","@","@","@",{"$f":"'Month 11'!BL86","v":"@"},{"$f":"'Month 11'!BK86","v":"@"},{"$f":"'Month 11'!BJ86","v":"@"},{"$f":"'Month 11'!BI86","v":"@"},{"$error":"#N/A"},{"$error":"#N/A"},{"$error":"#N/A"},{"$error":"#N/A"},{"$f":"IF(ISNUMBER(SUM(COUNTIF(INDIRECT(CR86):INDIRECT(CS86),2),COUNTIF(INDIRECT(CR86):INDIRECT(CS86),1),COUNTIF(INDIRECT(CR86):INDIRECT(CS86),0))),SUM(COUNTIF(INDIRECT(CR86):INDIRECT(CS86),2),COUNTIF(INDIRECT(CR86):INDIRECT(CS86),1),COUNTIF(INDIRECT(CR86):INDIRECT(CS86),0)),\"\")","v":""},{"$f":"IF(ISNUMBER(SUM(COUNTIF(INDIRECT(CR86):INDIRECT(CT86),2),COUNTIF(INDIRECT(CR86):INDIRECT(CT86),1),COUNTIF(INDIRECT(CR86):INDIRECT(CT86),0))),SUM(COUNTIF(INDIRECT(CR86):INDIRECT(CT86),2),COUNTIF(INDIRECT(CR86):INDIRECT(CT86),1),COUNTIF(INDIRECT(CR86):INDIRECT(CT86),0)),\"\")","v":""},{"$f":"IF(ISNUMBER(SUM(COUNTIF(INDIRECT(CR86):INDIRECT(CU86),1),COUNTIF(INDIRECT(CR86):INDIRECT(CU86),0))),SUM(COUNTIF(INDIRECT(CR86):INDIRECT(CU86),1),COUNTIF(INDIRECT(CR86):INDIRECT(CU86),0)),\"\")","v":""},{"$f":"SUM(INDIRECT(CR86):INDIRECT(CS86))","v":{"$error":"#N/A"}},{"$f":"SUM(INDIRECT(CR86):INDIRECT(CT86))","v":{"$error":"#N/A"}},{"$f":"SUM(INDIRECT(CR86):INDIRECT(CU86))","v":{"$error":"#N/A"}}]
[null,null,null,null,null,null,null,null,null,null,null,null,null,null,null,null,null,null,null,null,null,null,null,null,null,null,null,null,null,null,null,null,null,null,null,null,null,null,null,null,null,null,null,null,null,null,null,null,null,null,null,null,null,null,null,null,null,null,null,0,{"$f":"IF(OR(AK59=\"+\",AK59=\"Y\",AK59=2),1,IF(OR(AK59=\"-\",AK59=\"N\",AK59=1),0,IF(OR(BJ87=1,BJ87=0),\"#\",\"@\")))","v":"@"},{"$f":"IF(OR(AJ59=\"+\",AJ59=\"Y\",AJ59=2),1,IF(OR(AJ59=\"-\",AJ59=\"N\",AJ59=1),0,IF(OR(BK87=1,BK87=0),\"#\",\"@\")))","v":"@"},{"$f":"IF(OR(AI59=\"+\",AI59=\"Y\",AI59=2),1,IF(OR(AI59=\"-\",AI59=\"N\",AI59=1),0,IF(OR(BL87=1,BL87=0),\"#\",\"@\")))","v":"@"},{"$f":"IF(OR(AH59=\"+\",AH59=\"Y\",AH59=2),1,IF(OR(AH59=\"-\",AH59=\"N\",AH59=1),0,IF(OR(BM87=1,BM87=0),\"#\",\"@\")))","v":"@"},{"$f":"IF(OR(AG59=\"+\",AG59=\"Y\",AG59=2),1,IF(OR(AG59=\"-\",AG59=\"N\",AG59=1),0,IF(OR(BN87=1,BN87=0),\"#\",\"@\")))","v":"@"},{"$f":"IF(OR(AF59=\"+\",AF59=\"Y\",AF59=2),1,IF(OR(AF59=\"-\",AF59=\"N\",AF59=1),0,IF(OR(BO87=1,BO87=0),\"#\",\"@\")))","v":"@"},{"$f":"IF(OR(AE59=\"+\",AE59=\"Y\",AE59=2),1,IF(OR(AE59=\"-\",AE59=\"N\",AE59=1),0,IF(OR(BP87=1,BP87=0),\"#\",\"@\")))","v":"@"},{"$f":"IF(OR(AD59=\"+\",AD59=\"Y\",AD59=2),1,IF(OR(AD59=\"-\",AD59=\"N\",AD59=1),0,IF(OR(BQ87=1,BQ87=0),\"#\",\"@\")))","v":"@"},{"$f":"IF(OR(AC59=\"+\",AC59=\"Y\",AC59=2),1,IF(OR(AC59=\"-\",AC59=\"N\",AC59=1),0,IF(OR(BR87=1,BR87=0),\"#\",\"@\")))","v":"@"},{"$f":"IF(OR(AB59=\"+\",AB59=\"Y\",AB59=2),1,IF(OR(AB59=\"-\",AB59=\"N\",AB59=1),0,IF(OR(BS87=1,BS87=0),\"#\",\"@\")))","v":"@"},{"$f":"IF(OR(AA59=\"+\",AA59=\"Y\",AA59=2),1,IF(OR(AA59=\"-\",AA59=\"N\",AA59=1),0,IF(OR(BT87=1,BT87=0),\"#\",\"@\")))","v":"@"},{"$f":"IF(OR(Z59=\"+\",Z59=\"Y\",Z59=2),1,IF(OR(Z59=\"-\",Z59=\"N\",Z59=1),0,IF(OR(BU87=1,BU87=0),\"#\",\"@\")))","v":"@"},{"$f":"IF(OR(Y59=\"+\",Y59=\"Y\",Y59=2),1,IF(OR(Y59=\"-\",Y59=\"N\",Y59=1),0,IF(OR(BV87=1,BV87=0),\"#\",\"@\")))","v":"@"},{"$f":"IF(OR(X59=\"+\",X59=\"Y\",X59=2),1,IF(OR(X59=\"-\",X59=\"N\",X59=1),0,IF(OR(BW87=1,BW87=0),\"#\",\"@\")))","v":"@"},{"$f":"IF(OR(W59=\"+\",W59=\"Y\",W59=2),1,IF(OR(W59=\"-\",W59=\"N\",W59=1),0,IF(OR(BX87=1,BX87=0),\"#\",\"@\")))","v":"@"},{"$f":"IF(OR(V59=\"+\",V59=\"Y\",V59=2),1,IF(OR(V59=\"-\",V59=\"N\",V59=1),0,IF(OR(BY87=1,BY87=0),\"#\",\"@\")))","v":"@"},{"$f":"IF(OR(U59=\"+\",U59=\"Y\",U59=2),1,IF(OR(U59=\"-\",U59=\"N\",U59=1),0,IF(OR(BZ87=1,BZ87=0),\"#\",\"@\")))","v":"@"},{"$f":"IF(OR(T59=\"+\",T59=\"Y\",T59=2),1,IF(OR(T59=\"-\",T59=\"N\",T59=1),0,IF(OR(CA87=1,CA87=0),\"#\",\"@\")))","v":"@"},{"$f":"IF(OR(S59=\"+\",S59=\"Y\",S59=2),1,IF(OR(S59=\"-\",S59=\"N\",S59=1),0,IF(OR(CB87=1,CB87=0),\"#\",\"@\")))","v":"@"},{"$f":"IF(OR(R59=\"+\",R59=\"Y\",R59=2),1,IF(OR(R59=\"-\",R59=\"N\",R59=1),0,IF(OR(CC87=1,CC87=0),\"#\",\"@\")))","v":"@"},{"$f":"IF(OR(Q59=\"+\",Q59=\"Y\",Q59=2),1,IF(OR(Q59=\"-\",Q59=\"N\",Q59=1),0,IF(OR(CD87=1,CD87=0),\"#\",\"@\")))","v":"@"},{"$f":"IF(OR(P59=\"+\",P59=\"Y\",P59=2),1,IF(OR(P59=\"-\",P59=\"N\",P59=1),0,IF(OR(CE87=1,CE87=0),\"#\",\"@\")))","v":"@"},{"$f":"IF(OR(O59=\"+\",O59=\"Y\",O59=2),1,IF(OR(O59=\"-\",O59=\"N\",O59=1),0,IF(OR(CF87=1,CF87=0),\"#\",\"@\")))","v":"@"},{"$f":"IF(OR(N59=\"+\",N59=\"Y\",N59=2),1,IF(OR(N59=\"-\",N59=\"N\",N59=1),0,IF(OR(CG87=1,CG87=0),\"#\",\"@\")))","v":"@"},{"$f":"IF(OR(M59=\"+\",M59=\"Y\",M59=2),1,IF(OR(M59=\"-\",M59=\"N\",M59=1),0,IF(OR(CH87=1,CH87=0),\"#\",\"@\")))","v":"@"},{"$f":"IF(OR(L59=\"+\",L59=\"Y\",L59=2),1,IF(OR(L59=\"-\",L59=\"N\",L59=1),0,IF(OR(CI87=1,CI87=0),\"#\",\"@\")))","v":"@"},{"$f":"IF(OR(K59=\"+\",K59=\"Y\",K59=2),1,IF(OR(K59=\"-\",K59=\"N\",K59=1),0,IF(OR(CJ87=1,CJ87=0),\"#\",\"@\")))","v":"@"},{"$f":"IF(OR(J59=\"+\",J59=\"Y\",J59=2),1,IF(OR(J59=\"-\",J59=\"N\",J59=1),0,IF(OR(CK87=1,CK87=0),\"#\",\"@\")))","v":"@"},{"$f":"IF(OR(I59=\"+\",I59=\"Y\",I59=2),1,IF(OR(I59=\"-\",I59=\"N\",I59=1),0,IF(OR(CL87=1,CL87=0),\"#\",\"@\")))","v":"@"},{"$f":"IF(OR(H59=\"+\",H59=\"Y\",H59=2),1,IF(OR(H59=\"-\",H59=\"N\",H59=1),0,IF(OR(CM87=1,CM87=0),\"#\",\"@\")))","v":"@"},{"$f":"IF(OR(G59=\"+\",G59=\"Y\",G59=2),1,IF(OR(G59=\"-\",G59=\"N\",G59=1),0,\"@\"))","v":"@"},{"$f":"'Month 11'!BL87","v":"@"},{"$f":"'Month 11'!BK87","v":"@"},{"$f":"'Month 11'!BJ87","v":"@"},{"$f":"'Month 11'!BI87","v":"@"},{"$f":"ADDRESS(ROW(BH87),(MATCH(\"#\",BI87:CM87,0)+61))","v":{"$error":"#N/A"}},{"$f":"ADDRESS(ROW(BH87),(MATCH(\"#\",BI87:CM87,0)+65))","v":{"$error":"#N/A"}},{"$f":"ADDRESS(ROW(BH87),(MATCH(\"#\",BI87:CM87,0)+64))","v":{"$error":"#N/A"}},{"$f":"ADDRESS(ROW(BH87),(MATCH(\"#\",BI87:CM87,0)+63))","v":{"$error":"#N/A"}},{"$f":"IF(ISNUMBER(SUM(COUNTIF(INDIRECT(CR87):INDIRECT(CS87),2),COUNTIF(INDIRECT(CR87):INDIRECT(CS87),1),COUNTIF(INDIRECT(CR87):INDIRECT(CS87),0))),SUM(COUNTIF(INDIRECT(CR87):INDIRECT(CS87),2),COUNTIF(INDIRECT(CR87):INDIRECT(CS87),1),COUNTIF(INDIRECT(CR87):INDIRECT(CS87),0)),\"\")","v":""},{"$f":"IF(ISNUMBER(SUM(COUNTIF(INDIRECT(CR87):INDIRECT(CT87),2),COUNTIF(INDIRECT(CR87):INDIRECT(CT87),1),COUNTIF(INDIRECT(CR87):INDIRECT(CT87),0))),SUM(COUNTIF(INDIRECT(CR87):INDIRECT(CT87),2),COUNTIF(INDIRECT(CR87):INDIRECT(CT87),1),COUNTIF(INDIRECT(CR87):INDIRECT(CT87),0)),\"\")","v":""},{"$f":"IF(ISNUMBER(SUM(COUNTIF(INDIRECT(CR87):INDIRECT(CU87),1),COUNTIF(INDIRECT(CR87):INDIRECT(CU87),0))),SUM(COUNTIF(INDIRECT(CR87):INDIRECT(CU87),1),COUNTIF(INDIRECT(CR87):INDIRECT(CU87),0)),\"\")","v":""},{"$f":"SUM(INDIRECT(CR87):INDIRECT(CS87))","v":{"$error":"#N/A"}},{"$f":"SUM(INDIRECT(CR87):INDIRECT(CT87))","v":{"$error":"#N/A"}},{"$f":"SUM(INDIRECT(CR87):INDIRECT(CU87))","v":{"$error":"#N/A"}}]
[null,null,null,null,null,null,null,null,null,null,null,null,null,null,null,null,null,null,null,null,null,null,null,null,null,null,null,null,null,null,null,null,null,null,null,null,null,null,null,null,null,null,null,null,null,null,null,null,null,null,null,null,null,null,null,null,null,null,null,0,"@","@","@","@","@","@","@","@","@","@","@","@","@","@","@","@","@","@","@","@","@","@","@","@","@","@","@","@","@","@","@",{"$f":"'Month 11'!BL88","v":"@"},{"$f":"'Month 11'!BK88","v":"@"},{"$f":"'Month 11'!BJ88","v":"@"},{"$f":"'Month 11'!BI88","v":"@"},{"$error":"#N/A"},{"$error":"#N/A"},{"$error":"#N/A"},{"$error":"#N/A"},{"$f":"IF(ISNUMBER(SUM(COUNTIF(INDIRECT(CR88):INDIRECT(CS88),2),COUNTIF(INDIRECT(CR88):INDIRECT(CS88),1),COUNTIF(INDIRECT(CR88):INDIRECT(CS88),0))),SUM(COUNTIF(INDIRECT(CR88):INDIRECT(CS88),2),COUNTIF(INDIRECT(CR88):INDIRECT(CS88),1),COUNTIF(INDIRECT(CR88):INDIRECT(CS88),0)),\"\")","v":""},{"$f":"IF(ISNUMBER(SUM(COUNTIF(INDIRECT(CR88):INDIRECT(CT88),2),COUNTIF(INDIRECT(CR88):INDIRECT(CT88),1),COUNTIF(INDIRECT(CR88):INDIRECT(CT88),0))),SUM(COUNTIF(INDIRECT(CR88):INDIRECT(CT88),2),COUNTIF(INDIRECT(CR88):INDIRECT(CT88),1),COUNTIF(INDIRECT(CR88):INDIRECT(CT88),0)),\"\")","v":""},{"$f":"IF(ISNUMBER(SUM(COUNTIF(INDIRECT(CR88):INDIRECT(CU88),1),COUNTIF(INDIRECT(CR88):INDIRECT(CU88),0))),SUM(COUNTIF(INDIRECT(CR88):INDIRECT(CU88),1),COUNTIF(INDIRECT(CR88):INDIRECT(CU88),0)),\"\")","v":""},{"$f":"SUM(INDIRECT(CR88):INDIRECT(CS88))","v":{"$error":"#N/A"}},{"$f":"SUM(INDIRECT(CR88):INDIRECT(CT88))","v":{"$error":"#N/A"}},{"$f":"SUM(INDIRECT(CR88):INDIRECT(CU88))","v":{"$error":"#N/A"}}]
[null,null,null,null,null,null,null,null,null,null,null,null,null,null,null,null,null,null,null,null,null,null,null,null,null,null,null,null,null,null,null,null,null,null,null,null,null,null,null,null,null,null,null,null,null,null,null,null,null,null,null,null,null,null,null,null,null,null,null,0,"@","@","@","@","@","@","@","@","@","@","@","@","@","@","@","@","@","@","@","@","@","@","@","@","@","@","@","@","@","@","@",{"$f":"'Month 11'!BL89","v":"@"},{"$f":"'Month 11'!BK89","v":"@"},{"$f":"'Month 11'!BJ89","v":"@"},{"$f":"'Month 11'!BI89","v":"@"},{"$error":"#N/A"},{"$error":"#N/A"},{"$error":"#N/A"},{"$error":"#N/A"},{"$f":"IF(ISNUMBER(SUM(COUNTIF(INDIRECT(CR89):INDIRECT(CS89),2),COUNTIF(INDIRECT(CR89):INDIRECT(CS89),1),COUNTIF(INDIRECT(CR89):INDIRECT(CS89),0))),SUM(COUNTIF(INDIRECT(CR89):INDIRECT(CS89),2),COUNTIF(INDIRECT(CR89):INDIRECT(CS89),1),COUNTIF(INDIRECT(CR89):INDIRECT(CS89),0)),\"\")","v":""},{"$f":"IF(ISNUMBER(SUM(COUNTIF(INDIRECT(CR89):INDIRECT(CT89),2),COUNTIF(INDIRECT(CR89):INDIRECT(CT89),1),COUNTIF(INDIRECT(CR89):INDIRECT(CT89),0))),SUM(COUNTIF(INDIRECT(CR89):INDIRECT(CT89),2),COUNTIF(INDIRECT(CR89):INDIRECT(CT89),1),COUNTIF(INDIRECT(CR89):INDIRECT(CT89),0)),\"\")","v":""},{"$f":"IF(ISNUMBER(SUM(COUNTIF(INDIRECT(CR89):INDIRECT(CU89),1),COUNTIF(INDIRECT(CR89):INDIRECT(CU89),0))),SUM(COUNTIF(INDIRECT(CR89):INDIRECT(CU89),1),COUNTIF(INDIRECT(CR89):INDIRECT(CU89),0)),\"\")","v":""},{"$f":"SUM(INDIRECT(CR89):INDIRECT(CS89))","v":{"$error":"#N/A"}},{"$f":"SUM(INDIRECT(CR89):INDIRECT(CT89))","v":{"$error":"#N/A"}},{"$f":"SUM(INDIRECT(CR89):INDIRECT(CU89))","v":{"$error":"#N/A"}}]
[null,null,null,null,null,null,null,null,null,null,null,null,null,null,null,null,null,null,null,null,null,null,null,null,null,null,null,null,null,null,null,null,null,null,null,null,null,null,null,null,null,null,null,null,null,null,null,null,null,null,null,null,null,null,null,null,null,null,null,0,"@","@","@","@","@","@","@","@","@","@","@","@","@","@","@","@","@","@","@","@","@","@","@","@","@","@","@","@","@","@","@",{"$f":"'Month 11'!BL90","v":"@"},{"$f":"'Month 11'!BK90","v":"@"},{"$f":"'Month 11'!BJ90","v":"@"},{"$f":"'Month 11'!BI90","v":"@"},{"$error":"#N/A"},{"$error":"#N/A"},{"$error":"#N/A"},{"$error":"#N/A"},{"$f":"IF(ISNUMBER(SUM(COUNTIF(INDIRECT(CR90):INDIRECT(CS90),2),COUNTIF(INDIRECT(CR90):INDIRECT(CS90),1),COUNTIF(INDIRECT(CR90):INDIRECT(CS90),0))),SUM(COUNTIF(INDIRECT(CR90):INDIRECT(CS90),2),COUNTIF(INDIRECT(CR90):INDIRECT(CS90),1),COUNTIF(INDIRECT(CR90):INDIRECT(CS90),0)),\"\")","v":""},{"$f":"IF(ISNUMBER(SUM(COUNTIF(INDIRECT(CR90):INDIRECT(CT90),2),COUNTIF(INDIRECT(CR90):INDIRECT(CT90),1),COUNTIF(INDIRECT(CR90):INDIRECT(CT90),0))),SUM(COUNTIF(INDIRECT(CR90):INDIRECT(CT90),2),COUNTIF(INDIRECT(CR90):INDIRECT(CT90),1),COUNTIF(INDIRECT(CR90):INDIRECT(CT90),0)),\"\")","v":""},{"$f":"IF(ISNUMBER(SUM(COUNTIF(INDIRECT(CR90):INDIRECT(CU90),1),COUNTIF(INDIRECT(CR90):INDIRECT(CU90),0))),SUM(COUNTIF(INDIRECT(CR90):INDIRECT(CU90),1),COUNTIF(INDIRECT(CR90):INDIRECT(CU90),0)),\"\")","v":""},{"$f":"SUM(INDIRECT(CR90):INDIRECT(CS90))","v":{"$error":"#N/A"}},{"$f":"SUM(INDIRECT(CR90):INDIRECT(CT90))","v":{"$error":"#N/A"}},{"$f":"SUM(INDIRECT(CR90):INDIRECT(CU90))","v":{"$error":"#N/A"}}]
[null,null,null,null,null,null,null,null,null,null,null,null,null,null,null,null,null,null,null,null,null,null,null,null,null,null,null,null,null,null,null,null,null,null,null,null,null,null,null,null,null,null,null,null,null,null,null,null,null,null,null,null,null,null,null,null,null,null,null,0,"@","@","@","@","@","@","@","@","@","@","@","@","@","@","@","@","@","@","@","@","@","@","@","@","@","@","@","@","@","@","@",{"$f":"'Month 11'!BL91","v":"@"},{"$f":"'Month 11'!BK91","v":"@"},{"$f":"'Month 11'!BJ91","v":"@"},{"$f":"'Month 11'!BI91","v":"@"},{"$error":"#N/A"},{"$error":"#N/A"},{"$error":"#N/A"},{"$error":"#N/A"},{"$f":"IF(ISNUMBER(SUM(COUNTIF(INDIRECT(CR91):INDIRECT(CS91),2),COUNTIF(INDIRECT(CR91):INDIRECT(CS91),1),COUNTIF(INDIRECT(CR91):INDIRECT(CS91),0))),SUM(COUNTIF(INDIRECT(CR91):INDIRECT(CS91),2),COUNTIF(INDIRECT(CR91):INDIRECT(CS91),1),COUNTIF(INDIRECT(CR91):INDIRECT(CS91),0)),\"\")","v":""},{"$f":"IF(ISNUMBER(SUM(COUNTIF(INDIRECT(CR91):INDIRECT(CT91),2),COUNTIF(INDIRECT(CR91):INDIRECT(CT91),1),COUNTIF(INDIRECT(CR91):INDIRECT(CT91),0))),SUM(COUNTIF(INDIRECT(CR91):INDIRECT(CT91),2),COUNTIF(INDIRECT(CR91):INDIRECT(CT91),1),COUNTIF(INDIRECT(CR91):INDIRECT(CT91),0)),\"\")","v":""},{"$f":"IF(ISNUMBER(SUM(COUNTIF(INDIRECT(CR91):INDIRECT(CU91),1),COUNTIF(INDIRECT(CR91):INDIRECT(CU91),0))),SUM(COUNTIF(INDIRECT(CR91):INDIRECT(CU91),1),COUNTIF(INDIRECT(CR91):INDIRECT(CU91),0)),\"\")","v":""},{"$f":"SUM(INDIRECT(CR91):INDIRECT(CS91))","v":{"$error":"#N/A"}},{"$f":"SUM(INDIRECT(CR91):INDIRECT(CT91))","v":{"$error":"#N/A"}},{"$f":"SUM(INDIRECT(CR91):INDIRECT(CU91))","v":{"$error":"#N/A"}}]
[null,null,null,null,null,null,null,null,null,null,null,null,null,null,null,null,null,null,null,null,null,null,null,null,null,null,null,null,null,null,null,null,null,null,null,null,null,null,null,null,null,null,null,null,null,null,null,null,null,null,null,null,null,null,null,null,null,null,null,0,"@","@","@","@","@","@","@","@","@","@","@","@","@","@","@","@","@","@","@","@","@","@","@","@","@","@","@","@","@","@","@",{"$f":"'Month 11'!BL92","v":"@"},{"$f":"'Month 11'!BK92","v":"@"},{"$f":"'Month 11'!BJ92","v":"@"},{"$f":"'Month 11'!BI92","v":"@"},{"$error":"#N/A"},{"$error":"#N/A"},{"$error":"#N/A"},{"$error":"#N/A"},{"$f":"IF(ISNUMBER(SUM(COUNTIF(INDIRECT(CR92):INDIRECT(CS92),2),COUNTIF(INDIRECT(CR92):INDIRECT(CS92),1),COUNTIF(INDIRECT(CR92):INDIRECT(CS92),0))),SUM(COUNTIF(INDIRECT(CR92):INDIRECT(CS92),2),COUNTIF(INDIRECT(CR92):INDIRECT(CS92),1),COUNTIF(INDIRECT(CR92):INDIRECT(CS92),0)),\"\")","v":""},{"$f":"IF(ISNUMBER(SUM(COUNTIF(INDIRECT(CR92):INDIRECT(CT92),2),COUNTIF(INDIRECT(CR92):INDIRECT(CT92),1),COUNTIF(INDIRECT(CR92):INDIRECT(CT92),0))),SUM(COUNTIF(INDIRECT(CR92):INDIRECT(CT92),2),COUNTIF(INDIRECT(CR92):INDIRECT(CT92),1),COUNTIF(INDIRECT(CR92):INDIRECT(CT92),0)),\"\")","v":""},{"$f":"IF(ISNUMBER(SUM(COUNTIF(INDIRECT(CR92):INDIRECT(CU92),1),COUNTIF(INDIRECT(CR92):INDIRECT(CU92),0))),SUM(COUNTIF(INDIRECT(CR92):INDIRECT(CU92),1),COUNTIF(INDIRECT(CR92):INDIRECT(CU92),0)),\"\")","v":""},{"$f":"SUM(INDIRECT(CR92):INDIRECT(CS92))","v":{"$error":"#N/A"}},{"$f":"SUM(INDIRECT(CR92):INDIRECT(CT92))","v":{"$error":"#N/A"}},{"$f":"SUM(INDIRECT(CR92):INDIRECT(CU92))","v":{"$error":"#N/A"}}]
[null,null,null,null,null,null,null,null,null,null,null,null,null,null,null,null,null,null,null,null,null,null,null,null,null,null,null,null,null,null,null,null,null,null,null,null,null,null,null,null,null,null,null,null,null,null,null,null,null,null,null,null,null,null,null,null,null,null,null,0,"@","@","@","@","@","@","@","@","@","@","@","@","@","@","@","@","@","@","@","@","@","@","@","@","@","@","@","@","@","@","@",{"$f":"'Month 11'!BL93","v":"@"},{"$f":"'Month 11'!BK93","v":"@"},{"$f":"'Month 11'!BJ93","v":"@"},{"$f":"'Month 11'!BI93","v":"@"},{"$error":"#N/A"},{"$error":"#N/A"},{"$error":"#N/A"},{"$error":"#N/A"},{"$f":"IF(ISNUMBER(SUM(COUNTIF(INDIRECT(CR93):INDIRECT(CS93),2),COUNTIF(INDIRECT(CR93):INDIRECT(CS93),1),COUNTIF(INDIRECT(CR93):INDIRECT(CS93),0))),SUM(COUNTIF(INDIRECT(CR93):INDIRECT(CS93),2),COUNTIF(INDIRECT(CR93):INDIRECT(CS93),1),COUNTIF(INDIRECT(CR93):INDIRECT(CS93),0)),\"\")","v":""},{"$f":"IF(ISNUMBER(SUM(COUNTIF(INDIRECT(CR93):INDIRECT(CT93),2),COUNTIF(INDIRECT(CR93):INDIRECT(CT93),1),COUNTIF(INDIRECT(CR93):INDIRECT(CT93),0))),SUM(COUNTIF(INDIRECT(CR93):INDIRECT(CT93),2),COUNTIF(INDIRECT(CR93):INDIRECT(CT93),1),COUNTIF(INDIRECT(CR93):INDIRECT(CT93),0)),\"\")","v":""},{"$f":"IF(ISNUMBER(SUM(COUNTIF(INDIRECT(CR93):INDIRECT(CU93),1),COUNTIF(INDIRECT(CR93):INDIRECT(CU93),0))),SUM(COUNTIF(INDIRECT(CR93):INDIRECT(CU93),1),COUNTIF(INDIRECT(CR93):INDIRECT(CU93),0)),\"\")","v":""},{"$f":"SUM(INDIRECT(CR93):INDIRECT(CS93))","v":{"$error":"#N/A"}},{"$f":"SUM(INDIRECT(CR93):INDIRECT(CT93))","v":{"$error":"#N/A"}},{"$f":"SUM(INDIRECT(CR93):INDIRECT(CU93))","v":{"$error":"#N/A"}}]
[null,null,null,null,null,null,null,null,null,null,null,null,null,null,null,null,null,null,null,null,null,null,null,null,null,null,null,null,null,null,null,null,null,null,null,null,null,null,null,null,null,null,null,null,null,null,null,null,null,null,null,null,null,null,null,null,null,null,null,0,"@","@","@","@","@","@","@","@","@","@","@","@","@","@","@","@","@","@","@","@","@","@","@","@","@","@","@","@","@","@","@",{"$f":"'Month 11'!BL94","v":"@"},{"$f":"'Month 11'!BK94","v":"@"},{"$f":"'Month 11'!BJ94","v":"@"},{"$f":"'Month 11'!BI94","v":"@"},{"$error":"#N/A"},{"$error":"#N/A"},{"$error":"#N/A"},{"$error":"#N/A"},{"$f":"IF(ISNUMBER(SUM(COUNTIF(INDIRECT(CR94):INDIRECT(CS94),2),COUNTIF(INDIRECT(CR94):INDIRECT(CS94),1),COUNTIF(INDIRECT(CR94):INDIRECT(CS94),0))),SUM(COUNTIF(INDIRECT(CR94):INDIRECT(CS94),2),COUNTIF(INDIRECT(CR94):INDIRECT(CS94),1),COUNTIF(INDIRECT(CR94):INDIRECT(CS94),0)),\"\")","v":""},{"$f":"IF(ISNUMBER(SUM(COUNTIF(INDIRECT(CR94):INDIRECT(CT94),2),COUNTIF(INDIRECT(CR94):INDIRECT(CT94),1),COUNTIF(INDIRECT(CR94):INDIRECT(CT94),0))),SUM(COUNTIF(INDIRECT(CR94):INDIRECT(CT94),2),COUNTIF(INDIRECT(CR94):INDIRECT(CT94),1),COUNTIF(INDIRECT(CR94):INDIRECT(CT94),0)),\"\")","v":""},{"$f":"IF(ISNUMBER(SUM(COUNTIF(INDIRECT(CR94):INDIRECT(CU94),1),COUNTIF(INDIRECT(CR94):INDIRECT(CU94),0))),SUM(COUNTIF(INDIRECT(CR94):INDIRECT(CU94),1),COUNTIF(INDIRECT(CR94):INDIRECT(CU94),0)),\"\")","v":""},{"$f":"SUM(INDIRECT(CR94):INDIRECT(CS94))","v":{"$error":"#N/A"}},{"$f":"SUM(INDIRECT(CR94):INDIRECT(CT94))","v":{"$error":"#N/A"}},{"$f":"SUM(INDIRECT(CR94):INDIRECT(CU94))","v":{"$error":"#N/A"}}]
[null,null,null,null,null,null,null,null,null,null,null,null,null,null,null,null,null,null,null,null,null,null,null,null,null,null,null,null,null,null,null,null,null,null,null,null,null,null,null,null,null,null,null,null,null,null,null,null,null,null,null,null,null,null,null,null,null,null,null,0,"@","@","@","@","@","@","@","@","@","@","@","@","@","@","@","@","@","@","@","@","@","@","@","@","@","@","@","@","@","@","@",{"$f":"'Month 11'!BL95","v":"@"},{"$f":"'Month 11'!BK95","v":"@"},{"$f":"'Month 11'!BJ95","v":"@"},{"$f":"'Month 11'!BI95","v":"@"},{"$error":"#N/A"},{"$error":"#N/A"},{"$error":"#N/A"},{"$error":"#N/A"},{"$f":"IF(ISNUMBER(SUM(COUNTIF(INDIRECT(CR95):INDIRECT(CS95),2),COUNTIF(INDIRECT(CR95):INDIRECT(CS95),1),COUNTIF(INDIRECT(CR95):INDIRECT(CS95),0))),SUM(COUNTIF(INDIRECT(CR95):INDIRECT(CS95),2),COUNTIF(INDIRECT(CR95):INDIRECT(CS95),1),COUNTIF(INDIRECT(CR95):INDIRECT(CS95),0)),\"\")","v":""},{"$f":"IF(ISNUMBER(SUM(COUNTIF(INDIRECT(CR95):INDIRECT(CT95),2),COUNTIF(INDIRECT(CR95):INDIRECT(CT95),1),COUNTIF(INDIRECT(CR95):INDIRECT(CT95),0))),SUM(COUNTIF(INDIRECT(CR95):INDIRECT(CT95),2),COUNTIF(INDIRECT(CR95):INDIRECT(CT95),1),COUNTIF(INDIRECT(CR95):INDIRECT(CT95),0)),\"\")","v":""},{"$f":"IF(ISNUMBER(SUM(COUNTIF(INDIRECT(CR95):INDIRECT(CU95),1),COUNTIF(INDIRECT(CR95):INDIRECT(CU95),0))),SUM(COUNTIF(INDIRECT(CR95):INDIRECT(CU95),1),COUNTIF(INDIRECT(CR95):INDIRECT(CU95),0)),\"\")","v":""},{"$f":"SUM(INDIRECT(CR95):INDIRECT(CS95))","v":{"$error":"#N/A"}},{"$f":"SUM(INDIRECT(CR95):INDIRECT(CT95))","v":{"$error":"#N/A"}},{"$f":"SUM(INDIRECT(CR95):INDIRECT(CU95))","v":{"$error":"#N/A"}}]
[null,null,null,null,null,null,null,null,null,null,null,null,null,null,null,null,null,null,null,null,null,null,null,null,null,null,null,null,null,null,null,null,null,null,null,null,null,null,null,null,null,null,null,null,null,null,null,null,null,null,null,null,null,null,null,null,null,null,null,0,"@","@","@","@","@","@","@","@","@","@","@","@","@","@","@","@","@","@","@","@","@","@","@","@","@","@","@","@","@","@","@",{"$f":"'Month 11'!BL96","v":"@"},{"$f":"'Month 11'!BK96","v":"@"},{"$f":"'Month 11'!BJ96","v":"@"},{"$f":"'Month 11'!BI96","v":"@"},{"$error":"#N/A"},{"$error":"#N/A"},{"$error":"#N/A"},{"$error":"#N/A"},{"$f":"IF(ISNUMBER(SUM(COUNTIF(INDIRECT(CR96):INDIRECT(CS96),2),COUNTIF(INDIRECT(CR96):INDIRECT(CS96),1),COUNTIF(INDIRECT(CR96):INDIRECT(CS96),0))),SUM(COUNTIF(INDIRECT(CR96):INDIRECT(CS96),2),COUNTIF(INDIRECT(CR96):INDIRECT(CS96),1),COUNTIF(INDIRECT(CR96):INDIRECT(CS96),0)),\"\")","v":""},{"$f":"IF(ISNUMBER(SUM(COUNTIF(INDIRECT(CR96):INDIRECT(CT96),2),COUNTIF(INDIRECT(CR96):INDIRECT(CT96),1),COUNTIF(INDIRECT(CR96):INDIRECT(CT96),0))),SUM(COUNTIF(INDIRECT(CR96):INDIRECT(CT96),2),COUNTIF(INDIRECT(CR96):INDIRECT(CT96),1),COUNTIF(INDIRECT(CR96):INDIRECT(CT96),0)),\"\")","v":""},{"$f":"IF(ISNUMBER(SUM(COUNTIF(INDIRECT(CR96):INDIRECT(CU96),1),COUNTIF(INDIRECT(CR96):INDIRECT(CU96),0))),SUM(COUNTIF(INDIRECT(CR96):INDIRECT(CU96),1),COUNTIF(INDIRECT(CR96):INDIRECT(CU96),0)),\"\")","v":""},{"$f":"SUM(INDIRECT(CR96):INDIRECT(CS96))","v":{"$error":"#N/A"}},{"$f":"SUM(INDIRECT(CR96):INDIRECT(CT96))","v":{"$error":"#N/A"}},{"$f":"SUM(INDIRECT(CR96):INDIRECT(CU96))","v":{"$error":"#N/A"}}]
[null,null,null,null,null,null,null,null,null,null,null,null,null,null,null,null,null,null,null,null,null,null,null,null,null,null,null,null,null,null,null,null,null,null,null,null,null,null,null,null,null,null,null,null,null,null,null,null,null,null,null,null,null,null,null,null,null,null,null,0,"@","@","@","@","@","@","@","@","@","@","@","@","@","@","@","@","@","@","@","@","@","@","@","@","@","@","@","@","@","@","@",{"$f":"'Month 11'!BL97","v":"@"},{"$f":"'Month 11'!BK97","v":"@"},{"$f":"'Month 11'!BJ97","v":"@"},{"$f":"'Month 11'!BI97","v":"@"},{"$error":"#N/A"},{"$error":"#N/A"},{"$error":"#N/A"},{"$error":"#N/A"},{"$f":"IF(ISNUMBER(SUM(COUNTIF(INDIRECT(CR97):INDIRECT(CS97),2),COUNTIF(INDIRECT(CR97):INDIRECT(CS97),1),COUNTIF(INDIRECT(CR97):INDIRECT(CS97),0))),SUM(COUNTIF(INDIRECT(CR97):INDIRECT(CS97),2),COUNTIF(INDIRECT(CR97):INDIRECT(CS97),1),COUNTIF(INDIRECT(CR97):INDIRECT(CS97),0)),\"\")","v":""},{"$f":"IF(ISNUMBER(SUM(COUNTIF(INDIRECT(CR97):INDIRECT(CT97),2),COUNTIF(INDIRECT(CR97):INDIRECT(CT97),1),COUNTIF(INDIRECT(CR97):INDIRECT(CT97),0))),SUM(COUNTIF(INDIRECT(CR97):INDIRECT(CT97),2),COUNTIF(INDIRECT(CR97):INDIRECT(CT97),1),COUNTIF(INDIRECT(CR97):INDIRECT(CT97),0)),\"\")","v":""},{"$f":"IF(ISNUMBER(SUM(COUNTIF(INDIRECT(CR97):INDIRECT(CU97),1),COUNTIF(INDIRECT(CR97):INDIRECT(CU97),0))),SUM(COUNTIF(INDIRECT(CR97):INDIRECT(CU97),1),COUNTIF(INDIRECT(CR97):INDIRECT(CU97),0)),\"\")","v":""},{"$f":"SUM(INDIRECT(CR97):INDIRECT(CS97))","v":{"$error":"#N/A"}},{"$f":"SUM(INDIRECT(CR97):INDIRECT(CT97))","v":{"$error":"#N/A"}},{"$f":"SUM(INDIRECT(CR97):INDIRECT(CU97))","v":{"$error":"#N/A"}}]
[null,null,null,null,null,null,null,null,null,null,null,null,null,null,null,null,null,null,null,null,null,null,null,null,null,null,null,null,null,null,null,null,null,null,null,null,null,null,null,null,null,null,null,null,null,null,null,null,null,null,null,null,null,null,null,null,null,null,null,0,"@","@","@","@","@","@","@","@","@","@","@","@","@","@","@","@","@","@","@","@","@","@","@","@","@","@","@","@","@","@","@",{"$f":"'Month 11'!BL98","v":"@"},{"$f":"'Month 11'!BK98","v":"@"},{"$f":"'Month 11'!BJ98","v":"@"},{"$f":"'Month 11'!BI98","v":"@"},{"$error":"#N/A"},{"$error":"#N/A"},{"$error":"#N/A"},{"$error":"#N/A"},{"$f":"IF(ISNUMBER(SUM(COUNTIF(INDIRECT(CR98):INDIRECT(CS98),2),COUNTIF(INDIRECT(CR98):INDIRECT(CS98),1),COUNTIF(INDIRECT(CR98):INDIRECT(CS98),0))),SUM(COUNTIF(INDIRECT(CR98):INDIRECT(CS98),2),COUNTIF(INDIRECT(CR98):INDIRECT(CS98),1),COUNTIF(INDIRECT(CR98):INDIRECT(CS98),0)),\"\")","v":""},{"$f":"IF(ISNUMBER(SUM(COUNTIF(INDIRECT(CR98):INDIRECT(CT98),2),COUNTIF(INDIRECT(CR98):INDIRECT(CT98),1),COUNTIF(INDIRECT(CR98):INDIRECT(CT98),0))),SUM(COUNTIF(INDIRECT(CR98):INDIRECT(CT98),2),COUNTIF(INDIRECT(CR98):INDIRECT(CT98),1),COUNTIF(INDIRECT(CR98):INDIRECT(CT98),0)),\"\")","v":""},{"$f":"IF(ISNUMBER(SUM(COUNTIF(INDIRECT(CR98):INDIRECT(CU98),1),COUNTIF(INDIRECT(CR98):INDIRECT(CU98),0))),SUM(COUNTIF(INDIRECT(CR98):INDIRECT(CU98),1),COUNTIF(INDIRECT(CR98):INDIRECT(CU98),0)),\"\")","v":""},{"$f":"SUM(INDIRECT(CR98):INDIRECT(CS98))","v":{"$error":"#N/A"}},{"$f":"SUM(INDIRECT(CR98):INDIRECT(CT98))","v":{"$error":"#N/A"}},{"$f":"SUM(INDIRECT(CR98):INDIRECT(CU98))","v":{"$error":"#N/A"}}]
[null,null,null,null,null,null,null,null,null,null,null,null,null,null,null,null,null,null,null,null,null,null,null,null,null,null,null,null,null,null,null,null,null,null,null,null,null,null,null,null,null,null,null,null,null,null,null,null,null,null,null,null,null,null,null,null,null,null,null,0,"@","@","@","@","@","@","@","@","@","@","@","@","@","@","@","@","@","@","@","@","@","@","@","@","@","@","@","@","@","@","@",{"$f":"'Month 11'!BL99","v":"@"},{"$f":"'Month 11'!BK99","v":"@"},{"$f":"'Month 11'!BJ99","v":"@"},{"$f":"'Month 11'!BI99","v":"@"},{"$error":"#N/A"},{"$error":"#N/A"},{"$error":"#N/A"},{"$error":"#N/A"},{"$f":"IF(ISNUMBER(SUM(COUNTIF(INDIRECT(CR99):INDIRECT(CS99),2),COUNTIF(INDIRECT(CR99):INDIRECT(CS99),1),COUNTIF(INDIRECT(CR99):INDIRECT(CS99),0))),SUM(COUNTIF(INDIRECT(CR99):INDIRECT(CS99),2),COUNTIF(INDIRECT(CR99):INDIRECT(CS99),1),COUNTIF(INDIRECT(CR99):INDIRECT(CS99),0)),\"\")","v":""},{"$f":"IF(ISNUMBER(SUM(COUNTIF(INDIRECT(CR99):INDIRECT(CT99),2),COUNTIF(INDIRECT(CR99):INDIRECT(CT99),1),COUNTIF(INDIRECT(CR99):INDIRECT(CT99),0))),SUM(COUNTIF(INDIRECT(CR99):INDIRECT(CT99),2),COUNTIF(INDIRECT(CR99):INDIRECT(CT99),1),COUNTIF(INDIRECT(CR99):INDIRECT(CT99),0)),\"\")","v":""},{"$f":"IF(ISNUMBER(SUM(COUNTIF(INDIRECT(CR99):INDIRECT(CU99),1),COUNTIF(INDIRECT(CR99):INDIRECT(CU99),0))),SUM(COUNTIF(INDIRECT(CR99):INDIRECT(CU99),1),COUNTIF(INDIRECT(CR99):INDIRECT(CU99),0)),\"\")","v":""},{"$f":"SUM(INDIRECT(CR99):INDIRECT(CS99))","v":{"$error":"#N/A"}},{"$f":"SUM(INDIRECT(CR99):INDIRECT(CT99))","v":{"$error":"#N/A"}},{"$f":"SUM(INDIRECT(CR99):INDIRECT(CU99))","v":{"$error":"#N/A"}}]
[null,null,null,null,null,null,null,null,null,null,null,null,null,null,null,null,null,null,null,null,null,null,null,null,null,null,null,null,null,null,null,null,null,null,null,null,null,null,null,null,null,null,null,null,null,null,null,null,null,null,null,null,null,null,null,null,null,null,null,0,"@","@","@","@","@","@","@","@","@","@","@","@","@","@","@","@","@","@","@","@","@","@","@","@","@","@","@","@","@","@","@",{"$f":"'Month 11'!BL100","v":"@"},{"$f":"'Month 11'!BK100","v":"@"},{"$f":"'Month 11'!BJ100","v":"@"},{"$f":"'Month 11'!BI100","v":"@"},{"$error":"#N/A"},{"$error":"#N/A"},{"$error":"#N/A"},{"$error":"#N/A"},{"$f":"IF(ISNUMBER(SUM(COUNTIF(INDIRECT(CR100):INDIRECT(CS100),2),COUNTIF(INDIRECT(CR100):INDIRECT(CS100),1),COUNTIF(INDIRECT(CR100):INDIRECT(CS100),0))),SUM(COUNTIF(INDIRECT(CR100):INDIRECT(CS100),2),COUNTIF(INDIRECT(CR100):INDIRECT(CS100),1),COUNTIF(INDIRECT(CR100):INDIRECT(CS100),0)),\"\")","v":""},{"$f":"IF(ISNUMBER(SUM(COUNTIF(INDIRECT(CR100):INDIRECT(CT100),2),COUNTIF(INDIRECT(CR100):INDIRECT(CT100),1),COUNTIF(INDIRECT(CR100):INDIRECT(CT100),0))),SUM(COUNTIF(INDIRECT(CR100):INDIRECT(CT100),2),COUNTIF(INDIRECT(CR100):INDIRECT(CT100),1),COUNTIF(INDIRECT(CR100):INDIRECT(CT100),0)),\"\")","v":""},{"$f":"IF(ISNUMBER(SUM(COUNTIF(INDIRECT(CR100):INDIRECT(CU100),1),COUNTIF(INDIRECT(CR100):INDIRECT(CU100),0))),SUM(COUNTIF(INDIRECT(CR100):INDIRECT(CU100),1),COUNTIF(INDIRECT(CR100):INDIRECT(CU100),0)),\"\")","v":""},{"$f":"SUM(INDIRECT(CR100):INDIRECT(CS100))","v":{"$error":"#N/A"}},{"$f":"SUM(INDIRECT(CR100):INDIRECT(CT100))","v":{"$error":"#N/A"}},{"$f":"SUM(INDIRECT(CR100):INDIRECT(CU100))","v":{"$error":"#N/A"}}]
[null,null,null,null,null,null,null,null,null,null,null,null,null,null,null,null,null,null,null,null,null,null,null,null,null,null,null,null,null,null,null,null,null,null,null,null,null,null,null,null,null,null,null,null,null,null,null,null,null,null,null,null,null,null,null,null,null,null,null,0,"@","@","@","@","@","@","@","@","@","@","@","@","@","@","@","@","@","@","@","@","@","@","@","@","@","@","@","@","@","@","@",{"$f":"'Month 11'!BL101","v":"@"},{"$f":"'Month 11'!BK101","v":"@"},{"$f":"'Month 11'!BJ101","v":"@"},{"$f":"'Month 11'!BI101","v":"@"},{"$error":"#N/A"},{"$error":"#N/A"},{"$error":"#N/A"},{"$error":"#N/A"},{"$f":"IF(ISNUMBER(SUM(COUNTIF(INDIRECT(CR101):INDIRECT(CS101),2),COUNTIF(INDIRECT(CR101):INDIRECT(CS101),1),COUNTIF(INDIRECT(CR101):INDIRECT(CS101),0))),SUM(COUNTIF(INDIRECT(CR101):INDIRECT(CS101),2),COUNTIF(INDIRECT(CR101):INDIRECT(CS101),1),COUNTIF(INDIRECT(CR101):INDIRECT(CS101),0)),\"\")","v":""},{"$f":"IF(ISNUMBER(SUM(COUNTIF(INDIRECT(CR101):INDIRECT(CT101),2),COUNTIF(INDIRECT(CR101):INDIRECT(CT101),1),COUNTIF(INDIRECT(CR101):INDIRECT(CT101),0))),SUM(COUNTIF(INDIRECT(CR101):INDIRECT(CT101),2),COUNTIF(INDIRECT(CR101):INDIRECT(CT101),1),COUNTIF(INDIRECT(CR101):INDIRECT(CT101),0)),\"\")","v":""},{"$f":"IF(ISNUMBER(SUM(COUNTIF(INDIRECT(CR101):INDIRECT(CU101),1),COUNTIF(INDIRECT(CR101):INDIRECT(CU101),0))),SUM(COUNTIF(INDIRECT(CR101):INDIRECT(CU101),1),COUNTIF(INDIRECT(CR101):INDIRECT(CU101),0)),\"\")","v":""},{"$f":"SUM(INDIRECT(CR101):INDIRECT(CS101))","v":{"$error":"#N/A"}},{"$f":"SUM(INDIRECT(CR101):INDIRECT(CT101))","v":{"$error":"#N/A"}},{"$f":"SUM(INDIRECT(CR101):INDIRECT(CU101))","v":{"$error":"#N/A"}}]
[null,null,null,null,null,null,null,null,null,null,null,null,null,null,null,null,null,null,null,null,null,null,null,null,null,null,null,null,null,null,null,null,null,null,null,null,null,null,null,null,null,null,null,null,null,null,null,null,null,null,null,null,null,null,null,null,null,null,null,0,"@","@","@","@","@","@","@","@","@","@","@","@","@","@","@","@","@","@","@","@","@","@","@","@","@","@","@","@","@","@","@",{"$f":"'Month 11'!BL102","v":"@"},{"$f":"'Month 11'!BK102","v":"@"},{"$f":"'Month 11'!BJ102","v":"@"},{"$f":"'Month 11'!BI102","v":"@"},{"$error":"#N/A"},{"$error":"#N/A"},{"$error":"#N/A"},{"$error":"#N/A"},{"$f":"IF(ISNUMBER(SUM(COUNTIF(INDIRECT(CR102):INDIRECT(CS102),2),COUNTIF(INDIRECT(CR102):INDIRECT(CS102),1),COUNTIF(INDIRECT(CR102):INDIRECT(CS102),0))),SUM(COUNTIF(INDIRECT(CR102):INDIRECT(CS102),2),COUNTIF(INDIRECT(CR102):INDIRECT(CS102),1),COUNTIF(INDIRECT(CR102):INDIRECT(CS102),0)),\"\")","v":""},{"$f":"IF(ISNUMBER(SUM(COUNTIF(INDIRECT(CR102):INDIRECT(CT102),2),COUNTIF(INDIRECT(CR102):INDIRECT(CT102),1),COUNTIF(INDIRECT(CR102):INDIRECT(CT102),0))),SUM(COUNTIF(INDIRECT(CR102):INDIRECT(CT102),2),COUNTIF(INDIRECT(CR102):INDIRECT(CT102),1),COUNTIF(INDIRECT(CR102):INDIRECT(CT102),0)),\"\")","v":""},{"$f":"IF(ISNUMBER(SUM(COUNTIF(INDIRECT(CR102):INDIRECT(CU102),1),COUNTIF(INDIRECT(CR102):INDIRECT(CU102),0))),SUM(COUNTIF(INDIRECT(CR102):INDIRECT(CU102),1),COUNTIF(INDIRECT(CR102):INDIRECT(CU102),0)),\"\")","v":""},{"$f":"SUM(INDIRECT(CR102):INDIRECT(CS102))","v":{"$error":"#N/A"}},{"$f":"SUM(INDIRECT(CR102):INDIRECT(CT102))","v":{"$error":"#N/A"}},{"$f":"SUM(INDIRECT(CR102):INDIRECT(CU102))","v":{"$error":"#N/A"}}]
[null,null,null,null,null,null,null,null,null,null,null,null,null,null,null,null,null,null,null,null,null,null,null,null,null,null,null,null,null,null,null,null,null,null,null,null,null,null,null,null,null,null,null,null,null,null,null,null,null,null,null,null,null,null,null,null,null,null,null,0,"@","@","@","@","@","@","@","@","@","@","@","@","@","@","@","@","@","@","@","@","@","@","@","@","@","@","@","@","@","@","@",{"$f":"'Month 11'!BL103","v":"@"},{"$f":"'Month 11'!BK103","v":"@"},{"$f":"'Month 11'!BJ103","v":"@"},{"$f":"'Month 11'!BI103","v":"@"},{"$error":"#N/A"},{"$error":"#N/A"},{"$error":"#N/A"},{"$error":"#N/A"},{"$f":"IF(ISNUMBER(SUM(COUNTIF(INDIRECT(CR103):INDIRECT(CS103),2),COUNTIF(INDIRECT(CR103):INDIRECT(CS103),1),COUNTIF(INDIRECT(CR103):INDIRECT(CS103),0))),SUM(COUNTIF(INDIRECT(CR103):INDIRECT(CS103),2),COUNTIF(INDIRECT(CR103):INDIRECT(CS103),1),COUNTIF(INDIRECT(CR103):INDIRECT(CS103),0)),\"\")","v":""},{"$f":"IF(ISNUMBER(SUM(COUNTIF(INDIRECT(CR103):INDIRECT(CT103),2),COUNTIF(INDIRECT(CR103):INDIRECT(CT103),1),COUNTIF(INDIRECT(CR103):INDIRECT(CT103),0))),SUM(COUNTIF(INDIRECT(CR103):INDIRECT(CT103),2),COUNTIF(INDIRECT(CR103):INDIRECT(CT103),1),COUNTIF(INDIRECT(CR103):INDIRECT(CT103),0)),\"\")","v":""},{"$f":"IF(ISNUMBER(SUM(COUNTIF(INDIRECT(CR103):INDIRECT(CU103),1),COUNTIF(INDIRECT(CR103):INDIRECT(CU103),0))),SUM(COUNTIF(INDIRECT(CR103):INDIRECT(CU103),1),COUNTIF(INDIRECT(CR103):INDIRECT(CU103),0)),\"\")","v":""},{"$f":"SUM(INDIRECT(CR103):INDIRECT(CS103))","v":{"$error":"#N/A"}},{"$f":"SUM(INDIRECT(CR103):INDIRECT(CT103))","v":{"$error":"#N/A"}},{"$f":"SUM(INDIRECT(CR103):INDIRECT(CU103))","v":{"$error":"#N/A"}}]
[null,null,null,null,null,null,null,null,null,null,null,null,null,null,null,null,null,null,null,null,null,null,null,null,null,null,null,null,null,null,null,null,null,null,null,null,null,null,null,null,null,null,null,null,null,null,null,null,null,null,null,null,null,null,null,null,null,null,null,0,"@","@","@","@","@","@","@","@","@","@","@","@","@","@","@","@","@","@","@","@","@","@","@","@","@","@","@","@","@","@","@",{"$f":"'Month 11'!BL104","v":"@"},{"$f":"'Month 11'!BK104","v":"@"},{"$f":"'Month 11'!BJ104","v":"@"},{"$f":"'Month 11'!BI104","v":"@"},{"$error":"#N/A"},{"$error":"#N/A"},{"$error":"#N/A"},{"$error":"#N/A"},{"$f":"IF(ISNUMBER(SUM(COUNTIF(INDIRECT(CR104):INDIRECT(CS104),2),COUNTIF(INDIRECT(CR104):INDIRECT(CS104),1),COUNTIF(INDIRECT(CR104):INDIRECT(CS104),0))),SUM(COUNTIF(INDIRECT(CR104):INDIRECT(CS104),2),COUNTIF(INDIRECT(CR104):INDIRECT(CS104),1),COUNTIF(INDIRECT(CR104):INDIRECT(CS104),0)),\"\")","v":""},{"$f":"IF(ISNUMBER(SUM(COUNTIF(INDIRECT(CR104):INDIRECT(CT104),2),COUNTIF(INDIRECT(CR104):INDIRECT(CT104),1),COUNTIF(INDIRECT(CR104):INDIRECT(CT104),0))),SUM(COUNTIF(INDIRECT(CR104):INDIRECT(CT104),2),COUNTIF(INDIRECT(CR104):INDIRECT(CT104),1),COUNTIF(INDIRECT(CR104):INDIRECT(CT104),0)),\"\")","v":""},{"$f":"IF(ISNUMBER(SUM(COUNTIF(INDIRECT(CR104):INDIRECT(CU104),1),COUNTIF(INDIRECT(CR104):INDIRECT(CU104),0))),SUM(COUNTIF(INDIRECT(CR104):INDIRECT(CU104),1),COUNTIF(INDIRECT(CR104):INDIRECT(CU104),0)),\"\")","v":""},{"$f":"SUM(INDIRECT(CR104):INDIRECT(CS104))","v":{"$error":"#N/A"}},{"$f":"SUM(INDIRECT(CR104):INDIRECT(CT104))","v":{"$error":"#N/A"}},{"$f":"SUM(INDIRECT(CR104):INDIRECT(CU104))","v":{"$error":"#N/A"}}]